Workbook

Sheet RESUMO IVA
B1: EMPRESA A
B2: Contribuinte XXXXXXX
A3: 42430
A5: RESUMO
A7: PRODUTO | C7: COMPRA | E7: VENDA | G7: IVA
C8: LITROS | D8: VALOR | E8: LITROS | F8: VALOR
A9: GASOLINA S/ PB 95 | C9: ='IVA S_PB 95'!F41 -> 32303 | D9: ='IVA S_PB 95'!J41 -> 42780.252 | E9: ='IVA S_PB 95'!M41 -> 32303 | F9: ='IVA S_PB 95'!O41 -> 44148.1 | G9: 0.21
A10: GASOLINA S/ PB 98 | C10: ='IVA S_PB 98'!F41 -> 36953 | D10: ='IVA S_PB 98'!J41 -> 51331.515 | E10: ='IVA S_PB 98'!M41 -> 36953 | F10: ='IVA S_PB 98'!O41 -> 52896.22 | G10: 0.21
A11: DIESEL G. FORCE | C11: ='IVA D.GFORCE'!F41 -> 12229 | D11: ='IVA D.GFORCE'!J41 -> 14688.347 | E11: ='IVA D.GFORCE'!M41 -> 12229 | F11: ='IVA D.GFORCE'!O41 -> 15282.63 | G11: 0.21
A12: GASOLEO | C12: ='IVA DIESEL'!F41 -> 103369 | D12: ='IVA DIESEL'!J41 -> 117446.31 | E12: ='IVA DIESEL'!M41 -> 103369 | F12: ='IVA DIESEL'!O41 -> 121698.04 | G12: 0.21
D13: =SUM(D9:D12) -> 226246.43 | F13: =SUM(F9:F12) -> 234024.99
A15: GASOLEO CORADO | C15: ='IVA D.AGRICOLA'!F41 -> 8188 | D15: ='IVA D.AGRICOLA'!J41 -> 6088.9696 | E15: ='IVA D.AGRICOLA'!M41 -> 8188 | F15: ='IVA D.AGRICOLA'!O41 -> 6389.02 | G15: 0.12
D16: =SUM(D15) -> 6088.9696 | F16: =SUM(F15) -> 6389.02

Sheet IVA S_PB 95
C2: EMPRESA A | N2: =[1]LIGAÇÕES!G1 -> 39387
B4: GASOLINA S/ PB 95
B6: COMPRAS | L6: VENDAS
B7: TIPO DOC. | C7: N.º DOC. | D7: DATA DOC. | E7: Nº LITROS | F7: IMPUTADOS | G7: PREÇO CUSTO | H7: VALOR | I7: IVA | J7: VALOR | L7: DATA | M7: Nº LITROS | N7: PREÇO VENDA | O7: VALOR DA
G8: UNITÁRIO | H8: ILIQUIDO | J8: LIQUIDO | N8: UNITÁRIO | O8: VENDA
B9: =[2]Documento!$A197 -> Factura | C9: =[2]Documento!$B197 -> 2230243651 | D9: =[2]Documento!$C197 -> 39388 | E9: 1341 | F9: =E9 -> 1341 | G9: =J9/F9 -> 1.296658 | H9: 1437.04 | I9: 0.21 | J9: =H9*I9+H9 -> 1738.8184 | L9: =N2 -> 39387 | M9: =[1]CX_PA!AJ7-[1]CX_PA!AM7+[1]CX_PA!AJ33-[1]CX_PA!AM33 -> 1341.26 | N9: =[1]CX_PA!AK33 -> 1.339 | O9: =[1]CX_PA!AL7-[1]CX_PA!AN7+[1]CX_PA!AL33-[1]CX_PA!AN33 -> 1795.95
B10: =[2]Documento!$A198 -> Factura | C10: =[2]Documento!$B198 -> 2230243651 | D10: =[2]Documento!$C198 -> 39388 | E10: 0 | F10: =E10 -> 0 | G10: =J10/F10 -> #DIV/0! | H10: 0 | I10: 0.21 | J10: =H10*I10+H10 -> 0 | L10: =L9+1 -> 39388 | M10: =[1]CX_PA!AJ59-[1]CX_PA!AM59 -> 1326.2 | N10: =[1]CX_PA!AK59 -> 1.339 | O10: =[1]CX_PA!AL59-[1]CX_PA!AN59 -> 1775.79
B11: =[2]Documento!$A199 -> Factura | C11: =[2]Documento!$B199 -> 2230247501 | D11: =[2]Documento!$C199 -> 39391 | E11: 4064 | F11: =E11 -> 4064 | G11: =J11/F11 -> 1.2966591 | H11: 4355.06 | I11: 0.21 | J11: =H11*I11+H11 -> 5269.6226 | L11: =L10+1 -> 39389 | M11: =[1]CX_PA!AJ85-[1]CX_PA!AM85 -> 1278.65 | N11: =[1]CX_PA!AK85 -> 1.339 | O11: =[1]CX_PA!AL85-[1]CX_PA!AN85 -> 1712.11
B12: =[2]Documento!$A200 -> Factura | C12: =[2]Documento!$B200 -> 2230250027 | D12: =[2]Documento!$C200 -> 39393 | E12: 811 | F12: =E12 -> 811 | G12: =J12/F12 -> 1.2966545 | H12: 869.08 | I12: 0.21 | J12: =H12*I12+H12 -> 1051.5868 | L12: =L11+1 -> 39390 | M12: =[1]CX_PA!AJ111-[1]CX_PA!AM111 -> 1374.05 | N12: =[1]CX_PA!AK111 -> 1.339 | O12: =[1]CX_PA!AL111-[1]CX_PA!AN111 -> 1839.85
B13: =[2]Documento!$A201 -> Factura | C13: =[2]Documento!$B201 -> 2230250027 | D13: =[2]Documento!$C201 -> 39393 | E13: 917 | F13: =E13 -> 917 | G13: =J13/F13 -> 1.3066417 | H13: 990.24 | I13: 0.21 | J13: =H13*I13+H13 -> 1198.1904 | L13: =L12+1 -> 39391 | M13: =[1]CX_PA!AJ137-[1]CX_PA!AM137 -> 896.13 | N13: =[1]CX_PA!AK137 -> 1.339 | O13: =[1]CX_PA!AL137-[1]CX_PA!AN137 -> 1199.92
B14: =[2]Documento!$A202 -> Factura | C14: =[2]Documento!$B202 -> 2230252666 | D14: =[2]Documento!$C202 -> 39395 | E14: 1947 | F14: =E14 -> 1947 | G14: =J14/F14 -> 1.3066508 | H14: 2102.52 | I14: 0.21 | J14: =H14*I14+H14 -> 2544.0492 | L14: =L13+1 -> 39392 | M14: =[1]CX_PA!AJ163-[1]CX_PA!AM163 -> 917.5 | N14: =[1]CX_PA!AK163 -> 1.349 | O14: =[1]CX_PA!AL163-[1]CX_PA!AN163 -> 1237.7
B15: =[2]Documento!$A203 -> Factura | C15: =[2]Documento!$B203 -> 2230254373 | D15: =[2]Documento!$C203 -> 39398 | E15: 964 | F15: =E15 -> 964 | G15: =J15/F15 -> 1.3066494 | H15: 1041 | I15: 0.21 | J15: =H15*I15+H15 -> 1259.61 | L15: =L14+1 -> 39393 | M15: =[1]CX_PA!AJ189-[1]CX_PA!AM189 -> 966.41 | N15: =[1]CX_PA!AK189 -> 1.349 | O15: =[1]CX_PA!AL189-[1]CX_PA!AN189 -> 1303.69
B16: =[2]Documento!$A204 -> Factura | C16: =[2]Documento!$B204 -> 2230254373 | D16: =[2]Documento!$C204 -> 39398 | E16: 2623 | F16: =E16 -> 2623 | G16: =J16/F16 -> 1.3166581 | H16: 2854.21 | I16: 0.21 | J16: =H16*I16+H16 -> 3453.5941 | L16: =L15+1 -> 39394 | M16: =[1]CX_PA!AJ215-[1]CX_PA!AM215 -> 979.91 | N16: =[1]CX_PA!AK215 -> 1.349 | O16: =[1]CX_PA!AL215-[1]CX_PA!AN215 -> 1321.9
B17: =[2]Documento!$A205 -> Factura | C17: =[2]Documento!$B205 -> 2230256925 | D17: =[2]Documento!$C205 -> 39400 | E17: 1027 | F17: =E17 -> 1027 | G17: =J17/F17 -> 1.3166614 | H17: 1117.53 | I17: 0.21 | J17: =H17*I17+H17 -> 1352.2113 | L17: =L16+1 -> 39395 | M17: =[1]CX_PA!AJ241-[1]CX_PA!AM241 -> 964.46 | N17: =[1]CX_PA!AK241 -> 1.349 | O17: =[1]CX_PA!AL241-[1]CX_PA!AN241 -> 1301.06
B18: =[2]Documento!$A206 -> Factura | C18: =[2]Documento!$B206 -> 2230256925 | D18: =[2]Documento!$C206 -> 39400 | E18: 851 | F18: =E18 -> 851 | G18: =J18/F18 -> 1.3266491 | H18: 933.04 | I18: 0.21 | J18: =H18*I18+H18 -> 1128.9784 | L18: =L17+1 -> 39396 | M18: =[1]CX_PA!AJ267-[1]CX_PA!AM267 -> 1339.48 | N18: =[1]CX_PA!AK267 -> 1.359 | O18: =[1]CX_PA!AL267-[1]CX_PA!AN267 -> 1820.36
B19: =[2]Documento!$A207 -> Factura | C19: =[2]Documento!$B207 -> 2230262380 | D19: =[2]Documento!$C207 -> 39402 | E19: 1807 | F19: =E19 -> 1807 | G19: =J19/F19 -> 1.3266542 | H19: 1981.21 | I19: 0.21 | J19: =H19*I19+H19 -> 2397.2641 | L19: =L18+1 -> 39397 | M19: =[1]CX_PA!AJ293-[1]CX_PA!AM293 -> 1374.07 | N19: =[1]CX_PA!AK293 -> 1.359 | O19: =[1]CX_PA!AL293-[1]CX_PA!AN293 -> 1867.36
B20: =[2]Documento!$A208 -> Factura | C20: =[2]Documento!$B208 -> 2230262380 | D20: =[2]Documento!$C208 -> 39402 | E20: 0 | F20: =E20 -> 0 | G20: =J20/F20 -> #DIV/0! | H20: 0 | I20: 0.21 | J20: =H20*I20+H20 -> 0 | L20: =L19+1 -> 39398 | M20: =[1]CX_PA!AJ319-[1]CX_PA!AM319 -> 935.33 | N20: =[1]CX_PA!AK319 -> 1.359 | O20: =[1]CX_PA!AL319-[1]CX_PA!AN319 -> 1271.11
B21: =[2]Documento!$A209 -> Factura | C21: =[2]Documento!$B209 -> 2230262380 | D21: =[2]Documento!$C209 -> 39405 | E21: 963 | F21: =E21 -> 963 | G21: =J21/F21 -> 1.3266525 | H21: 1055.84 | I21: 0.21 | J21: =H21*I21+H21 -> 1277.5664 | L21: =L20+1 -> 39399 | M21: =[1]CX_PA!AJ345-[1]CX_PA!AM345 -> 856.75 | N21: =[1]CX_PA!AK345 -> 1.369 | O21: =[1]CX_PA!AL345-[1]CX_PA!AN345 -> 1172.89
B22: =[2]Documento!$A210 -> Factura | C22: =[2]Documento!$B210 -> 2230262380 | D22: =[2]Documento!$C210 -> 39405 | E22: 2476 | F22: =E22 -> 2476 | G22: =J22/F22 -> 1.3416584 | H22: 2745.41 | I22: 0.21 | J22: =H22*I22+H22 -> 3321.9461 | L22: =L21+1 -> 39400 | M22: =[1]CX_PA!AJ371-[1]CX_PA!AM371 -> 757.81 | N22: =[1]CX_PA!AK371 -> 1.369 | O22: =[1]CX_PA!AL371-[1]CX_PA!AN371 -> 1037.44
B23: =[2]Documento!$A211 -> Factura | C23: =[2]Documento!$B211 -> 2230266349 | D23: =[2]Documento!$C211 -> 39407 | E23: 1846 | F23: =E23 -> 1846 | G23: =J23/F23 -> 1.341658 | H23: 2046.86 | I23: 0.21 | J23: =H23*I23+H23 -> 2476.7006 | L23: =L22+1 -> 39401 | M23: =[1]CX_PA!AJ397-[1]CX_PA!AM397 -> 931.69 | N23: =[1]CX_PA!AK397 -> 1.369 | O23: =[1]CX_PA!AL397-[1]CX_PA!AN397 -> 1275.48
B24: =[2]Documento!$A212 -> Factura | C24: =[2]Documento!$B212 -> 2230268931 | D24: =[2]Documento!$C212 -> 39409 | E24: 2158 | F24: =E24 -> 2158 | G24: =J24/F24 -> 1.341659 | H24: 2392.81 | I24: 0.21 | J24: =H24*I24+H24 -> 2895.3001 | L24: =L23+1 -> 39402 | M24: =[1]CX_PA!AJ423-[1]CX_PA!AM423 -> 1075.69 | N24: =[1]CX_PA!AK423 -> 1.369 | O24: =[1]CX_PA!AL423-[1]CX_PA!AN423 -> 1472.61
B25: =[2]Documento!$A213 -> Factura | C25: =[2]Documento!$B213 -> 2230268931 | D25: =[2]Documento!$C213 -> 39409 | E25: 0 | F25: =E25 -> 0 | G25: =J25/F25 -> #DIV/0! | H25: 0 | I25: 0.21 | J25: =H25*I25+H25 -> 0 | L25: =L24+1 -> 39403 | M25: =[1]CX_PA!AJ449-[1]CX_PA!AM449 -> 1309.9 | N25: =[1]CX_PA!AK449 -> 1.384 | O25: =[1]CX_PA!AL449-[1]CX_PA!AN449 -> 1812.9
B26: =[2]Documento!$A214 -> Factura | C26: =[2]Documento!$B214 -> 2230270902 | D26: =[2]Documento!$C214 -> 39412 | E26: 3289 | F26: =E26 -> 3289 | G26: =J26/F26 -> 1.3416579 | H26: 3646.87 | I26: 0.21 | J26: =H26*I26+H26 -> 4412.7127 | L26: =L25+1 -> 39404 | M26: =[1]CX_PA!AJ475-[1]CX_PA!AM475 -> 1165.83 | N26: =[1]CX_PA!AK475 -> 1.384 | O26: =[1]CX_PA!AL475-[1]CX_PA!AN475 -> 1613.51
B27: =[2]Documento!$A215 -> Factura | C27: =[2]Documento!$B215 -> 2230273399 | D27: =[2]Documento!$C215 -> 39414 | E27: 2009 | F27: =E27 -> 2009 | G27: =J27/F27 -> 1.3416545 | H27: 2227.59 | I27: 0.21 | J27: =H27*I27+H27 -> 2695.3839 | L27: =L26+1 -> 39405 | M27: =[1]CX_PA!AJ501-[1]CX_PA!AM501 -> 1018.77 | N27: =[1]CX_PA!AK501 -> 1.384 | O27: =[1]CX_PA!AL501-[1]CX_PA!AN501 -> 1409.98
B28: =[2]Documento!$A216 -> Nota de Crédito | C28: =[2]Documento!$B216 -> 2203505489 | D28: =[2]Documento!$C216 -> 39409 | E28: 0 | F28: =E28 -> 0 | G28: =J28/F28 -> #DIV/0! | H28: 0 | I28: 0.21 | J28: =H28*I28+H28 -> 0 | L28: =L27+1 -> 39406 | M28: =[1]CX_PA!AJ527-[1]CX_PA!AM527 -> 827.25 | N28: =[1]CX_PA!AK527 -> 1.384 | O28: =[1]CX_PA!AL527-[1]CX_PA!AN527 -> 1144.92
B29: =[2]Documento!$A217 -> Factura | C29: =[2]Documento!$B217 -> 2230276932 | D29: =[2]Documento!$C217 -> 39416 | E29: 1801 | F29: =E29 -> 1801 | G29: =J29/F29 -> 1.3416555 | H29: 1996.96 | I29: 0.21 | J29: =H29*I29+H29 -> 2416.3216 | L29: =L28+1 -> 39407 | M29: =[1]CX_PA!AJ553-[1]CX_PA!AM553 -> 1132.25 | N29: =[1]CX_PA!AK553 -> 1.384 | O29: =[1]CX_PA!AL553-[1]CX_PA!AN553 -> 1567.04
B30: =[2]Documento!$A218 -> Factura | C30: =[2]Documento!$B218 -> 2230276932 | D30: =[2]Documento!$C218 -> 39416 | E30: 0 | F30: =E30 -> 0 | G30: =J30/F30 -> #DIV/0! | H30: 0 | I30: 0.21 | J30: =H30*I30+H30 -> 0 | L30: =L29+1 -> 39408 | M30: =[1]CX_PA!AJ579-[1]CX_PA!AM579 -> 909.64 | N30: =[1]CX_PA!AK579 -> 1.384 | O30: =[1]CX_PA!AL579-[1]CX_PA!AN579 -> 1258.95
B31: =[2]Documento!$A219 -> Factura | C31: =[2]Documento!$B219 -> 2230278500 | D31: =[2]Documento!$C219 -> 39416 | E31: 1409 | F31: =E31 -> 1409 | G31: =J31/F31 -> 1.3416573 | H31: 1562.31 | I31: 0.21 | J31: =H31*I31+H31 -> 1890.3951 | L31: =L30+1 -> 39409 | M31: =[1]CX_PA!AJ605-[1]CX_PA!AM605 -> 1102.63 | N31: =[1]CX_PA!AK605 -> 1.384 | O31: =[1]CX_PA!AL605-[1]CX_PA!AN605 -> 1526.03
B32: =[2]Documento!$A220 -> Nota de Crédito | C32: =[2]Documento!$B220 -> 2203509942 | D32: =[2]Documento!$C220 -> 39416 | E32: 0 | F32: =E32 -> 0 | G32: =J32/F32 -> #DIV/0! | H32: 0 | I32: 0.21 | J32: =H32*I32+H32 -> 0 | L32: =L31+1 -> 39410 | M32: =[1]CX_PA!AJ631-[1]CX_PA!AM631 -> 1284.46 | N32: =[1]CX_PA!AK631 -> 1.384 | O32: =[1]CX_PA!AL631-[1]CX_PA!AN631 -> 1777.7
B33: =[2]Documento!$A221 -> 0 | C33: =[2]Documento!$B221 -> 0 | D33: =[2]Documento!$C221 -> 0 | F33: =E33 -> 0 | G33: =J33/F33 -> #DIV/0! | I33: 0.21 | J33: =H33*I33+H33 -> 0 | L33: =L32+1 -> 39411 | M33: =[1]CX_PA!AJ657-[1]CX_PA!AM657 -> 997.65 | N33: =[1]CX_PA!AK657 -> 1.384 | O33: =[1]CX_PA!AL657-[1]CX_PA!AN657 -> 1380.75
B34: =[2]Documento!$A222 -> 0 | C34: =[2]Documento!$B222 -> 0 | D34: =[2]Documento!$C222 -> 0 | F34: =E34 -> 0 | G34: =J34/F34 -> #DIV/0! | I34: 0.21 | J34: =H34*I34+H34 -> 0 | L34: =L33+1 -> 39412 | M34: =[1]CX_PA!AJ683-[1]CX_PA!AM683 -> 1076.67 | N34: =[1]CX_PA!AK683 -> 1.384 | O34: =[1]CX_PA!AL683-[1]CX_PA!AN683 -> 1490.12
B35: =[2]Documento!$A223 -> 0 | C35: =[2]Documento!$B223 -> 0 | D35: =[2]Documento!$C223 -> 0 | F35: =E35 -> 0 | G35: =J35/F35 -> #DIV/0! | I35: 0.21 | J35: =H35*I35+H35 -> 0 | L35: =L34+1 -> 39413 | M35: =[1]CX_PA!AJ709-[1]CX_PA!AM709 -> 952.99 | N35: =[1]CX_PA!AK709 -> 1.384 | O35: =[1]CX_PA!AL709-[1]CX_PA!AN709 -> 1318.94
B36: =[2]Documento!$A224 -> 0 | C36: =[2]Documento!$B224 -> 0 | D36: =[2]Documento!$C224 -> 0 | F36: =E36 -> 0 | G36: =J36/F36 -> #DIV/0! | I36: 0.21 | J36: =H36*I36+H36 -> 0 | L36: =L35+1 -> 39414 | M36: =[1]CX_PA!AJ735-[1]CX_PA!AM735 -> 1157.22 | N36: =[1]CX_PA!AK735 -> 1.384 | O36: =[1]CX_PA!AL735-[1]CX_PA!AN735 -> 1601.59
B37: =[2]Documento!$A225 -> 0 | C37: =[2]Documento!$B225 -> 0 | D37: =[2]Documento!$C225 -> 0 | F37: =E37 -> 0 | G37: =J37/F37 -> #DIV/0! | I37: 0.21 | J37: =H37*I37+H37 -> 0 | L37: =L36+1 -> 39415 | M37: =[1]CX_PA!AJ761-[1]CX_PA!AM761 -> 783.26 | N37: =[1]CX_PA!AK761 -> 1.384 | O37: =[1]CX_PA!AL761-[1]CX_PA!AN761 -> 1084.03
B38: =[2]Documento!$A226 -> 0 | C38: =[2]Documento!$B226 -> 0 | D38: =[2]Documento!$C226 -> 0 | F38: =E38 -> 0 | G38: =J38/F38 -> #DIV/0! | I38: 0.21 | J38: =H38*I38+H38 -> 0 | L38: =L37+1 -> 39416 | M38: =[1]CX_PA!AJ787-[1]CX_PA!AM787+[1]CX_PA!AJ813-[1]CX_PA!AM813+[1]CX_PA!AJ839-[1]CX_PA!AM839 -> 1269.09 | N38: =[1]CX_PA!AK787 -> 1.384 | O38: =[1]CX_PA!AL787-[1]CX_PA!AN787+[1]CX_PA!AL813-[1]CX_PA!AN813+[1]CX_PA!AL839-[1]CX_PA!AN839 -> 1756.42
B39: =[2]Documento!$A227 -> 0 | C39: =[2]Documento!$B227 -> 0 | D39: =[2]Documento!$C227 -> 0 | F39: =E39 -> 0 | G39: =J39/F39 -> #DIV/0! | I39: 0.21 | J39: =H39*I39+H39 -> 0
F41: =SUM(F9:F38) -> 32303 | J41: =SUM(J9:J38) -> 42780.252 | M41: =SUM(M9:M39) -> 32303 | O41: =SUM(O9:O38) -> 44148.1
F42: =F41-M42 -> 0 | M42: =SUM(M9:M39) -> 32303

Sheet IVA S_PB 98
C2: EMPRESA A | N2: ='IVA S_PB 95'!N2:O2 -> 39387
B4: GASOLINA S/ PB 98
B6: COMPRAS | L6: VENDAS
B7: TIPO DOC. | C7: N.º DOC. | D7: DATA DOC. | E7: Nº LITROS | F7: IMPUTADOS | G7: PREÇO CUSTO | H7: VALOR | I7: IVA | J7: VALOR | L7: DATA | M7: Nº LITROS | N7: PREÇO VENDA | O7: VALOR DA
G8: UNITÁRIO | H8: ILIQUIDO | J8: LIQUIDO | N8: UNITÁRIO | O8: VENDA
B9: =[2]Documento!$A197 -> Factura | C9: =[2]Documento!$B197 -> 2230243651 | D9: =[2]Documento!$C197 -> 39388 | E9: 7 | F9: =E9 -> 7 | G9: =J9/F9 -> 1.3500143 | H9: 7.81 | I9: 0.21 | J9: =H9*I9+H9 -> 9.4501 | L9: =N2 -> 39387 | M9: =[1]CX_PA!AJ8-[1]CX_PA!AM8+[1]CX_PA!AJ34-[1]CX_PA!AM34 -> 1614.46 | N9: =[1]CX_PA!AK34 -> 1.404 | O9: =[1]CX_PA!AL8-[1]CX_PA!AN8+[1]CX_PA!AL34-[1]CX_PA!AN34 -> 2266.7
B10: =[2]Documento!$A198 -> Factura | C10: =[2]Documento!$B198 -> 2230243651 | D10: =[2]Documento!$C198 -> 39388 | E10: 1608 | F10: =E10 -> 1608 | G10: =J10/F10 -> 1.3616639 | H10: 1809.55 | I10: 0.21 | J10: =H10*I10+H10 -> 2189.5555 | L10: =L9+1 -> 39388 | M10: =[1]CX_PA!AJ60-[1]CX_PA!AM60 -> 1717.39 | N10: =[1]CX_PA!AK60 -> 1.404 | O10: =[1]CX_PA!AL60-[1]CX_PA!AN60 -> 2411.21
B11: =[2]Documento!$A199 -> Factura | C11: =[2]Documento!$B199 -> 2230247501 | D11: =[2]Documento!$C199 -> 39391 | E11: 4496 | F11: =E11 -> 4496 | G11: =J11/F11 -> 1.3616618 | H11: 5059.53 | I11: 0.21 | J11: =H11*I11+H11 -> 6122.0313 | L11: =L10+1 -> 39389 | M11: =[1]CX_PA!AJ86-[1]CX_PA!AM86 -> 1235.89 | N11: =[1]CX_PA!AK86 -> 1.404 | O11: =[1]CX_PA!AL86-[1]CX_PA!AN86 -> 1735.18
B12: =[2]Documento!$A200 -> Factura | C12: =[2]Documento!$B200 -> 2230250027 | D12: =[2]Documento!$C200 -> 39393 | E12: 1109 | F12: =E12 -> 1109 | G12: =J12/F12 -> 1.3616592 | H12: 1248 | I12: 0.21 | J12: =H12*I12+H12 -> 1510.08 | L12: =L11+1 -> 39390 | M12: =[1]CX_PA!AJ112-[1]CX_PA!AM112 -> 1371.96 | N12: =[1]CX_PA!AK112 -> 1.404 | O12: =[1]CX_PA!AL112-[1]CX_PA!AN112 -> 1926.23
B13: =[2]Documento!$A201 -> Factura | C13: =[2]Documento!$B201 -> 2230250027 | D13: =[2]Documento!$C201 -> 39393 | E13: 1154 | F13: =E13 -> 1154 | G13: =J13/F13 -> 1.3716514 | H13: 1308.17 | I13: 0.21 | J13: =H13*I13+H13 -> 1582.8857 | L13: =L12+1 -> 39391 | M13: =[1]CX_PA!AJ138-[1]CX_PA!AM138 -> 1280.52 | N13: =[1]CX_PA!AK138 -> 1.404 | O13: =[1]CX_PA!AL138-[1]CX_PA!AN138 -> 1797.85
B14: =[2]Documento!$A202 -> Factura | C14: =[2]Documento!$B202 -> 2230252666 | D14: =[2]Documento!$C202 -> 39395 | E14: 1870 | F14: =E14 -> 1870 | G14: =J14/F14 -> 1.3716547 | H14: 2119.83 | I14: 0.21 | J14: =H14*I14+H14 -> 2564.9943 | L14: =L13+1 -> 39392 | M14: =[1]CX_PA!AJ164-[1]CX_PA!AM164 -> 1175.15 | N14: =[1]CX_PA!AK164 -> 1.414 | O14: =[1]CX_PA!AL164-[1]CX_PA!AN164 -> 1661.66
B15: =[2]Documento!$A203 -> Factura | C15: =[2]Documento!$B203 -> 2230254373 | D15: =[2]Documento!$C203 -> 39398 | E15: 1155 | F15: =E15 -> 1155 | G15: =J15/F15 -> 1.3716476 | H15: 1309.3 | I15: 0.21 | J15: =H15*I15+H15 -> 1584.253 | L15: =L14+1 -> 39393 | M15: =[1]CX_PA!AJ190-[1]CX_PA!AM190 -> 861.08 | N15: =[1]CX_PA!AK190 -> 1.414 | O15: =[1]CX_PA!AL190-[1]CX_PA!AN190 -> 1217.57
B16: =[2]Documento!$A204 -> Factura | C16: =[2]Documento!$B204 -> 2230254373 | D16: =[2]Documento!$C204 -> 39398 | E16: 3287 | F16: =E16 -> 3287 | G16: =J16/F16 -> 1.3816492 | H16: 3753.29 | I16: 0.21 | J16: =H16*I16+H16 -> 4541.4809 | L16: =L15+1 -> 39394 | M16: =[1]CX_PA!AJ216-[1]CX_PA!AM216 -> 987.09 | N16: =[1]CX_PA!AK216 -> 1.414 | O16: =[1]CX_PA!AL216-[1]CX_PA!AN216 -> 1395.75
B17: =[2]Documento!$A205 -> Factura | C17: =[2]Documento!$B205 -> 2230256925 | D17: =[2]Documento!$C205 -> 39400 | E17: 1177 | F17: =E17 -> 1177 | G17: =J17/F17 -> 1.3816411 | H17: 1343.96 | I17: 0.21 | J17: =H17*I17+H17 -> 1626.1916 | L17: =L16+1 -> 39395 | M17: =[1]CX_PA!AJ242-[1]CX_PA!AM242 -> 1155.42 | N17: =[1]CX_PA!AK242 -> 1.414 | O17: =[1]CX_PA!AL242-[1]CX_PA!AN242 -> 1633.77
B18: =[2]Documento!$A206 -> Factura | C18: =[2]Documento!$B206 -> 2230256925 | D18: =[2]Documento!$C206 -> 39400 | E18: 951 | F18: =E18 -> 951 | G18: =J18/F18 -> 1.3916527 | H18: 1093.77 | I18: 0.21 | J18: =H18*I18+H18 -> 1323.4617 | L18: =L17+1 -> 39396 | M18: =[1]CX_PA!AJ268-[1]CX_PA!AM268 -> 1880.68 | N18: =[1]CX_PA!AK268 -> 1.424 | O18: =[1]CX_PA!AL268-[1]CX_PA!AN268 -> 2678.09
B19: =[2]Documento!$A207 -> Factura | C19: =[2]Documento!$B207 -> 2230262380 | D19: =[2]Documento!$C207 -> 39402 | E19: 2484 | F19: =E19 -> 2484 | G19: =J19/F19 -> 1.3916559 | H19: 2856.92 | I19: 0.21 | J19: =H19*I19+H19 -> 3456.8732 | L19: =L18+1 -> 39397 | M19: =[1]CX_PA!AJ294-[1]CX_PA!AM294 -> 1405.88 | N19: =[1]CX_PA!AK294 -> 1.424 | O19: =[1]CX_PA!AL294-[1]CX_PA!AN294 -> 2001.97
B20: =[2]Documento!$A208 -> Factura | C20: =[2]Documento!$B208 -> 2230262380 | D20: =[2]Documento!$C208 -> 39402 | E20: 0 | F20: =E20 -> 0 | G20: =J20/F20 -> #DIV/0! | H20: 0 | I20: 0.21 | J20: =H20*I20+H20 -> 0 | L20: =L19+1 -> 39398 | M20: =[1]CX_PA!AJ320-[1]CX_PA!AM320 -> 1176.09 | N20: =[1]CX_PA!AK320 -> 1.424 | O20: =[1]CX_PA!AL320-[1]CX_PA!AN320 -> 1674.75
B21: =[2]Documento!$A209 -> Factura | C21: =[2]Documento!$B209 -> 2230262380 | D21: =[2]Documento!$C209 -> 39405 | E21: 955 | F21: =E21 -> 955 | G21: =J21/F21 -> 1.391652 | H21: 1098.37 | I21: 0.21 | J21: =H21*I21+H21 -> 1329.0277 | L21: =L20+1 -> 39399 | M21: =[1]CX_PA!AJ346-[1]CX_PA!AM346 -> 951.48 | N21: =[1]CX_PA!AK346 -> 1.434 | O21: =[1]CX_PA!AL346-[1]CX_PA!AN346 -> 1364.42
B22: =[2]Documento!$A210 -> Factura | C22: =[2]Documento!$B210 -> 2230262380 | D22: =[2]Documento!$C210 -> 39405 | E22: 2741 | F22: =E22 -> 2741 | G22: =J22/F22 -> 1.4066592 | H22: 3186.49 | I22: 0.21 | J22: =H22*I22+H22 -> 3855.6529 | L22: =L21+1 -> 39400 | M22: =[1]CX_PA!AJ372-[1]CX_PA!AM372 -> 1101.77 | N22: =[1]CX_PA!AK372 -> 1.434 | O22: =[1]CX_PA!AL372-[1]CX_PA!AN372 -> 1579.94
B23: =[2]Documento!$A211 -> Factura | C23: =[2]Documento!$B211 -> 2230266349 | D23: =[2]Documento!$C211 -> 39407 | E23: 2106 | F23: =E23 -> 2106 | G23: =J23/F23 -> 1.4066623 | H23: 2448.29 | I23: 0.21 | J23: =H23*I23+H23 -> 2962.4309 | L23: =L22+1 -> 39401 | M23: =[1]CX_PA!AJ398-[1]CX_PA!AM398 -> 1201.15 | N23: =[1]CX_PA!AK398 -> 1.434 | O23: =[1]CX_PA!AL398-[1]CX_PA!AN398 -> 1722.44
B24: =[2]Documento!$A212 -> Factura | C24: =[2]Documento!$B212 -> 2230268931 | D24: =[2]Documento!$C212 -> 39409 | E24: 2144 | F24: =E24 -> 2144 | G24: =J24/F24 -> 1.4066589 | H24: 2492.46 | I24: 0.21 | J24: =H24*I24+H24 -> 3015.8766 | L24: =L23+1 -> 39402 | M24: =[1]CX_PA!AJ424-[1]CX_PA!AM424 -> 1136.99 | N24: =[1]CX_PA!AK424 -> 1.434 | O24: =[1]CX_PA!AL424-[1]CX_PA!AN424 -> 1630.45
B25: =[2]Documento!$A213 -> Factura | C25: =[2]Documento!$B213 -> 2230268931 | D25: =[2]Documento!$C213 -> 39409 | E25: 0 | F25: =E25 -> 0 | G25: =J25/F25 -> #DIV/0! | H25: 0 | I25: 0.21 | J25: =H25*I25+H25 -> 0 | L25: =L24+1 -> 39403 | M25: =[1]CX_PA!AJ450-[1]CX_PA!AM450 -> 1518.2 | N25: =[1]CX_PA!AK450 -> 1.449 | O25: =[1]CX_PA!AL450-[1]CX_PA!AN450 -> 2199.88
B26: =[2]Documento!$A214 -> Factura | C26: =[2]Documento!$B214 -> 2230270902 | D26: =[2]Documento!$C214 -> 39412 | E26: 4364 | F26: =E26 -> 4364 | G26: =J26/F26 -> 1.406661 | H26: 5073.28 | I26: 0.21 | J26: =H26*I26+H26 -> 6138.6688 | L26: =L25+1 -> 39404 | M26: =[1]CX_PA!AJ476-[1]CX_PA!AM476 -> 1247.37 | N26: =[1]CX_PA!AK476 -> 1.449 | O26: =[1]CX_PA!AL476-[1]CX_PA!AN476 -> 1807.44
B27: =[2]Documento!$A215 -> Factura | C27: =[2]Documento!$B215 -> 2230273399 | D27: =[2]Documento!$C215 -> 39414 | E27: 1933 | F27: =E27 -> 1933 | G27: =J27/F27 -> 1.406661 | H27: 2247.17 | I27: 0.21 | J27: =H27*I27+H27 -> 2719.0757 | L27: =L26+1 -> 39405 | M27: =[1]CX_PA!AJ502-[1]CX_PA!AM502 -> 1009.57 | N27: =[1]CX_PA!AK502 -> 1.449 | O27: =[1]CX_PA!AL502-[1]CX_PA!AN502 -> 1462.85
B28: =[2]Documento!$A216 -> Nota de Crédito | C28: =[2]Documento!$B216 -> 2203505489 | D28: =[2]Documento!$C216 -> 39409 | E28: 0 | F28: =E28 -> 0 | G28: =J28/F28 -> #DIV/0! | H28: 0 | I28: 0.21 | J28: =H28*I28+H28 -> 0 | L28: =L27+1 -> 39406 | M28: =[1]CX_PA!AJ528-[1]CX_PA!AM528 -> 1072.93 | N28: =[1]CX_PA!AK528 -> 1.449 | O28: =[1]CX_PA!AL528-[1]CX_PA!AN528 -> 1554.66
B29: =[2]Documento!$A217 -> Factura | C29: =[2]Documento!$B217 -> 2230276932 | D29: =[2]Documento!$C217 -> 39416 | E29: 1768 | F29: =E29 -> 1768 | G29: =J29/F29 -> 1.4066592 | H29: 2055.35 | I29: 0.21 | J29: =H29*I29+H29 -> 2486.9735 | L29: =L28+1 -> 39407 | M29: =[1]CX_PA!AJ554-[1]CX_PA!AM554 -> 967.26 | N29: =[1]CX_PA!AK554 -> 1.449 | O29: =[1]CX_PA!AL554-[1]CX_PA!AN554 -> 1401.55
B30: =[2]Documento!$A218 -> Factura | C30: =[2]Documento!$B218 -> 2230276932 | D30: =[2]Documento!$C218 -> 39416 | E30: 0 | F30: =E30 -> 0 | G30: =J30/F30 -> #DIV/0! | H30: 0 | I30: 0.21 | J30: =H30*I30+H30 -> 0 | L30: =L29+1 -> 39408 | M30: =[1]CX_PA!AJ580-[1]CX_PA!AM580 -> 861.94 | N30: =[1]CX_PA!AK580 -> 1.449 | O30: =[1]CX_PA!AL580-[1]CX_PA!AN580 -> 1248.95
B31: =[2]Documento!$A219 -> Factura | C31: =[2]Documento!$B219 -> 2230278500 | D31: =[2]Documento!$C219 -> 39416 | E31: 1644 | F31: =E31 -> 1644 | G31: =J31/F31 -> 1.4066618 | H31: 1911.2 | I31: 0.21 | J31: =H31*I31+H31 -> 2312.552 | L31: =L30+1 -> 39409 | M31: =[1]CX_PA!AJ606-[1]CX_PA!AM606 -> 1347.74 | N31: =[1]CX_PA!AK606 -> 1.449 | O31: =[1]CX_PA!AL606-[1]CX_PA!AN606 -> 1952.87
B32: =[2]Documento!$A220 -> Nota de Crédito | C32: =[2]Documento!$B220 -> 2203509942 | D32: =[2]Documento!$C220 -> 39416 | E32: 0 | F32: =E32 -> 0 | G32: =J32/F32 -> #DIV/0! | H32: 0 | I32: 0.21 | J32: =H32*I32+H32 -> 0 | L32: =L31+1 -> 39410 | M32: =[1]CX_PA!AJ632-[1]CX_PA!AM632 -> 1528.96 | N32: =[1]CX_PA!AK632 -> 1.449 | O32: =[1]CX_PA!AL632-[1]CX_PA!AN632 -> 2215.46
B33: =[2]Documento!$A221 -> 0 | C33: =[2]Documento!$B221 -> 0 | D33: =[2]Documento!$C221 -> 0 | F33: =E33 -> 0 | G33: =J33/F33 -> #DIV/0! | I33: 0.21 | J33: =H33*I33+H33 -> 0 | L33: =L32+1 -> 39411 | M33: =[1]CX_PA!AJ658-[1]CX_PA!AM658 -> 1744.51 | N33: =[1]CX_PA!AK658 -> 1.449 | O33: =[1]CX_PA!AL658-[1]CX_PA!AN658 -> 2527.8
B34: =[2]Documento!$A222 -> 0 | C34: =[2]Documento!$B222 -> 0 | D34: =[2]Documento!$C222 -> 0 | F34: =E34 -> 0 | G34: =J34/F34 -> #DIV/0! | I34: 0.21 | J34: =H34*I34+H34 -> 0 | L34: =L33+1 -> 39412 | M34: =[1]CX_PA!AJ684-[1]CX_PA!AM684 -> 1179.47 | N34: =[1]CX_PA!AK684 -> 1.449 | O34: =[1]CX_PA!AL684-[1]CX_PA!AN684 -> 1709.05
B35: =[2]Documento!$A223 -> 0 | C35: =[2]Documento!$B223 -> 0 | D35: =[2]Documento!$C223 -> 0 | F35: =E35 -> 0 | G35: =J35/F35 -> #DIV/0! | I35: 0.21 | J35: =H35*I35+H35 -> 0 | L35: =L34+1 -> 39413 | M35: =[1]CX_PA!AJ710-[1]CX_PA!AM710 -> 835.07 | N35: =[1]CX_PA!AK710 -> 1.449 | O35: =[1]CX_PA!AL710-[1]CX_PA!AN710 -> 1210.01
B36: =[2]Documento!$A224 -> 0 | C36: =[2]Documento!$B224 -> 0 | D36: =[2]Documento!$C224 -> 0 | F36: =E36 -> 0 | G36: =J36/F36 -> #DIV/0! | I36: 0.21 | J36: =H36*I36+H36 -> 0 | L36: =L35+1 -> 39414 | M36: =[1]CX_PA!AJ736-[1]CX_PA!AM736 -> 966.43 | N36: =[1]CX_PA!AK736 -> 1.449 | O36: =[1]CX_PA!AL736-[1]CX_PA!AN736 -> 1400.35
B37: =[2]Documento!$A225 -> 0 | C37: =[2]Documento!$B225 -> 0 | D37: =[2]Documento!$C225 -> 0 | F37: =E37 -> 0 | G37: =J37/F37 -> #DIV/0! | I37: 0.21 | J37: =H37*I37+H37 -> 0 | L37: =L36+1 -> 39415 | M37: =[1]CX_PA!AJ762-[1]CX_PA!AM762 -> 980.76 | N37: =[1]CX_PA!AK762 -> 1.449 | O37: =[1]CX_PA!AL762-[1]CX_PA!AN762 -> 1421.12
B38: =[2]Documento!$A226 -> 0 | C38: =[2]Documento!$B226 -> 0 | D38: =[2]Documento!$C226 -> 0 | F38: =E38 -> 0 | G38: =J38/F38 -> #DIV/0! | I38: 0.21 | J38: =H38*I38+H38 -> 0 | L38: =L37+1 -> 39416 | M38: =[1]CX_PA!AJ788-[1]CX_PA!AM788+[1]CX_PA!AJ814-[1]CX_PA!AM814+[1]CX_PA!AJ840-[1]CX_PA!AM840 -> 1439.79 | N38: =[1]CX_PA!AK788 -> 1.449 | O38: =[1]CX_PA!AL788-[1]CX_PA!AN788+[1]CX_PA!AL814-[1]CX_PA!AN814+[1]CX_PA!AL840-[1]CX_PA!AN840 -> 2086.25
B39: =[2]Documento!$A227 -> 0 | C39: =[2]Documento!$B227 -> 0 | D39: =[2]Documento!$C227 -> 0 | F39: =E39 -> 0 | G39: =J39/F39 -> #DIV/0! | I39: 0.21 | J39: =H39*I39+H39 -> 0
F41: =SUM(F9:F38) -> 36953 | J41: =SUM(J9:J38) -> 51331.515 | M41: =SUM(M9:M39) -> 36953 | O41: =SUM(O9:O38) -> 52896.22
F42: =F41-M42 -> 0 | M42: =SUM(M9:M39) -> 36953

Sheet IVA D.GFORCE
C2: EMPRESA A | N2: ='IVA S_PB 95'!N2:O2 -> 39387
B4: GASOLEO GForce
B6: COMPRAS | L6: VENDAS
B7: TIPO DOC. | C7: N.º DOC. | D7: DATA DOC. | E7: Nº LITROS | F7: IMPUTADOS | G7: PREÇO CUSTO | H7: VALOR | I7: IVA | J7: VALOR | L7: DATA | M7: Nº LITROS | N7: PREÇO VENDA | O7: VALOR DA
G8: UNITÁRIO | H8: ILIQUIDO | J8: LIQUIDO | N8: UNITÁRIO | O8: VENDA
B9: =[2]Documento!$A197 -> Factura | C9: =[2]Documento!$B197 -> 2230243651 | D9: =[2]Documento!$C197 -> 39388 | E9: 572 | F9: =E9 -> 572 | G9: =J9/F9 -> 1.1653865 | H9: 550.91 | I9: 0.21 | J9: =H9*I9+H9 -> 666.6011 | L9: =N2 -> 39387 | M9: =[1]CX_PA!AJ5-[1]CX_PA!AM5+[1]CX_PA!AJ31-[1]CX_PA!AM31 -> 572.01 | N9: =[1]CX_PA!AK31 -> 1.214 | O9: =[1]CX_PA!AL5-[1]CX_PA!AN5+[1]CX_PA!AL31-[1]CX_PA!AN31 -> 694.42
B10: =[2]Documento!$A198 -> Factura | C10: =[2]Documento!$B198 -> 2230243651 | D10: =[2]Documento!$C198 -> 39388 | E10: 0 | F10: =E10 -> 0 | G10: =J10/F10 -> #DIV/0! | H10: 0 | I10: 0.21 | J10: =H10*I10+H10 -> 0 | L10: =L9+1 -> 39388 | M10: =[1]CX_PA!AJ57-[1]CX_PA!AM57 -> 521.34 | N10: =[1]CX_PA!AK57 -> 1.214 | O10: =[1]CX_PA!AL57-[1]CX_PA!AN57 -> 632.91
B11: =[2]Documento!$A199 -> Factura | C11: =[2]Documento!$B199 -> 2230247501 | D11: =[2]Documento!$C199 -> 39391 | E11: 2078 | F11: =E11 -> 2078 | G11: =J11/F11 -> 1.1654024 | H11: 2001.41 | I11: 0.21 | J11: =H11*I11+H11 -> 2421.7061 | L11: =L10+1 -> 39389 | M11: =[1]CX_PA!AJ83-[1]CX_PA!AM83 -> 581.54 | N11: =[1]CX_PA!AK83 -> 1.214 | O11: =[1]CX_PA!AL83-[1]CX_PA!AN83 -> 705.99
B12: =[2]Documento!$A200 -> Factura | C12: =[2]Documento!$B200 -> 2230250027 | D12: =[2]Documento!$C200 -> 39393 | E12: 306 | F12: =E12 -> 306 | G12: =J12/F12 -> 1.1653961 | H12: 294.72 | I12: 0.21 | J12: =H12*I12+H12 -> 356.6112 | L12: =L11+1 -> 39390 | M12: =[1]CX_PA!AJ109-[1]CX_PA!AM109 -> 876.05 | N12: =[1]CX_PA!AK109 -> 1.214 | O12: =[1]CX_PA!AL109-[1]CX_PA!AN109 -> 1063.52
B13: =[2]Documento!$A201 -> Factura | C13: =[2]Documento!$B201 -> 2230250027 | D13: =[2]Documento!$C201 -> 39393 | E13: 312 | F13: =E13 -> 312 | G13: =J13/F13 -> 1.1804093 | H13: 304.37 | I13: 0.21 | J13: =H13*I13+H13 -> 368.2877 | L13: =L12+1 -> 39391 | M13: =[1]CX_PA!AJ135-[1]CX_PA!AM135 -> 405.7 | N13: =[1]CX_PA!AK135 -> 1.214 | O13: =[1]CX_PA!AL135-[1]CX_PA!AN135 -> 492.52
B14: =[2]Documento!$A202 -> Factura | C14: =[2]Documento!$B202 -> 2230252666 | D14: =[2]Documento!$C202 -> 39395 | E14: 799 | F14: =E14 -> 799 | G14: =J14/F14 -> 1.1803936 | H14: 779.45 | I14: 0.21 | J14: =H14*I14+H14 -> 943.1345 | L14: =L13+1 -> 39392 | M14: =[1]CX_PA!AJ161-[1]CX_PA!AM161 -> 372.05 | N14: =[1]CX_PA!AK161 -> 1.229 | O14: =[1]CX_PA!AL161-[1]CX_PA!AN161 -> 457.24
B15: =[2]Documento!$A203 -> Factura | C15: =[2]Documento!$B203 -> 2230254373 | D15: =[2]Documento!$C203 -> 39398 | E15: 345 | F15: =E15 -> 345 | G15: =J15/F15 -> 1.1803988 | H15: 336.56 | I15: 0.21 | J15: =H15*I15+H15 -> 407.2376 | L15: =L14+1 -> 39393 | M15: =[1]CX_PA!AJ187-[1]CX_PA!AM187 -> 437.48 | N15: =[1]CX_PA!AK187 -> 1.229 | O15: =[1]CX_PA!AL187-[1]CX_PA!AN187 -> 537.65
B16: =[2]Documento!$A204 -> Factura | C16: =[2]Documento!$B204 -> 2230254373 | D16: =[2]Documento!$C204 -> 39398 | E16: 1050 | F16: =E16 -> 1050 | G16: =J16/F16 -> 1.190398 | H16: 1032.99 | I16: 0.21 | J16: =H16*I16+H16 -> 1249.9179 | L16: =L15+1 -> 39394 | M16: =[1]CX_PA!AJ213-[1]CX_PA!AM213 -> 300.44 | N16: =[1]CX_PA!AK213 -> 1.229 | O16: =[1]CX_PA!AL213-[1]CX_PA!AN213 -> 369.25
B17: =[2]Documento!$A205 -> Factura | C17: =[2]Documento!$B205 -> 2230256925 | D17: =[2]Documento!$C205 -> 39400 | E17: 254 | F17: =E17 -> 254 | G17: =J17/F17 -> 1.1904209 | H17: 249.89 | I17: 0.21 | J17: =H17*I17+H17 -> 302.3669 | L17: =L16+1 -> 39395 | M17: =[1]CX_PA!AJ239-[1]CX_PA!AM239 -> 344.97 | N17: =[1]CX_PA!AK239 -> 1.229 | O17: =[1]CX_PA!AL239-[1]CX_PA!AN239 -> 423.96
B18: =[2]Documento!$A206 -> Factura | C18: =[2]Documento!$B206 -> 2230256925 | D18: =[2]Documento!$C206 -> 39400 | E18: 177 | F18: =E18 -> 177 | G18: =J18/F18 -> 1.2054198 | H18: 176.33 | I18: 0.21 | J18: =H18*I18+H18 -> 213.3593 | L18: =L17+1 -> 39396 | M18: =[1]CX_PA!AJ265-[1]CX_PA!AM265 -> 554.67 | N18: =[1]CX_PA!AK265 -> 1.239 | O18: =[1]CX_PA!AL265-[1]CX_PA!AN265 -> 687.23
B19: =[2]Documento!$A207 -> Factura | C19: =[2]Documento!$B207 -> 2230262380 | D19: =[2]Documento!$C207 -> 39402 | E19: 542 | F19: =E19 -> 542 | G19: =J19/F19 -> 1.2054011 | H19: 539.94 | I19: 0.21 | J19: =H19*I19+H19 -> 653.3274 | L19: =L18+1 -> 39397 | M19: =[1]CX_PA!AJ291-[1]CX_PA!AM291 -> 495.57 | N19: =[1]CX_PA!AK291 -> 1.239 | O19: =[1]CX_PA!AL291-[1]CX_PA!AN291 -> 614.01
B20: =[2]Documento!$A208 -> Factura | C20: =[2]Documento!$B208 -> 2230262380 | D20: =[2]Documento!$C208 -> 39402 | E20: 0 | F20: =E20 -> 0 | G20: =J20/F20 -> #DIV/0! | H20: 0 | I20: 0.21 | J20: =H20*I20+H20 -> 0 | L20: =L19+1 -> 39398 | M20: =[1]CX_PA!AJ317-[1]CX_PA!AM317 -> 255.18 | N20: =[1]CX_PA!AK317 -> 1.239 | O20: =[1]CX_PA!AL317-[1]CX_PA!AN317 -> 316.17
B21: =[2]Documento!$A209 -> Factura | C21: =[2]Documento!$B209 -> 2230262380 | D21: =[2]Documento!$C209 -> 39405 | E21: 190 | F21: =E21 -> 190 | G21: =J21/F21 -> 1.2054147 | H21: 189.28 | I21: 0.21 | J21: =H21*I21+H21 -> 229.0288 | L21: =L20+1 -> 39399 | M21: =[1]CX_PA!AJ343-[1]CX_PA!AM343 -> 175.89 | N21: =[1]CX_PA!AK343 -> 1.254 | O21: =[1]CX_PA!AL343-[1]CX_PA!AN343 -> 220.57
B22: =[2]Documento!$A210 -> Factura | C22: =[2]Documento!$B210 -> 2230262380 | D22: =[2]Documento!$C210 -> 39405 | E22: 1163 | F22: =E22 -> 1163 | G22: =J22/F22 -> 1.2204041 | H22: 1173 | I22: 0.21 | J22: =H22*I22+H22 -> 1419.33 | L22: =L21+1 -> 39400 | M22: =[1]CX_PA!AJ369-[1]CX_PA!AM369 -> 211.74 | N22: =[1]CX_PA!AK369 -> 1.254 | O22: =[1]CX_PA!AL369-[1]CX_PA!AN369 -> 265.52
B23: =[2]Documento!$A211 -> Factura | C23: =[2]Documento!$B211 -> 2230266349 | D23: =[2]Documento!$C211 -> 39407 | E23: 723 | F23: =E23 -> 723 | G23: =J23/F23 -> 1.2204097 | H23: 729.22 | I23: 0.21 | J23: =H23*I23+H23 -> 882.3562 | L23: =L22+1 -> 39401 | M23: =[1]CX_PA!AJ395-[1]CX_PA!AM395 -> 269.3 | N23: =[1]CX_PA!AK395 -> 1.254 | O23: =[1]CX_PA!AL395-[1]CX_PA!AN395 -> 337.7
B24: =[2]Documento!$A212 -> Factura | C24: =[2]Documento!$B212 -> 2230268931 | D24: =[2]Documento!$C212 -> 39409 | E24: 301 | F24: =E24 -> 301 | G24: =J24/F24 -> 1.2204116 | H24: 303.59 | I24: 0.21 | J24: =H24*I24+H24 -> 367.3439 | L24: =L23+1 -> 39402 | M24: =[1]CX_PA!AJ421-[1]CX_PA!AM421 -> 250.72 | N24: =[1]CX_PA!AK421 -> 1.254 | O24: =[1]CX_PA!AL421-[1]CX_PA!AN421 -> 314.41
B25: =[2]Documento!$A213 -> Factura | C25: =[2]Documento!$B213 -> 2230268931 | D25: =[2]Documento!$C213 -> 39409 | E25: 334 | F25: =E25 -> 334 | G25: =J25/F25 -> 1.2303961 | H25: 339.63 | I25: 0.21 | J25: =H25*I25+H25 -> 410.9523 | L25: =L24+1 -> 39403 | M25: =[1]CX_PA!AJ447-[1]CX_PA!AM447 -> 637.49 | N25: =[1]CX_PA!AK447 -> 1.269 | O25: =[1]CX_PA!AL447-[1]CX_PA!AN447 -> 808.97
B26: =[2]Documento!$A214 -> Factura | C26: =[2]Documento!$B214 -> 2230270902 | D26: =[2]Documento!$C214 -> 39412 | E26: 1444 | F26: =E26 -> 1444 | G26: =J26/F26 -> 1.2303957 | H26: 1468.34 | I26: 0.21 | J26: =H26*I26+H26 -> 1776.6914 | L26: =L25+1 -> 39404 | M26: =[1]CX_PA!AJ473-[1]CX_PA!AM473 -> 525.93 | N26: =[1]CX_PA!AK473 -> 1.269 | O26: =[1]CX_PA!AL473-[1]CX_PA!AN473 -> 667.41
B27: =[2]Documento!$A215 -> Factura | C27: =[2]Documento!$B215 -> 2230273399 | D27: =[2]Documento!$C215 -> 39414 | E27: 492 | F27: =E27 -> 492 | G27: =J27/F27 -> 1.2304126 | H27: 500.3 | I27: 0.21 | J27: =H27*I27+H27 -> 605.363 | L27: =L26+1 -> 39405 | M27: =[1]CX_PA!AJ499-[1]CX_PA!AM499 -> 382.07 | N27: =[1]CX_PA!AK499 -> 1.269 | O27: =[1]CX_PA!AL499-[1]CX_PA!AN499 -> 484.85
B28: =[2]Documento!$A216 -> Nota de Crédito | C28: =[2]Documento!$B216 -> 2203505489 | D28: =[2]Documento!$C216 -> 39409 | E28: 0 | F28: =E28 -> 0 | G28: =J28/F28 -> #DIV/0! | H28: 0 | I28: 0.21 | J28: =H28*I28+H28 -> 0 | L28: =L27+1 -> 39406 | M28: =[1]CX_PA!AJ525-[1]CX_PA!AM525 -> 340.43 | N28: =[1]CX_PA!AK525 -> 1.269 | O28: =[1]CX_PA!AL525-[1]CX_PA!AN525 -> 432.01
B29: =[2]Documento!$A217 -> Factura | C29: =[2]Documento!$B217 -> 2230276932 | D29: =[2]Documento!$C217 -> 39416 | E29: 452 | F29: =E29 -> 452 | G29: =J29/F29 -> 1.2303987 | H29: 459.62 | I29: 0.21 | J29: =H29*I29+H29 -> 556.1402 | L29: =L28+1 -> 39407 | M29: =[1]CX_PA!AJ551-[1]CX_PA!AM551 -> 301.53 | N29: =[1]CX_PA!AK551 -> 1.269 | O29: =[1]CX_PA!AL551-[1]CX_PA!AN551 -> 382.64
B30: =[2]Documento!$A218 -> Factura | C30: =[2]Documento!$B218 -> 2230276932 | D30: =[2]Documento!$C218 -> 39416 | E30: 252 | F30: =E30 -> 252 | G30: =J30/F30 -> 1.2354004 | H30: 257.29 | I30: 0.21 | J30: =H30*I30+H30 -> 311.3209 | L30: =L29+1 -> 39408 | M30: =[1]CX_PA!AJ577-[1]CX_PA!AM577 -> 190.15 | N30: =[1]CX_PA!AK577 -> 1.279 | O30: =[1]CX_PA!AL577-[1]CX_PA!AN577 -> 243.2
B31: =[2]Documento!$A219 -> Factura | C31: =[2]Documento!$B219 -> 2230278500 | D31: =[2]Documento!$C219 -> 39416 | E31: 443 | F31: =E31 -> 443 | G31: =J31/F31 -> 1.2353745 | H31: 452.29 | I31: 0.21 | J31: =H31*I31+H31 -> 547.2709 | L31: =L30+1 -> 39409 | M31: =[1]CX_PA!AJ603-[1]CX_PA!AM603 -> 561.91 | N31: =[1]CX_PA!AK603 -> 1.279 | O31: =[1]CX_PA!AL603-[1]CX_PA!AN603 -> 718.68
B32: =[2]Documento!$A220 -> Nota de Crédito | C32: =[2]Documento!$B220 -> 2203509942 | D32: =[2]Documento!$C220 -> 39416 | E32: 0 | F32: =E32 -> 0 | G32: =J32/F32 -> #DIV/0! | H32: 0 | I32: 0.21 | J32: =H32*I32+H32 -> 0 | L32: =L31+1 -> 39410 | M32: =[1]CX_PA!AJ629-[1]CX_PA!AM629 -> 433.98 | N32: =[1]CX_PA!AK629 -> 1.279 | O32: =[1]CX_PA!AL629-[1]CX_PA!AN629 -> 555.06
B33: =[2]Documento!$A221 -> 0 | C33: =[2]Documento!$B221 -> 0 | D33: =[2]Documento!$C221 -> 0 | F33: =E33 -> 0 | G33: =J33/F33 -> #DIV/0! | I33: 0.21 | J33: =H33*I33+H33 -> 0 | L33: =L32+1 -> 39411 | M33: =[1]CX_PA!AJ655-[1]CX_PA!AM655 -> 591.93 | N33: =[1]CX_PA!AK655 -> 1.279 | O33: =[1]CX_PA!AL655-[1]CX_PA!AN655 -> 757.08
B34: =[2]Documento!$A222 -> 0 | C34: =[2]Documento!$B222 -> 0 | D34: =[2]Documento!$C222 -> 0 | F34: =E34 -> 0 | G34: =J34/F34 -> #DIV/0! | I34: 0.21 | J34: =H34*I34+H34 -> 0 | L34: =L33+1 -> 39412 | M34: =[1]CX_PA!AJ681-[1]CX_PA!AM681 -> 234.17 | N34: =[1]CX_PA!AK681 -> 1.279 | O34: =[1]CX_PA!AL681-[1]CX_PA!AN681 -> 299.5
B35: =[2]Documento!$A223 -> 0 | C35: =[2]Documento!$B223 -> 0 | D35: =[2]Documento!$C223 -> 0 | F35: =E35 -> 0 | G35: =J35/F35 -> #DIV/0! | I35: 0.21 | J35: =H35*I35+H35 -> 0 | L35: =L34+1 -> 39413 | M35: =[1]CX_PA!AJ707-[1]CX_PA!AM707 -> 258.48 | N35: =[1]CX_PA!AK707 -> 1.279 | O35: =[1]CX_PA!AL707-[1]CX_PA!AN707 -> 330.59
B36: =[2]Documento!$A224 -> 0 | C36: =[2]Documento!$B224 -> 0 | D36: =[2]Documento!$C224 -> 0 | F36: =E36 -> 0 | G36: =J36/F36 -> #DIV/0! | I36: 0.21 | J36: =H36*I36+H36 -> 0 | L36: =L35+1 -> 39414 | M36: =[1]CX_PA!AJ733-[1]CX_PA!AM733 -> 450.4 | N36: =[1]CX_PA!AK733 -> 1.279 | O36: =[1]CX_PA!AL733-[1]CX_PA!AN733 -> 576.06
B37: =[2]Documento!$A225 -> 0 | C37: =[2]Documento!$B225 -> 0 | D37: =[2]Documento!$C225 -> 0 | F37: =E37 -> 0 | G37: =J37/F37 -> #DIV/0! | I37: 0.21 | J37: =H37*I37+H37 -> 0 | L37: =L36+1 -> 39415 | M37: =[1]CX_PA!AJ759-[1]CX_PA!AM759 -> 412.65 | N37: =[1]CX_PA!AK759 -> 1.284 | O37: =[1]CX_PA!AL759-[1]CX_PA!AN759 -> 529.84
B38: =[2]Documento!$A226 -> 0 | C38: =[2]Documento!$B226 -> 0 | D38: =[2]Documento!$C226 -> 0 | F38: =E38 -> 0 | G38: =J38/F38 -> #DIV/0! | I38: 0.21 | J38: =H38*I38+H38 -> 0 | L38: =L37+1 -> 39416 | M38: =[1]CX_PA!AJ785-[1]CX_PA!AM785+[1]CX_PA!AJ811-[1]CX_PA!AM811+[1]CX_PA!AJ837-[1]CX_PA!AM837 -> 283.23 | N38: =[1]CX_PA!AK785 -> 1.284 | O38: =[1]CX_PA!AL785-[1]CX_PA!AN785+[1]CX_PA!AL811-[1]CX_PA!AN811+[1]CX_PA!AL837-[1]CX_PA!AN837 -> 363.67
B39: =[2]Documento!$A227 -> 0 | C39: =[2]Documento!$B227 -> 0 | D39: =[2]Documento!$C227 -> 0 | F39: =E39 -> 0 | G39: =J39/F39 -> #DIV/0! | I39: 0.21 | J39: =H39*I39+H39 -> 0
F41: =SUM(F9:F38) -> 12229 | J41: =SUM(J9:J38) -> 14688.347 | M41: =SUM(M9:M39) -> 12229 | O41: =SUM(O9:O38) -> 15282.63
F42: =F41-M42 -> 0 | M42: =SUM(M9:M39) -> 12229

Sheet IVA DIESEL
C2: EMPRESA A | N2: ='IVA S_PB 95'!N2:O2 -> 39387
B4: GASOLEO
B6: COMPRAS | L6: VENDAS
B7: TIPO DOC. | C7: N.º DOC. | D7: DATA DOC. | E7: Nº LITROS | F7: IMPUTADOS | G7: PREÇO CUSTO | H7: VALOR | I7: IVA | J7: VALOR | L7: DATA | M7: Nº LITROS | N7: PREÇO VENDA | O7: VALOR DA
G8: UNITÁRIO | H8: ILIQUIDO | J8: LIQUIDO | N8: UNITÁRIO | O8: VENDA
B9: =[2]Documento!$A197 -> Factura | C9: =[2]Documento!$B197 -> 2230243651 | D9: =[2]Documento!$C197 -> 39388 | E9: 2075 | F9: =E9 -> 2075 | G9: =J9/F9 -> 1.0978694 | H9: 1882.71 | I9: 0.21 | J9: =H9*I9+H9 -> 2278.0791 | L9: =N2 -> 39387 | M9: =[1]CX_PA!AJ4-[1]CX_PA!AM4+[1]CX_PA!AJ30-[1]CX_PA!AM30 -> 2588.03 | N9: =[1]CX_PA!AK30 -> 1.139 | O9: =[1]CX_PA!AL4-[1]CX_PA!AN4+[1]CX_PA!AL30-[1]CX_PA!AN30 -> 2947.76
B10: =[2]Documento!$A198 -> Factura | C10: =[2]Documento!$B198 -> 2230243651 | D10: =[2]Documento!$C198 -> 39388 | E10: 0 | F10: =E10 -> 0 | G10: =J10/F10 -> #DIV/0! | H10: 0 | I10: 0.21 | J10: =H10*I10+H10 -> 0 | L10: =L9+1 -> 39388 | M10: =[1]CX_PA!AJ56-[1]CX_PA!AM56 -> 4391.6 | N10: =[1]CX_PA!AK56 -> 1.139 | O10: =[1]CX_PA!AL56-[1]CX_PA!AN56 -> 5002.02
B11: =[2]Documento!$A199 -> Factura | C11: =[2]Documento!$B199 -> 2230247501 | D11: =[2]Documento!$C199 -> 39391 | E11: 12674 | F11: =E11 -> 12674 | G11: =J11/F11 -> 1.0978693 | H11: 11499.5 | I11: 0.21 | J11: =H11*I11+H11 -> 13914.395 | L11: =L10+1 -> 39389 | M11: =[1]CX_PA!AJ82-[1]CX_PA!AM82 -> 3503.27 | N11: =[1]CX_PA!AK82 -> 1.139 | O11: =[1]CX_PA!AL82-[1]CX_PA!AN82 -> 3990.22
B12: =[2]Documento!$A200 -> Factura | C12: =[2]Documento!$B200 -> 2230250027 | D12: =[2]Documento!$C200 -> 39393 | E12: 3346 | F12: =E12 -> 3346 | G12: =J12/F12 -> 1.0978707 | H12: 3035.93 | I12: 0.21 | J12: =H12*I12+H12 -> 3673.4753 | L12: =L11+1 -> 39390 | M12: =[1]CX_PA!AJ108-[1]CX_PA!AM108 -> 3612.69 | N12: =[1]CX_PA!AK108 -> 1.139 | O12: =[1]CX_PA!AL108-[1]CX_PA!AN108 -> 4114.85
B13: =[2]Documento!$A201 -> Factura | C13: =[2]Documento!$B201 -> 2230250027 | D13: =[2]Documento!$C201 -> 39393 | E13: 2612 | F13: =E13 -> 2612 | G13: =J13/F13 -> 1.1128618 | H13: 2402.31 | I13: 0.21 | J13: =H13*I13+H13 -> 2906.7951 | L13: =L12+1 -> 39391 | M13: =[1]CX_PA!AJ134-[1]CX_PA!AM134 -> 3949.26 | N13: =[1]CX_PA!AK134 -> 1.139 | O13: =[1]CX_PA!AL134-[1]CX_PA!AN134 -> 4498.22
B14: =[2]Documento!$A202 -> Factura | C14: =[2]Documento!$B202 -> 2230252666 | D14: =[2]Documento!$C202 -> 39395 | E14: 6567 | F14: =E14 -> 6567 | G14: =J14/F14 -> 1.112861 | H14: 6039.8 | I14: 0.21 | J14: =H14*I14+H14 -> 7308.158 | L14: =L13+1 -> 39392 | M14: =[1]CX_PA!AJ160-[1]CX_PA!AM160 -> 3361.25 | N14: =[1]CX_PA!AK160 -> 1.154 | O14: =[1]CX_PA!AL160-[1]CX_PA!AN160 -> 3878.87
B15: =[2]Documento!$A203 -> Factura | C15: =[2]Documento!$B203 -> 2230254373 | D15: =[2]Documento!$C203 -> 39398 | E15: 4439 | F15: =E15 -> 4439 | G15: =J15/F15 -> 1.1128593 | H15: 4082.63 | I15: 0.21 | J15: =H15*I15+H15 -> 4939.9823 | L15: =L14+1 -> 39393 | M15: =[1]CX_PA!AJ186-[1]CX_PA!AM186 -> 3701.1 | N15: =[1]CX_PA!AK186 -> 1.154 | O15: =[1]CX_PA!AL186-[1]CX_PA!AN186 -> 4271.07
B16: =[2]Documento!$A204 -> Factura | C16: =[2]Documento!$B204 -> 2230254373 | D16: =[2]Documento!$C204 -> 39398 | E16: 6255 | F16: =E16 -> 6255 | G16: =J16/F16 -> 1.1228684 | H16: 5804.58 | I16: 0.21 | J16: =H16*I16+H16 -> 7023.5418 | L16: =L15+1 -> 39394 | M16: =[1]CX_PA!AJ212-[1]CX_PA!AM212 -> 3028.74 | N16: =[1]CX_PA!AK212 -> 1.154 | O16: =[1]CX_PA!AL212-[1]CX_PA!AN212 -> 3495.16
B17: =[2]Documento!$A205 -> Factura | C17: =[2]Documento!$B205 -> 2230256925 | D17: =[2]Documento!$C205 -> 39400 | E17: 4804 | F17: =E17 -> 4804 | G17: =J17/F17 -> 1.1228669 | H17: 4458.06 | I17: 0.21 | J17: =H17*I17+H17 -> 5394.2526 | L17: =L16+1 -> 39395 | M17: =[1]CX_PA!AJ238-[1]CX_PA!AM238 -> 3525.79 | N17: =[1]CX_PA!AK238 -> 1.154 | O17: =[1]CX_PA!AL238-[1]CX_PA!AN238 -> 4068.76
B18: =[2]Documento!$A206 -> Factura | C18: =[2]Documento!$B206 -> 2230256925 | D18: =[2]Documento!$C206 -> 39400 | E18: 2517 | F18: =E18 -> 2517 | G18: =J18/F18 -> 1.1378711 | H18: 2366.96 | I18: 0.21 | J18: =H18*I18+H18 -> 2864.0216 | L18: =L17+1 -> 39396 | M18: =[1]CX_PA!AJ264-[1]CX_PA!AM264 -> 3501.68 | N18: =[1]CX_PA!AK264 -> 1.164 | O18: =[1]CX_PA!AL264-[1]CX_PA!AN264 -> 4075.96
B19: =[2]Documento!$A207 -> Factura | C19: =[2]Documento!$B207 -> 2230262380 | D19: =[2]Documento!$C207 -> 39402 | E19: 7876 | F19: =E19 -> 7876 | G19: =J19/F19 -> 1.1378732 | H19: 7406.52 | I19: 0.21 | J19: =H19*I19+H19 -> 8961.8892 | L19: =L18+1 -> 39397 | M19: =[1]CX_PA!AJ290-[1]CX_PA!AM290 -> 3145.03 | N19: =[1]CX_PA!AK290 -> 1.164 | O19: =[1]CX_PA!AL290-[1]CX_PA!AN290 -> 3660.81
B20: =[2]Documento!$A208 -> Factura | C20: =[2]Documento!$B208 -> 2230262380 | D20: =[2]Documento!$C208 -> 39402 | E20: 0 | F20: =E20 -> 0 | G20: =J20/F20 -> #DIV/0! | H20: 0 | I20: 0.21 | J20: =H20*I20+H20 -> 0 | L20: =L19+1 -> 39398 | M20: =[1]CX_PA!AJ316-[1]CX_PA!AM316 -> 4091.85 | N20: =[1]CX_PA!AK316 -> 1.164 | O20: =[1]CX_PA!AL316-[1]CX_PA!AN316 -> 4762.91
B21: =[2]Documento!$A209 -> Factura | C21: =[2]Documento!$B209 -> 2230262380 | D21: =[2]Documento!$C209 -> 39405 | E21: 3015 | F21: =E21 -> 3015 | G21: =J21/F21 -> 1.1378736 | H21: 2835.28 | I21: 0.21 | J21: =H21*I21+H21 -> 3430.6888 | L21: =L20+1 -> 39399 | M21: =[1]CX_PA!AJ342-[1]CX_PA!AM342 -> 3217.7 | N21: =[1]CX_PA!AK342 -> 1.179 | O21: =[1]CX_PA!AL342-[1]CX_PA!AN342 -> 3793.66
B22: =[2]Documento!$A210 -> Factura | C22: =[2]Documento!$B210 -> 2230262380 | D22: =[2]Documento!$C210 -> 39405 | E22: 6917 | F22: =E22 -> 6917 | G22: =J22/F22 -> 1.1528639 | H22: 6590.38 | I22: 0.21 | J22: =H22*I22+H22 -> 7974.3598 | L22: =L21+1 -> 39400 | M22: =[1]CX_PA!AJ368-[1]CX_PA!AM368 -> 3492.93 | N22: =[1]CX_PA!AK368 -> 1.179 | O22: =[1]CX_PA!AL368-[1]CX_PA!AN368 -> 4118.16
B23: =[2]Documento!$A211 -> Factura | C23: =[2]Documento!$B211 -> 2230266349 | D23: =[2]Documento!$C211 -> 39407 | E23: 6232 | F23: =E23 -> 6232 | G23: =J23/F23 -> 1.1528628 | H23: 5937.72 | I23: 0.21 | J23: =H23*I23+H23 -> 7184.6412 | L23: =L22+1 -> 39401 | M23: =[1]CX_PA!AJ394-[1]CX_PA!AM394 -> 2660.95 | N23: =[1]CX_PA!AK394 -> 1.179 | O23: =[1]CX_PA!AL394-[1]CX_PA!AN394 -> 3137.25
B24: =[2]Documento!$A212 -> Factura | C24: =[2]Documento!$B212 -> 2230268931 | D24: =[2]Documento!$C212 -> 39409 | E24: 4169 | F24: =E24 -> 4169 | G24: =J24/F24 -> 1.1528639 | H24: 3972.14 | I24: 0.21 | J24: =H24*I24+H24 -> 4806.2894 | L24: =L23+1 -> 39402 | M24: =[1]CX_PA!AJ420-[1]CX_PA!AM420 -> 4036.6 | N24: =[1]CX_PA!AK420 -> 1.179 | O24: =[1]CX_PA!AL420-[1]CX_PA!AN420 -> 4759.14
B25: =[2]Documento!$A213 -> Factura | C25: =[2]Documento!$B213 -> 2230268931 | D25: =[2]Documento!$C213 -> 39409 | E25: 3897 | F25: =E25 -> 3897 | G25: =J25/F25 -> 1.1628699 | H25: 3745.21 | I25: 0.21 | J25: =H25*I25+H25 -> 4531.7041 | L25: =L24+1 -> 39403 | M25: =[1]CX_PA!AJ446-[1]CX_PA!AM446 -> 3828.63 | N25: =[1]CX_PA!AK446 -> 1.194 | O25: =[1]CX_PA!AL446-[1]CX_PA!AN446 -> 4571.38
B26: =[2]Documento!$A214 -> Factura | C26: =[2]Documento!$B214 -> 2230270902 | D26: =[2]Documento!$C214 -> 39412 | E26: 9531 | F26: =E26 -> 9531 | G26: =J26/F26 -> 1.1628708 | H26: 9159.77 | I26: 0.21 | J26: =H26*I26+H26 -> 11083.322 | L26: =L25+1 -> 39404 | M26: =[1]CX_PA!AJ472-[1]CX_PA!AM472 -> 3221.12 | N26: =[1]CX_PA!AK472 -> 1.194 | O26: =[1]CX_PA!AL472-[1]CX_PA!AN472 -> 3846.01
B27: =[2]Documento!$A215 -> Factura | C27: =[2]Documento!$B215 -> 2230273399 | D27: =[2]Documento!$C215 -> 39414 | E27: 6425 | F27: =E27 -> 6425 | G27: =J27/F27 -> 1.1628712 | H27: 6174.75 | I27: 0.21 | J27: =H27*I27+H27 -> 7471.4475 | L27: =L26+1 -> 39405 | M27: =[1]CX_PA!AJ498-[1]CX_PA!AM498 -> 3395.1 | N27: =[1]CX_PA!AK498 -> 1.194 | O27: =[1]CX_PA!AL498-[1]CX_PA!AN498 -> 4053.75
B28: =[2]Documento!$A216 -> Nota de Crédito | C28: =[2]Documento!$B216 -> 2203505489 | D28: =[2]Documento!$C216 -> 39409 | E28: -51 | F28: =E28 -> -51 | G28: =J28/F28 -> 1.0980157 | H28: -46.28 | I28: 0.21 | J28: =H28*I28+H28 -> -55.9988 | L28: =L27+1 -> 39406 | M28: =[1]CX_PA!AJ524-[1]CX_PA!AM524 -> 3327.95 | N28: =[1]CX_PA!AK524 -> 1.194 | O28: =[1]CX_PA!AL524-[1]CX_PA!AN524 -> 3973.59
B29: =[2]Documento!$A217 -> Factura | C29: =[2]Documento!$B217 -> 2230276932 | D29: =[2]Documento!$C217 -> 39416 | E29: 3681 | F29: =E29 -> 3681 | G29: =J29/F29 -> 1.1628721 | H29: 3537.63 | I29: 0.21 | J29: =H29*I29+H29 -> 4280.5323 | L29: =L28+1 -> 39407 | M29: =[1]CX_PA!AJ550-[1]CX_PA!AM550 -> 3545.72 | N29: =[1]CX_PA!AK550 -> 1.194 | O29: =[1]CX_PA!AL550-[1]CX_PA!AN550 -> 4233.58
B30: =[2]Documento!$A218 -> Factura | C30: =[2]Documento!$B218 -> 2230276932 | D30: =[2]Documento!$C218 -> 39416 | E30: 2150 | F30: =E30 -> 2150 | G30: =J30/F30 -> 1.1678695 | H30: 2075.14 | I30: 0.21 | J30: =H30*I30+H30 -> 2510.9194 | L30: =L29+1 -> 39408 | M30: =[1]CX_PA!AJ576-[1]CX_PA!AM576 -> 3248.15 | N30: =[1]CX_PA!AK576 -> 1.204 | O30: =[1]CX_PA!AL576-[1]CX_PA!AN576 -> 3910.76
B31: =[2]Documento!$A219 -> Factura | C31: =[2]Documento!$B219 -> 2230278500 | D31: =[2]Documento!$C219 -> 39416 | E31: 4558 | F31: =E31 -> 4558 | G31: =J31/F31 -> 1.1678677 | H31: 4399.29 | I31: 0.21 | J31: =H31*I31+H31 -> 5323.1409 | L31: =L30+1 -> 39409 | M31: =[1]CX_PA!AJ602-[1]CX_PA!AM602 -> 3888.35 | N31: =[1]CX_PA!AK602 -> 1.204 | O31: =[1]CX_PA!AL602-[1]CX_PA!AN602 -> 4681.57
B32: =[2]Documento!$A220 -> Nota de Crédito | C32: =[2]Documento!$B220 -> 2203509942 | D32: =[2]Documento!$C220 -> 39416 | E32: -320 | F32: =E32 -> -320 | G32: =J32/F32 -> 1.12288 | H32: -296.96 | I32: 0.21 | J32: =H32*I32+H32 -> -359.3216 | L32: =L31+1 -> 39410 | M32: =[1]CX_PA!AJ628-[1]CX_PA!AM628 -> 3351.24 | N32: =[1]CX_PA!AK628 -> 1.204 | O32: =[1]CX_PA!AL628-[1]CX_PA!AN628 -> 4034.9
B33: =[2]Documento!$A221 -> 0 | C33: =[2]Documento!$B221 -> 0 | D33: =[2]Documento!$C221 -> 0 | F33: =E33 -> 0 | G33: =J33/F33 -> #DIV/0! | I33: 0.21 | J33: =H33*I33+H33 -> 0 | L33: =L32+1 -> 39411 | M33: =[1]CX_PA!AJ654-[1]CX_PA!AM654 -> 2846.33 | N33: =[1]CX_PA!AK654 -> 1.204 | O33: =[1]CX_PA!AL654-[1]CX_PA!AN654 -> 3426.98
B34: =[2]Documento!$A222 -> 0 | C34: =[2]Documento!$B222 -> 0 | D34: =[2]Documento!$C222 -> 0 | F34: =E34 -> 0 | G34: =J34/F34 -> #DIV/0! | I34: 0.21 | J34: =H34*I34+H34 -> 0 | L34: =L33+1 -> 39412 | M34: =[1]CX_PA!AJ680-[1]CX_PA!AM680 -> 3914.15 | N34: =[1]CX_PA!AK680 -> 1.204 | O34: =[1]CX_PA!AL680-[1]CX_PA!AN680 -> 4712.64
B35: =[2]Documento!$A223 -> 0 | C35: =[2]Documento!$B223 -> 0 | D35: =[2]Documento!$C223 -> 0 | F35: =E35 -> 0 | G35: =J35/F35 -> #DIV/0! | I35: 0.21 | J35: =H35*I35+H35 -> 0 | L35: =L34+1 -> 39413 | M35: =[1]CX_PA!AJ706-[1]CX_PA!AM706 -> 2812.62 | N35: =[1]CX_PA!AK706 -> 1.204 | O35: =[1]CX_PA!AL706-[1]CX_PA!AN706 -> 3386.4
B36: =[2]Documento!$A224 -> 0 | C36: =[2]Documento!$B224 -> 0 | D36: =[2]Documento!$C224 -> 0 | F36: =E36 -> 0 | G36: =J36/F36 -> #DIV/0! | I36: 0.21 | J36: =H36*I36+H36 -> 0 | L36: =L35+1 -> 39414 | M36: =[1]CX_PA!AJ732-[1]CX_PA!AM732 -> 3473.17 | N36: =[1]CX_PA!AK732 -> 1.204 | O36: =[1]CX_PA!AL732-[1]CX_PA!AN732 -> 4181.69
B37: =[2]Documento!$A225 -> 0 | C37: =[2]Documento!$B225 -> 0 | D37: =[2]Documento!$C225 -> 0 | F37: =E37 -> 0 | G37: =J37/F37 -> #DIV/0! | I37: 0.21 | J37: =H37*I37+H37 -> 0 | L37: =L36+1 -> 39415 | M37: =[1]CX_PA!AJ758-[1]CX_PA!AM758 -> 3286.58 | N37: =[1]CX_PA!AK758 -> 1.209 | O37: =[1]CX_PA!AL758-[1]CX_PA!AN758 -> 3973.47
B38: =[2]Documento!$A226 -> 0 | C38: =[2]Documento!$B226 -> 0 | D38: =[2]Documento!$C226 -> 0 | F38: =E38 -> 0 | G38: =J38/F38 -> #DIV/0! | I38: 0.21 | J38: =H38*I38+H38 -> 0 | L38: =L37+1 -> 39416 | M38: =[1]CX_PA!AJ784-[1]CX_PA!AM784+[1]CX_PA!AJ810-[1]CX_PA!AM810+[1]CX_PA!AJ836-[1]CX_PA!AM836 -> 3421.42 | N38: =[1]CX_PA!AK784 -> 1.209 | O38: =[1]CX_PA!AL784-[1]CX_PA!AN784+[1]CX_PA!AL810-[1]CX_PA!AN810+[1]CX_PA!AL836-[1]CX_PA!AN836 -> 4136.5
B39: =[2]Documento!$A227 -> 0 | C39: =[2]Documento!$B227 -> 0 | D39: =[2]Documento!$C227 -> 0 | F39: =E39 -> 0 | G39: =J39/F39 -> #DIV/0! | I39: 0.21 | J39: =H39*I39+H39 -> 0
F41: =SUM(F9:F38) -> 103369 | J41: =SUM(J9:J38) -> 117446.31 | M41: =SUM(M9:M40) -> 103369 | O41: =SUM(O9:O40) -> 121698.04
F42: =F41-M42 -> 0 | M42: =SUM(M9:M39) -> 103369

Sheet IVA D.AGRICOLA
C2: EMPRESA A | N2: ='IVA S_PB 95'!N2:O2 -> 39387
B4: GASOLEO AGRICOLA
B6: COMPRAS | L6: VENDAS
B7: TIPO DOC. | C7: N.º DOC. | D7: DATA DOC. | E7: Nº LITROS | F7: IMPUTADOS | G7: PREÇO CUSTO | H7: VALOR | I7: IVA | J7: VALOR | L7: DATA | M7: Nº LITROS | N7: PREÇO VENDA | O7: VALOR DA
G8: UNITÁRIO | H8: ILIQUIDO | J8: LIQUIDO | N8: UNITÁRIO | O8: VENDA
B9: =[2]Documento!$A197 -> Factura | C9: =[2]Documento!$B197 -> 2230243651 | D9: =[2]Documento!$C197 -> 39388 | E9: 83 | F9: =E9 -> 83 | G9: =J9/F9 -> 0.7062747 | H9: 52.34 | I9: 0.12 | J9: =H9*I9+H9 -> 58.6208 | L9: =N2 -> 39387 | M9: =[1]CX_PA!AJ9-[1]CX_PA!AM9+[1]CX_PA!AJ35-[1]CX_PA!AM35 -> 83.23 | N9: =[1]CX_PA!AK35 -> 0.743 | O9: =[1]CX_PA!AL9-[1]CX_PA!AN9+[1]CX_PA!AL35-[1]CX_PA!AN35 -> 61.85
B10: =[2]Documento!$A198 -> Factura | C10: =[2]Documento!$B198 -> 2230243651 | D10: =[2]Documento!$C198 -> 39388 | E10: 0 | F10: =E10 -> 0 | G10: =J10/F10 -> #DIV/0! | H10: 0 | I10: 0.12 | J10: =H10*I10+H10 -> 0 | L10: =L9+1 -> 39388 | M10: =[1]CX_PA!AJ61-[1]CX_PA!AM61 -> 212.92 | N10: =[1]CX_PA!AK61 -> 0.743 | O10: =[1]CX_PA!AL61-[1]CX_PA!AN61 -> 158.2
B11: =[2]Documento!$A199 -> Factura | C11: =[2]Documento!$B199 -> 2230247501 | D11: =[2]Documento!$C199 -> 39391 | E11: 467 | F11: =E11 -> 467 | G11: =J11/F11 -> 0.70636745 | H11: 294.53 | I11: 0.12 | J11: =H11*I11+H11 -> 329.8736 | L11: =L10+1 -> 39389 | M11: =[1]CX_PA!AJ87-[1]CX_PA!AM87 -> 372.18 | N11: =[1]CX_PA!AK87 -> 0.743 | O11: =[1]CX_PA!AL87-[1]CX_PA!AN87 -> 276.53
B12: =[2]Documento!$A200 -> Factura | C12: =[2]Documento!$B200 -> 2230250027 | D12: =[2]Documento!$C200 -> 39393 | E12: 501 | F12: =E12 -> 501 | G12: =J12/F12 -> 0.70636008 | H12: 315.97 | I12: 0.12 | J12: =H12*I12+H12 -> 353.8864 | L12: =L11+1 -> 39390 | M12: =[1]CX_PA!AJ113-[1]CX_PA!AM113 -> 54.38 | N12: =[1]CX_PA!AK113 -> 0.743 | O12: =[1]CX_PA!AL113-[1]CX_PA!AN113 -> 40.4
B13: =[2]Documento!$A201 -> Factura | C13: =[2]Documento!$B201 -> 2230250027 | D13: =[2]Documento!$C201 -> 39393 | E13: 345 | F13: =E13 -> 345 | G13: =J13/F13 -> 0.71634551 | H13: 220.66 | I13: 0.12 | J13: =H13*I13+H13 -> 247.1392 | L13: =L12+1 -> 39391 | M13: =[1]CX_PA!AJ139-[1]CX_PA!AM139 -> 328.72 | N13: =[1]CX_PA!AK139 -> 0.743 | O13: =[1]CX_PA!AL139-[1]CX_PA!AN139 -> 244.23
B14: =[2]Documento!$A202 -> Factura | C14: =[2]Documento!$B202 -> 2230252666 | D14: =[2]Documento!$C202 -> 39395 | E14: 763 | F14: =E14 -> 763 | G14: =J14/F14 -> 0.71635963 | H14: 488.02 | I14: 0.12 | J14: =H14*I14+H14 -> 546.5824 | L14: =L13+1 -> 39392 | M14: =[1]CX_PA!AJ165-[1]CX_PA!AM165 -> 344.63 | N14: =[1]CX_PA!AK165 -> 0.753 | O14: =[1]CX_PA!AL165-[1]CX_PA!AN165 -> 259.51
B15: =[2]Documento!$A203 -> Factura | C15: =[2]Documento!$B203 -> 2230254373 | D15: =[2]Documento!$C203 -> 39398 | E15: 367 | F15: =E15 -> 367 | G15: =J15/F15 -> 0.71637275 | H15: 234.74 | I15: 0.12 | J15: =H15*I15+H15 -> 262.9088 | L15: =L14+1 -> 39393 | M15: =[1]CX_PA!AJ191-[1]CX_PA!AM191 -> 197.53 | N15: =[1]CX_PA!AK191 -> 0.753 | O15: =[1]CX_PA!AL191-[1]CX_PA!AN191 -> 148.74
B16: =[2]Documento!$A204 -> Factura | C16: =[2]Documento!$B204 -> 2230254373 | D16: =[2]Documento!$C204 -> 39398 | E16: 310 | F16: =E16 -> 310 | G16: =J16/F16 -> 0.73038452 | H16: 202.16 | I16: 0.12 | J16: =H16*I16+H16 -> 226.4192 | L16: =L15+1 -> 39394 | M16: =[1]CX_PA!AJ217-[1]CX_PA!AM217 -> 565.73 | N16: =[1]CX_PA!AK217 -> 0.753 | O16: =[1]CX_PA!AL217-[1]CX_PA!AN217 -> 426
B17: =[2]Documento!$A205 -> Factura | C17: =[2]Documento!$B205 -> 2230256925 | D17: =[2]Documento!$C205 -> 39400 | E17: 660 | F17: =E17 -> 660 | G17: =J17/F17 -> 0.73035879 | H17: 430.39 | I17: 0.12 | J17: =H17*I17+H17 -> 482.0368 | L17: =L16+1 -> 39395 | M17: =[1]CX_PA!AJ243-[1]CX_PA!AM243 -> 366.61 | N17: =[1]CX_PA!AK243 -> 0.753 | O17: =[1]CX_PA!AL243-[1]CX_PA!AN243 -> 276.06
B18: =[2]Documento!$A206 -> Factura | C18: =[2]Documento!$B206 -> 2230256925 | D18: =[2]Documento!$C206 -> 39400 | E18: 0 | F18: =E18 -> 0 | G18: =J18/F18 -> #DIV/0! | H18: 0 | I18: 0.12 | J18: =H18*I18+H18 -> 0 | L18: =L17+1 -> 39396 | M18: =[1]CX_PA!AJ269-[1]CX_PA!AM269 -> 231.15 | N18: =[1]CX_PA!AK269 -> 0.767 | O18: =[1]CX_PA!AL269-[1]CX_PA!AN269 -> 177.29
B19: =[2]Documento!$A207 -> Factura | C19: =[2]Documento!$B207 -> 2230262380 | D19: =[2]Documento!$C207 -> 39402 | E19: 172 | F19: =E19 -> 172 | G19: =J19/F19 -> 0.73034419 | H19: 112.16 | I19: 0.12 | J19: =H19*I19+H19 -> 125.6192 | L19: =L18+1 -> 39397 | M19: =[1]CX_PA!AJ295-[1]CX_PA!AM295 -> 78.89 | N19: =[1]CX_PA!AK295 -> 0.767 | O19: =[1]CX_PA!AL295-[1]CX_PA!AN295 -> 60.51
B20: =[2]Documento!$A208 -> Factura | C20: =[2]Documento!$B208 -> 2230262380 | D20: =[2]Documento!$C208 -> 39402 | E20: 274 | F20: =E20 -> 274 | G20: =J20/F20 -> 0.76033285 | H20: 186.01 | I20: 0.12 | J20: =H20*I20+H20 -> 208.3312 | L20: =L19+1 -> 39398 | M20: =[1]CX_PA!AJ321-[1]CX_PA!AM321 -> 439.28 | N20: =[1]CX_PA!AK321 -> 0.767 | O20: =[1]CX_PA!AL321-[1]CX_PA!AN321 -> 336.93
B21: =[2]Documento!$A209 -> Factura | C21: =[2]Documento!$B209 -> 2230262380 | D21: =[2]Documento!$C209 -> 39405 | E21: 396 | F21: =E21 -> 396 | G21: =J21/F21 -> 0.76035556 | H21: 268.84 | I21: 0.12 | J21: =H21*I21+H21 -> 301.1008 | L21: =L20+1 -> 39399 | M21: =[1]CX_PA!AJ347-[1]CX_PA!AM347 -> 220.56 | N21: =[1]CX_PA!AK347 -> 0.767 | O21: =[1]CX_PA!AL347-[1]CX_PA!AN347 -> 169.16
B22: =[2]Documento!$A210 -> Factura | C22: =[2]Documento!$B210 -> 2230262380 | D22: =[2]Documento!$C210 -> 39405 | E22: 0 | F22: =E22 -> 0 | G22: =J22/F22 -> #DIV/0! | H22: 0 | I22: 0.12 | J22: =H22*I22+H22 -> 0 | L22: =L21+1 -> 39400 | M22: =[1]CX_PA!AJ373-[1]CX_PA!AM373 -> 172.28 | N22: =[1]CX_PA!AK373 -> 0.767 | O22: =[1]CX_PA!AL373-[1]CX_PA!AN373 -> 132.15
B23: =[2]Documento!$A211 -> Factura | C23: =[2]Documento!$B211 -> 2230266349 | D23: =[2]Documento!$C211 -> 39407 | E23: 463 | F23: =E23 -> 463 | G23: =J23/F23 -> 0.76036631 | H23: 314.33 | I23: 0.12 | J23: =H23*I23+H23 -> 352.0496 | L23: =L22+1 -> 39401 | M23: =[1]CX_PA!AJ399-[1]CX_PA!AM399 -> 192 | N23: =[1]CX_PA!AK399 -> 0.797 | O23: =[1]CX_PA!AL399-[1]CX_PA!AN399 -> 153.02
B24: =[2]Documento!$A212 -> Factura | C24: =[2]Documento!$B212 -> 2230268931 | D24: =[2]Documento!$C212 -> 39409 | E24: 264 | F24: =E24 -> 264 | G24: =J24/F24 -> 0.7603697 | H24: 179.23 | I24: 0.12 | J24: =H24*I24+H24 -> 200.7376 | L24: =L23+1 -> 39402 | M24: =[1]CX_PA!AJ425-[1]CX_PA!AM425 -> 275.36 | N24: =[1]CX_PA!AK425 -> 0.797 | O24: =[1]CX_PA!AL425-[1]CX_PA!AN425 -> 219.47
B25: =[2]Documento!$A213 -> Factura | C25: =[2]Documento!$B213 -> 2230268931 | D25: =[2]Documento!$C213 -> 39409 | E25: 407 | F25: =E25 -> 407 | G25: =J25/F25 -> 0.76534251 | H25: 278.12 | I25: 0.12 | J25: =H25*I25+H25 -> 311.4944 | L25: =L24+1 -> 39403 | M25: =[1]CX_PA!AJ451-[1]CX_PA!AM451 -> 129.83 | N25: =[1]CX_PA!AK451 -> 0.797 | O25: =[1]CX_PA!AL451-[1]CX_PA!AN451 -> 103.48
B26: =[2]Documento!$A214 -> Factura | C26: =[2]Documento!$B214 -> 2230270902 | D26: =[2]Documento!$C214 -> 39412 | E26: 795 | F26: =E26 -> 795 | G26: =J26/F26 -> 0.76536151 | H26: 543.27 | I26: 0.12 | J26: =H26*I26+H26 -> 608.4624 | L26: =L25+1 -> 39404 | M26: =[1]CX_PA!AJ477-[1]CX_PA!AM477 -> 72.91 | N26: =[1]CX_PA!AK477 -> 0.797 | O26: =[1]CX_PA!AL477-[1]CX_PA!AN477 -> 58.11
B27: =[2]Documento!$A215 -> Factura | C27: =[2]Documento!$B215 -> 2230273399 | D27: =[2]Documento!$C215 -> 39414 | E27: 653 | F27: =E27 -> 653 | G27: =J27/F27 -> 0.7653562 | H27: 446.23 | I27: 0.12 | J27: =H27*I27+H27 -> 499.7776 | L27: =L26+1 -> 39405 | M27: =[1]CX_PA!AJ503-[1]CX_PA!AM503 -> 297.91 | N27: =[1]CX_PA!AK503 -> 0.797 | O27: =[1]CX_PA!AL503-[1]CX_PA!AN503 -> 237.44
B28: =[2]Documento!$A216 -> Nota de Crédito | C28: =[2]Documento!$B216 -> 2203505489 | D28: =[2]Documento!$C216 -> 39409 | E28: 0 | F28: =E28 -> 0 | G28: =J28/F28 -> #DIV/0! | H28: 0 | I28: 0.12 | J28: =H28*I28+H28 -> 0 | L28: =L27+1 -> 39406 | M28: =[1]CX_PA!AJ529-[1]CX_PA!AM529 -> 165.11 | N28: =[1]CX_PA!AK529 -> 0.797 | O28: =[1]CX_PA!AL529-[1]CX_PA!AN529 -> 131.6
B29: =[2]Documento!$A217 -> Factura | C29: =[2]Documento!$B217 -> 2230276932 | D29: =[2]Documento!$C217 -> 39416 | E29: 774 | F29: =E29 -> 774 | G29: =J29/F29 -> 0.76536227 | H29: 528.92 | I29: 0.12 | J29: =H29*I29+H29 -> 592.3904 | L29: =L28+1 -> 39407 | M29: =[1]CX_PA!AJ555-[1]CX_PA!AM555 -> 264.09 | N29: =[1]CX_PA!AK555 -> 0.797 | O29: =[1]CX_PA!AL555-[1]CX_PA!AN555 -> 210.48
B30: =[2]Documento!$A218 -> Factura | C30: =[2]Documento!$B218 -> 2230276932 | D30: =[2]Documento!$C218 -> 39416 | E30: 227 | F30: =E30 -> 227 | G30: =J30/F30 -> 0.77235595 | H30: 156.54 | I30: 0.12 | J30: =H30*I30+H30 -> 175.3248 | L30: =L29+1 -> 39408 | M30: =[1]CX_PA!AJ581-[1]CX_PA!AM581 -> 300.25 | N30: =[1]CX_PA!AK581 -> 0.802 | O30: =[1]CX_PA!AL581-[1]CX_PA!AN581 -> 240.8
B31: =[2]Documento!$A219 -> Factura | C31: =[2]Documento!$B219 -> 2230278500 | D31: =[2]Documento!$C219 -> 39416 | E31: 267 | F31: =E31 -> 267 | G31: =J31/F31 -> 0.77233858 | H31: 184.12 | I31: 0.12 | J31: =H31*I31+H31 -> 206.2144 | L31: =L30+1 -> 39409 | M31: =[1]CX_PA!AJ607-[1]CX_PA!AM607 -> 347.28 | N31: =[1]CX_PA!AK607 -> 0.802 | O31: =[1]CX_PA!AL607-[1]CX_PA!AN607 -> 278.51
B32: =[2]Documento!$A220 -> Nota de Crédito | C32: =[2]Documento!$B220 -> 2203509942 | D32: =[2]Documento!$C220 -> 39416 | E32: 0 | F32: =E32 -> 0 | G32: =J32/F32 -> #DIV/0! | H32: 0 | I32: 0.12 | J32: =H32*I32+H32 -> 0 | L32: =L31+1 -> 39410 | M32: =[1]CX_PA!AJ633-[1]CX_PA!AM633 -> 446.45 | N32: =[1]CX_PA!AK633 -> 0.802 | O32: =[1]CX_PA!AL633-[1]CX_PA!AN633 -> 358.06
B33: =[2]Documento!$A221 -> 0 | C33: =[2]Documento!$B221 -> 0 | D33: =[2]Documento!$C221 -> 0 | F33: =E33 -> 0 | G33: =J33/F33 -> #DIV/0! | I33: 0.12 | J33: =H33*I33+H33 -> 0 | L33: =L32+1 -> 39411 | M33: =[1]CX_PA!AJ659-[1]CX_PA!AM659 -> 107.27 | N33: =[1]CX_PA!AK659 -> 0.802 | O33: =[1]CX_PA!AL659-[1]CX_PA!AN659 -> 86.03
B34: =[2]Documento!$A222 -> 0 | C34: =[2]Documento!$B222 -> 0 | D34: =[2]Documento!$C222 -> 0 | F34: =E34 -> 0 | G34: =J34/F34 -> #DIV/0! | I34: 0.12 | J34: =H34*I34+H34 -> 0 | L34: =L33+1 -> 39412 | M34: =[1]CX_PA!AJ685-[1]CX_PA!AM685 -> 239.86 | N34: =[1]CX_PA!AK685 -> 0.802 | O34: =[1]CX_PA!AL685-[1]CX_PA!AN685 -> 192.36
B35: =[2]Documento!$A223 -> 0 | C35: =[2]Documento!$B223 -> 0 | D35: =[2]Documento!$C223 -> 0 | F35: =E35 -> 0 | G35: =J35/F35 -> #DIV/0! | I35: 0.12 | J35: =H35*I35+H35 -> 0 | L35: =L34+1 -> 39413 | M35: =[1]CX_PA!AJ711-[1]CX_PA!AM711 -> 413.98 | N35: =[1]CX_PA!AK711 -> 0.802 | O35: =[1]CX_PA!AL711-[1]CX_PA!AN711 -> 332.01
B36: =[2]Documento!$A224 -> 0 | C36: =[2]Documento!$B224 -> 0 | D36: =[2]Documento!$C224 -> 0 | F36: =E36 -> 0 | G36: =J36/F36 -> #DIV/0! | I36: 0.12 | J36: =H36*I36+H36 -> 0 | L36: =L35+1 -> 39414 | M36: =[1]CX_PA!AJ737-[1]CX_PA!AM737 -> 773.43 | N36: =[1]CX_PA!AK737 -> 0.802 | O36: =[1]CX_PA!AL737-[1]CX_PA!AN737 -> 620.29
