Workbook

Sheet Mapa Depreciações
A1: Mapa de Ativos Fixos
A6: Descrição | B6: Quantidade | C6: Custo de Aquisição | D6: DepreciaçõesAmortizações Semestre | E6: Depreciações Amortizações Anuais 2015 | F6: Taxa | G6: Vida útil (anos) | H6: Depreciações Amortizações | J6: Quantia Escriturada
H8: Método | I8: Regime
A9: 43 - Ativos Fixos Tangíveis
A10: 433 - Eq. Básico
A11: Computador Pro | B11: 2 | C11: =2*937.5 -> 1875 | D11: =(E11/12)*6 -> 312.5 | E11: =C11/G11 -> 625 | F11: 33.33% | G11: 3 | H11: Duodécimos | I11: Anual | J11: =C11-E11 -> 1250
A12: Impressora multifunções | B12: 1 | C12: 163.63 | D12: =(E12/12)*6 -> 27.271667 | E12: =C12/G12 -> 54.543333 | F12: 0.3333 | G12: 3 | H12: Duodécimos | I12: Anual | J12: =C12-E12 -> 109.08667
A13: Total do Eq. Básico | C13: =SUM(C11:C12) -> 2038.63 | D13: =SUM(D11:D12) -> 339.77167 | E13: =SUM(E11+E12) -> 679.54333 | J13: =SUM(J11:J12) -> 1359.0867
A15: 434 - Eq. Transporte
A16: mercedez-benz-A 160 CDI - leasing | B16: 1 | C16: 34751.64 | D16: =(E16/12)*6 -> 4343.955 | E16: =C16/G16 -> 8687.91 | F16: 0.25 | G16: 4 | H16: Duodécimos | I16: Anual | J16: =C16-E16 -> 26063.73
A17: Total do Eq. Transporte | C17: =SUM(C16) -> 34751.64 | D17: =SUM(D16:D16) -> 4343.955 | E17: =SUM(E16:E16) -> 8687.91 | J17: =SUM(J16:J16) -> 26063.73
A19: 435 - Eq.Administrativo
A20: Cadeira para serviço administrativo | B20: 5 | C20: =84.56*B20 -> 422.8 | D20: =(E20/12)*5 -> 22.020833 | E20: =C20/G20 -> 52.85 | F20: 0.125 | G20: 8 | H20: Duodécimos | I20: Anual | J20: =C20-E20 -> 369.95
A21: Secretária para serviço administrativo | B21: 2 | C21: =B21*384.38 -> 768.76 | D21: =(E21/12)*5 -> 40.039583 | E21: =C21/G21 -> 96.095 | F21: 0.125 | G21: 8 | H21: Duodécimos | I21: Anual | J21: =C21-E21 -> 672.665
A22: Mesa para sala de reuniões | B22: 1 | C22: 238.31 | D22: =(E22/12)*5 -> 12.411979 | E22: =C22/G22 -> 29.78875 | F22: 0.125 | G22: 8 | H22: Duodécimos | I22: Anual | J22: =C22-E22 -> 208.52125
A23: Total do Eq. Administrativo | C23: =SUM(C20:C22) -> 1429.87 | D23: =D20+D21+D22 -> 74.472396 | E23: =E20+E21+E22 -> 178.73375 | J23: =J20+J21+J22 -> 1251.1363
A25: 437 - Outros AFT
A26: Máquina de café | B26: 1 | C26: 2601.92 | D26: =(E26/12)*2 -> 61.950476 | E26: =C26/G26 -> 371.70286 | F26: 0.1403 | G26: 7 | H26: Duodécimos | I26: Anual | J26: =C26-E26 -> 2230.2171
A27: Total de Outros AFT | C27: =SUM(C26) -> 2601.92 | D27: =SUM(D26:D26) -> 61.950476 | E27: =SUM(E26:E26) -> 371.70286 | J27: =SUM(J26:J26) -> 2230.2171
A28: Total dos Ativos Fixos Tangíveis | C28: =C27+C23+C17+C13 -> 40822.06 | D28: =D27+D23+D17+D13 -> 4820.1495 | E28: =E27+E23+E17+E13 -> 9917.8899 | J28: =J27+J23+J17+J13 -> 30904.17
A30: 44 - Ativos Intangíveis
A31: 44 - Ativos Intangíveis
A32: Software antivirus | B32: 1 | C32: 56.25 | D32: =(E32/12)*3 -> 4.6875 | E32: =C32/G32 -> 18.75 | F32: 0.3333 | G32: 3 | H32: Duodécimos | I32: Anual | J32: =C32-E32 -> 37.5
A33: Software Construção Civil | B33: 1 | C33: 8750 | D33: =(E33/12)*3 -> 729.16667 | E33: =C33/G33 -> 2916.6667 | F33: 0.3333 | G33: 3 | H33: Duodécimos | I33: Anual | J33: =C33-E33 -> 5833.3333
A34: Total de Ativos Intangíveis | C34: =SUM(C32:C33) -> 8806.25 | D34: =D33 -> 729.16667 | E34: =E33 -> 2916.6667 | J34: =J33 -> 5833.3333
A35: TOTAL GERAL OU A TRANSPORTAR | C35: =C34+C28 -> 49628.31 | D35: =D34+D28 -> 5549.3162 | E35: =E34+E28 -> 12834.557 | J35: =J34+J28 -> 36737.503

Sheet Diferimentos
A1: Diferimentos
A6: Data Inicio | B6: Data fim | C6: Conta | D6: Descritivo | E6: Dias | F6: Valor Total | G6: Nº de dias | H6: total a | I6: Notas
G7: a diferir | H7: diferir
A8: 42010 | B8: 42375 | C8: 626 | D8: Seguro acidentes de trabalho | E8: 365 | F8: 4148.15 | G8: 190 | H8: =F8/E8*G8 -> 2159.311
A9: 42099 | B9: 42465 | C9: 638 | D9: Seguro de vida | E9: 365 | F9: 865.74 | G9: 279 | H9: =F9/E9*G9 -> 661.75742
A10: 42124 | B10: 42855 | C10: 626 | D10: Contrato leasing | E10: 365 | F10: 28253.37 | G10: 304 | H10: =F10/E10*G10 -> 23531.574
A11: 42155 | B11: 42521 | C11: 626 | D11: Seguro : SE-03-70 * | E11: 365 | F11: 1023.93 | G11: 335 | H11: =F11/E11*G11 -> 939.77137
A12: 42162 | B12: 42528 | D12: Garantia bancária obra 04 | E12: 365 | F12: 132.8 | G12: 342 | H12: =F12/E12*G12 -> 124.43178
A13: 42162 | B13: 42528 | D13: Garantia bancária obra 06 | E13: 365 | F13: 125.3 | G13: 342 | H13: =F13/E13*G13 -> 117.40438
D14: % faturação > % acabamento | H14: 136766.53
F15: =SUM(F8:F13) -> 34549.29 | H15: =SUM(H8:H14) -> 164300.78
A16: 42010 | B16: 42010 | C16: 6833 | D16: Quotas ACISE | E16: 365 | F16: 2543.75 | G16: 190 | H16: =F16/E16*G16 -> 1324.1438
H17: =H16 -> 1324.1438
A18: TOTAL | F18: =F25+F17+F15 -> 34549.29 | H18: =H25+H17+H15 -> 165624.92

Sheet Acréscimos
A1: Acréscimos
A6: Descrição | B6: Período | D6: Total do gasto | E6: Gasto do período a acrescer | G6: Notas
B7: Data | C7: Dias | E7: 1º Semestre | F7: Valor
A8: Locação Financeira
A9: Juros Leasing (n.º 34129) | B9: 30/04/2015 a 30/10/2015 | C9: 184 | D9: 536.81 | E9: 62 | F9: =(D9/C9)*E9 -> 180.88163
F10: =SUM(F9:F9) -> 180.88163
A12: Descrição | B12: Período | D12: Total do gasto | E12: Gasto do período a acrescer
B13: Data | C13: Dias | E13: 1º Semestre | F13: Valor
A14: FSE
A15: Água | B15: 01-04-2015 a 01-07-2015 | C15: 90 | D15: 656.39 | E15: 90 | F15: =D15 -> 656.39
A16: Comunicações | B16: 01-04-2015 a 01-07-2015 | C16: 90 | D16: 648.78 | E16: 90 | F16: =D16 -> 648.78
A17: Eletricidade | B17: 01-04-2015 a 01-07-2015 | C17: 90 | D17: 8437.81 | E17: 90 | F17: =D17 -> 8437.81
F18: =SUM(F15:F17) -> 9742.98
A20: Descrição | B20: Período | D20: Total do gasto | E20: Gasto do período a acrescer
B21: Data | C21: Dias | E21: 1º Semestre | F21: Valor
A22: Férias pagas a 15/07
A23: Orgãos Sociais | B23: 01-01-2015 a 31-12-2015 | C23: 20 | D23: 1060 | E23: 12 | F23: =(D23/C23)*E23 -> 636
A24: Pessoal | B24: 01-01-2015 a 31-12-2015 | C24: 20 | D24: 19708 | E24: 12 | F24: =(D24/C24)*E24 -> 11824.8
A25: Enargos Orgãos Sociais | B25: 01-01-2015 a 31-12-2015 | C25: 20 | D25: =D23*0.2375 -> 251.75 | E25: 12 | F25: =(D25/C25)*E25 -> 151.05
A26: Encargos Pessoal | B26: 01-01-2015 a 31-12-2015 | C26: 20 | D26: =D24*0.2375 -> 4680.65 | E26: 12 | F26: =(D26/C26)*E26 -> 2808.39
F27: =SUM(F24:F26) -> 14784.24
A29: Descrição | B29: Período | D29: Total do gasto | E29: Gasto do período a acrescer
B30: Data | C30: Dias | E30: 1º Semestre | F30: Valor
A31: Gastos com Subsidio de Natal
A32: Orgãos Sociais | B32: 01-01-2015 a 31-12-2015 | C32: 365 | D32: =D50 -> 943.4 | E32: 181 | F32: =(D32/C32)*E32 -> 467.82301
A33: Pessoal | B33: 01-01-2015 a 31-12-2015 | C33: 365 | D33: =D51 -> 15971.57 | E33: 181 | F33: =(D33/C33)*E33 -> 7920.1484
A34: Encargos Orgãos Sociais | B34: 01-01-2015 a 31-12-2015 | C34: 365 | D34: =D32*0.2375 -> 224.0575 | E34: 181 | F34: =(D34/C34)*E34 -> 111.10797
A35: Encargos Pessoal | B35: 01-01-2015 a 31-12-2015 | C35: 365 | D35: =D33*0.2375 -> 3793.2479 | E35: 181 | F35: =(D35/C35)*E35 -> 1881.0352
F36: =SUM(F32:F35) -> 10380.115
A38: Descrição | B38: Período | D38: Total do gasto | E38: Gasto do período a acrescer
B39: Data | C39: Dias | E39: 1º Semestre | F39: Valor
A40: Estimativa de Férias
A41: Orgãos Sociais | B41: 01-01-2015 a 31-12-2015 | C41: 365 | D41: 940.1 | E41: 181 | F41: =(D41/C41)*E41 -> 466.18658
A42: Pessoal | B42: 01-01-2015 a 31-12-2015 | C42: 365 | D42: 15946.25 | E42: 181 | F42: =(D42/C42)*E42 -> 7907.5925
A43: Encargos Orgãos Sociais | B43: 01-01-2015 a 31-12-2015 | C43: 365 | D43: =D41*0.2375 -> 223.27375 | E43: 181 | F43: =(D43/C43)*E43 -> 110.71931
A44: Encargos Pessoal | B44: 01-01-2015 a 31-12-2015 | C44: 365 | D44: =D42*0.2375 -> 3787.2344 | E44: 181 | F44: =(D44/C44)*E44 -> 1878.0532
F45: =SUM(F41:F44) -> 10362.552
A47: Descrição | B47: Período | D47: Total do gasto | E47: Gasto do período a acrescer
B48: Data | C48: Dias | E48: 1º Semestre | F48: Valor
A49: Estimativa do Subsidio de Férias
...

Sheet CMVMC
A1: CMVMC
A6: Sinal | B6: Descrição | C6: Valor | D6: Notas
B7: Existências Iniciais | C7: 0
B8: Compras
A9: + | B9: Matérias Primas | C9: 133780.32
A10: + | B10: Mercadorias | C10: 20000
A11: ± | B11: Regularizações | C11: 0
A12: - | B12: Existencias Finais | C12: =13689.45 -> 13689.45
A13: = | B13: CMVMC | C13: =C7+C9+C10-C12 -> 140090.87

Sheet IRC Estimado
A1: CMVMC
A6: IRC do período findo a 30 de junho de 2015
A7: Descrição | B7: Valor | C7: Justificação legal | D7: Notas
A8: RAI | B8: =Folha1!B14 -> 244065.29
A10: Correções fiscais
A11: Depreciações não aceites | B11: =D14 -> 1218.955 | C11: 34.º, n.º 1, al. e) alterada pela Lei n.º 82-D/2014, de 31.12
C12: Calculos Auxiliares: | D12: =34751.64-25000 -> 9751.64
D13: =D12/4 -> 2437.91
D14: =(D13/12)*6 -> 1218.955
A15: Seguro de vida n.º 16104 | B15: =Diferimentos!F9 -> 865.74 | C15: Não cumprimento da al. a), n.º 4, art.º 43.º
A16: Quotizações a favor da associação empresarial ACISE | B16: =D19 -> -1887.2883 | C16: Art.º 44.º, n.º 1 e n.º 2
C17: Calculos Auxiliares: Limite | D17: ='Balancete Ajustado'!I136*0.002 -> 656.46172
C18: Majoração | D18: =D17*0.5 -> 328.23086
C19: Base Fiscal | D19: =D17-Diferimentos!F16 -> -1887.2883
A20: Desempregados de Longa Duração | B20: =-D22 -> -7488 | C20: Art.º 19.º EBF
B21: =B8+B11+B15-B16-B20 -> 255525.28 | C21: Calculos auxiliares: | D21: =780*6+780*6+936*6 -> 14976
D22: =D21*0.5 -> 7488
A23: Lucro tributável | B23: =B21 -> 255525.28 | C23: art.º 17.º
A24: Prejuízos fiscais | B24: 0 | C24: Art.º 52.º
A25: Benefícios fiscais | B25: 0 | C25: anexo D
A27: Matéria coletável | B27: =B23 -> 255525.28 | C27: Art.º 15.º
A28: Coleta | B28: =(0.17*15000)+(0.21*321559.82) -> 70077.562 | C28: Art.º 87.º
A29: Deduções à coleta | B29: 0
A31: IRC liquidado | B31: 0 | C31: n.º 9 art.º 90.º
A32: Retenções na fonte | B32: 0 | C32: al. c) n.º 2 art.º 90.º
A33: Pagamentos por conta de IRC | B33: 0 | C33: Art.º 104.º, 105.º e 107.º
A35: IRC a pagar | B35: =B28 -> 70077.562
A36: Derrama municipal (1,5% - Aveiro) | B36: =0.015*B27 -> 3832.8791 | C36: LFL n.º 18 e Ofício Circulado n.º 20186/2016
A37: Tributações autónomas | B37: =D37 -> 9668.365 | C37: Art.º 88.º nº 3-c) e nº 5 | D37: =(27280.98+342.92)*0.35 -> 9668.365
A38: Total a pagar | B38: =B35+B36+B37 -> 83578.806

Sheet Balancete Ajustado
A1: Balencete entre Meses Periodo e Acumulado
A5: Data Emissão 26/04/2016
A6: Exercício 2015
A7: Conta | B7: Descrição | C7: Valores balancete 30-06-15 | E7: Ajustamentos extra-digráficos | G7: Notas | H7: Saldo ajustados
C8: Débito | D8: Crédito | E8: Débito | F8: Crédito | H8: Saldo Devedor | I8: Saldo Credor
A9: 1 | B9: MEIOS FINANCEIROS LÍQUIDOS | D9: 0
A10: 12 | B10: Depósitos à ordem | C10: 338539.66 | D10: 0 | H10: =C10+E10 -> 338539.66
A11: 121 | B11: Banco On-Line | C11: 338539.66 | D11: 0 | H11: =C11+E11 -> 338539.66
A12: Total Classe | C12: =C11 -> 338539.66 | H12: =H11 -> 338539.66
A14: 2 | B14: CONTAS A RECEBER E A PAGAR
A15: 21 | B15: Clientes | C15: 106722 | D15: 72500 | H15: =H16+H17 -> 106722 | I15: 72500
A16: 211 | B16: Clientes c/c | C16: 40000 | H16: =C16 -> 40000 | I16: =F16 -> 0
A17: 212 | B17: Clientes-letras descontas | C17: 66722 | H17: =C17 -> 66722
A18: 218 | B18: Clientes adiantamentos | D18: 72500 | I18: 72500
A19: 22 | B19: Fornecedores | D19: 13971.74 | I19: =D19 -> 13971.74
A20: 221 | B20: Fornecedores-conta corrente | D20: 13971.74 | I20: =D20 -> 13971.74
A21: 23 | B21: Pessoal | D21: 55698.95 | I21: =D21 -> 55698.95
A22: 24 | B22: Estado e outros entes públicos | C22: 42573.76 | D22: 30021.26 | H22: 42573.76 | I22: =I23+I24+I28+I30+I31 -> 119119.07
A23: 241 | B23: Estimativa do Imposto sobre o Rendimento | F23: ='IRC Estimado'!B38 -> 83578.806 | I23: =F23 -> 83578.806
A24: 242 | B24: Retenção imposto s/ rendimento | D24: 5519 | I24: =SUM(I25:I27) -> 11038
A25: 2421 | B25: Trabalho dependente | D25: 5519 | I25: =D25 -> 5519
A26: 24211 | B26: IRS | D26: 5194 | I26: =D26 -> 5194
A27: 24212 | B27: Sobretaxa IRS | D27: 325 | I27: =D27 -> 325
A28: 243 | B28: IVA-imposto sobre o valor acrescentado | C28: 42573.76 | H28: 42573.76 | I28: =D28 -> 0
A29: 2437 | B29: IVA-a recuperar | C29: 42573.76 | H29: 42573.76 | I29: =D29 -> 0
A30: 244 | B30: Outros impostos | D30: 333.62 | I30: =D30 -> 333.62
A31: 245 | B31: Contribuições segurança social | D31: 24168.64 | I31: =D31 -> 24168.64
A32: 25 | B32: Financiamentos obtidos | D32: 99794.06 | I32: =D33 -> 99794.06
A33: 251 | B33: Instituições crédito e soc. financeiras | D33: 99794.06 | I33: =SUM(I35:I36) -> 33072.06
A34: 2511 | B34: Emprestimos bancários | D34: 58 | I34: =D34 -> 58
A35: 25111 | B35: Cartão de crédito | D35: 58 | I35: =D35 -> 58
A36: 2513 | B36: Locações financeiras | D36: 33014.06 | I36: =D36 -> 33014.06
A37: 2514 | B37: Letras | D37: 66722 | I37: =D37 -> 66722
A38: 27 | B38: Outras contas a receber e a pagar | H38: =C38 -> 0 | I38: =I39 -> 68332.236
A39: 272 | B39: Devedores e credores por acréscimos | F39: =Acréscimos!F64 -> 68332.236 | I39: =F39 -> 68332.236
A40: 2722 | B40: Credores por acréscimos de gastos
A41: 27221 | B41: Remuneração de ferias | E41: =Acréscimos!F41+Acréscimos!F42 -> 8373.779
A42: 27222 | B42: Subsidio de férias | E42: =Acréscimos!F50+Acréscimos!F51 -> 8387.9714
A43: 27223 | B43: Encargos com a SS | E43: =Acréscimos!F43+Acréscimos!F44+Acréscimos!F52+Acréscimos!F53+Acréscimos!F34+Acréscimos!F35 -> 5973.0589
A44: 27225 | B44: Sub. De natal | E44: =Acréscimos!F32+Acréscimos!F33 -> 8387.9714
...

Sheet Folha1
A1: RUBRICAS | B1: PERÍODOS | D1: NOTAS
B2: 1º Semestre | C2: 2º Semestre
A3: RENDIMENTOS E GASTOS
A5: Vendas e serviços prestados | B5: ='Balancete Ajustado'!I128+'Balancete Ajustado'!I130 -> 325037.64 | D5: 13
A6: Custo das mercadorias vendidas e das matérias consumidas | B6: =-CMVMC!C13 -> -140090.87 | D6: 5
A7: Fornecimentos e serviços externos | B7: =-'Balancete Ajustado'!H74+'Balancete Ajustado'!I86+'Balancete Ajustado'!H70 -> -106886.27 | D7: 14
A8: Gastos com o pessoal | B8: =-'Balancete Ajustado'!H110+'Balancete Ajustado'!I113+'Balancete Ajustado'!I109+'Balancete Ajustado'!H109+'Balancete Ajustado'!H106+'Balancete Ajustado'!H98+'Balancete Ajustado'!H91 -> 180811.57 | D8: 15
A9: Outros gastos e perdas. | B9: =-'Balancete Ajustado'!H118+'Balancete Ajustado'!I121 -> -2511.5762
A10: Resultados antes de depreciações, gastos de financiamento e impostos | B10: =SUM(B5:B9) -> 256360.49
A11: Gastos/reversões de depreciação e de amortização | B11: =-'Balancete Ajustado'!H115 -> -5549.3162 | D11: 6
A12: Resultado operacional (antes de gastos de financiamento e impostos) | B12: =B10+B11 -> 250811.17
A13: Juros e gastos similares suportados | B13: =-'Balancete Ajustado'!H123-'Balancete Ajustado'!H124 -> -6745.8816 | D13: 16
A14: Resultado antes de impostos | B14: =B12+B13 -> 244065.29 | D14: 2
A15: Imposto sobre o rendimento | B15: ='IRC Estimado'!B38 -> 83578.806 | D15: 2
A16: Resultado líquido do período | B16: =B14+B15 -> 327644.1 | D16: 10
