Workbook

Sheet Apuramento
A1: Apuramento do IVA
A3: Cliente: | C3: José Matos Oliveira | J3: NIPC / NIF | M3: 141243279
A4: Período: | E4: MAIO | O4: JANEIRO
O5: FEVEREIRO
D6: BASE TRIBUTÁVEL | K6: IMPOSTO A FAVOR DO ESTADO | O6: MARÇO
O7: ABRIL
E8: 1 | F8: ='Venda Bens'!D51+'Prest Serv'!D36+Outros!D33 -> 0 | L8: 2 | M8: ='Venda Bens'!E51+'Prest Serv'!E36+Outros!E33 -> 0
E9: 5 | F9: ='Venda Bens'!F51+'Prest Serv'!F36+Outros!F33 -> 0 | L9: 6 | M9: ='Venda Bens'!G51+'Prest Serv'!G36+Outros!G33 -> 0 | O9: MAIO
E10: 3 | F10: ='Venda Bens'!H51+'Prest Serv'!H36+Outros!H33+M49 -> 0 | L10: 4 | M10: ='Venda Bens'!I51+'Prest Serv'!I36+Outros!I33+'Comp Exist'!J96+'Comp Imob'!F37 -> 0 | O10: JUNHO
E11: 7 | F11: =+'Venda Bens'!D61+'Venda Bens'!F61+'Venda Bens'!H61+'Prest Serv'!D46+'Prest Serv'!F46+'Prest Serv'!H46 -> 0 | O11: JULHO
E12: 8 | F12: =+'Venda Bens'!D81+'Venda Bens'!F81+'Venda Bens'!H81+'Prest Serv'!D85+'Prest Serv'!F85+'Prest Serv'!H85 -> 0 | O12: AGOSTO
E13: 9 | F13: =0 -> 0 | O13: SETEMBRO
E14: 10 | F14: =+I15+I16+I17 -> 0 | L14: 11 | M14: =+M15 -> 0 | O14: OUTUBRO
E15: 12 | I15: =+'Comp Exist'!D106+'Comp Exist'!F106+'Comp Exist'!H106+'Comp Imob'!D47 -> 0 | L15: 13 | M15: =+'Comp Exist'!E106+'Comp Exist'!G106+'Comp Exist'!I106+'Comp Imob'!E47 -> 0
E16: 14 | I16: 0
E17: 15 | I17: 0
E18: 16 | I18: =+FSE!E66+FSE!G66+FSE!I66 -> 0 | L18: 17 | M18: =+FSE!F66+FSE!H66+FSE!J66 -> 0
O19: NOVEMBRO
O20: DEZEMBRO
H21: 20 | I21: ='Comp Imob'!E24+'Comp Imob'!E37+'Comp Imob'!E47 -> 0
H22: 21 | I22: ='Comp Exist'!E82+'Comp Exist'!E106 -> 0 | O22: 03T
H23: 23 | I23: ='Comp Exist'!G82+'Comp Exist'!G106 -> 0 | O23: 06T
H24: 22 | I24: ='Comp Exist'!I82+'Comp Exist'!I106+'Comp Exist'!I96 -> 0 | O24: 09T
H25: 24 | I25: =FSE!F58+FSE!H58+FSE!J58+FSE!J66 -> 0 | O25: 12T
H26: 40 | I26: =Devoluções!F44+Devoluções!H44+Devoluções!J44 -> 0 | L26: 41 | M26: =Devoluções!F22+Devoluções!H22+Devoluções!J22 -> 0
H27: 61 | I27: =M59 -> 0
H28: 65 | L28: 66
H29: 67 | L29: 68
H30: 81 | I30: =M58 -> 0
B32: TOTAL DA BASE TRIBUTÁVEL | H32: IMPOSTO A FAVOR DO SUJEITO PASSIVO | L32: TOTAL DO IMPOSTO A FAVOR DO ESTADO
B33: 90 | C33: =SUM(F8:I13)+F14+I18 -> 0 | H33: 91 | I33: =SUM(I21:J30) -> 0 | L33: 92 | M33: =SUM(M8:M14)+SUM(M18:M29) -> 0
F36: IMPOSTO A ENTREGAR AO ESTADO ----------> | L36: 93 | M36: =IF(M33>I33,M33-I33,0) -> 0
B38: CRÉDITO DE IMPOSTO A RECUPERAR | L38: EXCESSO A REPORTAR
B39: 94 | C39: =IF(I33>M33,I33-M33,0) -> 0 | L39: 96 | M39: =C39 -> 0
B41: IVA LIQUIDADO NA QUALIDADE DE ADQUIRENTE (VALORES DAS BASES TRIBUTÁVEIS CAMPOS 1, 5 E 3)
B42: ENTIDADES RESIDENTES EM PAÍSES COMUNITÁRIOS | L42: PAÍSES TERCEIROS
B43: 97 | C43: 0 | L43: 98 | M43: 0
B45: IVA LIQUIDADO POR APLICAÇÃO DA REGRA DE INVERSÃO DO SUJEITO PASSIVO
B46: OURO | L46: AQUISIÇÕES DE IMÓVEIS
B47: 99 | C47: 0 | L47: 100 | M47: 0
...

Sheet Comp Exist
A1: 42491 | D1: Taxa Reduzida | F1: Taxa Intermédia | H1: Taxa Normal
A2: Nº Doc | B2: Data | C2: Descritivo da Despesa | D2: Valor Incidência | E2: 0.06 | F2: Valor Incidência | G2: 0.13 | H2: Valor Incidência | I2: 0.23
A3: Compras a Crédito - Mercado Nacional | J3: Totais
E5: =D5*$E$2 -> 0 | G5: =F5*$G$2 -> 0 | I5: =H5*$I$2 -> 0 | J5: =SUM(D5+E5+F5+G5+H5+I5) -> 0
E6: =D6*$E$2 -> 0 | G6: =F6*$G$2 -> 0 | I6: =H6*$I$2 -> 0 | J6: =SUM(D6+E6+F6+G6+H6+I6) -> 0
E7: =D7*$E$2 -> 0 | G7: =F7*$G$2 -> 0 | I7: =H7*$I$2 -> 0 | J7: =SUM(D7+E7+F7+G7+H7+I7) -> 0
E8: =D8*$E$2 -> 0 | G8: =F8*$G$2 -> 0 | I8: =H8*$I$2 -> 0 | J8: =SUM(D8+E8+F8+G8+H8+I8) -> 0
E9: =D9*$E$2 -> 0 | G9: =F9*$G$2 -> 0 | I9: =H9*$I$2 -> 0 | J9: =SUM(D9+E9+F9+G9+H9+I9) -> 0
E10: =D10*$E$2 -> 0 | G10: =F10*$G$2 -> 0 | I10: =H10*$I$2 -> 0 | J10: =SUM(D10+E10+F10+G10+H10+I10) -> 0
E11: =D11*$E$2 -> 0 | G11: =F11*$G$2 -> 0 | I11: =H11*$I$2 -> 0 | J11: =SUM(D11+E11+F11+G11+H11+I11) -> 0
E12: =D12*$E$2 -> 0 | G12: =F12*$G$2 -> 0 | I12: =H12*$I$2 -> 0 | J12: =SUM(D12+E12+F12+G12+H12+I12) -> 0
E13: =D13*$E$2 -> 0 | G13: =F13*$G$2 -> 0 | I13: =H13*$I$2 -> 0 | J13: =SUM(D13+E13+F13+G13+H13+I13) -> 0
E14: =D14*$E$2 -> 0 | G14: =F14*$G$2 -> 0 | I14: =H14*$I$2 -> 0 | J14: =SUM(D14+E14+F14+G14+H14+I14) -> 0
E15: =D15*$E$2 -> 0 | G15: =F15*$G$2 -> 0 | I15: =H15*$I$2 -> 0 | J15: =SUM(D15+E15+F15+G15+H15+I15) -> 0
E16: =D16*$E$2 -> 0 | G16: =F16*$G$2 -> 0 | I16: =H16*$I$2 -> 0 | J16: =SUM(D16+E16+F16+G16+H16+I16) -> 0
... E52: =D52*$E$2 -> 0 | G52: =F52*$G$2 -> 0 | I52: =H52*$I$2 -> 0 | J52: =SUM(D52+E52+F52+G52+H52+I52) -> 0
A53: Compras a Dinheiro - Mercado Nacional
E55: =D55*$E$2 -> 0 | G55: =F55*$G$2 -> 0 | I55: =H55*$I$2 -> 0 | J55: =SUM(D55+E55+F55+G55+H55+I55) -> 0
E56: =D56*$E$2 -> 0 | G56: =F56*$G$2 -> 0 | I56: =H56*$I$2 -> 0 | J56: =SUM(D56+E56+F56+G56+H56+I56) -> 0
E57: =D57*$E$2 -> 0 | G57: =F57*$G$2 -> 0 | I57: =H57*$I$2 -> 0 | J57: =SUM(D57+E57+F57+G57+H57+I57) -> 0
E58: =D58*$E$2 -> 0 | G58: =F58*$G$2 -> 0 | I58: =H58*$I$2 -> 0 | J58: =SUM(D58+E58+F58+G58+H58+I58) -> 0
E59: =D59*$E$2 -> 0 | G59: =F59*$G$2 -> 0 | I59: =H59*$I$2 -> 0 | J59: =SUM(D59+E59+F59+G59+H59+I59) -> 0
E60: =D60*$E$2 -> 0 | G60: =F60*$G$2 -> 0 | I60: =H60*$I$2 -> 0 | J60: =SUM(D60+E60+F60+G60+H60+I60) -> 0
E61: =D61*$E$2 -> 0 | G61: =F61*$G$2 -> 0 | I61: =H61*$I$2 -> 0 | J61: =SUM(D61+E61+F61+G61+H61+I61) -> 0
E62: =D62*$E$2 -> 0 | G62: =F62*$G$2 -> 0 | I62: =H62*$I$2 -> 0 | J62: =SUM(D62+E62+F62+G62+H62+I62) -> 0
E63: =D63*$E$2 -> 0 | G63: =F63*$G$2 -> 0 | I63: =H63*$I$2 -> 0 | J63: =SUM(D63+E63+F63+G63+H63+I63) -> 0
E64: =D64*$E$2 -> 0 | G64: =F64*$G$2 -> 0 | I64: =H64*$I$2 -> 0 | J64: =SUM(D64+E64+F64+G64+H64+I64) -> 0
E65: =D65*$E$2 -> 0 | G65: =F65*$G$2 -> 0 | I65: =H65*$I$2 -> 0 | J65: =SUM(D65+E65+F65+G65+H65+I65) -> 0
E66: =D66*$E$2 -> 0 | G66: =F66*$G$2 -> 0 | I66: =H66*$I$2 -> 0 | J66: =SUM(D66+E66+F66+G66+H66+I66) -> 0
... E81: =D81*$E$2 -> 0 | G81: =F81*$G$2 -> 0 | I81: =H81*$I$2 -> 0 | J81: =SUM(D81+E81+F81+G81+H81+I81) -> 0
A82: TOTAL | D82: =SUM(D5:D81) -> 0 | E82: =SUM(E5:E81) -> 0 | F82: =SUM(F5:F81) -> 0 | G82: =SUM(G5:G81) -> 0 | H82: =SUM(H5:H81) -> 0 | I82: =SUM(I5:I81) -> 0 | J82: =SUM(D82+E82+F82+G82+H82+I82) -> 0
D86: Taxa Reduzida | F86: Taxa Intermédia | H86: Iva Dedutível | J86: Iva Liquidado
A87: Nº Doc | B87: Data | C87: Descritivo da Despesa | D87: Valor Incidência | E87: 0.06 | F87: Valor Incidência | G87: 0.13 | H87: Valor Incidência | I87: 0.23 | J87: 2433…-23%
A88: IVA devido pelo Adquirente
E90: =D90*$E$87 -> 0 | G90: =F90*$G$87 -> 0 | I90: =H90*$I$87 -> 0 | J90: =I90 -> 0
E91: =D91*$E$87 -> 0 | G91: =F91*$G$87 -> 0 | I91: =H91*$I$87 -> 0 | J91: =I91 -> 0
E92: =D92*$E$87 -> 0 | G92: =F92*$G$87 -> 0 | I92: =H92*$I$87 -> 0 | J92: =I92 -> 0
E93: =D93*$E$87 -> 0 | G93: =F93*$G$87 -> 0 | I93: =H93*$I$87 -> 0 | J93: =I93 -> 0
E94: =D94*$E$87 -> 0 | G94: =F94*$G$87 -> 0 | I94: =H94*$I$87 -> 0 | J94: =I94 -> 0
E95: =D95*$E$87 -> 0 | G95: =F95*$G$87 -> 0 | I95: =H95*$I$87 -> 0 | J95: =I95 -> 0
...

Sheet Comp Imob
D1: Taxa Normal
A2: Nº Doc | B2: Data | C2: Descritivo da Despesa | D2: Valor Incidência | E2: 0.23
A3: Mercado Nacional
E5: =D5*$E$2 -> 0 | G5: TOTTA - CRÉDITO ESPECIALIZADO
E6: =D6*$E$2 -> 0 | G6: ESPECTRO, LDA
E7: =D7*$E$2 -> 0
E8: =D8*$E$2 -> 0
E9: =D9*$E$2 -> 0 | G9: OSVALDO TOSTE, LDA
E10: =D10*$E$2 -> 0 | G10: JORGE M. SOARES DA FONSECA
E11: =D11*$E$2 -> 0 | G11: K-MED CENTRO
E12: =D12*$E$2 -> 0 | G12: LANSA.PT DECORAÇÕES - CARLOS DAMÁSI
E13: =D13*$E$2 -> 0 | G13: LAVANDARIA N. CALIFÓRNIA, LDA
E14: =D14*$E$2 -> 0 | G14: LOGICÓPIA
E15: =D15*$E$2 -> 0 | G15: MAJORCOPIA - COM. EQ. ESC., LDA
E16: =D16*$E$2 -> 0 | G16: MAKRO
E17: =D17*$E$2 -> 0 | G17: MANUEL PARENTE
E18: =D18*$E$2 -> 0 | G18: MARIA HELENA TELES GONÇALVES, LDA
E19: =D19*$E$2 -> 0 | G19: NEGOCIARE, LDA
E20: =D20*$E$2 -> 0 | G20: Ó - CRIAT. IMAG. E PUBLICIDADE, LDA
... E23: =D23*$E$2 -> 0 | G23: RECLANEON ANA PAULA M. SIMÕES
A24: TOTAL | D24: =SUM(D5:D23) -> 0 | E24: =SUM(E5:E23) -> 0 | G24: REIS DOS SANTOS & DIAS, LDA
D27: Iva Dedutível | F27: Iva Liquidado
A28: Nº Doc | B28: Data | C28: Descritivo da Despesa | D28: Valor Incidência | E28: 0.23 | F28: 2433…-23% | G28: SADO 77 - MOV. ESTOFOS, LDA
A29: IVA liquidado pelo Adquirente
E31: =D31*$E$28 -> 0 | F31: =E31 -> 0
E32: =D32*$E$28 -> 0 | F32: =E32 -> 0
E33: =D33*$E$28 -> 0 | F33: =E33 -> 0
E34: =D34*$E$28 -> 0 | F34: =E34 -> 0
E35: =D35*$E$28 -> 0 | F35: =E35 -> 0
E36: =D36*$E$28 -> 0 | F36: =E36 -> 0
A37: TOTAL | D37: =SUM(D31:D36) -> 0 | E37: =SUM(E31:E36) -> 0 | F37: =SUM(F31:F36) -> 0
A39: Mercado Intracomunitário (Com Imposto Liquidado)
E41: =D41*$E$28 -> 0
E42: =D42*$E$28 -> 0
E43: =D43*$E$28 -> 0
E44: =D44*$E$28 -> 0
E45: =D45*$E$28 -> 0
E46: =D46*$E$28 -> 0
A47: TOTAL | D47: =SUM(D41:D46) -> 0 | E47: =SUM(E41:E46) -> 0
G49: SODICENTRO, LDA
...

Sheet Venda Bens
A1: 2016 | D1: Taxa Reduzida | F1: Taxa Intermédia | H1: Taxa Normal
A2: Nº Doc | B2: Data | C2: Descritivo da Venda | D2: Valor Incidência | E2: 0.06 | F2: Valor Incidência | G2: 0.13 | H2: Valor Incidência | I2: 0.23
A3: Vendas a Crédito - Mercado Nacional
J4: Totais | K4: Conta
E5: =D5*$E$2 -> 0 | G5: =F5*$G$2 -> 0 | I5: =H5*$I$2 -> 0 | J5: =SUM(D5+E5+F5+G5+H5+I5) -> 0
E6: =D6*$E$2 -> 0 | G6: =F6*$G$2 -> 0 | I6: =H6*$I$2 -> 0 | J6: =SUM(D6+E6+F6+G6+H6+I6) -> 0
E7: =D7*$E$2 -> 0 | G7: =F7*$G$2 -> 0 | I7: =H7*$I$2 -> 0 | J7: =SUM(D7+E7+F7+G7+H7+I7) -> 0
E8: =D8*$E$2 -> 0 | G8: =F8*$G$2 -> 0 | I8: =H8*$I$2 -> 0 | J8: =SUM(D8+E8+F8+G8+H8+I8) -> 0
E9: =D9*$E$2 -> 0 | G9: =F9*$G$2 -> 0 | I9: =H9*$I$2 -> 0 | J9: =SUM(D9+E9+F9+G9+H9+I9) -> 0
E10: =D10*$E$2 -> 0 | G10: =F10*$G$2 -> 0 | I10: =H10*$I$2 -> 0 | J10: =SUM(D10+E10+F10+G10+H10+I10) -> 0
E11: =D11*$E$2 -> 0 | G11: =F11*$G$2 -> 0 | I11: =H11*$I$2 -> 0 | J11: =SUM(D11+E11+F11+G11+H11+I11) -> 0
E12: =D12*$E$2 -> 0 | G12: =F12*$G$2 -> 0 | I12: =H12*$I$2 -> 0 | J12: =SUM(D12+E12+F12+G12+H12+I12) -> 0
E13: =D13*$E$2 -> 0 | G13: =F13*$G$2 -> 0 | I13: =H13*$I$2 -> 0 | J13: =SUM(D13+E13+F13+G13+H13+I13) -> 0
E14: =D14*$E$2 -> 0 | G14: =F14*$G$2 -> 0 | I14: =H14*$I$2 -> 0 | J14: =SUM(D14+E14+F14+G14+H14+I14) -> 0
E15: =D15*$E$2 -> 0 | G15: =F15*$G$2 -> 0 | I15: =H15*$I$2 -> 0 | J15: =SUM(D15+E15+F15+G15+H15+I15) -> 0
E16: =D16*$E$2 -> 0 | G16: =F16*$G$2 -> 0 | I16: =H16*$I$2 -> 0 | J16: =SUM(D16+E16+F16+G16+H16+I16) -> 0
... E26: =D26*$E$2 -> 0 | G26: =F26*$G$2 -> 0 | I26: =H26*$I$2 -> 0 | J26: =SUM(D26+E26+F26+G26+H26+I26) -> 0
A27: TOTAL | D27: =SUM(D5:D26) -> 0 | E27: =D27*$E$2 -> 0 | F27: =SUM(F5:F26) -> 0 | G27: =F27*$G$2 -> 0 | H27: =SUM(G27) -> 0 | I27: =H27*$I$2 -> 0 | J27: =SUM(D27+E27+F27+G27+H27+I27) -> 0
A28: Vendas a Dinheiro - Mercado Nacional
J29: Totais | K29: Conta
E30: =D30*$E$2 -> 0 | G30: =F30*$G$2 -> 0 | I30: =H30*$I$2 -> 0 | J30: =SUM(D30+E30+F30+G30+H30+I30) -> 0
E31: =D31*$E$2 -> 0 | G31: =F31*$G$2 -> 0 | I31: =H31*$I$2 -> 0 | J31: =SUM(D31+E31+F31+G31+H31+I31) -> 0
E32: =D32*$E$2 -> 0 | G32: =F32*$G$2 -> 0 | I32: =H32*$I$2 -> 0 | J32: =SUM(D32+E32+F32+G32+H32+I32) -> 0
E33: =D33*$E$2 -> 0 | G33: =F33*$G$2 -> 0 | I33: =H33*$I$2 -> 0 | J33: =SUM(D33+E33+F33+G33+H33+I33) -> 0
E34: =D34*$E$2 -> 0 | G34: =F34*$G$2 -> 0 | I34: =H34*$I$2 -> 0 | J34: =SUM(D34+E34+F34+G34+H34+I34) -> 0
E35: =D35*$E$2 -> 0 | G35: =F35*$G$2 -> 0 | I35: =H35*$I$2 -> 0 | J35: =SUM(D35+E35+F35+G35+H35+I35) -> 0
E36: =D36*$E$2 -> 0 | G36: =F36*$G$2 -> 0 | I36: =H36*$I$2 -> 0 | J36: =SUM(D36+E36+F36+G36+H36+I36) -> 0
E37: =D37*$E$2 -> 0 | G37: =F37*$G$2 -> 0 | I37: =H37*$I$2 -> 0 | J37: =SUM(D37+E37+F37+G37+H37+I37) -> 0
E38: =D38*$E$2 -> 0 | G38: =F38*$G$2 -> 0 | I38: =H38*$I$2 -> 0 | J38: =SUM(D38+E38+F38+G38+H38+I38) -> 0
E39: =D39*$E$2 -> 0 | G39: =F39*$G$2 -> 0 | I39: =H39*$I$2 -> 0 | J39: =SUM(D39+E39+F39+G39+H39+I39) -> 0
E40: =D40*$E$2 -> 0 | G40: =F40*$G$2 -> 0 | I40: =H40*$I$2 -> 0 | J40: =SUM(D40+E40+F40+G40+H40+I40) -> 0
E41: =D41*$E$2 -> 0 | G41: =F41*$G$2 -> 0 | I41: =H41*$I$2 -> 0 | J41: =SUM(D41+E41+F41+G41+H41+I41) -> 0
... E50: =D50*$E$2 -> 0 | G50: =F50*$G$2 -> 0 | I50: =H50*$I$2 -> 0 | J50: =SUM(D50+E50+F50+G50+H50+I50) -> 0
A51: TOTAL | D51: =SUM(D5:D50) -> 0 | E51: =SUM(E5:E50) -> 0 | F51: =SUM(F5:F50) -> 0 | G51: =SUM(G5:G50) -> 0 | H51: =SUM(H5:H50) -> 0 | I51: =SUM(I5:I50) -> 0 | J51: =SUM(D51+E51+F51+G51+H51+I51) -> 0
A53: Mercado Intracomunitário | N53: DECLARAÇÃO RECAPITULATIVA
J54: Totais | K54: Conta
J55: =SUM(D55+E55+F55+G55+H55+I55) -> 0 | N55: PAÍS | O55: PREFIXO | P55: NIF | Q55: VALOR | R55: TIPO
J56: =SUM(D56+E56+F56+G56+H56+I56) -> 0
J57: =SUM(D57+E57+F57+G57+H57+I57) -> 0
J58: =SUM(D58+E58+F58+G58+H58+I58) -> 0
...

Sheet Prest Serv
A1: 1º Trimestre 2016 | D1: Taxa Reduzida | F1: Taxa Intermédia | H1: Taxa Normal
A2: Nº Doc | B2: Data | C2: Descritivo da Venda | D2: Valor Incidência | E2: 0.06 | F2: Valor Incidência | G2: 0.13 | H2: Valor Incidência | I2: 0.23
A3: Mercado Nacional | J3: =SUM(C3+D3+E3+F3+G3+H3+I3+I3) -> 0
J4: Totais | K4: Conta
E5: =D5*$E$2 -> 0 | G5: =F5*$G$2 -> 0 | I5: =H5*$I$2 -> 0 | J5: =SUM(D5+E5+F5+G5+H5+I5+I5) -> 0 | K5: 2432
E6: =D6*$E$2 -> 0 | G6: =F6*$G$2 -> 0 | I6: =H6*$I$2 -> 0 | J6: =SUM(D6+E6+F6+G6+H6+I6+I6) -> 0 | K6: 2432
E7: =D7*$E$2 -> 0 | G7: =F7*$G$2 -> 0 | I7: =H7*$I$2 -> 0 | J7: =SUM(D7+E7+F7+G7+H7+I7+I7) -> 0 | K7: 2432
E8: =D8*$E$2 -> 0 | G8: =F8*$G$2 -> 0 | I8: =H8*$I$2 -> 0 | J8: =SUM(D8+E8+F8+G8+H8+I8+I8) -> 0 | K8: 2432
E9: =D9*$E$2 -> 0 | G9: =F9*$G$2 -> 0 | I9: =H9*$I$2 -> 0 | J9: =SUM(D9+E9+F9+G9+H9+I9+I9) -> 0 | K9: 2432
E10: =D10*$E$2 -> 0 | G10: =F10*$G$2 -> 0 | I10: =H10*$I$2 -> 0 | J10: =SUM(D10+E10+F10+G10+H10+I10+I10) -> 0 | K10: 2432
E11: =D11*$E$2 -> 0 | G11: =F11*$G$2 -> 0 | I11: =H11*$I$2 -> 0 | J11: =SUM(D11+E11+F11+G11+H11+I11+I11) -> 0 | K11: 2432
E12: =D12*$E$2 -> 0 | G12: =F12*$G$2 -> 0 | I12: =H12*$I$2 -> 0 | J12: =SUM(D12+E12+F12+G12+H12+I12+I12) -> 0 | K12: 2432
E13: =D13*$E$2 -> 0 | G13: =F13*$G$2 -> 0 | I13: =H13*$I$2 -> 0 | J13: =SUM(D13+E13+F13+G13+H13+I13+I13) -> 0 | K13: 2432
E14: =D14*$E$2 -> 0 | G14: =F14*$G$2 -> 0 | I14: =H14*$I$2 -> 0 | J14: =SUM(D14+E14+F14+G14+H14+I14+I14) -> 0 | K14: 2432
E15: =D15*$E$2 -> 0 | G15: =F15*$G$2 -> 0 | I15: =H15*$I$2 -> 0 | J15: =SUM(D15+E15+F15+G15+H15+I15+I15) -> 0 | K15: 2432
E16: =D16*$E$2 -> 0 | G16: =F16*$G$2 -> 0 | I16: =H16*$I$2 -> 0 | J16: =SUM(D16+E16+F16+G16+H16+I16+I16) -> 0 | K16: 2432
... E27: =D27*$E$2 -> 0 | G27: =F27*$G$2 -> 0 | I27: =H27*$I$2 -> 0 | J27: =SUM(D27+E27+F27+G27+H27+I27+I27) -> 0 | K27: 2432
E28: =D28*$E$2 -> 0 | G28: =F28*$G$2 -> 0 | I28: =H28*$I$2 -> 0 | J28: =SUM(D28+E28+F28+G28+H28+I28+I28) -> 0
E29: =D29*$E$2 -> 0 | G29: =F29*$G$2 -> 0 | I29: =H29*$I$2 -> 0 | J29: =SUM(D29+E29+F29+G29+H29+I29+I29) -> 0
E30: =D30*$E$2 -> 0 | G30: =F30*$G$2 -> 0 | I30: =H30*$I$2 -> 0 | J30: =SUM(D30+E30+F30+G30+H30+I30+I30) -> 0
E31: =D31*$E$2 -> 0 | G31: =F31*$G$2 -> 0 | I31: =H31*$I$2 -> 0 | J31: =SUM(D31+E31+F31+G31+H31+I31+I31) -> 0
E32: =D32*$E$2 -> 0 | G32: =F32*$G$2 -> 0 | I32: =H32*$I$2 -> 0 | J32: =SUM(D32+E32+F32+G32+H32+I32+I32) -> 0
E33: =D33*$E$2 -> 0 | G33: =F33*$G$2 -> 0 | I33: =H33*$I$2 -> 0 | J33: =SUM(D33+E33+F33+G33+H33+I33+I33) -> 0
E34: =D34*$E$2 -> 0 | G34: =F34*$G$2 -> 0 | I34: =H34*$I$2 -> 0 | J34: =SUM(D34+E34+F34+G34+H34+I34+I34) -> 0
E35: =D35*$E$2 -> 0 | G35: =F35*$G$2 -> 0 | I35: =H35*$I$2 -> 0 | J35: =SUM(D35+E35+F35+G35+H35+I35+I35) -> 0
A36: TOTAL | D36: =SUM(D5:D35) -> 0 | E36: =SUM(E8:E35) -> 0 | F36: =SUM(F5:F35) -> 0 | G36: =SUM(G5:G35) -> 0 | H36: =SUM(H5:H35) -> 0 | I36: =SUM(I5:I35) -> 0 | J36: =SUM(D36+E36+F36+G36+H36+I36+I36) -> 0 | K36: 2433
A38: Mercado Intracomunitário | N38: DECLARAÇÃO RECAPITULATIVA
J39: Totais | K39: Conta
J40: =SUM(D40+E40+F40+G40+H40+I40) -> 0 | N40: PAÍS | O40: PREFIXO | P40: NIF | Q40: VALOR | R40: TIPO
J41: =SUM(D41+E41+F41+G41+H41+I41) -> 0
J42: =SUM(D42+E42+F42+G42+H42+I42) -> 0
J43: =SUM(D43+E43+F43+G43+H43+I43) -> 0
J44: =SUM(D44+E44+F44+G44+H44+I44) -> 0
J45: =SUM(D45+E45+F45+G45+H45+I45) -> 0
A46: TOTAL | D46: =SUM(D40:D45) -> 0 | E46: =SUM(E40:E45) -> 0 | F46: =SUM(F40:F45) -> 0 | G46: =SUM(G40:G45) -> 0 | H46: =SUM(H40:H45) -> 0 | I46: =SUM(I40:I45) -> 0 | J46: =SUM(D46+E46+F46+G46+H46+I46) -> 0
A48: Outros Mercados
J49: Totais | K49: Conta
J50: =SUM(D50+E50+F50+G50+H50+I50) -> 0
J51: =SUM(D51+E51+F51+G51+H51+I51) -> 0
J52: =SUM(D52+E52+F52+G52+H52+I52) -> 0
...

Sheet Devoluções
E1: Taxa Reduzida | G1: Taxa Intermédia | I1: Taxa Normal
A2: Nº Doc | B2: Data | C2: Descritivo da Despesa | D2: Conta a Crédito | E2: Valor Incidência | F2: 0.06 | G2: Valor Incidência | H2: 0.13 | I2: Valor Incidência | J2: 0.23
A3: Devolução de Compras e Descontos e Abatimentos
K4: Totais | L4: Conta
F5: =E5*$F$2 -> 0 | H5: =G5*$H$2 -> 0 | J5: =I5*$J$2 -> 0 | K5: =SUM(E5+F5+G5+H5+I5+J5) -> 0
F6: =E6*$F$2 -> 0 | H6: =G6*$H$2 -> 0 | J6: =I6*$J$2 -> 0 | K6: =SUM(E6+F6+G6+H6+I6+J6) -> 0
F7: =E7*$F$2 -> 0 | H7: =G7*$H$2 -> 0 | J7: =I7*$J$2 -> 0 | K7: =SUM(E7+F7+G7+H7+I7+J7) -> 0
F8: =E8*$F$2 -> 0 | H8: =G8*$H$2 -> 0 | J8: =I8*$J$2 -> 0 | K8: =SUM(E8+F8+G8+H8+I8+J8) -> 0
F9: =E9*$F$2 -> 0 | H9: =G9*$H$2 -> 0 | J9: =I9*$J$2 -> 0 | K9: =SUM(E9+F9+G9+H9+I9+J9) -> 0
F10: =E10*$F$2 -> 0 | H10: =G10*$H$2 -> 0 | J10: =I10*$J$2 -> 0 | K10: =SUM(E10+F10+G10+H10+I10+J10) -> 0
F11: =E11*$F$2 -> 0 | H11: =G11*$H$2 -> 0 | J11: =I11*$J$2 -> 0 | K11: =SUM(E11+F11+G11+H11+I11+J11) -> 0
F12: =E12*$F$2 -> 0 | H12: =G12*$H$2 -> 0 | J12: =I12*$J$2 -> 0 | K12: =SUM(E12+F12+G12+H12+I12+J12) -> 0
F13: =E13*$F$2 -> 0 | H13: =G13*$H$2 -> 0 | J13: =I13*$J$2 -> 0 | K13: =SUM(E13+F13+G13+H13+I13+J13) -> 0
F14: =E14*$F$2 -> 0 | H14: =G14*$H$2 -> 0 | J14: =I14*$J$2 -> 0 | K14: =SUM(E14+F14+G14+H14+I14+J14) -> 0
F15: =E15*$F$2 -> 0 | H15: =G15*$H$2 -> 0 | J15: =I15*$J$2 -> 0 | K15: =SUM(E15+F15+G15+H15+I15+J15) -> 0
F16: =E16*$F$2 -> 0 | H16: =G16*$H$2 -> 0 | J16: =I16*$J$2 -> 0 | K16: =SUM(E16+F16+G16+H16+I16+J16) -> 0
... F21: =E21*$F$2 -> 0 | H21: =G21*$H$2 -> 0 | J21: =I21*$J$2 -> 0 | K21: =SUM(E21+F21+G21+H21+I21+J21) -> 0
A22: TOTAL DEVOLUÇÃO DE COMPRAS | E22: =SUM(E5:E21) -> 0 | F22: =SUM(F5:F21) -> 0 | G22: =SUM(G5:G21) -> 0 | H22: =SUM(H5:H21) -> 0 | I22: =SUM(I5:I21) -> 0 | J22: =SUM(J5:J21) -> 0 | K22: =SUM(E22+F22+G22+H22+I22+J22) -> 0
E26: Taxa Reduzida | G26: Taxa Intermédia | I26: Taxa Normal
A27: Nº Doc | B27: Data | C27: Descritivo da Despesa | D27: Conta a Débito | E27: Valor Incidência | F27: 0.06 | G27: Valor Incidência | H27: 0.13 | I27: Valor Incidência | J27: 0.23 | P27: JOSÉ COSTA MENDES & C.ª, LDA
A28: Devolução de Vendas e Descontos e Abatimentos | P28: LENCO LAB. PORT. LENTES
K29: Totais | L29: Conta | P29: LIQUILENTES - COM. PROD. ÓPTICA, LD
F30: =E30*$F$27 -> 0 | H30: =G30*$H$27 -> 0 | J30: =I30*$J$27 -> 0 | K30: =SUM(E30+F30+G30+H30+I30+J30) -> 0 | P30: LUSÍADAS
F31: =E31*$F$27 -> 0 | H31: =G31*$H$27 -> 0 | J31: =I31*$J$27 -> 0 | K31: =SUM(E31+F31+G31+H31+I31+J31) -> 0 | P31: LITE PRICE - ANA PAULA SILVEIRA
F32: =E32*$F$27 -> 0 | H32: =G32*$H$27 -> 0 | J32: =I32*$J$27 -> 0 | K32: =SUM(E32+F32+G32+H32+I32+J32) -> 0 | P32: LUXOTTICA PORTUGAL, S.A.
F33: =E33*$F$27 -> 0 | H33: =G33*$H$27 -> 0 | J33: =I33*$J$27 -> 0 | K33: =SUM(E33+F33+G33+H33+I33+J33) -> 0 | P33: MARCOLIN EYEWEAR
F34: =E34*$F$27 -> 0 | H34: =G34*$H$27 -> 0 | J34: =I34*$J$27 -> 0 | K34: =SUM(E34+F34+G34+H34+I34+J34) -> 0 | P34: MARIA HELENA PEREIRA SILVA FAIM
F35: =E35*$F$27 -> 0 | H35: =G35*$H$27 -> 0 | J35: =I35*$J$27 -> 0 | K35: =SUM(E35+F35+G35+H35+I35+J35) -> 0 | P35: MIRA PACK
F36: =E36*$F$27 -> 0 | H36: =G36*$H$27 -> 0 | J36: =I36*$J$27 -> 0 | K36: =SUM(E36+F36+G36+H36+I36+J36) -> 0 | N36: =+I36*23% -> 0 | P36: MODAVISÃO, LDA
F37: =E37*$F$27 -> 0 | H37: =G37*$H$27 -> 0 | J37: =I37*$J$27 -> 0 | K37: =SUM(E37+F37+G37+H37+I37+J37) -> 0 | N37: =+I37*23% -> 0 | P37: NEPPACH IMPORTAÇÕES, LDA
F38: =E38*$F$27 -> 0 | H38: =G38*$H$27 -> 0 | J38: =I38*$J$27 -> 0 | K38: =SUM(E38+F38+G38+H38+I38+J38) -> 0 | N38: =+I38*23% -> 0 | P38: NOPT - NUNO MIRANDA
F39: =E39*$F$27 -> 0 | H39: =G39*$H$27 -> 0 | J39: =I39*$J$27 -> 0 | K39: =SUM(E39+F39+G39+H39+I39+J39) -> 0 | N39: =+I39*23% -> 0 | P39: NOVARTIS FARMA, S.A.
F40: =E40*$F$27 -> 0 | H40: =G40*$H$27 -> 0 | J40: =I40*$J$27 -> 0 | K40: =SUM(E40+F40+G40+H40+I40+J40) -> 0 | N40: =+I40*23% -> 0 | P40: OPB - IMPORTAÇÃO E EXPORTAÇÃO, LDA
F41: =E41*$F$27 -> 0 | H41: =G41*$H$27 -> 0 | J41: =I41*$J$27 -> 0 | K41: =SUM(E41+F41+G41+H41+I41+J41) -> 0 | N41: =+I41*23% -> 0 | P41: OPTICONTACT - ÓPTICA E INST., LDA
F42: =E42*$F$27 -> 0 | H42: =G42*$H$27 -> 0 | J42: =I42*$J$27 -> 0 | K42: =SUM(E42+F42+G42+H42+I42+J42) -> 0 | N42: =+I42*23% -> 0 | P42: OPTICROMA, LDA
F43: =E43*$F$27 -> 0 | H43: =G43*$H$27 -> 0 | J43: =I43*$J$27 -> 0 | K43: =SUM(E43+F43+G43+H43+I43+J43) -> 0 | N43: =+I43*23% -> 0 | P43: OPTIESTOJO - ART. ÓPTICA, LDA
A44: TOTAL DEVOLUÇÃO DE VENDAS | E44: =SUM(E30:E43) -> 0 | F44: =SUM(F30:F43) -> 0 | G44: =SUM(G30:G43) -> 0 | H44: =SUM(H30:H43) -> 0 | I44: =SUM(I30:I43) -> 0 | J44: =SUM(J30:J43) -> 0 | K44: =SUM(E44+F44+G44+H44+I44+J44) -> 0 | P44: OPTIFAR - IMP. EXPORTAÇÃO, LDA
P45: OPTIFLEX CONTACTOLOGIA, LDA
P46: OPTIFORUM, LDA
P47: OPTIKISSY - COM. ART. ÓPT. BRINQ.,
...

Sheet FSE
E1: Taxa Reduzida | G1: Taxa Intermédia | I1: Taxa Normal | K1: ISENTOS
A2: Nº Doc | B2: Data | C2: Descritivo da Despesa | D2: Conta a débito | E2: Valor Incidência | F2: 0.06 | G2: Valor Incidência | H2: 0.13 | I2: Valor Incidência | J2: 0.23
A3: Mercado Nacional
F5: =E5*$F$2 -> 0 | H5: =G5*$H$2 -> 0 | J5: =I5*$J$2 -> 0
F6: =E6*$F$2 -> 0 | H6: =G6*$H$2 -> 0 | J6: =I6*0.23 -> 0
F7: =E7*$F$2 -> 0 | H7: =G7*$H$2 -> 0 | J7: =I7*0.23 -> 0
F8: =E8*$F$2 -> 0 | H8: =G8*$H$2 -> 0 | J8: =I8*0.23 -> 0
F9: =E9*$F$2 -> 0 | H9: =G9*$H$2 -> 0 | J9: =I9*0.23 -> 0
F10: =E10*$F$2 -> 0 | H10: =G10*$H$2 -> 0 | J10: =I10*0.23 -> 0
F11: =E11*$F$2 -> 0 | H11: =G11*$H$2 -> 0 | J11: =I11*0.23 -> 0
F12: =E12*$F$2 -> 0 | H12: =G12*$H$2 -> 0 | J12: =I12*0.23 -> 0
F13: =E13*$F$2 -> 0 | H13: =G13*$H$2 -> 0 | J13: =I13*0.23 -> 0
F14: =E14*$F$2 -> 0 | H14: =G14*$H$2 -> 0 | J14: =I14*0.23 -> 0
F15: =E15*$F$2 -> 0 | H15: =G15*$H$2 -> 0 | J15: =I15*0.23 -> 0
F16: =E16*$F$2 -> 0 | H16: =G16*$H$2 -> 0 | J16: =I16*0.23 -> 0
F17: =E17*$F$2 -> 0 | H17: =G17*$H$2 -> 0 | J17: =I17*0.23 -> 0
... F20: =E20*$F$2 -> 0 | H20: =G20*$H$2 -> 0 | J20: =I20*0.23 -> 0
F21: =E21*$F$2 -> 0 | H21: =G21*$H$2 -> 0 | J21: =I21*$J$2 -> 0
F22: =E22*$F$2 -> 0 | H22: =G22*$H$2 -> 0 | J22: =I22*$J$2 -> 0
F23: =E23*$F$2 -> 0 | H23: =G23*$H$2 -> 0 | J23: =I23*$J$2 -> 0
F24: =E24*$F$2 -> 0 | H24: =G24*$H$2 -> 0 | J24: =I24*$J$2 -> 0
F25: =E25*$F$2 -> 0 | H25: =G25*$H$2 -> 0 | J25: =I25*$J$2 -> 0
F26: =E26*$F$2 -> 0 | H26: =G26*$H$2 -> 0 | J26: =I26*$J$2 -> 0
F27: =E27*$F$2 -> 0 | H27: =G27*$H$2 -> 0 | J27: =I27*$J$2 -> 0
F28: =E28*$F$2 -> 0 | H28: =G28*$H$2 -> 0 | J28: =I28*$J$2 -> 0
F29: =E29*$F$2 -> 0 | H29: =G29*$H$2 -> 0 | J29: =I29*$J$2 -> 0
F30: =E30*$F$2 -> 0 | H30: =G30*$H$2 -> 0 | J30: =I30*$J$2 -> 0
F31: =E31*$F$2 -> 0 | H31: =G31*$H$2 -> 0 | J31: =I31*$J$2 -> 0
F32: =E32*$F$2 -> 0 | H32: =G32*$H$2 -> 0 | J32: =I32*$J$2 -> 0
... F57: =E57*$F$2 -> 0 | H57: =G57*$H$2 -> 0 | J57: =I57*$J$2 -> 0
A58: TOTAL | E58: =SUM(E5:E57) -> 0 | F58: =SUM(F5:F57) -> 0 | G58: =SUM(G5:G57) -> 0 | H58: =SUM(H5:H57) -> 0 | I58: =SUM(I5:I57) -> 0 | J58: =SUM(J5:J57) -> 0 | K58: =SUM(K5:K57) -> 0

Sheet Outros
D1: Taxa Reduzida | F1: Taxa Intermédia | H1: Taxa Normal
A2: Nº Doc | B2: Data | C2: Descritivo da Despesa | D2: Valor Incidência | E2: 0.06 | F2: Valor Incidência | G2: 0.13 | H2: Valor Incidência | I2: 0.23
A3: Isento de IVA
A19: TOTAL ISENTOS DE IVA | D19: =SUM(D5:D18) -> 0 | E19: =SUM(E5:E18) -> 0 | F19: =SUM(F5:F18) -> 0 | G19: =SUM(G5:G18) -> 0 | H19: =SUM(H5:H18) -> 0 | I19: =SUM(I5:I18) -> 0
A21: Ofertas
E23: =D23*$E$2 -> 0 | G23: =F23*$G$2 -> 0 | I23: =H23*$I$2 -> 0
E24: =D24*$E$2 -> 0 | G24: =F24*$G$2 -> 0 | I24: =H24*$I$2 -> 0
E25: =D25*$E$2 -> 0 | G25: =F25*$G$2 -> 0 | I25: =H25*$I$2 -> 0
E26: =D26*$E$2 -> 0 | G26: =F26*$G$2 -> 0 | I26: =H26*$I$2 -> 0
E27: =D27*$E$2 -> 0 | G27: =F27*$G$2 -> 0 | I27: =H27*$I$2 -> 0
E28: =D28*$E$2 -> 0 | G28: =F28*$G$2 -> 0 | I28: =H28*$I$2 -> 0
E29: =D29*$E$2 -> 0 | G29: =F29*$G$2 -> 0 | I29: =H29*$I$2 -> 0
E30: =D30*$E$2 -> 0 | G30: =F30*$G$2 -> 0 | I30: =H30*$I$2 -> 0
E31: =D31*$E$2 -> 0 | G31: =F31*$G$2 -> 0 | I31: =H31*$I$2 -> 0
E32: =D32*$E$2 -> 0 | G32: =F32*$G$2 -> 0 | I32: =H32*$I$2 -> 0
A33: TOTAL DE OFERTAS | D33: =SUM(D23:D32) -> 0 | E33: =SUM(E23:E32) -> 0 | F33: =SUM(F23:F32) -> 0 | G33: =SUM(G23:G32) -> 0 | H33: =SUM(H23:H32) -> 0 | I33: =SUM(I23:I32) -> 0
A35: IVA não Dedutível
A51: TOTAL IVA NÃO DEDUTIVEL | D51: =SUM(D37:D50) -> 0 | E51: =SUM(E37:E50) -> 0 | F51: =SUM(F37:F50) -> 0 | G51: =SUM(G37:G50) -> 0 | H51: =SUM(H37:H50) -> 0 | I51: =SUM(I37:I50) -> 0
