Workbook
Name Ano: 'Listas Suspensas'!$F$4:$F$7
Name Mês: 'Listas Suspensas'!$D$4:$D$15
Name TipoTransporte: 'Listas Suspensas'!$A$4:$A$8

Sheet Mapas Ajudas Custo
A1: COMPENSAÇÃO AO TRABALHADOR POR SUBSÍDIO VIAGENS
C3: Empresa
C4: Morada
C5: NIF
C6: Ano
C7: Mês
A9: Dia | B9: Local Origem | C9: Local Destino | D9: Serviço | E9: Matrícula | F9: Nº Kms | G9: Tipo Deslocação | H9: Valor/Km | I9: Valor
A10: 1 | I10: =IF(F10>0,F10*H10,"")
A11: 2 | I11: =IF(F11>0,F11*H11,"")
A12: 3 | I12: =IF(F12>0,F12*H12,"")
A13: 4 | I13: =IF(F13>0,F13*H13,"")
A14: 5 | I14: =IF(F14>0,F14*H14,"")
A15: 6 | I15: =IF(F15>0,F15*H15,"")
A16: 7 | I16: =IF(F16>0,F16*H16,"")
A17: 8 | I17: =IF(F17>0,F17*H17,"")
A18: 9 | I18: =IF(F18>0,F18*H18,"")
A19: 10 | I19: =IF(F19>0,F19*H19,"")
A20: 11 | I20: =IF(F20>0,F20*H20,"")
A21: 12 | I21: =IF(F21>0,F21*H21,"")
... A40: 31 | I40: =IF(F40>0,F40*H40,"")
E41: Total Kms | F41: =SUM(F10:F40) -> 0 | H41: Valor Total | I41: =SUM(I10:I40) -> 0
C43: Funcionário
C44: Nome
C45: Morada
C46: NIF
B48: Recebi da | C48: =IF(D3>0,D3,"") | E48: a quantia | F48: =IF(I41>0,I41,"") | G48: referente a ajudas de custo no âmbito
B49: das deslocações e trabalhos realizados acima mencionados ao serviço desta mesma empresa
B50: Data
B51: Assinatura
A53: IMPLICAÇÕES EM TERMOS DE IMPOSTOS EMPRESA (USO INTERNO)
A55: Dia | B55: Nº Kms | C55: Valor/Km | D55: Tipo Deslocação | E55: Limite/Km | F55: Valor Base | G55: Tributação Autonóma | H55: Valor T.A. | I55: Dec.Fiscal
A56: 1 | B56: =IF(F10>0,F10,"") | C56: =IF(H10>0,H10,"") | D56: =IF(G10>0,G10,"") | E56: =VLOOKUP(D56,'Listas Suspensas'!$A$4:$B$8,2,FALSE) -> #N/A | F56: =IF(C56<=E56,B56*C56,B56*E56) -> #N/A | G56: =IF(F56>0,"Tributação Autónoma 5%","Sem Tributação Autónoma") -> #N/A | H56: =IF(F56>0,F56*0.05,"-") -> #N/A | I56: =IF(F56>0,"Q07 M22","-") -> #N/A
A57: 2 | B57: =IF(F11>0,F11,"") | C57: =IF(H11>0,H11,"") | D57: =IF(G11>0,G11,"") | E57: =VLOOKUP(D57,'Listas Suspensas'!$A$4:$B$8,2,FALSE) -> #N/A | F57: =IF(C57<=E57,B57*C57,B57*E57) -> #N/A | G57: =IF(F57>0,"Tributação Autónoma 5%","Sem Tributação Autónoma") -> #N/A | H57: =IF(F57>0,F57*0.05,"-") -> #N/A | I57: =IF(F57>0,"Q07 M22","-") -> #N/A
A58: 3 | B58: =IF(F12>0,F12,"") | C58: =IF(H12>0,H12,"") | D58: =IF(G12>0,G12,"") | E58: =VLOOKUP(D58,'Listas Suspensas'!$A$4:$B$8,2,FALSE) -> #N/A | F58: =IF(C58<=E58,B58*C58,B58*E58) -> #N/A | G58: =IF(F58>0,"Tributação Autónoma 5%","Sem Tributação Autónoma") -> #N/A | H58: =IF(F58>0,F58*0.05,"-") -> #N/A | I58: =IF(F58>0,"Q07 M22","-") -> #N/A
A59: 4 | B59: =IF(F13>0,F13,"") | C59: =IF(H13>0,H13,"") | D59: =IF(G13>0,G13,"") | E59: =VLOOKUP(D59,'Listas Suspensas'!$A$4:$B$8,2,FALSE) -> #N/A | F59: =IF(C59<=E59,B59*C59,B59*E59) -> #N/A | G59: =IF(F59>0,"Tributação Autónoma 5%","Sem Tributação Autónoma") -> #N/A | H59: =IF(F59>0,F59*0.05,"-") -> #N/A | I59: =IF(F59>0,"Q07 M22","-") -> #N/A
A60: 5 | B60: =IF(F14>0,F14,"") | C60: =IF(H14>0,H14,"") | D60: =IF(G14>0,G14,"") | E60: =VLOOKUP(D60,'Listas Suspensas'!$A$4:$B$8,2,FALSE) -> #N/A | F60: =IF(C60<=E60,B60*C60,B60*E60) -> #N/A | G60: =IF(F60>0,"Tributação Autónoma 5%","Sem Tributação Autónoma") -> #N/A | H60: =IF(F60>0,F60*0.05,"-") -> #N/A | I60: =IF(F60>0,"Q07 M22","-") -> #N/A
A61: 6 | B61: =IF(F15>0,F15,"") | C61: =IF(H15>0,H15,"") | D61: =IF(G15>0,G15,"") | E61: =VLOOKUP(D61,'Listas Suspensas'!$A$4:$B$8,2,FALSE) -> #N/A | F61: =IF(C61<=E61,B61*C61,B61*E61) -> #N/A | G61: =IF(F61>0,"Tributação Autónoma 5%","Sem Tributação Autónoma") -> #N/A | H61: =IF(F61>0,F61*0.05,"-") -> #N/A | I61: =IF(F61>0,"Q07 M22","-") -> #N/A
A62: 7 | B62: =IF(F16>0,F16,"") | C62: =IF(H16>0,H16,"") | D62: =IF(G16>0,G16,"") | E62: =VLOOKUP(D62,'Listas Suspensas'!$A$4:$B$8,2,FALSE) -> #N/A | F62: =IF(C62<=E62,B62*C62,B62*E62) -> #N/A | G62: =IF(F62>0,"Tributação Autónoma 5%","Sem Tributação Autónoma") -> #N/A | H62: =IF(F62>0,F62*0.05,"-") -> #N/A | I62: =IF(F62>0,"Q07 M22","-") -> #N/A
A63: 8 | B63: =IF(F17>0,F17,"") | C63: =IF(H17>0,H17,"") | D63: =IF(G17>0,G17,"") | E63: =VLOOKUP(D63,'Listas Suspensas'!$A$4:$B$8,2,FALSE) -> #N/A | F63: =IF(C63<=E63,B63*C63,B63*E63) -> #N/A | G63: =IF(F63>0,"Tributação Autónoma 5%","Sem Tributação Autónoma") -> #N/A | H63: =IF(F63>0,F63*0.05,"-") -> #N/A | I63: =IF(F63>0,"Q07 M22","-") -> #N/A
A64: 9 | B64: =IF(F18>0,F18,"") | C64: =IF(H18>0,H18,"") | D64: =IF(G18>0,G18,"") | E64: =VLOOKUP(D64,'Listas Suspensas'!$A$4:$B$8,2,FALSE) -> #N/A | F64: =IF(C64<=E64,B64*C64,B64*E64) -> #N/A | G64: =IF(F64>0,"Tributação Autónoma 5%","Sem Tributação Autónoma") -> #N/A | H64: =IF(F64>0,F64*0.05,"-") -> #N/A | I64: =IF(F64>0,"Q07 M22","-") -> #N/A
A65: 10 | B65: =IF(F19>0,F19,"") | C65: =IF(H19>0,H19,"") | D65: =IF(G19>0,G19,"") | E65: =VLOOKUP(D65,'Listas Suspensas'!$A$4:$B$8,2,FALSE) -> #N/A | F65: =IF(C65<=E65,B65*C65,B65*E65) -> #N/A | G65: =IF(F65>0,"Tributação Autónoma 5%","Sem Tributação Autónoma") -> #N/A | H65: =IF(F65>0,F65*0.05,"-") -> #N/A | I65: =IF(F65>0,"Q07 M22","-") -> #N/A
A66: 11 | B66: =IF(F20>0,F20,"") | C66: =IF(H20>0,H20,"") | D66: =IF(G20>0,G20,"") | E66: =VLOOKUP(D66,'Listas Suspensas'!$A$4:$B$8,2,FALSE) -> #N/A | F66: =IF(C66<=E66,B66*C66,B66*E66) -> #N/A | G66: =IF(F66>0,"Tributação Autónoma 5%","Sem Tributação Autónoma") -> #N/A | H66: =IF(F66>0,F66*0.05,"-") -> #N/A | I66: =IF(F66>0,"Q07 M22","-") -> #N/A
A67: 12 | B67: =IF(F21>0,F21,"") | C67: =IF(H21>0,H21,"") | D67: =IF(G21>0,G21,"") | E67: =VLOOKUP(D67,'Listas Suspensas'!$A$4:$B$8,2,FALSE) -> #N/A | F67: =IF(C67<=E67,B67*C67,B67*E67) -> #N/A | G67: =IF(F67>0,"Tributação Autónoma 5%","Sem Tributação Autónoma") -> #N/A | H67: =IF(F67>0,F67*0.05,"-") -> #N/A | I67: =IF(F67>0,"Q07 M22","-") -> #N/A
... A86: 31 | B86: =IF(F40>0,F40,"") | C86: =IF(H40>0,H40,"") | D86: =IF(G40>0,G40,"") | E86: =VLOOKUP(D86,'Listas Suspensas'!$A$4:$B$8,2,FALSE) -> #N/A | F86: =IF(C86<=E86,B86*C86,B86*E86) -> #N/A | G86: =IF(F86>0,"Tributação Autónoma 5%","Sem Tributação Autónoma") -> #N/A | H86: =IF(F86>0,F86*0.05,"-") -> #N/A | I86: =IF(F86>0,"Q07 M22","-") -> #N/A
B88: Quadro Resumo Tributações Autónomas
B89: Classificação | C89: Valor Base | D89: Taxa a Aplicar | E89: Imposto
B90: T.A. | C90: =SUMIFS(F56:F86,G56:G86,"Tributação Autónoma 5%") -> 0 | D90: 0.05 | E90: =C90*D90 -> 0
B94: Trabalho Elaborado por:
B95: Vasco Lopes Contabilista Certificado
D96: Email Profissional:
B97: vascolopes.contabilidade@hotmail.com
D98: Visitem a minha página em:
B99: https://www.facebook.com/VascoLopesTOC/

Sheet Listas Suspensas
A1: LISTAS SUSPENSAS
A3: Tipo Transporte | B3: Valor/Km | D3: Meses Ano | F3: Ano
A4: Automóvel Próprio | B4: 0.36 | D4: Janeiro | F4: 2017
A5: Veículos Adst. Carreiras SP | B5: 0.11 | D5: Fevereiro | F5: 2018
A6: Automóvel Aluguer (1 Func.) | B6: 0.34 | D6: Março | F6: 2019
A7: Automóvel Aluguer (2 Func.) | B7: 0.14 | D7: Abril | F7: 2020
A8: Automóvel Aluguer (3 Func.) | B8: 0.11 | D8: Maio
D9: Junho
D10: Julho
D11: Agosto
D12: Setembro
D13: Outubro
D14: Novembro
D15: Dezembro
