Workbook
Name Print_Area_0: A!$A$1:$H$45
Name Print_Area_0: B!$A$1:$H$201
Name Print_Titles_0: A!$1:$4
Name Print_Titles_0: B!$1:$2

Sheet A
A1: =B!A1 -> Empresa & Empresa, Lda
A2: Quadros de Apoio 2017
A4: Pagamentos Especiais por conta (CIRC 93)
A6: Ano | C6: Valores
A7: Do pagamento | B7: Limite do uso | C7: Do pagamento | D7: Deduzido até 2016 | E7: Disponíveis em 2017 | F7: Deduzir em 2017 | G7: Expira em 1/Jan/2018 | H7: Remanescente
A8: 2013 | B8: 2017 | C8: 0 | D8: 0 | E8: =C8-D8 -> 0 | F8: =IF(E8<F15,E8,F15) -> 0 | G8: =C8-D8-F8 -> 0
A9: 2014 | B9: 2020 | C9: 0 | D9: 0 | E9: =C9-D9 -> 0 | F9: =IF((E9+E8-F8)<(F15-F8),(E9+E8-F8),(F15-F8)) -> 0 | H9: =C9-D9-F9-G9 -> 0
A10: 2015 | B10: 2021 | C10: 0 | D10: 0 | E10: =C10-D10 -> 0 | F10: =IF((E9+E8+E10-F9-F8)<(F15-F8-F9),(E9+E8+E10-F8-F9),(F15-F8-F9)) -> 0 | H10: =C10-D10-F10-G10 -> 0
A11: 2016 | B11: 2022 | C11: 0 | D11: 0 | E11: =C11-D11 -> 0 | F11: =IF((E9+E8+E10+E11-F9-F8-F10)<(F15-F8-F9-F10),(E9+E8+E10+E11-F8-F9-F10),(F15-F8-F9-F10)) -> 0 | H11: =C11-D11-F11-G11 -> 0
A12: 2017 | B12: 2023 | C12: 0 | D12: 0 | E12: =C12-D12 -> 0 | F12: =IF((E9+E8+E10+E11+E12-F9-F8-F10-F11)<(F15-F8-F9-F10-F11),(E9+E8+E10+E11+E12-F8-F9-F10-F11),(F15-F8-F9-F10-F11)) -> 0 | H12: =C12-D12-F12-G12 -> 0
B13: Totais: | C13: =SUM(C8:C12) -> 0 | D13: =SUM(D8:D12) -> 0 | E13: =SUM(E8:E12) -> 0 | F13: =SUM(F8:F12) -> 0 | G13: =SUM(G8:G12) -> 0 | H13: =SUM(H8:H12) -> 0
E15: Limites à utilização do PEC: | F15: =B!F92-B!F94-B!F95-B!F100 -> 0
A17: Prejuízos Fiscais Disponíveis (CIRC 52)
A19: Ano | C19: Valores
A20: Do prejuízo | B20: Limite da dedução | C20: Prejuízo | D20: Deduzido até 2016 | E20: Disponíveis em 2017 | F20: Deduzir em 2017 | G20: Expira em 1/Jan/2018 | H20: Remanescente
A21: 2012 | B21: 2017 | C21: 0 | D21: 0 | E21: =C21-D21 -> 0 | F21: =IF(E21<B!F70,E21,B!F70) -> 0 | G21: =C21-D21+F21 -> 0
A22: 2013 | B22: 2018 | C22: 0 | D22: 0 | E22: =C22-D22 -> 0 | F22: =IF(E22<B!F70-F21,E22,B!F70-F21) -> 0 | H22: =C22-D22-F22-G22 -> 0
A23: 2014 | B23: 2026 | C23: 0 | D23: 0 | E23: =C23-D23 -> 0 | F23: =IF(E23<B!F70-F21-F22,E23,B!F70-F21-F22) -> 0 | H23: =C23-D23-F23-G23 -> 0
A24: 2015 | B24: 2027 | C24: 0 | D24: 0 | E24: =C24-D24 -> 0 | F24: =IF(E24<B!F70-F21-F22-F23,E24,B!F70-F21-F22-F23) -> 0 | H24: =C24-D24-F24-G24 -> 0
A25: 2016 | B25: 2028 | C25: 0 | E25: =C25 -> 0 | F25: =IF(E25<B!F70-F21-F22-F23-F24,E25,B!F70-F21-F22-F23-F24) -> 0 | H25: =C25-D25-F25-G25 -> 0
A26: 2017 | B26: 2022 (não PME) | C26: =B!F61 -> 0 | H26: =C26-D26-F26-G26 -> 0
B27: 2029 (PME)
B28: Totais: | C28: =SUM(C21:C27) -> 0 | D28: =SUM(D21:D27) -> 0 | E28: =SUM(E21:E27) -> 0 | F28: =SUM(F21:F27) -> 0 | G28: =SUM(G21:G27) -> 0 | H28: =SUM(H22:H27) -> 0
A32: Este quadro no ano de 2016 está errado nos clientes em que foram usadas as primeiras versões. O orçamento de 2016 tinha uma cáusula que “diferia” a entrada em vigor da alteração para 2017, mas a existência dessa cláusula só foi detectada depois de muitos dos mapas já estarem preenchidos. Assim sendo o limite da dedução de 2016 é 2028 sem depender do estatuto PME
A34: Mais-Valias disponíveis para reinvestimento (CIRC 48)
A36: Ano | C36: Valores
A37: Da mais-valia | B37: Dedução | C37: Mais-Valias | D37: Realização | E37: Reinvestimento até 31/12/2016 | F37: Reinvestimento no exercício | G37: Mais-valia a expirar | H37: Investimento Remanescente
A38: 2015 | B38: 2014-2017 | C38: 0 | D38: 0.001 | E38: 0 | F38: 0 | G38: =((D38-E38-F38)/D38)*C38 -> 0
A39: 2016 | B39: 2015-2018 | C39: 0 | D39: 0 | E39: 0 | F39: 0 | H39: =D39-E39-F39 -> 0
A40: 2017 | B40: 2016-2019 | C40: 0 | D40: 0 | E40: 0 | F40: 0 | H40: =D40-E40-F40 -> 0
B41: Totais: | C41: =SUM(C38:C40) -> 0 | D41: =SUM(D38:D40) -> 0.001 | E41: =SUM(E38:E40) -> 0 | F41: =SUM(F38:F40) -> 0 | G41: =SUM(G38:G40) -> 0 | H41: =SUM(H38:H40) -> 0
F42: Mais-valia Majorada (15%) | G42: =G41*1.15 -> 0
A44: DLRR (capítulo IV do Código Fiscal Investimento)
A46: Dedução à colecta IRC | C46: Investimento feito | E46: Valor do benefício | F46: Excedente | H46: IRC a acrescer à colecta
A47: Ano | B47: Valor | C47: 2016 | D47: 2017 | F47: Expira em 2017 | G47: Transita para 2018
B48: A | C48: B | D48: C | E48: D=B+Cx10% | F48: E=D | G48: F=D | H48: G=Ex115%
A49: 2015 | B49: 0 | C49: 0 | D49: 0 | E49: =IF((C49+D49)*0.1>B49,B49,(C49+D49)*0.1) -> 0 | F49: =B49-E49 -> 0 | H49: =F49*1.15 -> 0
A50: 2016 | B50: 0 | D50: 0 | E50: =IF((C50+D50)*0.1>B50,B50,(C50+D50)*0.1) -> 0 | G50: =B50-E50 -> 0
A51: 2017 | B51: =B!E97 -> 0 | E51: =IF((C51+D51)*0.1>B51,B51,(C51+D51)*0.1) -> 0 | G51: =B51-E51 -> 0
B52: =SUM(B49:B51) -> 0 | C52: =SUM(C49:C51) -> 0 | D52: =SUM(D49:D51) -> 0 | E52: =SUM(E49:E51) -> 0 | F52: =SUM(F49:F51) -> 0 | G52: =SUM(G49:G51) -> 0 | H52: =SUM(H49:H51) -> 0
...

Sheet B
A1: Empresa & Empresa, Lda
A2: M22 Mapa de Apuramento de IRC 2017
A4: Quadro 07 - Apuramento do resultado tributável
A6: Rúbrica | E6: Parcelas | F6: Totais | H6: Campo
A7: Resultado antes de imposto | E7: 0
A8: Acerto impostos diferidos | E8: 0
D9: Inicio dos cálculos | E9: =SUM(E7:E8) -> 0 | F9: =E9 -> 0
A11: Variações patrimoniais positivas | E11: 0 | H11: 702
A12: Variações patrimoniais negativas | E12: 0 | H12: 704
D13: Variações patrimoniais: | E13: =E11-E12 -> 0 | F13: =E13 -> 0 | H13: 708
A15: Imputação matéria colectável de ACE, AEIE e transparência | E15: 0 | H15: 709
A16: Correcções Exercícios Anteriores | E16: 0 | H16: 710
A17: Anulação do MEP e da consolidação proporcional | E17: 0 | H17: 712
A18: Ajustamentos do justo Valor | E18: 0 | H18: 713
A19: Encargos não devidamente documentados | E19: 0 | H19: 716
A20: Depreciações e amortizações não aceites | E20: 0 | H20: 719
A21: Impostos diferidos | E21: 0 | H21: 725
A22: Multas, penalidades, juros compensatórios | E22: 0 | H22: 728
A23: Aluguer de viatura sem condutor | E23: 0 | H23: 732
A24: Menos-valias contabilísticas | E24: 0 | H24: 736
A25: Mais-valias fiscais sem intenção de reinvestimento | E25: 0 | H25: 739
A26: 50% de Mais-valias fiscais com intenção reinvestimento | E26: 0 | H26: 740
A27: Mais-valias para reinvestir não reinvestidas | E27: =A!G42 -> 0 | H27: 741
A28: Excesso Gastos Financiamento | E28: 0 | H28: 748
A29: Regimes das fusões, cisões, entrada de activos e permuta de partes sociais | E29: 0 | H29: 750
E30: 0 | H30: 751
E31: 0
E32: 0
A33: Outros
B34: Incumprimento Remuneração convencional do capital social | D34: =A!D59 -> 0
B35: Donativos não previstos ou além dos limites legais | D35: 0
B36: Insuficiência da estimativa para impostos | D36: 0
B37: Outros | D37: 0
B38: Outros | D38: 0
D39: =SUM(D34:D38) -> 0 | E39: =D39 -> 0 | H39: 752
D41: Acréscimos à matéria colectável: | E41: =SUM(E15:E40) -> 0 | F41: =E41 -> 0 | H41: 753
A43: Prejuízo imputado por ACE, AEIE e transparência | E43: 0 | H43: 755
A44: Correcções de períodos anteriores | E44: 0 | H44: 756
A45: Excesso de estimativa para imposto | E45: 0 | H45: 765
A46: Impostos diferidos | E46: 0 | H46: 766
...
