Workbook
Name Lista_Centros: Configurações!$M$5:$M$9
Name Lista_Classes: Configurações!$D$5:$D$12
Name Lista_Contas: Configurações!$N$5:$N$10
Name Lista_Estados: Configurações!$K$5:$K$9
Name Lista_Localizacoes: Configurações!$L$5:$L$9
Name Lista_Metodos: Configurações!$J$5:$J$7
Name Lista_Movimentos: Movimentos!$J$2:$J$10

Sheet Configurações
A1: Modelo de Depreciações do Imobilizado
A2: Parâmetros e listas auxiliares
A4: Parâmetros gerais | D4: Classe do bem | E4: Taxa contabilística | F4: Taxa fiscal | G4: Vida útil (anos) | J4: Métodos de depreciação | K4: Estados do bem | L4: Localizações | M4: Centros de custo | N4: Contas SNC
A5: Ano em análise | B5: 2025 | D5: Edifícios e outras construções | E5: 0.02 | F5: 0.02 | G5: 50 | J5: Quotas constantes | K5: Em uso | L5: Sede | M5: Produção | N5: 431 Edifícios
A6: Data de fecho do exercício | B6: 46022 | D6: Equipamento básico | E6: 0.125 | F6: 0.125 | G6: 8 | J6: Quotas decrescentes | K6: Abatido | L6: Armazém | M6: Administrativo | N6: 433 Equipamento básico
A7: Percentagem máxima de valor residual | B7: 0.05 | D7: Equipamento administrativo | E7: 0.1 | F7: 0.1 | G7: 10 | J7: Não depreciável | K7: Alienado | L7: Produção | M7: Comercial | N7: 434 Equipamento transporte
A8: Nº de meses por exercício | B8: 12 | D8: Equipamento de transporte | E8: 0.25 | F8: 0.25 | G8: 4 | K8: Totalmente depreciado | L8: Administrativo | M8: Logística | N8: 435 Equipamento administrativo
A9: Método padrão | B9: Quotas constantes | D9: Ferramentas e utensílios | E9: 0.2 | F9: 0.2 | G9: 5 | K9: Em construção | L9: Viatura / externo | M9: Geral | N9: 436 Equipamento biológico
D10: Equipamento informático | E10: 0.3333 | F10: 0.3333 | G10: 3 | N10: 438 Outros AFT
D11: Mobiliário | E11: 0.1 | F11: 0.1 | G11: 10
D12: Outros AFT | E12: 0.1 | F12: 0.1 | G12: 10

Sheet Cadastro de Bens
A1: Código do bem | B1: Descrição do bem | C1: Nº inventário | D1: Classe do ativo | E1: Conta SNC | F1: Centro de custo | G1: Localização | H1: Fornecedor | I1: Data de aquisição | J1: Data entrada em funcionamento | K1: Documento compra | L1: Valor aquisição | M1: Gastos acessórios | N1: Valor base bruto | O1: Valor residual | P1: Base depreciável | Q1: Método | R1: Taxa contabilística | S1: Taxa fiscal | T1: Vida útil (anos) | U1: Vida útil (meses) | V1: Estado | W1: Data abate/alienação | X1: Valor de venda | Y1: Observações | Z1: Quota anual contab. | AA1: Quota mensal contab. | AB1: Quota anual fiscal | AC1: Quota mensal fiscal | AD1: Meses no ano de entrada | AE1: Meses no ano de saída | AF1: Depreciação exercício | AG1: Depreciações acumuladas | AH1: Valor líquido contabilístico | AI1: Flag validação
A2: EQ-0001 | B2: Servidor Dell PowerEdge | C2: INV001 | D2: Equipamento informático | E2: 435 Equipamento administrativo | F2: Administrativo | G2: Sede | H2: TechSupplier | I2: 46037 | J2: 45677 | K2: FT 1/2026 | L2: 3500 | M2: 150 | N2: =IF(OR(L2="",M2=""),"",L2+M2) -> 3650 | O2: 0 | P2: =IF(OR(N2="",O2=""),"",MAX(0,N2-O2)) -> 3650 | Q2: Quotas constantes | R2: 0.25 | S2: 0.25 | T2: 4 | U2: =IF(T2="","",T2*12) -> 48 | V2: Em uso | X2: 0 | Y2: Exemplo preenchido | Z2: =IF(OR(P2="",Q2=""),"",IF(Q2="Quotas constantes",P2*R2,"")) -> 912.5 | AA2: =IF(Z2="","",Z2/12) -> 76.041667 | AB2: =IF(OR(P2="",Q2=""),"",IF(Q2="Quotas constantes",P2*S2,"")) -> 912.5 | AC2: =IF(AB2="","",AB2/12) -> 76.041667 | AD2: =IF(J2="","",MAX(0,13-MONTH(J2))) -> 12 | AE2: =IF(W2="","",MONTH(W2)-1) | AF2: 912.5 | AG2: =IF(OR(A2="",P2=""),"",MAX(0,MIN(P2,MAX(0,(Configurações!$B$5-YEAR(J2)))*Z2 + IF(Configurações!$B$5>YEAR(J2),Z2,AA2*MAX(0,13-MONTH(J2)) )))) -> 912.5 | AH2: =IF(OR(N2="",AG2=""),"",MAX(0,N2-AG2)) -> 2737.5
A3: EQ-0002 | B3: Máquina de lavar industrial | C3: INV002 | D3: Equipamento básico | E3: 433 Equipamento básico | F3: Produção | G3: Produção | H3: LaundryEquip | I3: 46086 | J3: 46093 | K3: FT 25/2026 | L3: 125000 | M3: 2500 | N3: =IF(OR(L3="",M3=""),"",L3+M3) -> 127500 | O3: 5000 | P3: =IF(OR(N3="",O3=""),"",MAX(0,N3-O3)) -> 122500 | Q3: Quotas constantes | R3: 0.25 | S3: 0.25 | T3: 4 | U3: =IF(T3="","",T3*12) -> 48 | V3: Em uso | X3: 0 | Y3: Exemplo preenchido | Z3: =IF(OR(P3="",Q3=""),"",IF(Q3="Quotas constantes",P3*R3,"")) -> 30625 | AA3: =IF(Z3="","",Z3/12) -> 2552.0833 | AB3: =IF(OR(P3="",Q3=""),"",IF(Q3="Quotas constantes",P3*S3,"")) -> 30625 | AC3: =IF(AB3="","",AB3/12) -> 2552.0833 | AD3: =IF(J3="","",MAX(0,13-MONTH(J3))) -> 10 | AE3: =IF(W3="","",MONTH(W3)-1) | AG3: =IF(OR(A3="",P3=""),"",MAX(0,MIN(P3,MAX(0,(Configurações!$B$5-YEAR(J3)))*Z3 + IF(Configurações!$B$5>YEAR(J3),Z3,AA3*MAX(0,13-MONTH(J3)) )))) -> 25520.833 | AH3: =IF(OR(N3="",AG3=""),"",MAX(0,N3-AG3)) -> 101979.17
A4: EQ-0003 | B4: Carrinha distribuição | C4: INV003 | D4: Equipamento de transporte | E4: 434 Equipamento transporte | F4: Logística | G4: Viatura / externo | H4: AutoCom | I4: 45848 | J4: 45853 | K4: FT 312/2025 | L4: 28000 | M4: 0 | N4: =IF(OR(L4="",M4=""),"",L4+M4) -> 28000 | O4: 3000 | P4: =IF(OR(N4="",O4=""),"",MAX(0,N4-O4)) -> 25000 | Q4: Quotas constantes | R4: 0.25 | S4: 0.25 | T4: 4 | U4: =IF(T4="","",T4*12) -> 48 | V4: Em uso | X4: 0 | Y4: Exemplo preenchido | Z4: =IF(OR(P4="",Q4=""),"",IF(Q4="Quotas constantes",P4*R4,"")) -> 6250 | AA4: =IF(Z4="","",Z4/12) -> 520.83333 | AB4: =IF(OR(P4="",Q4=""),"",IF(Q4="Quotas constantes",P4*S4,"")) -> 6250 | AC4: =IF(AB4="","",AB4/12) -> 520.83333 | AD4: =IF(J4="","",MAX(0,13-MONTH(J4))) -> 6 | AE4: =IF(W4="","",MONTH(W4)-1) | AG4: =IF(OR(A4="",P4=""),"",MAX(0,MIN(P4,MAX(0,(Configurações!$B$5-YEAR(J4)))*Z4 + IF(Configurações!$B$5>YEAR(J4),Z4,AA4*MAX(0,13-MONTH(J4)) )))) -> 3125 | AH4: =IF(OR(N4="",AG4=""),"",MAX(0,N4-AG4)) -> 24875
A5: IP-0001 | N5: =IF(OR(L5="",M5=""),"",L5+M5) | P5: =IF(OR(N5="",O5=""),"",MAX(0,N5-O5)) | U5: =IF(T5="","",T5*12) | Z5: =IF(OR(P5="",Q5=""),"",IF(Q5="Quotas constantes",P5*R5,"")) | AA5: =IF(Z5="","",Z5/12) | AB5: =IF(OR(P5="",Q5=""),"",IF(Q5="Quotas constantes",P5*S5,"")) | AC5: =IF(AB5="","",AB5/12) | AD5: =IF(J5="","",MAX(0,13-MONTH(J5))) | AE5: =IF(W5="","",MONTH(W5)-1) | AG5: =IF(OR(A5="",P5=""),"",MAX(0,MIN(P5,MAX(0,(Configurações!$B$5-YEAR(J5)))*Z5 + IF(Configurações!$B$5>YEAR(J5),Z5,AA5*MAX(0,13-MONTH(J5)) )))) | AH5: =IF(OR(N5="",AG5=""),"",MAX(0,N5-AG5))
N6: =IF(OR(L6="",M6=""),"",L6+M6) | P6: =IF(OR(N6="",O6=""),"",MAX(0,N6-O6)) | U6: =IF(T6="","",T6*12) | Z6: =IF(OR(P6="",Q6=""),"",IF(Q6="Quotas constantes",P6*R6,"")) | AA6: =IF(Z6="","",Z6/12) | AB6: =IF(OR(P6="",Q6=""),"",IF(Q6="Quotas constantes",P6*S6,"")) | AC6: =IF(AB6="","",AB6/12) | AD6: =IF(J6="","",MAX(0,13-MONTH(J6))) | AE6: =IF(W6="","",MONTH(W6)-1) | AG6: =IF(OR(A6="",P6=""),"",MAX(0,MIN(P6,MAX(0,(Configurações!$B$5-YEAR(J6)))*Z6 + IF(Configurações!$B$5>YEAR(J6),Z6,AA6*MAX(0,13-MONTH(J6)) )))) | AH6: =IF(OR(N6="",AG6=""),"",MAX(0,N6-AG6))
N7: =IF(OR(L7="",M7=""),"",L7+M7) | P7: =IF(OR(N7="",O7=""),"",MAX(0,N7-O7)) | U7: =IF(T7="","",T7*12) | Z7: =IF(OR(P7="",Q7=""),"",IF(Q7="Quotas constantes",P7*R7,"")) | AA7: =IF(Z7="","",Z7/12) | AB7: =IF(OR(P7="",Q7=""),"",IF(Q7="Quotas constantes",P7*S7,"")) | AC7: =IF(AB7="","",AB7/12) | AD7: =IF(J7="","",MAX(0,13-MONTH(J7))) | AE7: =IF(W7="","",MONTH(W7)-1) | AG7: =IF(OR(A7="",P7=""),"",MAX(0,MIN(P7,MAX(0,(Configurações!$B$5-YEAR(J7)))*Z7 + IF(Configurações!$B$5>YEAR(J7),Z7,AA7*MAX(0,13-MONTH(J7)) )))) | AH7: =IF(OR(N7="",AG7=""),"",MAX(0,N7-AG7))
N8: =IF(OR(L8="",M8=""),"",L8+M8) | P8: =IF(OR(N8="",O8=""),"",MAX(0,N8-O8)) | U8: =IF(T8="","",T8*12) | Z8: =IF(OR(P8="",Q8=""),"",IF(Q8="Quotas constantes",P8*R8,"")) | AA8: =IF(Z8="","",Z8/12) | AB8: =IF(OR(P8="",Q8=""),"",IF(Q8="Quotas constantes",P8*S8,"")) | AC8: =IF(AB8="","",AB8/12) | AD8: =IF(J8="","",MAX(0,13-MONTH(J8))) | AE8: =IF(W8="","",MONTH(W8)-1) | AG8: =IF(OR(A8="",P8=""),"",MAX(0,MIN(P8,MAX(0,(Configurações!$B$5-YEAR(J8)))*Z8 + IF(Configurações!$B$5>YEAR(J8),Z8,AA8*MAX(0,13-MONTH(J8)) )))) | AH8: =IF(OR(N8="",AG8=""),"",MAX(0,N8-AG8))
N9: =IF(OR(L9="",M9=""),"",L9+M9) | P9: =IF(OR(N9="",O9=""),"",MAX(0,N9-O9)) | U9: =IF(T9="","",T9*12) | Z9: =IF(OR(P9="",Q9=""),"",IF(Q9="Quotas constantes",P9*R9,"")) | AA9: =IF(Z9="","",Z9/12) | AB9: =IF(OR(P9="",Q9=""),"",IF(Q9="Quotas constantes",P9*S9,"")) | AC9: =IF(AB9="","",AB9/12) | AD9: =IF(J9="","",MAX(0,13-MONTH(J9))) | AE9: =IF(W9="","",MONTH(W9)-1) | AG9: =IF(OR(A9="",P9=""),"",MAX(0,MIN(P9,MAX(0,(Configurações!$B$5-YEAR(J9)))*Z9 + IF(Configurações!$B$5>YEAR(J9),Z9,AA9*MAX(0,13-MONTH(J9)) )))) | AH9: =IF(OR(N9="",AG9=""),"",MAX(0,N9-AG9))
N10: =IF(OR(L10="",M10=""),"",L10+M10) | P10: =IF(OR(N10="",O10=""),"",MAX(0,N10-O10)) | U10: =IF(T10="","",T10*12) | Z10: =IF(OR(P10="",Q10=""),"",IF(Q10="Quotas constantes",P10*R10,"")) | AA10: =IF(Z10="","",Z10/12) | AB10: =IF(OR(P10="",Q10=""),"",IF(Q10="Quotas constantes",P10*S10,"")) | AC10: =IF(AB10="","",AB10/12) | AD10: =IF(J10="","",MAX(0,13-MONTH(J10))) | AE10: =IF(W10="","",MONTH(W10)-1) | AG10: =IF(OR(A10="",P10=""),"",MAX(0,MIN(P10,MAX(0,(Configurações!$B$5-YEAR(J10)))*Z10 + IF(Configurações!$B$5>YEAR(J10),Z10,AA10*MAX(0,13-MONTH(J10)) )))) | AH10: =IF(OR(N10="",AG10=""),"",MAX(0,N10-AG10))
N11: =IF(OR(L11="",M11=""),"",L11+M11) | P11: =IF(OR(N11="",O11=""),"",MAX(0,N11-O11)) | U11: =IF(T11="","",T11*12) | Z11: =IF(OR(P11="",Q11=""),"",IF(Q11="Quotas constantes",P11*R11,"")) | AA11: =IF(Z11="","",Z11/12) | AB11: =IF(OR(P11="",Q11=""),"",IF(Q11="Quotas constantes",P11*S11,"")) | AC11: =IF(AB11="","",AB11/12) | AD11: =IF(J11="","",MAX(0,13-MONTH(J11))) | AE11: =IF(W11="","",MONTH(W11)-1) | AG11: =IF(OR(A11="",P11=""),"",MAX(0,MIN(P11,MAX(0,(Configurações!$B$5-YEAR(J11)))*Z11 + IF(Configurações!$B$5>YEAR(J11),Z11,AA11*MAX(0,13-MONTH(J11)) )))) | AH11: =IF(OR(N11="",AG11=""),"",MAX(0,N11-AG11))
N12: =IF(OR(L12="",M12=""),"",L12+M12) | P12: =IF(OR(N12="",O12=""),"",MAX(0,N12-O12)) | U12: =IF(T12="","",T12*12) | Z12: =IF(OR(P12="",Q12=""),"",IF(Q12="Quotas constantes",P12*R12,"")) | AA12: =IF(Z12="","",Z12/12) | AB12: =IF(OR(P12="",Q12=""),"",IF(Q12="Quotas constantes",P12*S12,"")) | AC12: =IF(AB12="","",AB12/12) | AD12: =IF(J12="","",MAX(0,13-MONTH(J12))) | AE12: =IF(W12="","",MONTH(W12)-1) | AG12: =IF(OR(A12="",P12=""),"",MAX(0,MIN(P12,MAX(0,(Configurações!$B$5-YEAR(J12)))*Z12 + IF(Configurações!$B$5>YEAR(J12),Z12,AA12*MAX(0,13-MONTH(J12)) )))) | AH12: =IF(OR(N12="",AG12=""),"",MAX(0,N12-AG12))
N13: =IF(OR(L13="",M13=""),"",L13+M13) | P13: =IF(OR(N13="",O13=""),"",MAX(0,N13-O13)) | U13: =IF(T13="","",T13*12) | Z13: =IF(OR(P13="",Q13=""),"",IF(Q13="Quotas constantes",P13*R13,"")) | AA13: =IF(Z13="","",Z13/12) | AB13: =IF(OR(P13="",Q13=""),"",IF(Q13="Quotas constantes",P13*S13,"")) | AC13: =IF(AB13="","",AB13/12) | AD13: =IF(J13="","",MAX(0,13-MONTH(J13))) | AE13: =IF(W13="","",MONTH(W13)-1) | AG13: =IF(OR(A13="",P13=""),"",MAX(0,MIN(P13,MAX(0,(Configurações!$B$5-YEAR(J13)))*Z13 + IF(Configurações!$B$5>YEAR(J13),Z13,AA13*MAX(0,13-MONTH(J13)) )))) | AH13: =IF(OR(N13="",AG13=""),"",MAX(0,N13-AG13))
N14: =IF(OR(L14="",M14=""),"",L14+M14) | P14: =IF(OR(N14="",O14=""),"",MAX(0,N14-O14)) | U14: =IF(T14="","",T14*12) | Z14: =IF(OR(P14="",Q14=""),"",IF(Q14="Quotas constantes",P14*R14,"")) | AA14: =IF(Z14="","",Z14/12) | AB14: =IF(OR(P14="",Q14=""),"",IF(Q14="Quotas constantes",P14*S14,"")) | AC14: =IF(AB14="","",AB14/12) | AD14: =IF(J14="","",MAX(0,13-MONTH(J14))) | AE14: =IF(W14="","",MONTH(W14)-1) | AG14: =IF(OR(A14="",P14=""),"",MAX(0,MIN(P14,MAX(0,(Configurações!$B$5-YEAR(J14)))*Z14 + IF(Configurações!$B$5>YEAR(J14),Z14,AA14*MAX(0,13-MONTH(J14)) )))) | AH14: =IF(OR(N14="",AG14=""),"",MAX(0,N14-AG14))
N15: =IF(OR(L15="",M15=""),"",L15+M15) | P15: =IF(OR(N15="",O15=""),"",MAX(0,N15-O15)) | U15: =IF(T15="","",T15*12) | Z15: =IF(OR(P15="",Q15=""),"",IF(Q15="Quotas constantes",P15*R15,"")) | AA15: =IF(Z15="","",Z15/12) | AB15: =IF(OR(P15="",Q15=""),"",IF(Q15="Quotas constantes",P15*S15,"")) | AC15: =IF(AB15="","",AB15/12) | AD15: =IF(J15="","",MAX(0,13-MONTH(J15))) | AE15: =IF(W15="","",MONTH(W15)-1) | AG15: =IF(OR(A15="",P15=""),"",MAX(0,MIN(P15,MAX(0,(Configurações!$B$5-YEAR(J15)))*Z15 + IF(Configurações!$B$5>YEAR(J15),Z15,AA15*MAX(0,13-MONTH(J15)) )))) | AH15: =IF(OR(N15="",AG15=""),"",MAX(0,N15-AG15))
N16: =IF(OR(L16="",M16=""),"",L16+M16) | P16: =IF(OR(N16="",O16=""),"",MAX(0,N16-O16)) | U16: =IF(T16="","",T16*12) | Z16: =IF(OR(P16="",Q16=""),"",IF(Q16="Quotas constantes",P16*R16,"")) | AA16: =IF(Z16="","",Z16/12) | AB16: =IF(OR(P16="",Q16=""),"",IF(Q16="Quotas constantes",P16*S16,"")) | AC16: =IF(AB16="","",AB16/12) | AD16: =IF(J16="","",MAX(0,13-MONTH(J16))) | AE16: =IF(W16="","",MONTH(W16)-1) | AG16: =IF(OR(A16="",P16=""),"",MAX(0,MIN(P16,MAX(0,(Configurações!$B$5-YEAR(J16)))*Z16 + IF(Configurações!$B$5>YEAR(J16),Z16,AA16*MAX(0,13-MONTH(J16)) )))) | AH16: =IF(OR(N16="",AG16=""),"",MAX(0,N16-AG16))
N17: =IF(OR(L17="",M17=""),"",L17+M17) | P17: =IF(OR(N17="",O17=""),"",MAX(0,N17-O17)) | U17: =IF(T17="","",T17*12) | Z17: =IF(OR(P17="",Q17=""),"",IF(Q17="Quotas constantes",P17*R17,"")) | AA17: =IF(Z17="","",Z17/12) | AB17: =IF(OR(P17="",Q17=""),"",IF(Q17="Quotas constantes",P17*S17,"")) | AC17: =IF(AB17="","",AB17/12) | AD17: =IF(J17="","",MAX(0,13-MONTH(J17))) | AE17: =IF(W17="","",MONTH(W17)-1) | AG17: =IF(OR(A17="",P17=""),"",MAX(0,MIN(P17,MAX(0,(Configurações!$B$5-YEAR(J17)))*Z17 + IF(Configurações!$B$5>YEAR(J17),Z17,AA17*MAX(0,13-MONTH(J17)) )))) | AH17: =IF(OR(N17="",AG17=""),"",MAX(0,N17-AG17))
... N300: =IF(OR(L300="",M300=""),"",L300+M300) | P300: =IF(OR(N300="",O300=""),"",MAX(0,N300-O300)) | U300: =IF(T300="","",T300*12) | Z300: =IF(OR(P300="",Q300=""),"",IF(Q300="Quotas constantes",P300*R300,"")) | AA300: =IF(Z300="","",Z300/12) | AB300: =IF(OR(P300="",Q300=""),"",IF(Q300="Quotas constantes",P300*S300,"")) | AC300: =IF(AB300="","",AB300/12) | AD300: =IF(J300="","",MAX(0,13-MONTH(J300))) | AE300: =IF(W300="","",MONTH(W300)-1) | AG300: =IF(OR(A300="",P300=""),"",MAX(0,MIN(P300,MAX(0,(Configurações!$B$5-YEAR(J300)))*Z300 + IF(Configurações!$B$5>YEAR(J300),Z300,AA300*MAX(0,13-MONTH(J300)) )))) | AH300: =IF(OR(N300="",AG300=""),"",MAX(0,N300-AG300))

Sheet Movimentos
A1: Código do bem | B1: Data movimento | C1: Tipo movimento | D1: Valor | E1: Descrição | F1: Documento suporte | G1: Observações
A2: EQ-0001 | B2: 46037 | C2: Aquisição | D2: 3650 | E2: Registo inicial | F2: FT 1/2026 | J2: Aquisição
A3: EQ-0002 | B3: 46086 | C3: Aquisição | D3: 127500 | E3: Registo inicial | F3: FT 25/2026 | J3: Grande reparação
A4: EQ-0003 | B4: 45848 | C4: Aquisição | D4: 28000 | E4: Registo inicial | F4: FT 312/2025 | J4: Reclassificação
A5: EQ-0003 | B5: 46054 | C5: Grande reparação | D5: 1200 | E5: Substituição pneus | F5: FT 41/2026 | G5: Exemplo | J5: Imparidade
A6: EQ-0001 | B6: 46270 | C6: Imparidade | D6: 300 | E6: Ajuste técnico | F6: NC 12/2026 | G6: Exemplo | J6: Reversão imparidade
A7: EQ-0002 | B7: 47087 | C7: Alienação | D7: 45000 | E7: Venda da máquina | F7: FT 987/2028 | G7: Exemplo futuro | J7: Abate
J8: Alienação
J9: Revalorização
J10: Alteração vida útil

Sheet Mapa de Depreciações
A1: Mapa anual de depreciações
A2: Código | B2: Descrição | C2: Classe | D2: Data início | E2: Base depreciável | F2: Taxa contab. | G2: Taxa fiscal | H2: Quota mensal | I2: Jan | J2: Fev | K2: Mar | L2: Abr | M2: Mai | N2: Jun | O2: Jul | P2: Ago | Q2: Set | R2: Out | S2: Nov | T2: Dez | U2: Deprec. exercício | V2: Deprec. acumuladas | W2: VLC | X2: Deprec. fiscal exercício | Y2: Diferença C/F
A3: ='Cadastro de Bens'!A2 -> EQ-0001 | B3: ='Cadastro de Bens'!B2 -> Servidor Dell PowerEdge | C3: ='Cadastro de Bens'!D2 -> Equipamento informático | D3: ='Cadastro de Bens'!J2 -> 45677 | E3: ='Cadastro de Bens'!P2 -> 3650 | F3: ='Cadastro de Bens'!R2 -> 0.25 | G3: ='Cadastro de Bens'!S2 -> 0.25 | H3: ='Cadastro de Bens'!AA2 -> 76.041667 | I3: =IF($A3="","",IF(OR(YEAR($D3)>Configurações!$B$5,AND(YEAR($D3)=Configurações!$B$5,MONTH($D3)>1),AND('Cadastro de Bens'!$W2<>"",YEAR('Cadastro de Bens'!$W2)=Configurações!$B$5,MONTH('Cadastro de Bens'!$W2)<1)),0,$H3)) -> 76.041667 | J3: =IF($A3="","",IF(OR(YEAR($D3)>Configurações!$B$5,AND(YEAR($D3)=Configurações!$B$5,MONTH($D3)>2),AND('Cadastro de Bens'!$W2<>"",YEAR('Cadastro de Bens'!$W2)=Configurações!$B$5,MONTH('Cadastro de Bens'!$W2)<2)),0,$H3)) -> 76.041667 | K3: =IF($A3="","",IF(OR(YEAR($D3)>Configurações!$B$5,AND(YEAR($D3)=Configurações!$B$5,MONTH($D3)>3),AND('Cadastro de Bens'!$W2<>"",YEAR('Cadastro de Bens'!$W2)=Configurações!$B$5,MONTH('Cadastro de Bens'!$W2)<3)),0,$H3)) -> 76.041667 | L3: =IF($A3="","",IF(OR(YEAR($D3)>Configurações!$B$5,AND(YEAR($D3)=Configurações!$B$5,MONTH($D3)>4),AND('Cadastro de Bens'!$W2<>"",YEAR('Cadastro de Bens'!$W2)=Configurações!$B$5,MONTH('Cadastro de Bens'!$W2)<4)),0,$H3)) -> 76.041667 | M3: =IF($A3="","",IF(OR(YEAR($D3)>Configurações!$B$5,AND(YEAR($D3)=Configurações!$B$5,MONTH($D3)>5),AND('Cadastro de Bens'!$W2<>"",YEAR('Cadastro de Bens'!$W2)=Configurações!$B$5,MONTH('Cadastro de Bens'!$W2)<5)),0,$H3)) -> 76.041667 | N3: =IF($A3="","",IF(OR(YEAR($D3)>Configurações!$B$5,AND(YEAR($D3)=Configurações!$B$5,MONTH($D3)>6),AND('Cadastro de Bens'!$W2<>"",YEAR('Cadastro de Bens'!$W2)=Configurações!$B$5,MONTH('Cadastro de Bens'!$W2)<6)),0,$H3)) -> 76.041667 | O3: =IF($A3="","",IF(OR(YEAR($D3)>Configurações!$B$5,AND(YEAR($D3)=Configurações!$B$5,MONTH($D3)>7),AND('Cadastro de Bens'!$W2<>"",YEAR('Cadastro de Bens'!$W2)=Configurações!$B$5,MONTH('Cadastro de Bens'!$W2)<7)),0,$H3)) -> 76.041667 | P3: =IF($A3="","",IF(OR(YEAR($D3)>Configurações!$B$5,AND(YEAR($D3)=Configurações!$B$5,MONTH($D3)>8),AND('Cadastro de Bens'!$W2<>"",YEAR('Cadastro de Bens'!$W2)=Configurações!$B$5,MONTH('Cadastro de Bens'!$W2)<8)),0,$H3)) -> 76.041667 | Q3: =IF($A3="","",IF(OR(YEAR($D3)>Configurações!$B$5,AND(YEAR($D3)=Configurações!$B$5,MONTH($D3)>9),AND('Cadastro de Bens'!$W2<>"",YEAR('Cadastro de Bens'!$W2)=Configurações!$B$5,MONTH('Cadastro de Bens'!$W2)<9)),0,$H3)) -> 76.041667 | R3: =IF($A3="","",IF(OR(YEAR($D3)>Configurações!$B$5,AND(YEAR($D3)=Configurações!$B$5,MONTH($D3)>10),AND('Cadastro de Bens'!$W2<>"",YEAR('Cadastro de Bens'!$W2)=Configurações!$B$5,MONTH('Cadastro de Bens'!$W2)<10)),0,$H3)) -> 76.041667 | S3: =IF($A3="","",IF(OR(YEAR($D3)>Configurações!$B$5,AND(YEAR($D3)=Configurações!$B$5,MONTH($D3)>11),AND('Cadastro de Bens'!$W2<>"",YEAR('Cadastro de Bens'!$W2)=Configurações!$B$5,MONTH('Cadastro de Bens'!$W2)<11)),0,$H3)) -> 76.041667 | T3: =IF($A3="","",IF(OR(YEAR($D3)>Configurações!$B$5,AND(YEAR($D3)=Configurações!$B$5,MONTH($D3)>12),AND('Cadastro de Bens'!$W2<>"",YEAR('Cadastro de Bens'!$W2)=Configurações!$B$5,MONTH('Cadastro de Bens'!$W2)<12)),0,$H3)) -> 76.041667 | U3: =MIN(E3,SUM(I3:T3)) -> 912.5 | V3: ='Cadastro de Bens'!AG2 -> 912.5 | W3: ='Cadastro de Bens'!AH2 -> 2737.5 | X3: ='Cadastro de Bens'!AF2 -> 912.5 | Y3: =IF(OR(U3="",X3=""),"",U3-X3) -> -1.1368684e-13
A4: ='Cadastro de Bens'!A3 -> EQ-0002 | B4: ='Cadastro de Bens'!B3 -> Máquina de lavar industrial | C4: ='Cadastro de Bens'!D3 -> Equipamento básico | D4: ='Cadastro de Bens'!J3 -> 46093 | E4: ='Cadastro de Bens'!P3 -> 122500 | F4: ='Cadastro de Bens'!R3 -> 0.25 | G4: ='Cadastro de Bens'!S3 -> 0.25 | H4: ='Cadastro de Bens'!AA3 -> 2552.0833 | I4: =IF($A4="","",IF(OR(YEAR($D4)>Configurações!$B$5,AND(YEAR($D4)=Configurações!$B$5,MONTH($D4)>1),AND('Cadastro de Bens'!$W3<>"",YEAR('Cadastro de Bens'!$W3)=Configurações!$B$5,MONTH('Cadastro de Bens'!$W3)<1)),0,$H4)) -> 0 | J4: =IF($A4="","",IF(OR(YEAR($D4)>Configurações!$B$5,AND(YEAR($D4)=Configurações!$B$5,MONTH($D4)>2),AND('Cadastro de Bens'!$W3<>"",YEAR('Cadastro de Bens'!$W3)=Configurações!$B$5,MONTH('Cadastro de Bens'!$W3)<2)),0,$H4)) -> 0 | K4: =IF($A4="","",IF(OR(YEAR($D4)>Configurações!$B$5,AND(YEAR($D4)=Configurações!$B$5,MONTH($D4)>3),AND('Cadastro de Bens'!$W3<>"",YEAR('Cadastro de Bens'!$W3)=Configurações!$B$5,MONTH('Cadastro de Bens'!$W3)<3)),0,$H4)) -> 0 | L4: =IF($A4="","",IF(OR(YEAR($D4)>Configurações!$B$5,AND(YEAR($D4)=Configurações!$B$5,MONTH($D4)>4),AND('Cadastro de Bens'!$W3<>"",YEAR('Cadastro de Bens'!$W3)=Configurações!$B$5,MONTH('Cadastro de Bens'!$W3)<4)),0,$H4)) -> 0 | M4: =IF($A4="","",IF(OR(YEAR($D4)>Configurações!$B$5,AND(YEAR($D4)=Configurações!$B$5,MONTH($D4)>5),AND('Cadastro de Bens'!$W3<>"",YEAR('Cadastro de Bens'!$W3)=Configurações!$B$5,MONTH('Cadastro de Bens'!$W3)<5)),0,$H4)) -> 0 | N4: =IF($A4="","",IF(OR(YEAR($D4)>Configurações!$B$5,AND(YEAR($D4)=Configurações!$B$5,MONTH($D4)>6),AND('Cadastro de Bens'!$W3<>"",YEAR('Cadastro de Bens'!$W3)=Configurações!$B$5,MONTH('Cadastro de Bens'!$W3)<6)),0,$H4)) -> 0 | O4: =IF($A4="","",IF(OR(YEAR($D4)>Configurações!$B$5,AND(YEAR($D4)=Configurações!$B$5,MONTH($D4)>7),AND('Cadastro de Bens'!$W3<>"",YEAR('Cadastro de Bens'!$W3)=Configurações!$B$5,MONTH('Cadastro de Bens'!$W3)<7)),0,$H4)) -> 0 | P4: =IF($A4="","",IF(OR(YEAR($D4)>Configurações!$B$5,AND(YEAR($D4)=Configurações!$B$5,MONTH($D4)>8),AND('Cadastro de Bens'!$W3<>"",YEAR('Cadastro de Bens'!$W3)=Configurações!$B$5,MONTH('Cadastro de Bens'!$W3)<8)),0,$H4)) -> 0 | Q4: =IF($A4="","",IF(OR(YEAR($D4)>Configurações!$B$5,AND(YEAR($D4)=Configurações!$B$5,MONTH($D4)>9),AND('Cadastro de Bens'!$W3<>"",YEAR('Cadastro de Bens'!$W3)=Configurações!$B$5,MONTH('Cadastro de Bens'!$W3)<9)),0,$H4)) -> 0 | R4: =IF($A4="","",IF(OR(YEAR($D4)>Configurações!$B$5,AND(YEAR($D4)=Configurações!$B$5,MONTH($D4)>10),AND('Cadastro de Bens'!$W3<>"",YEAR('Cadastro de Bens'!$W3)=Configurações!$B$5,MONTH('Cadastro de Bens'!$W3)<10)),0,$H4)) -> 0 | S4: =IF($A4="","",IF(OR(YEAR($D4)>Configurações!$B$5,AND(YEAR($D4)=Configurações!$B$5,MONTH($D4)>11),AND('Cadastro de Bens'!$W3<>"",YEAR('Cadastro de Bens'!$W3)=Configurações!$B$5,MONTH('Cadastro de Bens'!$W3)<11)),0,$H4)) -> 0 | T4: =IF($A4="","",IF(OR(YEAR($D4)>Configurações!$B$5,AND(YEAR($D4)=Configurações!$B$5,MONTH($D4)>12),AND('Cadastro de Bens'!$W3<>"",YEAR('Cadastro de Bens'!$W3)=Configurações!$B$5,MONTH('Cadastro de Bens'!$W3)<12)),0,$H4)) -> 0 | U4: =MIN(E4,SUM(I4:T4)) -> 0 | V4: ='Cadastro de Bens'!AG3 -> 25520.833 | W4: ='Cadastro de Bens'!AH3 -> 101979.17 | X4: ='Cadastro de Bens'!AF3 -> 0 | Y4: =IF(OR(U4="",X4=""),"",U4-X4) -> 0
A5: ='Cadastro de Bens'!A4 -> EQ-0003 | B5: ='Cadastro de Bens'!B4 -> Carrinha distribuição | C5: ='Cadastro de Bens'!D4 -> Equipamento de transporte | D5: ='Cadastro de Bens'!J4 -> 45853 | E5: ='Cadastro de Bens'!P4 -> 25000 | F5: ='Cadastro de Bens'!R4 -> 0.25 | G5: ='Cadastro de Bens'!S4 -> 0.25 | H5: ='Cadastro de Bens'!AA4 -> 520.83333 | I5: =IF($A5="","",IF(OR(YEAR($D5)>Configurações!$B$5,AND(YEAR($D5)=Configurações!$B$5,MONTH($D5)>1),AND('Cadastro de Bens'!$W4<>"",YEAR('Cadastro de Bens'!$W4)=Configurações!$B$5,MONTH('Cadastro de Bens'!$W4)<1)),0,$H5)) -> 0 | J5: =IF($A5="","",IF(OR(YEAR($D5)>Configurações!$B$5,AND(YEAR($D5)=Configurações!$B$5,MONTH($D5)>2),AND('Cadastro de Bens'!$W4<>"",YEAR('Cadastro de Bens'!$W4)=Configurações!$B$5,MONTH('Cadastro de Bens'!$W4)<2)),0,$H5)) -> 0 | K5: =IF($A5="","",IF(OR(YEAR($D5)>Configurações!$B$5,AND(YEAR($D5)=Configurações!$B$5,MONTH($D5)>3),AND('Cadastro de Bens'!$W4<>"",YEAR('Cadastro de Bens'!$W4)=Configurações!$B$5,MONTH('Cadastro de Bens'!$W4)<3)),0,$H5)) -> 0 | L5: =IF($A5="","",IF(OR(YEAR($D5)>Configurações!$B$5,AND(YEAR($D5)=Configurações!$B$5,MONTH($D5)>4),AND('Cadastro de Bens'!$W4<>"",YEAR('Cadastro de Bens'!$W4)=Configurações!$B$5,MONTH('Cadastro de Bens'!$W4)<4)),0,$H5)) -> 0 | M5: =IF($A5="","",IF(OR(YEAR($D5)>Configurações!$B$5,AND(YEAR($D5)=Configurações!$B$5,MONTH($D5)>5),AND('Cadastro de Bens'!$W4<>"",YEAR('Cadastro de Bens'!$W4)=Configurações!$B$5,MONTH('Cadastro de Bens'!$W4)<5)),0,$H5)) -> 0 | N5: =IF($A5="","",IF(OR(YEAR($D5)>Configurações!$B$5,AND(YEAR($D5)=Configurações!$B$5,MONTH($D5)>6),AND('Cadastro de Bens'!$W4<>"",YEAR('Cadastro de Bens'!$W4)=Configurações!$B$5,MONTH('Cadastro de Bens'!$W4)<6)),0,$H5)) -> 0 | O5: =IF($A5="","",IF(OR(YEAR($D5)>Configurações!$B$5,AND(YEAR($D5)=Configurações!$B$5,MONTH($D5)>7),AND('Cadastro de Bens'!$W4<>"",YEAR('Cadastro de Bens'!$W4)=Configurações!$B$5,MONTH('Cadastro de Bens'!$W4)<7)),0,$H5)) -> 520.83333 | P5: =IF($A5="","",IF(OR(YEAR($D5)>Configurações!$B$5,AND(YEAR($D5)=Configurações!$B$5,MONTH($D5)>8),AND('Cadastro de Bens'!$W4<>"",YEAR('Cadastro de Bens'!$W4)=Configurações!$B$5,MONTH('Cadastro de Bens'!$W4)<8)),0,$H5)) -> 520.83333 | Q5: =IF($A5="","",IF(OR(YEAR($D5)>Configurações!$B$5,AND(YEAR($D5)=Configurações!$B$5,MONTH($D5)>9),AND('Cadastro de Bens'!$W4<>"",YEAR('Cadastro de Bens'!$W4)=Configurações!$B$5,MONTH('Cadastro de Bens'!$W4)<9)),0,$H5)) -> 520.83333 | R5: =IF($A5="","",IF(OR(YEAR($D5)>Configurações!$B$5,AND(YEAR($D5)=Configurações!$B$5,MONTH($D5)>10),AND('Cadastro de Bens'!$W4<>"",YEAR('Cadastro de Bens'!$W4)=Configurações!$B$5,MONTH('Cadastro de Bens'!$W4)<10)),0,$H5)) -> 520.83333 | S5: =IF($A5="","",IF(OR(YEAR($D5)>Configurações!$B$5,AND(YEAR($D5)=Configurações!$B$5,MONTH($D5)>11),AND('Cadastro de Bens'!$W4<>"",YEAR('Cadastro de Bens'!$W4)=Configurações!$B$5,MONTH('Cadastro de Bens'!$W4)<11)),0,$H5)) -> 520.83333 | T5: =IF($A5="","",IF(OR(YEAR($D5)>Configurações!$B$5,AND(YEAR($D5)=Configurações!$B$5,MONTH($D5)>12),AND('Cadastro de Bens'!$W4<>"",YEAR('Cadastro de Bens'!$W4)=Configurações!$B$5,MONTH('Cadastro de Bens'!$W4)<12)),0,$H5)) -> 520.83333 | U5: =MIN(E5,SUM(I5:T5)) -> 3125 | V5: ='Cadastro de Bens'!AG4 -> 3125 | W5: ='Cadastro de Bens'!AH4 -> 24875 | X5: ='Cadastro de Bens'!AF4 -> 0 | Y5: =IF(OR(U5="",X5=""),"",U5-X5) -> 3125
A6: ='Cadastro de Bens'!A5 -> IP-0001 | B6: ='Cadastro de Bens'!B5 -> 0 | C6: ='Cadastro de Bens'!D5 -> 0 | D6: ='Cadastro de Bens'!J5 -> 0 | E6: ='Cadastro de Bens'!P5 | F6: ='Cadastro de Bens'!R5 -> 0 | G6: ='Cadastro de Bens'!S5 -> 0 | H6: ='Cadastro de Bens'!AA5 | I6: =IF($A6="","",IF(OR(YEAR($D6)>Configurações!$B$5,AND(YEAR($D6)=Configurações!$B$5,MONTH($D6)>1),AND('Cadastro de Bens'!$W5<>"",YEAR('Cadastro de Bens'!$W5)=Configurações!$B$5,MONTH('Cadastro de Bens'!$W5)<1)),0,$H6)) | J6: =IF($A6="","",IF(OR(YEAR($D6)>Configurações!$B$5,AND(YEAR($D6)=Configurações!$B$5,MONTH($D6)>2),AND('Cadastro de Bens'!$W5<>"",YEAR('Cadastro de Bens'!$W5)=Configurações!$B$5,MONTH('Cadastro de Bens'!$W5)<2)),0,$H6)) | K6: =IF($A6="","",IF(OR(YEAR($D6)>Configurações!$B$5,AND(YEAR($D6)=Configurações!$B$5,MONTH($D6)>3),AND('Cadastro de Bens'!$W5<>"",YEAR('Cadastro de Bens'!$W5)=Configurações!$B$5,MONTH('Cadastro de Bens'!$W5)<3)),0,$H6)) | L6: =IF($A6="","",IF(OR(YEAR($D6)>Configurações!$B$5,AND(YEAR($D6)=Configurações!$B$5,MONTH($D6)>4),AND('Cadastro de Bens'!$W5<>"",YEAR('Cadastro de Bens'!$W5)=Configurações!$B$5,MONTH('Cadastro de Bens'!$W5)<4)),0,$H6)) | M6: =IF($A6="","",IF(OR(YEAR($D6)>Configurações!$B$5,AND(YEAR($D6)=Configurações!$B$5,MONTH($D6)>5),AND('Cadastro de Bens'!$W5<>"",YEAR('Cadastro de Bens'!$W5)=Configurações!$B$5,MONTH('Cadastro de Bens'!$W5)<5)),0,$H6)) | N6: =IF($A6="","",IF(OR(YEAR($D6)>Configurações!$B$5,AND(YEAR($D6)=Configurações!$B$5,MONTH($D6)>6),AND('Cadastro de Bens'!$W5<>"",YEAR('Cadastro de Bens'!$W5)=Configurações!$B$5,MONTH('Cadastro de Bens'!$W5)<6)),0,$H6)) | O6: =IF($A6="","",IF(OR(YEAR($D6)>Configurações!$B$5,AND(YEAR($D6)=Configurações!$B$5,MONTH($D6)>7),AND('Cadastro de Bens'!$W5<>"",YEAR('Cadastro de Bens'!$W5)=Configurações!$B$5,MONTH('Cadastro de Bens'!$W5)<7)),0,$H6)) | P6: =IF($A6="","",IF(OR(YEAR($D6)>Configurações!$B$5,AND(YEAR($D6)=Configurações!$B$5,MONTH($D6)>8),AND('Cadastro de Bens'!$W5<>"",YEAR('Cadastro de Bens'!$W5)=Configurações!$B$5,MONTH('Cadastro de Bens'!$W5)<8)),0,$H6)) | Q6: =IF($A6="","",IF(OR(YEAR($D6)>Configurações!$B$5,AND(YEAR($D6)=Configurações!$B$5,MONTH($D6)>9),AND('Cadastro de Bens'!$W5<>"",YEAR('Cadastro de Bens'!$W5)=Configurações!$B$5,MONTH('Cadastro de Bens'!$W5)<9)),0,$H6)) | R6: =IF($A6="","",IF(OR(YEAR($D6)>Configurações!$B$5,AND(YEAR($D6)=Configurações!$B$5,MONTH($D6)>10),AND('Cadastro de Bens'!$W5<>"",YEAR('Cadastro de Bens'!$W5)=Configurações!$B$5,MONTH('Cadastro de Bens'!$W5)<10)),0,$H6)) | S6: =IF($A6="","",IF(OR(YEAR($D6)>Configurações!$B$5,AND(YEAR($D6)=Configurações!$B$5,MONTH($D6)>11),AND('Cadastro de Bens'!$W5<>"",YEAR('Cadastro de Bens'!$W5)=Configurações!$B$5,MONTH('Cadastro de Bens'!$W5)<11)),0,$H6)) | T6: =IF($A6="","",IF(OR(YEAR($D6)>Configurações!$B$5,AND(YEAR($D6)=Configurações!$B$5,MONTH($D6)>12),AND('Cadastro de Bens'!$W5<>"",YEAR('Cadastro de Bens'!$W5)=Configurações!$B$5,MONTH('Cadastro de Bens'!$W5)<12)),0,$H6)) | U6: =MIN(E6,SUM(I6:T6)) -> 0 | V6: ='Cadastro de Bens'!AG5 | W6: ='Cadastro de Bens'!AH5 | X6: ='Cadastro de Bens'!AF5 -> 0 | Y6: =IF(OR(U6="",X6=""),"",U6-X6) -> 0
A7: ='Cadastro de Bens'!A6 -> 0 | B7: ='Cadastro de Bens'!B6 -> 0 | C7: ='Cadastro de Bens'!D6 -> 0 | D7: ='Cadastro de Bens'!J6 -> 0 | E7: ='Cadastro de Bens'!P6 | F7: ='Cadastro de Bens'!R6 -> 0 | G7: ='Cadastro de Bens'!S6 -> 0 | H7: ='Cadastro de Bens'!AA6 | I7: =IF($A7="","",IF(OR(YEAR($D7)>Configurações!$B$5,AND(YEAR($D7)=Configurações!$B$5,MONTH($D7)>1),AND('Cadastro de Bens'!$W6<>"",YEAR('Cadastro de Bens'!$W6)=Configurações!$B$5,MONTH('Cadastro de Bens'!$W6)<1)),0,$H7)) | J7: =IF($A7="","",IF(OR(YEAR($D7)>Configurações!$B$5,AND(YEAR($D7)=Configurações!$B$5,MONTH($D7)>2),AND('Cadastro de Bens'!$W6<>"",YEAR('Cadastro de Bens'!$W6)=Configurações!$B$5,MONTH('Cadastro de Bens'!$W6)<2)),0,$H7)) | K7: =IF($A7="","",IF(OR(YEAR($D7)>Configurações!$B$5,AND(YEAR($D7)=Configurações!$B$5,MONTH($D7)>3),AND('Cadastro de Bens'!$W6<>"",YEAR('Cadastro de Bens'!$W6)=Configurações!$B$5,MONTH('Cadastro de Bens'!$W6)<3)),0,$H7)) | L7: =IF($A7="","",IF(OR(YEAR($D7)>Configurações!$B$5,AND(YEAR($D7)=Configurações!$B$5,MONTH($D7)>4),AND('Cadastro de Bens'!$W6<>"",YEAR('Cadastro de Bens'!$W6)=Configurações!$B$5,MONTH('Cadastro de Bens'!$W6)<4)),0,$H7)) | M7: =IF($A7="","",IF(OR(YEAR($D7)>Configurações!$B$5,AND(YEAR($D7)=Configurações!$B$5,MONTH($D7)>5),AND('Cadastro de Bens'!$W6<>"",YEAR('Cadastro de Bens'!$W6)=Configurações!$B$5,MONTH('Cadastro de Bens'!$W6)<5)),0,$H7)) | N7: =IF($A7="","",IF(OR(YEAR($D7)>Configurações!$B$5,AND(YEAR($D7)=Configurações!$B$5,MONTH($D7)>6),AND('Cadastro de Bens'!$W6<>"",YEAR('Cadastro de Bens'!$W6)=Configurações!$B$5,MONTH('Cadastro de Bens'!$W6)<6)),0,$H7)) | O7: =IF($A7="","",IF(OR(YEAR($D7)>Configurações!$B$5,AND(YEAR($D7)=Configurações!$B$5,MONTH($D7)>7),AND('Cadastro de Bens'!$W6<>"",YEAR('Cadastro de Bens'!$W6)=Configurações!$B$5,MONTH('Cadastro de Bens'!$W6)<7)),0,$H7)) | P7: =IF($A7="","",IF(OR(YEAR($D7)>Configurações!$B$5,AND(YEAR($D7)=Configurações!$B$5,MONTH($D7)>8),AND('Cadastro de Bens'!$W6<>"",YEAR('Cadastro de Bens'!$W6)=Configurações!$B$5,MONTH('Cadastro de Bens'!$W6)<8)),0,$H7)) | Q7: =IF($A7="","",IF(OR(YEAR($D7)>Configurações!$B$5,AND(YEAR($D7)=Configurações!$B$5,MONTH($D7)>9),AND('Cadastro de Bens'!$W6<>"",YEAR('Cadastro de Bens'!$W6)=Configurações!$B$5,MONTH('Cadastro de Bens'!$W6)<9)),0,$H7)) | R7: =IF($A7="","",IF(OR(YEAR($D7)>Configurações!$B$5,AND(YEAR($D7)=Configurações!$B$5,MONTH($D7)>10),AND('Cadastro de Bens'!$W6<>"",YEAR('Cadastro de Bens'!$W6)=Configurações!$B$5,MONTH('Cadastro de Bens'!$W6)<10)),0,$H7)) | S7: =IF($A7="","",IF(OR(YEAR($D7)>Configurações!$B$5,AND(YEAR($D7)=Configurações!$B$5,MONTH($D7)>11),AND('Cadastro de Bens'!$W6<>"",YEAR('Cadastro de Bens'!$W6)=Configurações!$B$5,MONTH('Cadastro de Bens'!$W6)<11)),0,$H7)) | T7: =IF($A7="","",IF(OR(YEAR($D7)>Configurações!$B$5,AND(YEAR($D7)=Configurações!$B$5,MONTH($D7)>12),AND('Cadastro de Bens'!$W6<>"",YEAR('Cadastro de Bens'!$W6)=Configurações!$B$5,MONTH('Cadastro de Bens'!$W6)<12)),0,$H7)) | U7: =MIN(E7,SUM(I7:T7)) -> 0 | V7: ='Cadastro de Bens'!AG6 | W7: ='Cadastro de Bens'!AH6 | X7: ='Cadastro de Bens'!AF6 -> 0 | Y7: =IF(OR(U7="",X7=""),"",U7-X7) -> 0
A8: ='Cadastro de Bens'!A7 -> 0 | B8: ='Cadastro de Bens'!B7 -> 0 | C8: ='Cadastro de Bens'!D7 -> 0 | D8: ='Cadastro de Bens'!J7 -> 0 | E8: ='Cadastro de Bens'!P7 | F8: ='Cadastro de Bens'!R7 -> 0 | G8: ='Cadastro de Bens'!S7 -> 0 | H8: ='Cadastro de Bens'!AA7 | I8: =IF($A8="","",IF(OR(YEAR($D8)>Configurações!$B$5,AND(YEAR($D8)=Configurações!$B$5,MONTH($D8)>1),AND('Cadastro de Bens'!$W7<>"",YEAR('Cadastro de Bens'!$W7)=Configurações!$B$5,MONTH('Cadastro de Bens'!$W7)<1)),0,$H8)) | J8: =IF($A8="","",IF(OR(YEAR($D8)>Configurações!$B$5,AND(YEAR($D8)=Configurações!$B$5,MONTH($D8)>2),AND('Cadastro de Bens'!$W7<>"",YEAR('Cadastro de Bens'!$W7)=Configurações!$B$5,MONTH('Cadastro de Bens'!$W7)<2)),0,$H8)) | K8: =IF($A8="","",IF(OR(YEAR($D8)>Configurações!$B$5,AND(YEAR($D8)=Configurações!$B$5,MONTH($D8)>3),AND('Cadastro de Bens'!$W7<>"",YEAR('Cadastro de Bens'!$W7)=Configurações!$B$5,MONTH('Cadastro de Bens'!$W7)<3)),0,$H8)) | L8: =IF($A8="","",IF(OR(YEAR($D8)>Configurações!$B$5,AND(YEAR($D8)=Configurações!$B$5,MONTH($D8)>4),AND('Cadastro de Bens'!$W7<>"",YEAR('Cadastro de Bens'!$W7)=Configurações!$B$5,MONTH('Cadastro de Bens'!$W7)<4)),0,$H8)) | M8: =IF($A8="","",IF(OR(YEAR($D8)>Configurações!$B$5,AND(YEAR($D8)=Configurações!$B$5,MONTH($D8)>5),AND('Cadastro de Bens'!$W7<>"",YEAR('Cadastro de Bens'!$W7)=Configurações!$B$5,MONTH('Cadastro de Bens'!$W7)<5)),0,$H8)) | N8: =IF($A8="","",IF(OR(YEAR($D8)>Configurações!$B$5,AND(YEAR($D8)=Configurações!$B$5,MONTH($D8)>6),AND('Cadastro de Bens'!$W7<>"",YEAR('Cadastro de Bens'!$W7)=Configurações!$B$5,MONTH('Cadastro de Bens'!$W7)<6)),0,$H8)) | O8: =IF($A8="","",IF(OR(YEAR($D8)>Configurações!$B$5,AND(YEAR($D8)=Configurações!$B$5,MONTH($D8)>7),AND('Cadastro de Bens'!$W7<>"",YEAR('Cadastro de Bens'!$W7)=Configurações!$B$5,MONTH('Cadastro de Bens'!$W7)<7)),0,$H8)) | P8: =IF($A8="","",IF(OR(YEAR($D8)>Configurações!$B$5,AND(YEAR($D8)=Configurações!$B$5,MONTH($D8)>8),AND('Cadastro de Bens'!$W7<>"",YEAR('Cadastro de Bens'!$W7)=Configurações!$B$5,MONTH('Cadastro de Bens'!$W7)<8)),0,$H8)) | Q8: =IF($A8="","",IF(OR(YEAR($D8)>Configurações!$B$5,AND(YEAR($D8)=Configurações!$B$5,MONTH($D8)>9),AND('Cadastro de Bens'!$W7<>"",YEAR('Cadastro de Bens'!$W7)=Configurações!$B$5,MONTH('Cadastro de Bens'!$W7)<9)),0,$H8)) | R8: =IF($A8="","",IF(OR(YEAR($D8)>Configurações!$B$5,AND(YEAR($D8)=Configurações!$B$5,MONTH($D8)>10),AND('Cadastro de Bens'!$W7<>"",YEAR('Cadastro de Bens'!$W7)=Configurações!$B$5,MONTH('Cadastro de Bens'!$W7)<10)),0,$H8)) | S8: =IF($A8="","",IF(OR(YEAR($D8)>Configurações!$B$5,AND(YEAR($D8)=Configurações!$B$5,MONTH($D8)>11),AND('Cadastro de Bens'!$W7<>"",YEAR('Cadastro de Bens'!$W7)=Configurações!$B$5,MONTH('Cadastro de Bens'!$W7)<11)),0,$H8)) | T8: =IF($A8="","",IF(OR(YEAR($D8)>Configurações!$B$5,AND(YEAR($D8)=Configurações!$B$5,MONTH($D8)>12),AND('Cadastro de Bens'!$W7<>"",YEAR('Cadastro de Bens'!$W7)=Configurações!$B$5,MONTH('Cadastro de Bens'!$W7)<12)),0,$H8)) | U8: =MIN(E8,SUM(I8:T8)) -> 0 | V8: ='Cadastro de Bens'!AG7 | W8: ='Cadastro de Bens'!AH7 | X8: ='Cadastro de Bens'!AF7 -> 0 | Y8: =IF(OR(U8="",X8=""),"",U8-X8) -> 0
A9: ='Cadastro de Bens'!A8 -> 0 | B9: ='Cadastro de Bens'!B8 -> 0 | C9: ='Cadastro de Bens'!D8 -> 0 | D9: ='Cadastro de Bens'!J8 -> 0 | E9: ='Cadastro de Bens'!P8 | F9: ='Cadastro de Bens'!R8 -> 0 | G9: ='Cadastro de Bens'!S8 -> 0 | H9: ='Cadastro de Bens'!AA8 | I9: =IF($A9="","",IF(OR(YEAR($D9)>Configurações!$B$5,AND(YEAR($D9)=Configurações!$B$5,MONTH($D9)>1),AND('Cadastro de Bens'!$W8<>"",YEAR('Cadastro de Bens'!$W8)=Configurações!$B$5,MONTH('Cadastro de Bens'!$W8)<1)),0,$H9)) | J9: =IF($A9="","",IF(OR(YEAR($D9)>Configurações!$B$5,AND(YEAR($D9)=Configurações!$B$5,MONTH($D9)>2),AND('Cadastro de Bens'!$W8<>"",YEAR('Cadastro de Bens'!$W8)=Configurações!$B$5,MONTH('Cadastro de Bens'!$W8)<2)),0,$H9)) | K9: =IF($A9="","",IF(OR(YEAR($D9)>Configurações!$B$5,AND(YEAR($D9)=Configurações!$B$5,MONTH($D9)>3),AND('Cadastro de Bens'!$W8<>"",YEAR('Cadastro de Bens'!$W8)=Configurações!$B$5,MONTH('Cadastro de Bens'!$W8)<3)),0,$H9)) | L9: =IF($A9="","",IF(OR(YEAR($D9)>Configurações!$B$5,AND(YEAR($D9)=Configurações!$B$5,MONTH($D9)>4),AND('Cadastro de Bens'!$W8<>"",YEAR('Cadastro de Bens'!$W8)=Configurações!$B$5,MONTH('Cadastro de Bens'!$W8)<4)),0,$H9)) | M9: =IF($A9="","",IF(OR(YEAR($D9)>Configurações!$B$5,AND(YEAR($D9)=Configurações!$B$5,MONTH($D9)>5),AND('Cadastro de Bens'!$W8<>"",YEAR('Cadastro de Bens'!$W8)=Configurações!$B$5,MONTH('Cadastro de Bens'!$W8)<5)),0,$H9)) | N9: =IF($A9="","",IF(OR(YEAR($D9)>Configurações!$B$5,AND(YEAR($D9)=Configurações!$B$5,MONTH($D9)>6),AND('Cadastro de Bens'!$W8<>"",YEAR('Cadastro de Bens'!$W8)=Configurações!$B$5,MONTH('Cadastro de Bens'!$W8)<6)),0,$H9)) | O9: =IF($A9="","",IF(OR(YEAR($D9)>Configurações!$B$5,AND(YEAR($D9)=Configurações!$B$5,MONTH($D9)>7),AND('Cadastro de Bens'!$W8<>"",YEAR('Cadastro de Bens'!$W8)=Configurações!$B$5,MONTH('Cadastro de Bens'!$W8)<7)),0,$H9)) | P9: =IF($A9="","",IF(OR(YEAR($D9)>Configurações!$B$5,AND(YEAR($D9)=Configurações!$B$5,MONTH($D9)>8),AND('Cadastro de Bens'!$W8<>"",YEAR('Cadastro de Bens'!$W8)=Configurações!$B$5,MONTH('Cadastro de Bens'!$W8)<8)),0,$H9)) | Q9: =IF($A9="","",IF(OR(YEAR($D9)>Configurações!$B$5,AND(YEAR($D9)=Configurações!$B$5,MONTH($D9)>9),AND('Cadastro de Bens'!$W8<>"",YEAR('Cadastro de Bens'!$W8)=Configurações!$B$5,MONTH('Cadastro de Bens'!$W8)<9)),0,$H9)) | R9: =IF($A9="","",IF(OR(YEAR($D9)>Configurações!$B$5,AND(YEAR($D9)=Configurações!$B$5,MONTH($D9)>10),AND('Cadastro de Bens'!$W8<>"",YEAR('Cadastro de Bens'!$W8)=Configurações!$B$5,MONTH('Cadastro de Bens'!$W8)<10)),0,$H9)) | S9: =IF($A9="","",IF(OR(YEAR($D9)>Configurações!$B$5,AND(YEAR($D9)=Configurações!$B$5,MONTH($D9)>11),AND('Cadastro de Bens'!$W8<>"",YEAR('Cadastro de Bens'!$W8)=Configurações!$B$5,MONTH('Cadastro de Bens'!$W8)<11)),0,$H9)) | T9: =IF($A9="","",IF(OR(YEAR($D9)>Configurações!$B$5,AND(YEAR($D9)=Configurações!$B$5,MONTH($D9)>12),AND('Cadastro de Bens'!$W8<>"",YEAR('Cadastro de Bens'!$W8)=Configurações!$B$5,MONTH('Cadastro de Bens'!$W8)<12)),0,$H9)) | U9: =MIN(E9,SUM(I9:T9)) -> 0 | V9: ='Cadastro de Bens'!AG8 | W9: ='Cadastro de Bens'!AH8 | X9: ='Cadastro de Bens'!AF8 -> 0 | Y9: =IF(OR(U9="",X9=""),"",U9-X9) -> 0
A10: ='Cadastro de Bens'!A9 -> 0 | B10: ='Cadastro de Bens'!B9 -> 0 | C10: ='Cadastro de Bens'!D9 -> 0 | D10: ='Cadastro de Bens'!J9 -> 0 | E10: ='Cadastro de Bens'!P9 | F10: ='Cadastro de Bens'!R9 -> 0 | G10: ='Cadastro de Bens'!S9 -> 0 | H10: ='Cadastro de Bens'!AA9 | I10: =IF($A10="","",IF(OR(YEAR($D10)>Configurações!$B$5,AND(YEAR($D10)=Configurações!$B$5,MONTH($D10)>1),AND('Cadastro de Bens'!$W9<>"",YEAR('Cadastro de Bens'!$W9)=Configurações!$B$5,MONTH('Cadastro de Bens'!$W9)<1)),0,$H10)) | J10: =IF($A10="","",IF(OR(YEAR($D10)>Configurações!$B$5,AND(YEAR($D10)=Configurações!$B$5,MONTH($D10)>2),AND('Cadastro de Bens'!$W9<>"",YEAR('Cadastro de Bens'!$W9)=Configurações!$B$5,MONTH('Cadastro de Bens'!$W9)<2)),0,$H10)) | K10: =IF($A10="","",IF(OR(YEAR($D10)>Configurações!$B$5,AND(YEAR($D10)=Configurações!$B$5,MONTH($D10)>3),AND('Cadastro de Bens'!$W9<>"",YEAR('Cadastro de Bens'!$W9)=Configurações!$B$5,MONTH('Cadastro de Bens'!$W9)<3)),0,$H10)) | L10: =IF($A10="","",IF(OR(YEAR($D10)>Configurações!$B$5,AND(YEAR($D10)=Configurações!$B$5,MONTH($D10)>4),AND('Cadastro de Bens'!$W9<>"",YEAR('Cadastro de Bens'!$W9)=Configurações!$B$5,MONTH('Cadastro de Bens'!$W9)<4)),0,$H10)) | M10: =IF($A10="","",IF(OR(YEAR($D10)>Configurações!$B$5,AND(YEAR($D10)=Configurações!$B$5,MONTH($D10)>5),AND('Cadastro de Bens'!$W9<>"",YEAR('Cadastro de Bens'!$W9)=Configurações!$B$5,MONTH('Cadastro de Bens'!$W9)<5)),0,$H10)) | N10: =IF($A10="","",IF(OR(YEAR($D10)>Configurações!$B$5,AND(YEAR($D10)=Configurações!$B$5,MONTH($D10)>6),AND('Cadastro de Bens'!$W9<>"",YEAR('Cadastro de Bens'!$W9)=Configurações!$B$5,MONTH('Cadastro de Bens'!$W9)<6)),0,$H10)) | O10: =IF($A10="","",IF(OR(YEAR($D10)>Configurações!$B$5,AND(YEAR($D10)=Configurações!$B$5,MONTH($D10)>7),AND('Cadastro de Bens'!$W9<>"",YEAR('Cadastro de Bens'!$W9)=Configurações!$B$5,MONTH('Cadastro de Bens'!$W9)<7)),0,$H10)) | P10: =IF($A10="","",IF(OR(YEAR($D10)>Configurações!$B$5,AND(YEAR($D10)=Configurações!$B$5,MONTH($D10)>8),AND('Cadastro de Bens'!$W9<>"",YEAR('Cadastro de Bens'!$W9)=Configurações!$B$5,MONTH('Cadastro de Bens'!$W9)<8)),0,$H10)) | Q10: =IF($A10="","",IF(OR(YEAR($D10)>Configurações!$B$5,AND(YEAR($D10)=Configurações!$B$5,MONTH($D10)>9),AND('Cadastro de Bens'!$W9<>"",YEAR('Cadastro de Bens'!$W9)=Configurações!$B$5,MONTH('Cadastro de Bens'!$W9)<9)),0,$H10)) | R10: =IF($A10="","",IF(OR(YEAR($D10)>Configurações!$B$5,AND(YEAR($D10)=Configurações!$B$5,MONTH($D10)>10),AND('Cadastro de Bens'!$W9<>"",YEAR('Cadastro de Bens'!$W9)=Configurações!$B$5,MONTH('Cadastro de Bens'!$W9)<10)),0,$H10)) | S10: =IF($A10="","",IF(OR(YEAR($D10)>Configurações!$B$5,AND(YEAR($D10)=Configurações!$B$5,MONTH($D10)>11),AND('Cadastro de Bens'!$W9<>"",YEAR('Cadastro de Bens'!$W9)=Configurações!$B$5,MONTH('Cadastro de Bens'!$W9)<11)),0,$H10)) | T10: =IF($A10="","",IF(OR(YEAR($D10)>Configurações!$B$5,AND(YEAR($D10)=Configurações!$B$5,MONTH($D10)>12),AND('Cadastro de Bens'!$W9<>"",YEAR('Cadastro de Bens'!$W9)=Configurações!$B$5,MONTH('Cadastro de Bens'!$W9)<12)),0,$H10)) | U10: =MIN(E10,SUM(I10:T10)) -> 0 | V10: ='Cadastro de Bens'!AG9 | W10: ='Cadastro de Bens'!AH9 | X10: ='Cadastro de Bens'!AF9 -> 0 | Y10: =IF(OR(U10="",X10=""),"",U10-X10) -> 0
A11: ='Cadastro de Bens'!A10 -> 0 | B11: ='Cadastro de Bens'!B10 -> 0 | C11: ='Cadastro de Bens'!D10 -> 0 | D11: ='Cadastro de Bens'!J10 -> 0 | E11: ='Cadastro de Bens'!P10 | F11: ='Cadastro de Bens'!R10 -> 0 | G11: ='Cadastro de Bens'!S10 -> 0 | H11: ='Cadastro de Bens'!AA10 | I11: =IF($A11="","",IF(OR(YEAR($D11)>Configurações!$B$5,AND(YEAR($D11)=Configurações!$B$5,MONTH($D11)>1),AND('Cadastro de Bens'!$W10<>"",YEAR('Cadastro de Bens'!$W10)=Configurações!$B$5,MONTH('Cadastro de Bens'!$W10)<1)),0,$H11)) | J11: =IF($A11="","",IF(OR(YEAR($D11)>Configurações!$B$5,AND(YEAR($D11)=Configurações!$B$5,MONTH($D11)>2),AND('Cadastro de Bens'!$W10<>"",YEAR('Cadastro de Bens'!$W10)=Configurações!$B$5,MONTH('Cadastro de Bens'!$W10)<2)),0,$H11)) | K11: =IF($A11="","",IF(OR(YEAR($D11)>Configurações!$B$5,AND(YEAR($D11)=Configurações!$B$5,MONTH($D11)>3),AND('Cadastro de Bens'!$W10<>"",YEAR('Cadastro de Bens'!$W10)=Configurações!$B$5,MONTH('Cadastro de Bens'!$W10)<3)),0,$H11)) | L11: =IF($A11="","",IF(OR(YEAR($D11)>Configurações!$B$5,AND(YEAR($D11)=Configurações!$B$5,MONTH($D11)>4),AND('Cadastro de Bens'!$W10<>"",YEAR('Cadastro de Bens'!$W10)=Configurações!$B$5,MONTH('Cadastro de Bens'!$W10)<4)),0,$H11)) | M11: =IF($A11="","",IF(OR(YEAR($D11)>Configurações!$B$5,AND(YEAR($D11)=Configurações!$B$5,MONTH($D11)>5),AND('Cadastro de Bens'!$W10<>"",YEAR('Cadastro de Bens'!$W10)=Configurações!$B$5,MONTH('Cadastro de Bens'!$W10)<5)),0,$H11)) | N11: =IF($A11="","",IF(OR(YEAR($D11)>Configurações!$B$5,AND(YEAR($D11)=Configurações!$B$5,MONTH($D11)>6),AND('Cadastro de Bens'!$W10<>"",YEAR('Cadastro de Bens'!$W10)=Configurações!$B$5,MONTH('Cadastro de Bens'!$W10)<6)),0,$H11)) | O11: =IF($A11="","",IF(OR(YEAR($D11)>Configurações!$B$5,AND(YEAR($D11)=Configurações!$B$5,MONTH($D11)>7),AND('Cadastro de Bens'!$W10<>"",YEAR('Cadastro de Bens'!$W10)=Configurações!$B$5,MONTH('Cadastro de Bens'!$W10)<7)),0,$H11)) | P11: =IF($A11="","",IF(OR(YEAR($D11)>Configurações!$B$5,AND(YEAR($D11)=Configurações!$B$5,MONTH($D11)>8),AND('Cadastro de Bens'!$W10<>"",YEAR('Cadastro de Bens'!$W10)=Configurações!$B$5,MONTH('Cadastro de Bens'!$W10)<8)),0,$H11)) | Q11: =IF($A11="","",IF(OR(YEAR($D11)>Configurações!$B$5,AND(YEAR($D11)=Configurações!$B$5,MONTH($D11)>9),AND('Cadastro de Bens'!$W10<>"",YEAR('Cadastro de Bens'!$W10)=Configurações!$B$5,MONTH('Cadastro de Bens'!$W10)<9)),0,$H11)) | R11: =IF($A11="","",IF(OR(YEAR($D11)>Configurações!$B$5,AND(YEAR($D11)=Configurações!$B$5,MONTH($D11)>10),AND('Cadastro de Bens'!$W10<>"",YEAR('Cadastro de Bens'!$W10)=Configurações!$B$5,MONTH('Cadastro de Bens'!$W10)<10)),0,$H11)) | S11: =IF($A11="","",IF(OR(YEAR($D11)>Configurações!$B$5,AND(YEAR($D11)=Configurações!$B$5,MONTH($D11)>11),AND('Cadastro de Bens'!$W10<>"",YEAR('Cadastro de Bens'!$W10)=Configurações!$B$5,MONTH('Cadastro de Bens'!$W10)<11)),0,$H11)) | T11: =IF($A11="","",IF(OR(YEAR($D11)>Configurações!$B$5,AND(YEAR($D11)=Configurações!$B$5,MONTH($D11)>12),AND('Cadastro de Bens'!$W10<>"",YEAR('Cadastro de Bens'!$W10)=Configurações!$B$5,MONTH('Cadastro de Bens'!$W10)<12)),0,$H11)) | U11: =MIN(E11,SUM(I11:T11)) -> 0 | V11: ='Cadastro de Bens'!AG10 | W11: ='Cadastro de Bens'!AH10 | X11: ='Cadastro de Bens'!AF10 -> 0 | Y11: =IF(OR(U11="",X11=""),"",U11-X11) -> 0
A12: ='Cadastro de Bens'!A11 -> 0 | B12: ='Cadastro de Bens'!B11 -> 0 | C12: ='Cadastro de Bens'!D11 -> 0 | D12: ='Cadastro de Bens'!J11 -> 0 | E12: ='Cadastro de Bens'!P11 | F12: ='Cadastro de Bens'!R11 -> 0 | G12: ='Cadastro de Bens'!S11 -> 0 | H12: ='Cadastro de Bens'!AA11 | I12: =IF($A12="","",IF(OR(YEAR($D12)>Configurações!$B$5,AND(YEAR($D12)=Configurações!$B$5,MONTH($D12)>1),AND('Cadastro de Bens'!$W11<>"",YEAR('Cadastro de Bens'!$W11)=Configurações!$B$5,MONTH('Cadastro de Bens'!$W11)<1)),0,$H12)) | J12: =IF($A12="","",IF(OR(YEAR($D12)>Configurações!$B$5,AND(YEAR($D12)=Configurações!$B$5,MONTH($D12)>2),AND('Cadastro de Bens'!$W11<>"",YEAR('Cadastro de Bens'!$W11)=Configurações!$B$5,MONTH('Cadastro de Bens'!$W11)<2)),0,$H12)) | K12: =IF($A12="","",IF(OR(YEAR($D12)>Configurações!$B$5,AND(YEAR($D12)=Configurações!$B$5,MONTH($D12)>3),AND('Cadastro de Bens'!$W11<>"",YEAR('Cadastro de Bens'!$W11)=Configurações!$B$5,MONTH('Cadastro de Bens'!$W11)<3)),0,$H12)) | L12: =IF($A12="","",IF(OR(YEAR($D12)>Configurações!$B$5,AND(YEAR($D12)=Configurações!$B$5,MONTH($D12)>4),AND('Cadastro de Bens'!$W11<>"",YEAR('Cadastro de Bens'!$W11)=Configurações!$B$5,MONTH('Cadastro de Bens'!$W11)<4)),0,$H12)) | M12: =IF($A12="","",IF(OR(YEAR($D12)>Configurações!$B$5,AND(YEAR($D12)=Configurações!$B$5,MONTH($D12)>5),AND('Cadastro de Bens'!$W11<>"",YEAR('Cadastro de Bens'!$W11)=Configurações!$B$5,MONTH('Cadastro de Bens'!$W11)<5)),0,$H12)) | N12: =IF($A12="","",IF(OR(YEAR($D12)>Configurações!$B$5,AND(YEAR($D12)=Configurações!$B$5,MONTH($D12)>6),AND('Cadastro de Bens'!$W11<>"",YEAR('Cadastro de Bens'!$W11)=Configurações!$B$5,MONTH('Cadastro de Bens'!$W11)<6)),0,$H12)) | O12: =IF($A12="","",IF(OR(YEAR($D12)>Configurações!$B$5,AND(YEAR($D12)=Configurações!$B$5,MONTH($D12)>7),AND('Cadastro de Bens'!$W11<>"",YEAR('Cadastro de Bens'!$W11)=Configurações!$B$5,MONTH('Cadastro de Bens'!$W11)<7)),0,$H12)) | P12: =IF($A12="","",IF(OR(YEAR($D12)>Configurações!$B$5,AND(YEAR($D12)=Configurações!$B$5,MONTH($D12)>8),AND('Cadastro de Bens'!$W11<>"",YEAR('Cadastro de Bens'!$W11)=Configurações!$B$5,MONTH('Cadastro de Bens'!$W11)<8)),0,$H12)) | Q12: =IF($A12="","",IF(OR(YEAR($D12)>Configurações!$B$5,AND(YEAR($D12)=Configurações!$B$5,MONTH($D12)>9),AND('Cadastro de Bens'!$W11<>"",YEAR('Cadastro de Bens'!$W11)=Configurações!$B$5,MONTH('Cadastro de Bens'!$W11)<9)),0,$H12)) | R12: =IF($A12="","",IF(OR(YEAR($D12)>Configurações!$B$5,AND(YEAR($D12)=Configurações!$B$5,MONTH($D12)>10),AND('Cadastro de Bens'!$W11<>"",YEAR('Cadastro de Bens'!$W11)=Configurações!$B$5,MONTH('Cadastro de Bens'!$W11)<10)),0,$H12)) | S12: =IF($A12="","",IF(OR(YEAR($D12)>Configurações!$B$5,AND(YEAR($D12)=Configurações!$B$5,MONTH($D12)>11),AND('Cadastro de Bens'!$W11<>"",YEAR('Cadastro de Bens'!$W11)=Configurações!$B$5,MONTH('Cadastro de Bens'!$W11)<11)),0,$H12)) | T12: =IF($A12="","",IF(OR(YEAR($D12)>Configurações!$B$5,AND(YEAR($D12)=Configurações!$B$5,MONTH($D12)>12),AND('Cadastro de Bens'!$W11<>"",YEAR('Cadastro de Bens'!$W11)=Configurações!$B$5,MONTH('Cadastro de Bens'!$W11)<12)),0,$H12)) | U12: =MIN(E12,SUM(I12:T12)) -> 0 | V12: ='Cadastro de Bens'!AG11 | W12: ='Cadastro de Bens'!AH11 | X12: ='Cadastro de Bens'!AF11 -> 0 | Y12: =IF(OR(U12="",X12=""),"",U12-X12) -> 0
A13: ='Cadastro de Bens'!A12 -> 0 | B13: ='Cadastro de Bens'!B12 -> 0 | C13: ='Cadastro de Bens'!D12 -> 0 | D13: ='Cadastro de Bens'!J12 -> 0 | E13: ='Cadastro de Bens'!P12 | F13: ='Cadastro de Bens'!R12 -> 0 | G13: ='Cadastro de Bens'!S12 -> 0 | H13: ='Cadastro de Bens'!AA12 | I13: =IF($A13="","",IF(OR(YEAR($D13)>Configurações!$B$5,AND(YEAR($D13)=Configurações!$B$5,MONTH($D13)>1),AND('Cadastro de Bens'!$W12<>"",YEAR('Cadastro de Bens'!$W12)=Configurações!$B$5,MONTH('Cadastro de Bens'!$W12)<1)),0,$H13)) | J13: =IF($A13="","",IF(OR(YEAR($D13)>Configurações!$B$5,AND(YEAR($D13)=Configurações!$B$5,MONTH($D13)>2),AND('Cadastro de Bens'!$W12<>"",YEAR('Cadastro de Bens'!$W12)=Configurações!$B$5,MONTH('Cadastro de Bens'!$W12)<2)),0,$H13)) | K13: =IF($A13="","",IF(OR(YEAR($D13)>Configurações!$B$5,AND(YEAR($D13)=Configurações!$B$5,MONTH($D13)>3),AND('Cadastro de Bens'!$W12<>"",YEAR('Cadastro de Bens'!$W12)=Configurações!$B$5,MONTH('Cadastro de Bens'!$W12)<3)),0,$H13)) | L13: =IF($A13="","",IF(OR(YEAR($D13)>Configurações!$B$5,AND(YEAR($D13)=Configurações!$B$5,MONTH($D13)>4),AND('Cadastro de Bens'!$W12<>"",YEAR('Cadastro de Bens'!$W12)=Configurações!$B$5,MONTH('Cadastro de Bens'!$W12)<4)),0,$H13)) | M13: =IF($A13="","",IF(OR(YEAR($D13)>Configurações!$B$5,AND(YEAR($D13)=Configurações!$B$5,MONTH($D13)>5),AND('Cadastro de Bens'!$W12<>"",YEAR('Cadastro de Bens'!$W12)=Configurações!$B$5,MONTH('Cadastro de Bens'!$W12)<5)),0,$H13)) | N13: =IF($A13="","",IF(OR(YEAR($D13)>Configurações!$B$5,AND(YEAR($D13)=Configurações!$B$5,MONTH($D13)>6),AND('Cadastro de Bens'!$W12<>"",YEAR('Cadastro de Bens'!$W12)=Configurações!$B$5,MONTH('Cadastro de Bens'!$W12)<6)),0,$H13)) | O13: =IF($A13="","",IF(OR(YEAR($D13)>Configurações!$B$5,AND(YEAR($D13)=Configurações!$B$5,MONTH($D13)>7),AND('Cadastro de Bens'!$W12<>"",YEAR('Cadastro de Bens'!$W12)=Configurações!$B$5,MONTH('Cadastro de Bens'!$W12)<7)),0,$H13)) | P13: =IF($A13="","",IF(OR(YEAR($D13)>Configurações!$B$5,AND(YEAR($D13)=Configurações!$B$5,MONTH($D13)>8),AND('Cadastro de Bens'!$W12<>"",YEAR('Cadastro de Bens'!$W12)=Configurações!$B$5,MONTH('Cadastro de Bens'!$W12)<8)),0,$H13)) | Q13: =IF($A13="","",IF(OR(YEAR($D13)>Configurações!$B$5,AND(YEAR($D13)=Configurações!$B$5,MONTH($D13)>9),AND('Cadastro de Bens'!$W12<>"",YEAR('Cadastro de Bens'!$W12)=Configurações!$B$5,MONTH('Cadastro de Bens'!$W12)<9)),0,$H13)) | R13: =IF($A13="","",IF(OR(YEAR($D13)>Configurações!$B$5,AND(YEAR($D13)=Configurações!$B$5,MONTH($D13)>10),AND('Cadastro de Bens'!$W12<>"",YEAR('Cadastro de Bens'!$W12)=Configurações!$B$5,MONTH('Cadastro de Bens'!$W12)<10)),0,$H13)) | S13: =IF($A13="","",IF(OR(YEAR($D13)>Configurações!$B$5,AND(YEAR($D13)=Configurações!$B$5,MONTH($D13)>11),AND('Cadastro de Bens'!$W12<>"",YEAR('Cadastro de Bens'!$W12)=Configurações!$B$5,MONTH('Cadastro de Bens'!$W12)<11)),0,$H13)) | T13: =IF($A13="","",IF(OR(YEAR($D13)>Configurações!$B$5,AND(YEAR($D13)=Configurações!$B$5,MONTH($D13)>12),AND('Cadastro de Bens'!$W12<>"",YEAR('Cadastro de Bens'!$W12)=Configurações!$B$5,MONTH('Cadastro de Bens'!$W12)<12)),0,$H13)) | U13: =MIN(E13,SUM(I13:T13)) -> 0 | V13: ='Cadastro de Bens'!AG12 | W13: ='Cadastro de Bens'!AH12 | X13: ='Cadastro de Bens'!AF12 -> 0 | Y13: =IF(OR(U13="",X13=""),"",U13-X13) -> 0
A14: ='Cadastro de Bens'!A13 -> 0 | B14: ='Cadastro de Bens'!B13 -> 0 | C14: ='Cadastro de Bens'!D13 -> 0 | D14: ='Cadastro de Bens'!J13 -> 0 | E14: ='Cadastro de Bens'!P13 | F14: ='Cadastro de Bens'!R13 -> 0 | G14: ='Cadastro de Bens'!S13 -> 0 | H14: ='Cadastro de Bens'!AA13 | I14: =IF($A14="","",IF(OR(YEAR($D14)>Configurações!$B$5,AND(YEAR($D14)=Configurações!$B$5,MONTH($D14)>1),AND('Cadastro de Bens'!$W13<>"",YEAR('Cadastro de Bens'!$W13)=Configurações!$B$5,MONTH('Cadastro de Bens'!$W13)<1)),0,$H14)) | J14: =IF($A14="","",IF(OR(YEAR($D14)>Configurações!$B$5,AND(YEAR($D14)=Configurações!$B$5,MONTH($D14)>2),AND('Cadastro de Bens'!$W13<>"",YEAR('Cadastro de Bens'!$W13)=Configurações!$B$5,MONTH('Cadastro de Bens'!$W13)<2)),0,$H14)) | K14: =IF($A14="","",IF(OR(YEAR($D14)>Configurações!$B$5,AND(YEAR($D14)=Configurações!$B$5,MONTH($D14)>3),AND('Cadastro de Bens'!$W13<>"",YEAR('Cadastro de Bens'!$W13)=Configurações!$B$5,MONTH('Cadastro de Bens'!$W13)<3)),0,$H14)) | L14: =IF($A14="","",IF(OR(YEAR($D14)>Configurações!$B$5,AND(YEAR($D14)=Configurações!$B$5,MONTH($D14)>4),AND('Cadastro de Bens'!$W13<>"",YEAR('Cadastro de Bens'!$W13)=Configurações!$B$5,MONTH('Cadastro de Bens'!$W13)<4)),0,$H14)) | M14: =IF($A14="","",IF(OR(YEAR($D14)>Configurações!$B$5,AND(YEAR($D14)=Configurações!$B$5,MONTH($D14)>5),AND('Cadastro de Bens'!$W13<>"",YEAR('Cadastro de Bens'!$W13)=Configurações!$B$5,MONTH('Cadastro de Bens'!$W13)<5)),0,$H14)) | N14: =IF($A14="","",IF(OR(YEAR($D14)>Configurações!$B$5,AND(YEAR($D14)=Configurações!$B$5,MONTH($D14)>6),AND('Cadastro de Bens'!$W13<>"",YEAR('Cadastro de Bens'!$W13)=Configurações!$B$5,MONTH('Cadastro de Bens'!$W13)<6)),0,$H14)) | O14: =IF($A14="","",IF(OR(YEAR($D14)>Configurações!$B$5,AND(YEAR($D14)=Configurações!$B$5,MONTH($D14)>7),AND('Cadastro de Bens'!$W13<>"",YEAR('Cadastro de Bens'!$W13)=Configurações!$B$5,MONTH('Cadastro de Bens'!$W13)<7)),0,$H14)) | P14: =IF($A14="","",IF(OR(YEAR($D14)>Configurações!$B$5,AND(YEAR($D14)=Configurações!$B$5,MONTH($D14)>8),AND('Cadastro de Bens'!$W13<>"",YEAR('Cadastro de Bens'!$W13)=Configurações!$B$5,MONTH('Cadastro de Bens'!$W13)<8)),0,$H14)) | Q14: =IF($A14="","",IF(OR(YEAR($D14)>Configurações!$B$5,AND(YEAR($D14)=Configurações!$B$5,MONTH($D14)>9),AND('Cadastro de Bens'!$W13<>"",YEAR('Cadastro de Bens'!$W13)=Configurações!$B$5,MONTH('Cadastro de Bens'!$W13)<9)),0,$H14)) | R14: =IF($A14="","",IF(OR(YEAR($D14)>Configurações!$B$5,AND(YEAR($D14)=Configurações!$B$5,MONTH($D14)>10),AND('Cadastro de Bens'!$W13<>"",YEAR('Cadastro de Bens'!$W13)=Configurações!$B$5,MONTH('Cadastro de Bens'!$W13)<10)),0,$H14)) | S14: =IF($A14="","",IF(OR(YEAR($D14)>Configurações!$B$5,AND(YEAR($D14)=Configurações!$B$5,MONTH($D14)>11),AND('Cadastro de Bens'!$W13<>"",YEAR('Cadastro de Bens'!$W13)=Configurações!$B$5,MONTH('Cadastro de Bens'!$W13)<11)),0,$H14)) | T14: =IF($A14="","",IF(OR(YEAR($D14)>Configurações!$B$5,AND(YEAR($D14)=Configurações!$B$5,MONTH($D14)>12),AND('Cadastro de Bens'!$W13<>"",YEAR('Cadastro de Bens'!$W13)=Configurações!$B$5,MONTH('Cadastro de Bens'!$W13)<12)),0,$H14)) | U14: =MIN(E14,SUM(I14:T14)) -> 0 | V14: ='Cadastro de Bens'!AG13 | W14: ='Cadastro de Bens'!AH13 | X14: ='Cadastro de Bens'!AF13 -> 0 | Y14: =IF(OR(U14="",X14=""),"",U14-X14) -> 0
... A302: ='Cadastro de Bens'!A301 -> 0 | B302: ='Cadastro de Bens'!B301 -> 0 | C302: ='Cadastro de Bens'!D301 -> 0 | D302: ='Cadastro de Bens'!J301 -> 0 | E302: ='Cadastro de Bens'!P301 -> 0 | F302: ='Cadastro de Bens'!R301 -> 0 | G302: ='Cadastro de Bens'!S301 -> 0 | H302: ='Cadastro de Bens'!AA301 -> 0 | I302: =IF($A302="","",IF(OR(YEAR($D302)>Configurações!$B$5,AND(YEAR($D302)=Configurações!$B$5,MONTH($D302)>1),AND('Cadastro de Bens'!$W301<>"",YEAR('Cadastro de Bens'!$W301)=Configurações!$B$5,MONTH('Cadastro de Bens'!$W301)<1)),0,$H302)) -> 0 | J302: =IF($A302="","",IF(OR(YEAR($D302)>Configurações!$B$5,AND(YEAR($D302)=Configurações!$B$5,MONTH($D302)>2),AND('Cadastro de Bens'!$W301<>"",YEAR('Cadastro de Bens'!$W301)=Configurações!$B$5,MONTH('Cadastro de Bens'!$W301)<2)),0,$H302)) -> 0 | K302: =IF($A302="","",IF(OR(YEAR($D302)>Configurações!$B$5,AND(YEAR($D302)=Configurações!$B$5,MONTH($D302)>3),AND('Cadastro de Bens'!$W301<>"",YEAR('Cadastro de Bens'!$W301)=Configurações!$B$5,MONTH('Cadastro de Bens'!$W301)<3)),0,$H302)) -> 0 | L302: =IF($A302="","",IF(OR(YEAR($D302)>Configurações!$B$5,AND(YEAR($D302)=Configurações!$B$5,MONTH($D302)>4),AND('Cadastro de Bens'!$W301<>"",YEAR('Cadastro de Bens'!$W301)=Configurações!$B$5,MONTH('Cadastro de Bens'!$W301)<4)),0,$H302)) -> 0 | M302: =IF($A302="","",IF(OR(YEAR($D302)>Configurações!$B$5,AND(YEAR($D302)=Configurações!$B$5,MONTH($D302)>5),AND('Cadastro de Bens'!$W301<>"",YEAR('Cadastro de Bens'!$W301)=Configurações!$B$5,MONTH('Cadastro de Bens'!$W301)<5)),0,$H302)) -> 0 | N302: =IF($A302="","",IF(OR(YEAR($D302)>Configurações!$B$5,AND(YEAR($D302)=Configurações!$B$5,MONTH($D302)>6),AND('Cadastro de Bens'!$W301<>"",YEAR('Cadastro de Bens'!$W301)=Configurações!$B$5,MONTH('Cadastro de Bens'!$W301)<6)),0,$H302)) -> 0 | O302: =IF($A302="","",IF(OR(YEAR($D302)>Configurações!$B$5,AND(YEAR($D302)=Configurações!$B$5,MONTH($D302)>7),AND('Cadastro de Bens'!$W301<>"",YEAR('Cadastro de Bens'!$W301)=Configurações!$B$5,MONTH('Cadastro de Bens'!$W301)<7)),0,$H302)) -> 0 | P302: =IF($A302="","",IF(OR(YEAR($D302)>Configurações!$B$5,AND(YEAR($D302)=Configurações!$B$5,MONTH($D302)>8),AND('Cadastro de Bens'!$W301<>"",YEAR('Cadastro de Bens'!$W301)=Configurações!$B$5,MONTH('Cadastro de Bens'!$W301)<8)),0,$H302)) -> 0 | Q302: =IF($A302="","",IF(OR(YEAR($D302)>Configurações!$B$5,AND(YEAR($D302)=Configurações!$B$5,MONTH($D302)>9),AND('Cadastro de Bens'!$W301<>"",YEAR('Cadastro de Bens'!$W301)=Configurações!$B$5,MONTH('Cadastro de Bens'!$W301)<9)),0,$H302)) -> 0 | R302: =IF($A302="","",IF(OR(YEAR($D302)>Configurações!$B$5,AND(YEAR($D302)=Configurações!$B$5,MONTH($D302)>10),AND('Cadastro de Bens'!$W301<>"",YEAR('Cadastro de Bens'!$W301)=Configurações!$B$5,MONTH('Cadastro de Bens'!$W301)<10)),0,$H302)) -> 0 | S302: =IF($A302="","",IF(OR(YEAR($D302)>Configurações!$B$5,AND(YEAR($D302)=Configurações!$B$5,MONTH($D302)>11),AND('Cadastro de Bens'!$W301<>"",YEAR('Cadastro de Bens'!$W301)=Configurações!$B$5,MONTH('Cadastro de Bens'!$W301)<11)),0,$H302)) -> 0 | T302: =IF($A302="","",IF(OR(YEAR($D302)>Configurações!$B$5,AND(YEAR($D302)=Configurações!$B$5,MONTH($D302)>12),AND('Cadastro de Bens'!$W301<>"",YEAR('Cadastro de Bens'!$W301)=Configurações!$B$5,MONTH('Cadastro de Bens'!$W301)<12)),0,$H302)) -> 0 | U302: =MIN(E302,SUM(I302:T302)) -> 0 | V302: ='Cadastro de Bens'!AG301 -> 0 | W302: ='Cadastro de Bens'!AH301 -> 0 | X302: ='Cadastro de Bens'!AF301 -> 0 | Y302: =IF(OR(U302="",X302=""),"",U302-X302) -> 0
A304: Totais | E304: =SUM(E3:E302) -> 151150 | H304: =SUM(H3:H302) -> 3148.9583 | I304: =SUM(I3:I302) -> 76.041667 | J304: =SUM(J3:J302) -> 76.041667 | K304: =SUM(K3:K302) -> 76.041667 | L304: =SUM(L3:L302) -> 76.041667 | M304: =SUM(M3:M302) -> 76.041667 | N304: =SUM(N3:N302) -> 76.041667 | O304: =SUM(O3:O302) -> 596.875 | ... Y304: =SUM(Y3:Y302) -> 3125

Sheet Resumo Dashboard
A1: Resumo / Dashboard
A3: Nº total de bens | B3: =COUNTA('Cadastro de Bens'!A2:A300) -> 4
A4: Valor bruto do imobilizado | B4: =SUM('Cadastro de Bens'!N2:N300) -> 159150
A5: Depreciações acumuladas | B5: =SUM('Cadastro de Bens'!AG2:AG300) -> 29558.333
A6: Depreciação do exercício | B6: =SUM('Cadastro de Bens'!AF2:AF300) -> 912.5
A7: Valor líquido contabilístico | B7: =SUM('Cadastro de Bens'!AH2:AH300) -> 129591.67
A8: Bens totalmente depreciados | B8: =COUNTIF('Cadastro de Bens'!V2:V300,"Totalmente depreciado") -> 0
A9: Bens abatidos / alienados | B9: =COUNTIF('Cadastro de Bens'!V2:V300,"Abatido")+COUNTIF('Cadastro de Bens'!V2:V300,"Alienado") -> 0
A10: Aquisições do ano | B10: =COUNTIFS('Cadastro de Bens'!I2:I300,">="&DATE(Configurações!B5,1,1),'Cadastro de Bens'!I2:I300,"<="&DATE(Configurações!B5,12,31)) -> 1
A13: Resumo por classe
A14: Classe | B14: Valor aquisição | C14: Deprec. exercício | D14: Acumuladas | E14: VLC
A15: Edifícios e outras construções | B15: =SUMIF('Cadastro de Bens'!$D$2:$D$300,A15,'Cadastro de Bens'!$N$2:$N$300) -> 0 | C15: =SUMIF('Cadastro de Bens'!$D$2:$D$300,A15,'Cadastro de Bens'!$AF$2:$AF$300) -> 0 | D15: =SUMIF('Cadastro de Bens'!$D$2:$D$300,A15,'Cadastro de Bens'!$AG$2:$AG$300) -> 0 | E15: =SUMIF('Cadastro de Bens'!$D$2:$D$300,A15,'Cadastro de Bens'!$AH$2:$AH$300) -> 0
A16: Equipamento básico | B16: =SUMIF('Cadastro de Bens'!$D$2:$D$300,A16,'Cadastro de Bens'!$N$2:$N$300) -> 127500 | C16: =SUMIF('Cadastro de Bens'!$D$2:$D$300,A16,'Cadastro de Bens'!$AF$2:$AF$300) -> 0 | D16: =SUMIF('Cadastro de Bens'!$D$2:$D$300,A16,'Cadastro de Bens'!$AG$2:$AG$300) -> 25520.833 | E16: =SUMIF('Cadastro de Bens'!$D$2:$D$300,A16,'Cadastro de Bens'!$AH$2:$AH$300) -> 101979.17
A17: Equipamento administrativo | B17: =SUMIF('Cadastro de Bens'!$D$2:$D$300,A17,'Cadastro de Bens'!$N$2:$N$300) -> 0 | C17: =SUMIF('Cadastro de Bens'!$D$2:$D$300,A17,'Cadastro de Bens'!$AF$2:$AF$300) -> 0 | D17: =SUMIF('Cadastro de Bens'!$D$2:$D$300,A17,'Cadastro de Bens'!$AG$2:$AG$300) -> 0 | E17: =SUMIF('Cadastro de Bens'!$D$2:$D$300,A17,'Cadastro de Bens'!$AH$2:$AH$300) -> 0
