Workbook

Sheet INDICE
J2: INDICE
D9: Mês da Declaração | F9: JANEIRO | I9: 2011
I11: IVA - deduzido | J11: resumo de
I12: DECLARAÇÃO | J12: contribuintes
A13: CLIENTES | D13: CAMPO 8 | I13: 0 | J13: =CLIENTES!H2 -> 0
A15: FORNECEDORES | D15: CAMPO 20 + 21 + 23+ 22 + 24 | G15: CAMPO 20 | I15: 0 | J15: ='IMOBILIZADO C20'!H3 -> 0
G17: CAMPO 21 | I17: 0 | J17: ='EXISTENCIAS C21'!H3 -> 0
G19: CAMPO 23 | I19: 0 | J19: ='EXISTENCIAS C23'!H3 -> 0
G21: CAMPO 22 | I21: 0 | J21: ='EXISTENCIAS C22'!H3 -> 0
G23: CP 24 - R | I23: 0 | J23: ='OBS C24 REDUZIDA'!H3 -> 0
G24: CP 24 - N | I24: 0 | J24: ='OBS C24 NORMAL'!H3 -> 0
G25: TOTAL C24 | I25: =SUM(I23:I24) -> 0
A27: REGULARIZAÇÕES | D27: CAMPO 40 | G27: CP 40 - R | I27: 0 | J27: ='REG C40 REDUZIDA'!H3 -> 0
G28: CP 40 - N | I28: 0 | J28: ='REG C40 NORMAL'!H3 -> 0
G29: TOTAL C40 | I29: =SUM(I27:I28) -> 0
A31: EXPORTAÇÃO BENS | I31: 0 | J31: =EXPORTAÇÃO!H3 -> 0

Sheet CLIENTES
D1: TOTAL - FOLHA 1 | F1: =SUM(J7:J51) -> 0 | J1: INDICE | L1: CONTROL REPETIDOS
A2: CONTRIBUINTE | D2: TOTAL - FOLHA 2 | F2: =SUM(J55:J103) -> 0 | H2: =F1+F2 -> 0 | L2: COPIAR TODA CELULA A
D3: CLIENTES CAMPO 8 | J3: TOTAL | L3: depois ORDENAR DE A a Z
A5: 1
J7: =SUM(D$5:I$7) -> 0
A9: 2
J11: =SUM(D9:I11) -> 0
A13: 3
J15: =SUM(D$13:I$15) -> 0
A17: 4
J19: =SUM(D$17:I$19) -> 0
A21: 5
J23: =SUM(D$21:I$23) -> 0
A25: 6
J27: =SUM(D$25:I$27) -> 0
A29: 7
J31: =SUM(D$29:I$31) -> 0
A33: 8
J35: =SUM(D$33:I$35) -> 0
A37: 9
J39: =SUM(D$37:I$39) -> 0
A41: 10
J43: =SUM(D$41:I$43) -> 0
A45: 11
J47: =SUM(D$45:I$47) -> 0
A49: 12
J51: =SUM(D$49:I$51) -> 0
J52: FOLHA 2
A53: 13
J55: =SUM(D$53:I$55) -> 0
A57: 14
J59: =SUM(D$57:I$59) -> 0
A61: 15
J63: =SUM(D$61:I$63) -> 0
A65: 16
J67: =SUM(D$65:I$67) -> 0
A69: 17
J71: =SUM(D$69:I$71) -> 0
A73: 18
J75: =SUM(D$73:I$75) -> 0
...

Sheet IMOBILIZADO C20
D2: TOTAL - FOLHA 1 | F2: =SUM(J8:J52) -> 0 | J2: INDICE | M2: CONTROL REPETIDOS
A3: CONTRIBUINTE | H3: =F2+F3 -> 0 | K3: BASE | M3: COPIAR TODA CELULA A
D4: FORNECEDORES CAMPO 20 | J4: TOTAL | K4: 0.23 | M4: depois ORDENAR DE A a Z
A6: 1
J8: =SUM(D$6:I$8) -> 0 | K8: =J8/K$4 -> 0
A10: 2
J12: =SUM(D$10:I$12) -> 0 | K12: =J12/K$4 -> 0
A14: 3
J16: =SUM(D$14:I$16) -> 0 | K16: =J16/K$4 -> 0
A18: 4
J20: =SUM(D$18:I$20) -> 0 | K20: =J20/K$4 -> 0
A22: 5
J24: =SUM(D$22:I$24) -> 0 | K24: =J24/K$4 -> 0
A26: 6
J28: =SUM(D$26:I$28) -> 0 | K28: =J28/K$4 -> 0
A30: 7
J32: =SUM(D$30:I$32) -> 0 | K32: =J32/K$4 -> 0
A34: 8
J36: =SUM(D$34:I$36) -> 0 | K36: =J36/K$4 -> 0
A38: 9
J40: =SUM(D$38:I$40) -> 0 | K40: =J40/K$4 -> 0
A42: 10
J44: =SUM(D$42:I$44) -> 0 | K44: =J44/K$4 -> 0
A46: 11
J48: =SUM(D$46:I$48) -> 0 | K48: =J48/K$4 -> 0
A50: 12
J52: =SUM(D$50:I$52) -> 0 | K52: =J52/K$4 -> 0

Sheet EXISTENCIAS C21
D2: TOTAL - FOLHA 1 | F2: =SUM(J8:J52) -> 0 | J2: INDICE | M2: CONTROL REPETIDOS
A3: CONTRIBUINTE | H3: =F2+F3 -> 0 | K3: BASE | M3: COPIAR TODA CELULA A
D4: FORNECEDORES CAMPO 21 | J4: TOTAL | K4: 0.06 | M4: depois ORDENAR DE A a Z
A6: 1
J8: =SUM(D$6:I$8) -> 0 | K8: =J8/K$4 -> 0
A10: 2
J12: =SUM(D$10:I$12) -> 0 | K12: =J12/K$4 -> 0
A14: 3
J16: =SUM(D$14:I$16) -> 0 | K16: =J16/K$4 -> 0
A18: 4
J20: =SUM(D$18:I$20) -> 0 | K20: =J20/K$4 -> 0
A22: 5
J24: =SUM(D$22:I$24) -> 0 | K24: =J24/K$4 -> 0
A26: 6
J28: =SUM(D$26:I$28) -> 0 | K28: =J28/K$4 -> 0
A30: 7
J32: =SUM(D$30:I$32) -> 0 | K32: =J32/K$4 -> 0
A34: 8
J36: =SUM(D$34:I$36) -> 0 | K36: =J36/K$4 -> 0
A38: 9
J40: =SUM(D$40:I$40) -> 0 | K40: =J40/K$4 -> 0
A42: 10
J44: =SUM(D$42:I$44) -> 0 | K44: =J44/K$4 -> 0
A46: 11
J48: =SUM(D$46:I$48) -> 0 | K48: =J48/K$4 -> 0
A50: 12
J52: =SUM(D$50:I$52) -> 0 | K52: =J52/K$4 -> 0

Sheet EXISTENCIAS C23
D2: TOTAL - FOLHA 1 | F2: =SUM(J8:J52) -> 0 | J2: INDICE | M2: CONTROL REPETIDOS
A3: CONTRIBUINTE | D3: TOTAL -FOLHA 2+3 | F3: =F54+F105 -> 0 | H3: =F2+F3 -> 0 | K3: BASE | M3: COPIAR TODA CELULA A
D4: FORNECEDORES CAMPO 23 | J4: TOTAL | K4: 0.13 | M4: depois ORDENAR DE A a Z
A6: 1
J8: =SUM(D$6:I$8) -> 0 | K8: =J8/K$4 -> 0
A10: 2
J12: =SUM(D$10:I$12) -> 0 | K12: =J12/K$4 -> 0
A14: 3
J16: =SUM(D$14:I$16) -> 0 | K16: =J16/K$4 -> 0
A18: 4
J20: =SUM(D$18:I$20) -> 0 | K20: =J20/K$4 -> 0
A22: 5
J24: =SUM(D$22:I$24) -> 0 | K24: =J24/K$4 -> 0
A26: 6
J28: =SUM(D$26:I$28) -> 0 | K28: =J28/K$4 -> 0
A30: 7
J32: =SUM(D$30:I$32) -> 0 | K32: =J32/K$4 -> 0
A34: 8
J36: =SUM(D$34:I$36) -> 0 | K36: =J36/K$4 -> 0
A38: 9
J40: =SUM(D$38:I$40) -> 0 | K40: =J40/K$4 -> 0
A42: 10
J44: =SUM(D$42:I$44) -> 0 | K44: =J44/K$4 -> 0
A46: 11
J48: =SUM(D$46:I$48) -> 0 | K48: =J48/K$4 -> 0
A50: 12
J52: =SUM(D$50:I$52) -> 0 | K52: =J52/K$4 -> 0
J53: FOLHA 2
D54: TOTAL - FOLHA 2 | F54: =SUM(J60:J103) -> 0
A55: CONTRIBUINTE | H55: =H3 -> 0 | K55: BASE
D56: FORNECEDORES CAMPO 23 | J56: TOTAL | K56: 0.13
A58: 13
J60: =SUM(D$58:I$60) -> 0 | K60: =J60/K$4 -> 0
A62: 14
J64: =SUM(D$62:I$64) -> 0 | K64: =J64/K$4 -> 0
A66: 15
J68: =SUM(D$66:I$68) -> 0 | K68: =J68/K$4 -> 0
A70: 16
J72: =SUM(D$70:I$72) -> 0 | K72: =J72/K$4 -> 0
A74: 17
...

Sheet EXISTENCIAS C22
D2: TOTAL - FOLHA 1 | F2: =SUM(J8:J52) -> 0 | J2: INDICE | M2: CONTROL REPETIDOS
A3: CONTRIBUINTE | H3: =F2+F54+F109+F161+F214+F266+F318+F371+F423+F475+F528+F580+F633+F686+F740+F793+F845 -> 0 | K3: BASE | M3: COPIAR TODA CELULA A
D4: FORNECEDORES CAMPO 22 | J4: TOTAL | K4: 0.23 | M4: depois ORDENAR DE A a Z
A6: 1
J8: =SUM(D$6:I$8) -> 0 | K8: =J8/K$4 -> 0
A10: 2
J12: =SUM(D$10:I$12) -> 0 | K12: =J12/K$4 -> 0
A14: 3
J16: =SUM(D$14:I$16) -> 0 | K16: =J16/K$4 -> 0
A18: 4
J20: =SUM(D$18:I$20) -> 0 | K20: =J20/K$4 -> 0
A22: 5
J24: =SUM(D$22:I$24) -> 0 | K24: =J24/K$4 -> 0
A26: 6
J28: =SUM(D$26:I$28) -> 0 | K28: =J28/K$4 -> 0
A30: 7
J32: =SUM(D$30:I$32) -> 0 | K32: =J32/K$4 -> 0
A34: 8
J36: =SUM(D$34:I$36) -> 0 | K36: =J36/K$4 -> 0
A38: 9
J40: =SUM(D$38:I$40) -> 0 | K40: =J40/K$4 -> 0
A42: 10
J44: =SUM(D$42:I$44) -> 0 | K44: =J44/K$4 -> 0
A46: 11
J48: =SUM(D$46:I$48) -> 0 | K48: =J48/K$4 -> 0
A50: 12
J52: =SUM(D$50:I$52) -> 0 | K52: =J52/K$4 -> 0
J53: FOLHA 2
D54: TOTAL - FOLHA 2 | F54: =SUM(J60:J104) -> 0
A55: CONTRIBUINTE | H55: =H3 -> 0 | K55: BASE
D56: FORNECEDORES CAMPO 22 | J56: TOTAL | K56: 0.23
A58: 13
J60: =SUM(D$58:I$60) -> 0 | K60: =J60/K$4 -> 0
A62: 14
J64: =SUM(D$62:I$64) -> 0 | K64: =J64/K$4 -> 0
A66: 15
J68: =SUM(D$66:I$68) -> 0 | K68: =J68/K$4 -> 0
A70: 16
J72: =SUM(D$70:I$72) -> 0 | K72: =J72/K$4 -> 0
A74: 17
...

Sheet OBS C24 REDUZIDA
M1: CONTROL REPETIDOS
D2: TOTAL - FOLHA 1 | F2: =SUM(J8:J52) -> 0 | J2: INDICE | M2: COPIAR TODA CELULA A
A3: CONTRIBUINTE | H3: =F2+F3 -> 0 | K3: BASE | M3: depois ORDENAR DE A a Z
D4: OBS CAMPO 24 | J4: TOTAL | K4: 0.06
A6: 1
J8: =SUM(D$6:I$8) -> 0 | K8: =J8/K$4 -> 0
A10: 2
J12: =SUM(D$10:I$12) -> 0 | K12: =J12/K$4 -> 0
A14: 3
J16: =SUM(D$14:I$16) -> 0 | K16: =J16/K$4 -> 0
A18: 4
J20: =SUM(D$18:I$20) -> 0 | K20: =J20/K$4 -> 0
A22: 5
J24: =SUM(D$22:I$24) -> 0 | K24: =J24/K$4 -> 0
A26: 6
J28: =SUM(D$26:I$28) -> 0 | K28: =J28/K$4 -> 0
A30: 7
J32: =SUM(D$30:I$32) -> 0 | K32: =J32/K$4 -> 0
A34: 8
J36: =SUM(D$34:I$36) -> 0 | K36: =J36/K$4 -> 0
A38: 9
J40: =SUM(D$38:I$40) -> 0 | K40: =J40/K$4 -> 0
A42: 10
J44: =SUM(D$42:I$44) -> 0 | K44: =J44/K$4 -> 0
A46: 11
J48: =SUM(D$46:I$48) -> 0 | K48: =J48/K$4 -> 0
A50: 12
J52: =SUM(D$50:I$52) -> 0 | K52: =J52/K$4 -> 0

Sheet OBS C24 NORMAL
M1: CONTROL REPETIDOS
D2: TOTAL - FOLHAS | F2: =SUM(J8:J108) -> 0 | J2: INDICE | M2: COPIAR TODA CELULA A
A3: CONTRIBUINTE | H3: =F2+F3 -> 0 | K3: BASE | M3: depois ORDENAR DE A a Z
D4: OBS CAMPO 24 | J4: TOTAL | K4: 0.23
A6: 1
J8: =SUM(D$6:I$8) -> 0 | K8: =J8/K$4 -> 0
A10: 2
J12: =SUM(D$10:I$12) -> 0 | K12: =J12/K$4 -> 0
A14: 3
J16: =SUM(D$14:I$16) -> 0 | K16: =J16/K$4 -> 0
A18: 4
J20: =SUM(D$18:I$20) -> 0 | K20: =J20/K$4 -> 0
A22: 5
J24: =SUM(D$22:I$24) -> 0 | K24: =J24/K$4 -> 0
A26: 6
J28: =SUM(D$26:I$28) -> 0 | K28: =J28/K$4 -> 0
A30: 7
J32: =SUM(D$30:I$32) -> 0 | K32: =J32/K$4 -> 0
A34: 8
J36: =SUM(D$34:I$36) -> 0 | K36: =J36/K$4 -> 0
A38: 9
J40: =SUM(D$38:I$40) -> 0 | K40: =J40/K$4 -> 0
A42: 10
J44: =SUM(D$42:I$44) -> 0 | K44: =J44/K$4 -> 0
A46: 11
J48: =SUM(D$46:I$48) -> 0 | K48: =J48/K$4 -> 0
A50: 12
J52: =SUM(D$50:I$52) -> 0 | K52: =J52/K$4 -> 0
J54: FOLHA 2
D55: TOTAL - FOLHA 2 | F55: =SUM(J61:J105) -> 0
A56: CONTRIBUINTE | H56: =H3 -> 0 | K56: BASE
D57: OBS CAMPO 24 | J57: TOTAL | K57: 0.23
A59: 13
J61: =SUM(D$59:I$61) -> 0 | K61: =J61/K$4 -> 0
A63: 14
J65: =SUM(D$63:I$65) -> 0 | K65: =J65/K$4 -> 0
A67: 15
J69: =SUM(D$67:I$69) -> 0 | K69: =J69/K$4 -> 0
A71: 16
J73: =SUM(D$71:I$73) -> 0 | K73: =J73/K$4 -> 0
...

Sheet REG C40 REDUZIDA
M1: CONTROL REPETIDOS
D2: TOTAL - FOLHAS | F2: =SUM(J8:J108) -> 0 | J2: INDICE | M2: COPIAR TODA CELULA A
A3: CONTRIBUINTE | H3: =F2+F3 -> 0 | K3: BASE | M3: depois ORDENAR DE A a Z
D4: REG CAMPO 40 | J4: TOTAL | K4: 0.06
A6: 1
J8: =SUM(D$6:I$8) -> 0 | K8: =J8/K$4 -> 0
A10: 2
J12: =SUM(D$10:I$12) -> 0 | K12: =J12/K$4 -> 0
A14: 3
J16: =SUM(D$14:I$16) -> 0 | K16: =J16/K$4 -> 0
A18: 4
J20: =SUM(D$18:I$20) -> 0 | K20: =J20/K$4 -> 0
A22: 5
J24: =SUM(D$22:I$24) -> 0 | K24: =J24/K$4 -> 0
A26: 6
J28: =SUM(D$26:I$28) -> 0 | K28: =J28/K$4 -> 0
A30: 7
J32: =SUM(D$30:I$32) -> 0 | K32: =J32/K$4 -> 0
A34: 8
J36: =SUM(D$34:I$36) -> 0 | K36: =J36/K$4 -> 0
A38: 8
J40: =SUM(D$38:I$40) -> 0 | K40: =J40/K$4 -> 0
A42: 9
J44: =SUM(D$42:I$44) -> 0 | K44: =J44/K$4 -> 0
A46: 10
J48: =SUM(D$46:I$48) -> 0 | K48: =J48/K$4 -> 0
A50: 11
J52: =SUM(D$50:I$52) -> 0 | K52: =J52/K$4 -> 0
J54: FOLHA 2
D55: TOTAL - FOLHA 2 | F55: =SUM(J61:J105) -> 0
A56: CONTRIBUINTE | H56: =H3 -> 0 | K56: BASE
D57: REG CAMPO 40 | J57: TOTAL | K57: 0.06
A59: 12
J61: =SUM(D$59:I$61) -> 0 | K61: =J61/K$4 -> 0
A63: 13
J65: =SUM(D$63:I$65) -> 0 | K65: =J65/K$4 -> 0
A67: 14
J69: =SUM(D$67:I$69) -> 0 | K69: =J69/K$4 -> 0
A71: 15
J73: =SUM(D$71:I$73) -> 0 | K73: =J73/K$4 -> 0
...

Sheet REG C40 NORMAL
M1: CONTROL REPETIDOS
D2: TOTAL - FOLHAS | F2: =SUM(J8:J107) -> 0 | J2: INDICE | M2: COPIAR TODA CELULA A
A3: CONTRIBUINTE | H3: =F2+F3 -> 0 | K3: BASE | M3: depois ORDENAR DE A a Z
D4: REG CAMPO 40 | J4: TOTAL | K4: 0.23
A6: 1
J8: =SUM(D$6:I$8) -> 0 | K8: =J8/K$4 -> 0
A10: 2
J12: =SUM(D$10:I$12) -> 0 | K12: =J12/K$4 -> 0
A14: 3
J16: =SUM(D$14:I$16) -> 0 | K16: =J16/K$4 -> 0
A18: 4
J20: =SUM(D$18:I$20) -> 0 | K20: =J20/K$4 -> 0
A22: 5
J24: =SUM(D$22:I$24) -> 0 | K24: =J24/K$4 -> 0
A26: 6
J28: =SUM(D$26:I$28) -> 0 | K28: =J28/K$4 -> 0
A30: 7
J32: =SUM(D$30:I$32) -> 0 | K32: =J32/K$4 -> 0
A34: 8
J36: =SUM(D$34:I$36) -> 0 | K36: =J36/K$4 -> 0
A38: 9
J40: =SUM(D$38:I$40) -> 0 | K40: =J40/K$4 -> 0
A42: 10
J44: =SUM(D$42:I$44) -> 0 | K44: =J44/K$4 -> 0
A46: 11
J48: =SUM(D$46:I$48) -> 0 | K48: =J48/K$4 -> 0
A50: 12
J52: =SUM(D$50:I$52) -> 0 | K52: =J52/K$4 -> 0
J53: FOLHA 2
D54: TOTAL - FOLHA 2 | F54: =SUM(J60:J104) -> 0
A55: CONTRIBUINTE | H55: =H3 -> 0 | K55: BASE
D56: REG CAMPO 40 | J56: TOTAL | K56: 0.23
A58: 13
J60: =SUM(D$58:I$60) -> 0 | K60: =J60/K$4 -> 0
A62: 14
J64: =SUM(D$62:I$64) -> 0 | K64: =J64/K$4 -> 0
A66: 15
J68: =SUM(D$66:I$68) -> 0 | K68: =J68/K$4 -> 0
A70: 16
J72: =SUM(D$70:I$72) -> 0 | K72: =J72/K$4 -> 0
...

Sheet EXPORTAÇÃO
L1: CONTROL REPETIDOS
D2: TOTAL - FOLHAS | F2: =SUM(J8:J107) -> 0 | J2: INDICE | L2: COPIAR TODA CELULA A
A3: DECLARAÇÃO | H3: =F2+F3 -> 0 | L3: depois ORDENAR DE A a Z
A4: EXPORTAÇÃO | J4: TOTAL
J8: =SUM(D$6:I$8) -> 0
J12: =SUM(D$10:I$12) -> 0
J16: =SUM(D$14:I$16) -> 0
J20: =SUM(D$18:I$20) -> 0
J24: =SUM(D$22:I$24) -> 0
J28: =SUM(D$26:I$28) -> 0
J32: =SUM(D$30:I$32) -> 0
J36: =SUM(D$34:I$36) -> 0
J40: =SUM(D$38:I$40) -> 0
J44: =SUM(D$42:I$44) -> 0
J48: =SUM(D$46:I$48) -> 0
J52: =SUM(D$50:I$52) -> 0
J53: FOLHA 2
D54: TOTAL - FOLHA 2 | F54: =SUM(J60:J104) -> 0
A55: DECLARAÇÃO | H55: =H3 -> 0
A56: EXPORTAÇÃO | J56: TOTAL
J60: =SUM(D$58:I$60) -> 0
J64: =SUM(D$62:I$64) -> 0
J68: =SUM(D$66:I$68) -> 0
J72: =SUM(D$70:I$72) -> 0
J76: =SUM(D$74:I$76) -> 0
J80: =SUM(D$78:I$80) -> 0
J84: =SUM(D$82:I$84) -> 0
J88: =SUM(D$86:I$88) -> 0
J92: =SUM(D$90:I$92) -> 0
J96: =SUM(D$94:I$96) -> 0
J100: =SUM(D$98:I$100) -> 0
J104: =SUM(D$102:I$104) -> 0
