Workbook

Sheet Quadro1
C4: Quadro de amortizaçao de emprestimo - 84 Meses (24 de carência+60 de amortizações ‐ mensais e constantes)
D7: QUADRO DE AMORTIZAÇÃO DE EMPRÉSTIMO
B8: Periodo | C8: Capital em dív. | E8: Prestação | G8: Amortizações | H8: Capital em dív. | I8: Taxa | J8: Nº. Ter.
B9: (meses) | C9: no inicio do per. | D9: Juro do per. | E9: Amort. Cap. | F9: Total | G9: Acumuladas | H9: no fim do per. | I9: de juro | J9: Cap.
B10: 1 | C10: 66581.19 | D10: =-IPMT($I$10:$I$93/12,1,$J$10,$C$10:$C$93,-$H$10:$H$93) -> 0 | F10: =D10+E10 -> 0 | G10: =E10 -> 0 | H10: =$C$10-G10 -> 66581.19 | I10: 0 | J10: 60
B11: =B10+1 -> 2 | C11: =H10 -> 66581.19 | D11: =-IPMT($I$10:$I$93/12,1,$J$10,$C$10:$C$93,-$H$10:$H$93) -> 0 | F11: =D11+E11 -> 0 | G11: =G10+E11 -> 0 | H11: =$C$10-G11 -> 66581.19 | I11: 0
B12: =B11+1 -> 3 | C12: =H11 -> 66581.19 | D12: =-IPMT($I$10:$I$93/12,1,$J$10,$C$10:$C$93,-$H$10:$H$93) -> 0 | F12: =D12+E12 -> 0 | G12: =G11+E12 -> 0 | H12: =$C$10-G12 -> 66581.19 | I12: 0
B13: =B12+1 -> 4 | C13: =H12 -> 66581.19 | D13: =-IPMT($I$10:$I$93/12,1,$J$10,$C$10:$C$93,-$H$10:$H$93) -> 0 | F13: =D13+E13 -> 0 | G13: =G12+E13 -> 0 | H13: =$C$10-G13 -> 66581.19 | I13: 0
B14: =B13+1 -> 5 | C14: =H13 -> 66581.19 | D14: =-IPMT($I$10:$I$93/12,1,$J$10,$C$10:$C$93,-$H$10:$H$93) -> 0 | F14: =D14+E14 -> 0 | G14: =G13+E14 -> 0 | H14: =$C$10-G14 -> 66581.19 | I14: 0
B15: =B14+1 -> 6 | C15: =H14 -> 66581.19 | D15: =-IPMT($I$10:$I$93/12,1,$J$10,$C$10:$C$93,-$H$10:$H$93) -> 0 | F15: =D15+E15 -> 0 | G15: =G14+E15 -> 0 | H15: =$C$10-G15 -> 66581.19 | I15: 0
B16: =B15+1 -> 7 | C16: =H15 -> 66581.19 | D16: =-IPMT($I$10:$I$93/12,1,$J$10,$C$10:$C$93,-$H$10:$H$93) -> 0 | F16: =D16+E16 -> 0 | G16: =G15+E16 -> 0 | H16: =$C$10-G16 -> 66581.19 | I16: 0
B17: =B16+1 -> 8 | C17: =H16 -> 66581.19 | D17: =-IPMT($I$10:$I$93/12,1,$J$10,$C$10:$C$93,-$H$10:$H$93) -> 0 | F17: =D17+E17 -> 0 | G17: =G16+E17 -> 0 | H17: =$C$10-G17 -> 66581.19 | I17: 0
B18: =B17+1 -> 9 | C18: =H17 -> 66581.19 | D18: =-IPMT($I$10:$I$93/12,1,$J$10,$C$10:$C$93,-$H$10:$H$93) -> 0 | F18: =D18+E18 -> 0 | G18: =G17+E18 -> 0 | H18: =$C$10-G18 -> 66581.19 | I18: 0
B19: =B18+1 -> 10 | C19: =H18 -> 66581.19 | D19: =-IPMT($I$10:$I$93/12,1,$J$10,$C$10:$C$93,-$H$10:$H$93) -> 0 | F19: =D19+E19 -> 0 | G19: =G18+E19 -> 0 | H19: =$C$10-G19 -> 66581.19 | I19: 0
B20: =B19+1 -> 11 | C20: =H19 -> 66581.19 | D20: =-IPMT($I$10:$I$93/12,1,$J$10,$C$10:$C$93,-$H$10:$H$93) -> 0 | F20: =D20+E20 -> 0 | G20: =G19+E20 -> 0 | H20: =$C$10-G20 -> 66581.19 | I20: 0
B21: =B20+1 -> 12 | C21: =H20 -> 66581.19 | D21: =-IPMT($I$10:$I$93/12,1,$J$10,$C$10:$C$93,-$H$10:$H$93) -> 0 | F21: =D21+E21 -> 0 | G21: =G20+E21 -> 0 | H21: =$C$10-G21 -> 66581.19 | I21: 0
B22: =B21+1 -> 13 | C22: =H21 -> 66581.19 | D22: =-IPMT($I$10:$I$93/12,1,$J$10,$C$10:$C$93,-$H$10:$H$93) -> 89.440732 | F22: =D22+E22 -> 89.440732 | G22: =G21+E22 -> 0 | H22: =$C$10-G22 -> 66581.19 | I22: 0.01612
... B33: =B32+1 -> 24 | C33: =H32 -> 66581.19 | D33: =-IPMT($I$10:$I$93/12,1,$J$10,$C$10:$C$93,-$H$10:$H$93) -> 89.440732 | F33: =D33+E33 -> 89.440732 | G33: =G32+E33 -> 0 | H33: =$C$10-G33 -> 66581.19 | I33: 0.01612
B34: =B33+1 -> 25 | C34: =H33 -> 66581.19 | D34: =-IPMT($I$10:$I$93/12,1,$J$10,$C$10:$C$93,-$H$10:$H$93) -> 89.440732 | E34: =$C$10/$J$10 -> 1109.6865 | F34: =D34+E34 -> 1199.1272 | G34: =G33+E34 -> 1109.6865 | H34: =$C$10-G34 -> 65471.503 | I34: 0.01612
B35: =B34+1 -> 26 | C35: =H34 -> 65471.503 | D35: =-IPMT($I$10:$I$93/12,1,$J$10,$C$10:$C$93,-$H$10:$H$93) -> 87.950053 | E35: =$C$10/$J$10 -> 1109.6865 | F35: =D35+E35 -> 1197.6366 | G35: =G34+E35 -> 2219.373 | H35: =$C$10-G35 -> 64361.817 | I35: 0.01612
B36: =B35+1 -> 27 | C36: =H35 -> 64361.817 | D36: =-IPMT($I$10:$I$93/12,1,$J$10,$C$10:$C$93,-$H$10:$H$93) -> 86.459374 | E36: =$C$10/$J$10 -> 1109.6865 | F36: =D36+E36 -> 1196.1459 | G36: =G35+E36 -> 3329.0595 | H36: =$C$10-G36 -> 63252.13 | I36: 0.01612
B37: =B36+1 -> 28 | C37: =H36 -> 63252.13 | D37: =-IPMT($I$10:$I$93/12,1,$J$10,$C$10:$C$93,-$H$10:$H$93) -> 84.968695 | E37: =$C$10/$J$10 -> 1109.6865 | F37: =D37+E37 -> 1194.6552 | G37: =G36+E37 -> 4438.746 | H37: =$C$10-G37 -> 62142.444 | I37: 0.01612
B38: =B37+1 -> 29 | C38: =H37 -> 62142.444 | D38: =-IPMT($I$10:$I$93/12,1,$J$10,$C$10:$C$93,-$H$10:$H$93) -> 83.478016 | E38: =$C$10/$J$10 -> 1109.6865 | F38: =D38+E38 -> 1193.1645 | G38: =G37+E38 -> 5548.4325 | H38: =$C$10-G38 -> 61032.757 | I38: 0.01612
B39: =B38+1 -> 30 | C39: =H38 -> 61032.757 | D39: =-IPMT($I$10:$I$93/12,1,$J$10,$C$10:$C$93,-$H$10:$H$93) -> 81.987338 | E39: =$C$10/$J$10 -> 1109.6865 | F39: =D39+E39 -> 1191.6738 | G39: =G38+E39 -> 6658.119 | H39: =$C$10-G39 -> 59923.071 | I39: 0.01612
B40: =B39+1 -> 31 | C40: =H39 -> 59923.071 | D40: =-IPMT($I$10:$I$93/12,1,$J$10,$C$10:$C$93,-$H$10:$H$93) -> 80.496659 | E40: =$C$10/$J$10 -> 1109.6865 | F40: =D40+E40 -> 1190.1832 | G40: =G39+E40 -> 7767.8055 | H40: =$C$10-G40 -> 58813.385 | I40: 0.01612
B41: =B40+1 -> 32 | C41: =H40 -> 58813.385 | D41: =-IPMT($I$10:$I$93/12,1,$J$10,$C$10:$C$93,-$H$10:$H$93) -> 79.00598 | E41: =$C$10/$J$10 -> 1109.6865 | F41: =D41+E41 -> 1188.6925 | G41: =G40+E41 -> 8877.492 | H41: =$C$10-G41 -> 57703.698 | I41: 0.01612
B42: =B41+1 -> 33 | C42: =H41 -> 57703.698 | D42: =-IPMT($I$10:$I$93/12,1,$J$10,$C$10:$C$93,-$H$10:$H$93) -> 77.515301 | E42: =$C$10/$J$10 -> 1109.6865 | F42: =D42+E42 -> 1187.2018 | G42: =G41+E42 -> 9987.1785 | H42: =$C$10-G42 -> 56594.012 | I42: 0.01612
B43: =B42+1 -> 34 | C43: =H42 -> 56594.012 | D43: =-IPMT($I$10:$I$93/12,1,$J$10,$C$10:$C$93,-$H$10:$H$93) -> 76.024622 | E43: =$C$10/$J$10 -> 1109.6865 | F43: =D43+E43 -> 1185.7111 | G43: =G42+E43 -> 11096.865 | H43: =$C$10-G43 -> 55484.325 | I43: 0.01612
B44: =B43+1 -> 35 | C44: =H43 -> 55484.325 | D44: =-IPMT($I$10:$I$93/12,1,$J$10,$C$10:$C$93,-$H$10:$H$93) -> 74.533943 | E44: =$C$10/$J$10 -> 1109.6865 | F44: =D44+E44 -> 1184.2204 | G44: =G43+E44 -> 12206.551 | H44: =$C$10-G44 -> 54374.639 | I44: 0.01612
B45: =B44+1 -> 36 | C45: =H44 -> 54374.639 | D45: =-IPMT($I$10:$I$93/12,1,$J$10,$C$10:$C$93,-$H$10:$H$93) -> 73.043264 | E45: =$C$10/$J$10 -> 1109.6865 | F45: =D45+E45 -> 1182.7298 | G45: =G44+E45 -> 13316.238 | H45: =$C$10-G45 -> 53264.952 | I45: 0.01612
... B93: =B92+1 -> 84 | C93: =H92 -> 1109.6865 | D93: =-IPMT($I$10:$I$93/12,1,$J$10,$C$10:$C$93,-$H$10:$H$93) -> 3.2365856 | E93: =$C$10/$J$10 -> 1109.6865 | F93: =D93+E93 -> 1112.9231 | G93: =G92+E93 -> 66581.19 | H93: =$C$10-G93 -> 0 | I93: 0.035

Sheet Quadro2
E2: Juros | F2: Euribor 30d em 12-08-2011 | G2: Spread | H2: Soma | I2: Mínimo | J2: Máximo | K2: Considerado
E3: 12 Meses | F3: 0 | G3: 0 | H3: =SUM(F3:G3) -> 0 | I3: 0 | J3: 0 | K3: 0
E4: 13 ao 36 | F4: 0.01362 | G4: 0.0025 | H4: =SUM(F4:G4) -> 0.01612 | I4: 0.015 | J4: 0.035 | K4: 0.01612
E5: 37 ao 84 | F5: 0.01362 | G5: 0.025 | H5: =SUM(F5:G5) -> 0.03862 | I5: 0.015 | J5: 0.035 | K5: 0.035
B7: QUADRO DE AMORTIZAÇÕES DE EMPRESTIMO
B8: Mês | C8: Ano | D8: Periodo (mês) | E8: Capital em dív. no inicio do período | F8: Prestação | I8: Amortizações acumuladas | J8: Capital em dív. no fim do período | K8: Taxa de juro
F9: Juro do período | G9: Amort. De cap. | H9: Total
B10: S e t | C10: 2011 | D10: =Quadro1!B10 -> 1 | E10: =Quadro1!C10 -> 66581.19 | F10: =Quadro1!D10 -> 0 | G10: =Quadro1!E10 -> 0 | H10: =Quadro1!F10 -> 0 | I10: =Quadro1!G10 -> 0 | J10: =Quadro1!H10 -> 66581.19 | K10: =Quadro1!I10 -> 0
B11: O u t | D11: =Quadro1!B11 -> 2 | E11: =Quadro1!C11 -> 66581.19 | F11: =Quadro1!D11 -> 0 | G11: =Quadro1!E11 -> 0 | H11: =Quadro1!F11 -> 0 | I11: =Quadro1!G11 -> 0 | J11: =Quadro1!H11 -> 66581.19 | K11: =Quadro1!I11 -> 0
B12: N o v | D12: =Quadro1!B12 -> 3 | E12: =Quadro1!C12 -> 66581.19 | F12: =Quadro1!D12 -> 0 | G12: =Quadro1!E12 -> 0 | H12: =Quadro1!F12 -> 0 | I12: =Quadro1!G12 -> 0 | J12: =Quadro1!H12 -> 66581.19 | K12: =Quadro1!I12 -> 0
B13: D e z | D13: =Quadro1!B13 -> 4 | E13: =Quadro1!C13 -> 66581.19 | F13: =Quadro1!D13 -> 0 | G13: =Quadro1!E13 -> 0 | H13: =Quadro1!F13 -> 0 | I13: =Quadro1!G13 -> 0 | J13: =Quadro1!H13 -> 66581.19 | K13: =Quadro1!I13 -> 0
B14: J a n | C14: 2012 | D14: =Quadro1!B14 -> 5 | E14: =Quadro1!C14 -> 66581.19 | F14: =Quadro1!D14 -> 0 | G14: =Quadro1!E14 -> 0 | H14: =Quadro1!F14 -> 0 | I14: =Quadro1!G14 -> 0 | J14: =Quadro1!H14 -> 66581.19 | K14: =Quadro1!I14 -> 0
B15: F ev | D15: =Quadro1!B15 -> 6 | E15: =Quadro1!C15 -> 66581.19 | F15: =Quadro1!D15 -> 0 | G15: =Quadro1!E15 -> 0 | H15: =Quadro1!F15 -> 0 | I15: =Quadro1!G15 -> 0 | J15: =Quadro1!H15 -> 66581.19 | K15: =Quadro1!I15 -> 0
B16: M a r | D16: =Quadro1!B16 -> 7 | E16: =Quadro1!C16 -> 66581.19 | F16: =Quadro1!D16 -> 0 | G16: =Quadro1!E16 -> 0 | H16: =Quadro1!F16 -> 0 | I16: =Quadro1!G16 -> 0 | J16: =Quadro1!H16 -> 66581.19 | K16: =Quadro1!I16 -> 0
B17: A b r | D17: =Quadro1!B17 -> 8 | E17: =Quadro1!C17 -> 66581.19 | F17: =Quadro1!D17 -> 0 | G17: =Quadro1!E17 -> 0 | H17: =Quadro1!F17 -> 0 | I17: =Quadro1!G17 -> 0 | J17: =Quadro1!H17 -> 66581.19 | K17: =Quadro1!I17 -> 0
B18: M a i | D18: =Quadro1!B18 -> 9 | E18: =Quadro1!C18 -> 66581.19 | F18: =Quadro1!D18 -> 0 | G18: =Quadro1!E18 -> 0 | H18: =Quadro1!F18 -> 0 | I18: =Quadro1!G18 -> 0 | J18: =Quadro1!H18 -> 66581.19 | K18: =Quadro1!I18 -> 0
B19: J u n | D19: =Quadro1!B19 -> 10 | E19: =Quadro1!C19 -> 66581.19 | F19: =Quadro1!D19 -> 0 | G19: =Quadro1!E19 -> 0 | H19: =Quadro1!F19 -> 0 | I19: =Quadro1!G19 -> 0 | J19: =Quadro1!H19 -> 66581.19 | K19: =Quadro1!I19 -> 0
B20: J u l | D20: =Quadro1!B20 -> 11 | E20: =Quadro1!C20 -> 66581.19 | F20: =Quadro1!D20 -> 0 | G20: =Quadro1!E20 -> 0 | H20: =Quadro1!F20 -> 0 | I20: =Quadro1!G20 -> 0 | J20: =Quadro1!H20 -> 66581.19 | K20: =Quadro1!I20 -> 0
B21: Ago | D21: =Quadro1!B21 -> 12 | E21: =Quadro1!C21 -> 66581.19 | F21: =Quadro1!D21 -> 0 | G21: =Quadro1!E21 -> 0 | H21: =Quadro1!F21 -> 0 | I21: =Quadro1!G21 -> 0 | J21: =Quadro1!H21 -> 66581.19 | K21: =Quadro1!I21 -> 0
B22: S e t | D22: =Quadro1!B22 -> 13 | E22: =Quadro1!C22 -> 66581.19 | F22: =Quadro1!D22 -> 89.440732 | G22: =Quadro1!E22 -> 0 | H22: =Quadro1!F22 -> 89.440732 | I22: =Quadro1!G22 -> 0 | J22: =Quadro1!H22 -> 66581.19 | K22: =Quadro1!I22 -> 0.01612
B23: O u t | D23: =Quadro1!B23 -> 14 | E23: =Quadro1!C23 -> 66581.19 | F23: =Quadro1!D23 -> 89.440732 | G23: =Quadro1!E23 -> 0 | H23: =Quadro1!F23 -> 89.440732 | I23: =Quadro1!G23 -> 0 | J23: =Quadro1!H23 -> 66581.19 | K23: =Quadro1!I23 -> 0.01612
B24: N o v | D24: =Quadro1!B24 -> 15 | E24: =Quadro1!C24 -> 66581.19 | F24: =Quadro1!D24 -> 89.440732 | G24: =Quadro1!E24 -> 0 | H24: =Quadro1!F24 -> 89.440732 | I24: =Quadro1!G24 -> 0 | J24: =Quadro1!H24 -> 66581.19 | K24: =Quadro1!I24 -> 0.01612
B25: D e z | D25: =Quadro1!B25 -> 16 | E25: =Quadro1!C25 -> 66581.19 | F25: =Quadro1!D25 -> 89.440732 | G25: =Quadro1!E25 -> 0 | H25: =Quadro1!F25 -> 89.440732 | I25: =Quadro1!G25 -> 0 | J25: =Quadro1!H25 -> 66581.19 | K25: =Quadro1!I25 -> 0.01612
B26: J a n | C26: 2013 | D26: =Quadro1!B26 -> 17 | E26: =Quadro1!C26 -> 66581.19 | F26: =Quadro1!D26 -> 89.440732 | G26: =Quadro1!E26 -> 0 | H26: =Quadro1!F26 -> 89.440732 | I26: =Quadro1!G26 -> 0 | J26: =Quadro1!H26 -> 66581.19 | K26: =Quadro1!I26 -> 0.01612
B27: F ev | D27: =Quadro1!B27 -> 18 | E27: =Quadro1!C27 -> 66581.19 | F27: =Quadro1!D27 -> 89.440732 | G27: =Quadro1!E27 -> 0 | H27: =Quadro1!F27 -> 89.440732 | I27: =Quadro1!G27 -> 0 | J27: =Quadro1!H27 -> 66581.19 | K27: =Quadro1!I27 -> 0.01612
B28: M a r | D28: =Quadro1!B28 -> 19 | E28: =Quadro1!C28 -> 66581.19 | F28: =Quadro1!D28 -> 89.440732 | G28: =Quadro1!E28 -> 0 | H28: =Quadro1!F28 -> 89.440732 | I28: =Quadro1!G28 -> 0 | J28: =Quadro1!H28 -> 66581.19 | K28: =Quadro1!I28 -> 0.01612
B29: A b r | D29: =Quadro1!B29 -> 20 | E29: =Quadro1!C29 -> 66581.19 | F29: =Quadro1!D29 -> 89.440732 | G29: =Quadro1!E29 -> 0 | H29: =Quadro1!F29 -> 89.440732 | I29: =Quadro1!G29 -> 0 | J29: =Quadro1!H29 -> 66581.19 | K29: =Quadro1!I29 -> 0.01612
B30: M a i | D30: =Quadro1!B30 -> 21 | E30: =Quadro1!C30 -> 66581.19 | F30: =Quadro1!D30 -> 89.440732 | G30: =Quadro1!E30 -> 0 | H30: =Quadro1!F30 -> 89.440732 | I30: =Quadro1!G30 -> 0 | J30: =Quadro1!H30 -> 66581.19 | K30: =Quadro1!I30 -> 0.01612
B31: J u n | D31: =Quadro1!B31 -> 22 | E31: =Quadro1!C31 -> 66581.19 | F31: =Quadro1!D31 -> 89.440732 | G31: =Quadro1!E31 -> 0 | H31: =Quadro1!F31 -> 89.440732 | I31: =Quadro1!G31 -> 0 | J31: =Quadro1!H31 -> 66581.19 | K31: =Quadro1!I31 -> 0.01612
B32: J u l | D32: =Quadro1!B32 -> 23 | E32: =Quadro1!C32 -> 66581.19 | F32: =Quadro1!D32 -> 89.440732 | G32: =Quadro1!E32 -> 0 | H32: =Quadro1!F32 -> 89.440732 | I32: =Quadro1!G32 -> 0 | J32: =Quadro1!H32 -> 66581.19 | K32: =Quadro1!I32 -> 0.01612
B33: Ago | D33: =Quadro1!B33 -> 24 | E33: =Quadro1!C33 -> 66581.19 | F33: =Quadro1!D33 -> 89.440732 | G33: =Quadro1!E33 -> 0 | H33: =Quadro1!F33 -> 89.440732 | I33: =Quadro1!G33 -> 0 | J33: =Quadro1!H33 -> 66581.19 | K33: =Quadro1!I33 -> 0.01612
B34: S e t | D34: =Quadro1!B34 -> 25 | E34: =Quadro1!C34 -> 66581.19 | F34: =Quadro1!D34 -> 89.440732 | G34: =Quadro1!E34 -> 1109.6865 | H34: =Quadro1!F34 -> 1199.1272 | I34: =Quadro1!G34 -> 1109.6865 | J34: =Quadro1!H34 -> 65471.503 | K34: =Quadro1!I34 -> 0.01612
B35: O u t | D35: =Quadro1!B35 -> 26 | E35: =Quadro1!C35 -> 65471.503 | F35: =Quadro1!D35 -> 87.950053 | G35: =Quadro1!E35 -> 1109.6865 | H35: =Quadro1!F35 -> 1197.6366 | I35: =Quadro1!G35 -> 2219.373 | J35: =Quadro1!H35 -> 64361.817 | K35: =Quadro1!I35 -> 0.01612
B36: N o v | D36: =Quadro1!B36 -> 27 | E36: =Quadro1!C36 -> 64361.817 | F36: =Quadro1!D36 -> 86.459374 | G36: =Quadro1!E36 -> 1109.6865 | H36: =Quadro1!F36 -> 1196.1459 | I36: =Quadro1!G36 -> 3329.0595 | J36: =Quadro1!H36 -> 63252.13 | K36: =Quadro1!I36 -> 0.01612
B37: D e z | D37: =Quadro1!B37 -> 28 | E37: =Quadro1!C37 -> 63252.13 | F37: =Quadro1!D37 -> 84.968695 | G37: =Quadro1!E37 -> 1109.6865 | H37: =Quadro1!F37 -> 1194.6552 | I37: =Quadro1!G37 -> 4438.746 | J37: =Quadro1!H37 -> 62142.444 | K37: =Quadro1!I37 -> 0.01612
B38: J a n | C38: 2014 | D38: =Quadro1!B38 -> 29 | E38: =Quadro1!C38 -> 62142.444 | F38: =Quadro1!D38 -> 83.478016 | G38: =Quadro1!E38 -> 1109.6865 | H38: =Quadro1!F38 -> 1193.1645 | I38: =Quadro1!G38 -> 5548.4325 | J38: =Quadro1!H38 -> 61032.757 | K38: =Quadro1!I38 -> 0.01612
B39: F ev | D39: =Quadro1!B39 -> 30 | E39: =Quadro1!C39 -> 61032.757 | F39: =Quadro1!D39 -> 81.987338 | G39: =Quadro1!E39 -> 1109.6865 | H39: =Quadro1!F39 -> 1191.6738 | I39: =Quadro1!G39 -> 6658.119 | J39: =Quadro1!H39 -> 59923.071 | K39: =Quadro1!I39 -> 0.01612
B40: M a r | D40: =Quadro1!B40 -> 31 | E40: =Quadro1!C40 -> 59923.071 | F40: =Quadro1!D40 -> 80.496659 | G40: =Quadro1!E40 -> 1109.6865 | H40: =Quadro1!F40 -> 1190.1832 | I40: =Quadro1!G40 -> 7767.8055 | J40: =Quadro1!H40 -> 58813.385 | K40: =Quadro1!I40 -> 0.01612
B41: A b r | D41: =Quadro1!B41 -> 32 | E41: =Quadro1!C41 -> 58813.385 | F41: =Quadro1!D41 -> 79.00598 | G41: =Quadro1!E41 -> 1109.6865 | H41: =Quadro1!F41 -> 1188.6925 | I41: =Quadro1!G41 -> 8877.492 | J41: =Quadro1!H41 -> 57703.698 | K41: =Quadro1!I41 -> 0.01612
B42: M a i | D42: =Quadro1!B42 -> 33 | E42: =Quadro1!C42 -> 57703.698 | F42: =Quadro1!D42 -> 77.515301 | G42: =Quadro1!E42 -> 1109.6865 | H42: =Quadro1!F42 -> 1187.2018 | I42: =Quadro1!G42 -> 9987.1785 | J42: =Quadro1!H42 -> 56594.012 | K42: =Quadro1!I42 -> 0.01612
B43: J u n | D43: =Quadro1!B43 -> 34 | E43: =Quadro1!C43 -> 56594.012 | F43: =Quadro1!D43 -> 76.024622 | G43: =Quadro1!E43 -> 1109.6865 | H43: =Quadro1!F43 -> 1185.7111 | I43: =Quadro1!G43 -> 11096.865 | J43: =Quadro1!H43 -> 55484.325 | K43: =Quadro1!I43 -> 0.01612
B44: J u l | D44: =Quadro1!B44 -> 35 | E44: =Quadro1!C44 -> 55484.325 | F44: =Quadro1!D44 -> 74.533943 | G44: =Quadro1!E44 -> 1109.6865 | H44: =Quadro1!F44 -> 1184.2204 | I44: =Quadro1!G44 -> 12206.551 | J44: =Quadro1!H44 -> 54374.639 | K44: =Quadro1!I44 -> 0.01612
B45: Ago | D45: =Quadro1!B45 -> 36 | E45: =Quadro1!C45 -> 54374.639 | F45: =Quadro1!D45 -> 73.043264 | G45: =Quadro1!E45 -> 1109.6865 | H45: =Quadro1!F45 -> 1182.7298 | I45: =Quadro1!G45 -> 13316.238 | J45: =Quadro1!H45 -> 53264.952 | K45: =Quadro1!I45 -> 0.01612
B46: S e t | D46: =Quadro1!B46 -> 37 | E46: =Quadro1!C46 -> 53264.952 | F46: =Quadro1!D46 -> 155.35611 | G46: =Quadro1!E46 -> 1109.6865 | H46: =Quadro1!F46 -> 1265.0426 | I46: =Quadro1!G46 -> 14425.924 | J46: =Quadro1!H46 -> 52155.266 | K46: =Quadro1!I46 -> 0.035
B47: O u t | D47: =Quadro1!B47 -> 38 | E47: =Quadro1!C47 -> 52155.266 | F47: =Quadro1!D47 -> 152.11952 | G47: =Quadro1!E47 -> 1109.6865 | H47: =Quadro1!F47 -> 1261.806 | I47: =Quadro1!G47 -> 15535.611 | J47: =Quadro1!H47 -> 51045.579 | K47: =Quadro1!I47 -> 0.035
B48: N o v | D48: =Quadro1!B48 -> 39 | E48: =Quadro1!C48 -> 51045.579 | F48: =Quadro1!D48 -> 148.88294 | G48: =Quadro1!E48 -> 1109.6865 | H48: =Quadro1!F48 -> 1258.5694 | I48: =Quadro1!G48 -> 16645.298 | J48: =Quadro1!H48 -> 49935.893 | K48: =Quadro1!I48 -> 0.035
B49: D e z | D49: =Quadro1!B49 -> 40 | E49: =Quadro1!C49 -> 49935.893 | F49: =Quadro1!D49 -> 145.64635 | G49: =Quadro1!E49 -> 1109.6865 | H49: =Quadro1!F49 -> 1255.3329 | I49: =Quadro1!G49 -> 17754.984 | J49: =Quadro1!H49 -> 48826.206 | K49: =Quadro1!I49 -> 0.035
B50: J a n | C50: 2015 | D50: =Quadro1!B50 -> 41 | E50: =Quadro1!C50 -> 48826.206 | F50: =Quadro1!D50 -> 142.40977 | G50: =Quadro1!E50 -> 1109.6865 | H50: =Quadro1!F50 -> 1252.0963 | I50: =Quadro1!G50 -> 18864.671 | J50: =Quadro1!H50 -> 47716.52 | K50: =Quadro1!I50 -> 0.035
B51: F ev | D51: =Quadro1!B51 -> 42 | E51: =Quadro1!C51 -> 47716.52 | F51: =Quadro1!D51 -> 139.17318 | G51: =Quadro1!E51 -> 1109.6865 | H51: =Quadro1!F51 -> 1248.8597 | I51: =Quadro1!G51 -> 19974.357 | J51: =Quadro1!H51 -> 46606.833 | K51: =Quadro1!I51 -> 0.035
B52: M a r | D52: =Quadro1!B52 -> 43 | E52: =Quadro1!C52 -> 46606.833 | F52: =Quadro1!D52 -> 135.9366 | G52: =Quadro1!E52 -> 1109.6865 | H52: =Quadro1!F52 -> 1245.6231 | I52: =Quadro1!G52 -> 21084.043 | J52: =Quadro1!H52 -> 45497.147 | K52: =Quadro1!I52 -> 0.035
B53: A b r | D53: =Quadro1!B53 -> 44 | E53: =Quadro1!C53 -> 45497.147 | F53: =Quadro1!D53 -> 132.70001 | G53: =Quadro1!E53 -> 1109.6865 | H53: =Quadro1!F53 -> 1242.3865 | I53: =Quadro1!G53 -> 22193.73 | J53: =Quadro1!H53 -> 44387.46 | K53: =Quadro1!I53 -> 0.035
B54: M a i | D54: =Quadro1!B54 -> 45 | E54: =Quadro1!C54 -> 44387.46 | F54: =Quadro1!D54 -> 129.46343 | G54: =Quadro1!E54 -> 1109.6865 | H54: =Quadro1!F54 -> 1239.1499 | I54: =Quadro1!G54 -> 23303.416 | J54: =Quadro1!H54 -> 43277.774 | K54: =Quadro1!I54 -> 0.035
B55: J u n | D55: =Quadro1!B55 -> 46 | E55: =Quadro1!C55 -> 43277.774 | F55: =Quadro1!D55 -> 126.22684 | G55: =Quadro1!E55 -> 1109.6865 | H55: =Quadro1!F55 -> 1235.9133 | I55: =Quadro1!G55 -> 24413.103 | J55: =Quadro1!H55 -> 42168.087 | K55: =Quadro1!I55 -> 0.035
B56: J u l | D56: =Quadro1!B56 -> 47 | E56: =Quadro1!C56 -> 42168.087 | F56: =Quadro1!D56 -> 122.99025 | G56: =Quadro1!E56 -> 1109.6865 | H56: =Quadro1!F56 -> 1232.6768 | I56: =Quadro1!G56 -> 25522.789 | J56: =Quadro1!H56 -> 41058.401 | K56: =Quadro1!I56 -> 0.035
B57: Ago | D57: =Quadro1!B57 -> 48 | E57: =Quadro1!C57 -> 41058.401 | F57: =Quadro1!D57 -> 119.75367 | G57: =Quadro1!E57 -> 1109.6865 | H57: =Quadro1!F57 -> 1229.4402 | I57: =Quadro1!G57 -> 26632.476 | J57: =Quadro1!H57 -> 39948.714 | K57: =Quadro1!I57 -> 0.035
B58: S e t | D58: =Quadro1!B58 -> 49 | E58: =Quadro1!C58 -> 39948.714 | F58: =Quadro1!D58 -> 116.51708 | G58: =Quadro1!E58 -> 1109.6865 | H58: =Quadro1!F58 -> 1226.2036 | I58: =Quadro1!G58 -> 27742.162 | J58: =Quadro1!H58 -> 38839.028 | K58: =Quadro1!I58 -> 0.035
B59: O u t | D59: =Quadro1!B59 -> 50 | E59: =Quadro1!C59 -> 38839.028 | F59: =Quadro1!D59 -> 113.2805 | G59: =Quadro1!E59 -> 1109.6865 | H59: =Quadro1!F59 -> 1222.967 | I59: =Quadro1!G59 -> 28851.849 | J59: =Quadro1!H59 -> 37729.341 | K59: =Quadro1!I59 -> 0.035
B60: N o v | D60: =Quadro1!B60 -> 51 | E60: =Quadro1!C60 -> 37729.341 | F60: =Quadro1!D60 -> 110.04391 | G60: =Quadro1!E60 -> 1109.6865 | H60: =Quadro1!F60 -> 1219.7304 | I60: =Quadro1!G60 -> 29961.535 | J60: =Quadro1!H60 -> 36619.655 | K60: =Quadro1!I60 -> 0.035
B61: D e z | D61: =Quadro1!B61 -> 52 | E61: =Quadro1!C61 -> 36619.655 | F61: =Quadro1!D61 -> 106.80733 | G61: =Quadro1!E61 -> 1109.6865 | H61: =Quadro1!F61 -> 1216.4938 | I61: =Quadro1!G61 -> 31071.222 | J61: =Quadro1!H61 -> 35509.968 | K61: =Quadro1!I61 -> 0.035
B62: J a n | C62: 2016 | D62: =Quadro1!B62 -> 53 | E62: =Quadro1!C62 -> 35509.968 | F62: =Quadro1!D62 -> 103.57074 | G62: =Quadro1!E62 -> 1109.6865 | H62: =Quadro1!F62 -> 1213.2572 | I62: =Quadro1!G62 -> 32180.908 | J62: =Quadro1!H62 -> 34400.282 | K62: =Quadro1!I62 -> 0.035
B63: F ev | D63: =Quadro1!B63 -> 54 | E63: =Quadro1!C63 -> 34400.282 | F63: =Quadro1!D63 -> 100.33415 | G63: =Quadro1!E63 -> 1109.6865 | H63: =Quadro1!F63 -> 1210.0207 | I63: =Quadro1!G63 -> 33290.595 | J63: =Quadro1!H63 -> 33290.595 | K63: =Quadro1!I63 -> 0.035
B64: M a r | D64: =Quadro1!B64 -> 55 | E64: =Quadro1!C64 -> 33290.595 | F64: =Quadro1!D64 -> 97.097569 | G64: =Quadro1!E64 -> 1109.6865 | H64: =Quadro1!F64 -> 1206.7841 | I64: =Quadro1!G64 -> 34400.282 | J64: =Quadro1!H64 -> 32180.908 | K64: =Quadro1!I64 -> 0.035
B65: A b r | D65: =Quadro1!B65 -> 56 | E65: =Quadro1!C65 -> 32180.908 | F65: =Quadro1!D65 -> 93.860983 | G65: =Quadro1!E65 -> 1109.6865 | H65: =Quadro1!F65 -> 1203.5475 | I65: =Quadro1!G65 -> 35509.968 | J65: =Quadro1!H65 -> 31071.222 | K65: =Quadro1!I65 -> 0.035
B66: M a i | D66: =Quadro1!B66 -> 57 | E66: =Quadro1!C66 -> 31071.222 | F66: =Quadro1!D66 -> 90.624397 | G66: =Quadro1!E66 -> 1109.6865 | H66: =Quadro1!F66 -> 1200.3109 | I66: =Quadro1!G66 -> 36619.655 | J66: =Quadro1!H66 -> 29961.535 | K66: =Quadro1!I66 -> 0.035
B67: J u n | D67: =Quadro1!B67 -> 58 | E67: =Quadro1!C67 -> 29961.535 | F67: =Quadro1!D67 -> 87.387812 | G67: =Quadro1!E67 -> 1109.6865 | H67: =Quadro1!F67 -> 1197.0743 | I67: =Quadro1!G67 -> 37729.341 | J67: =Quadro1!H67 -> 28851.849 | K67: =Quadro1!I67 -> 0.035
B68: J u l | D68: =Quadro1!B68 -> 59 | E68: =Quadro1!C68 -> 28851.849 | F68: =Quadro1!D68 -> 84.151226 | G68: =Quadro1!E68 -> 1109.6865 | H68: =Quadro1!F68 -> 1193.8377 | I68: =Quadro1!G68 -> 38839.028 | J68: =Quadro1!H68 -> 27742.162 | K68: =Quadro1!I68 -> 0.035
B69: Ago | D69: =Quadro1!B69 -> 60 | E69: =Quadro1!C69 -> 27742.162 | F69: =Quadro1!D69 -> 80.914641 | G69: =Quadro1!E69 -> 1109.6865 | H69: =Quadro1!F69 -> 1190.6011 | I69: =Quadro1!G69 -> 39948.714 | J69: =Quadro1!H69 -> 26632.476 | K69: =Quadro1!I69 -> 0.035
B70: S e t | D70: =Quadro1!B70 -> 61 | E70: =Quadro1!C70 -> 26632.476 | F70: =Quadro1!D70 -> 77.678055 | G70: =Quadro1!E70 -> 1109.6865 | H70: =Quadro1!F70 -> 1187.3646 | I70: =Quadro1!G70 -> 41058.401 | J70: =Quadro1!H70 -> 25522.789 | K70: =Quadro1!I70 -> 0.035
B71: O u t | D71: =Quadro1!B71 -> 62 | E71: =Quadro1!C71 -> 25522.789 | F71: =Quadro1!D71 -> 74.441469 | G71: =Quadro1!E71 -> 1109.6865 | H71: =Quadro1!F71 -> 1184.128 | I71: =Quadro1!G71 -> 42168.087 | J71: =Quadro1!H71 -> 24413.103 | K71: =Quadro1!I71 -> 0.035
B72: N o v | D72: =Quadro1!B72 -> 63 | E72: =Quadro1!C72 -> 24413.103 | F72: =Quadro1!D72 -> 71.204884 | G72: =Quadro1!E72 -> 1109.6865 | H72: =Quadro1!F72 -> 1180.8914 | I72: =Quadro1!G72 -> 43277.774 | J72: =Quadro1!H72 -> 23303.416 | K72: =Quadro1!I72 -> 0.035
B73: D e z | D73: =Quadro1!B73 -> 64 | E73: =Quadro1!C73 -> 23303.416 | F73: =Quadro1!D73 -> 67.968298 | G73: =Quadro1!E73 -> 1109.6865 | H73: =Quadro1!F73 -> 1177.6548 | I73: =Quadro1!G73 -> 44387.46 | J73: =Quadro1!H73 -> 22193.73 | K73: =Quadro1!I73 -> 0.035
B74: J a n | C74: 2017 | D74: =Quadro1!B74 -> 65 | E74: =Quadro1!C74 -> 22193.73 | F74: =Quadro1!D74 -> 64.731712 | G74: =Quadro1!E74 -> 1109.6865 | H74: =Quadro1!F74 -> 1174.4182 | I74: =Quadro1!G74 -> 45497.147 | J74: =Quadro1!H74 -> 21084.043 | K74: =Quadro1!I74 -> 0.035
B75: F ev | D75: =Quadro1!B75 -> 66 | E75: =Quadro1!C75 -> 21084.043 | F75: =Quadro1!D75 -> 61.495127 | G75: =Quadro1!E75 -> 1109.6865 | H75: =Quadro1!F75 -> 1171.1816 | I75: =Quadro1!G75 -> 46606.833 | J75: =Quadro1!H75 -> 19974.357 | K75: =Quadro1!I75 -> 0.035
B76: M a r | D76: =Quadro1!B76 -> 67 | E76: =Quadro1!C76 -> 19974.357 | F76: =Quadro1!D76 -> 58.258541 | G76: =Quadro1!E76 -> 1109.6865 | H76: =Quadro1!F76 -> 1167.945 | I76: =Quadro1!G76 -> 47716.52 | J76: =Quadro1!H76 -> 18864.67 | K76: =Quadro1!I76 -> 0.035
B77: A b r | D77: =Quadro1!B77 -> 68 | E77: =Quadro1!C77 -> 18864.67 | F77: =Quadro1!D77 -> 55.021956 | G77: =Quadro1!E77 -> 1109.6865 | H77: =Quadro1!F77 -> 1164.7085 | I77: =Quadro1!G77 -> 48826.206 | J77: =Quadro1!H77 -> 17754.984 | K77: =Quadro1!I77 -> 0.035
B78: M a i | D78: =Quadro1!B78 -> 69 | E78: =Quadro1!C78 -> 17754.984 | F78: =Quadro1!D78 -> 51.78537 | G78: =Quadro1!E78 -> 1109.6865 | H78: =Quadro1!F78 -> 1161.4719 | I78: =Quadro1!G78 -> 49935.893 | J78: =Quadro1!H78 -> 16645.297 | K78: =Quadro1!I78 -> 0.035
B79: J u n | D79: =Quadro1!B79 -> 70 | E79: =Quadro1!C79 -> 16645.297 | F79: =Quadro1!D79 -> 48.548784 | G79: =Quadro1!E79 -> 1109.6865 | H79: =Quadro1!F79 -> 1158.2353 | I79: =Quadro1!G79 -> 51045.579 | J79: =Quadro1!H79 -> 15535.611 | K79: =Quadro1!I79 -> 0.035
B80: J u l | D80: =Quadro1!B80 -> 71 | E80: =Quadro1!C80 -> 15535.611 | F80: =Quadro1!D80 -> 45.312199 | G80: =Quadro1!E80 -> 1109.6865 | H80: =Quadro1!F80 -> 1154.9987 | I80: =Quadro1!G80 -> 52155.266 | J80: =Quadro1!H80 -> 14425.924 | K80: =Quadro1!I80 -> 0.035
B81: Ago | D81: =Quadro1!B81 -> 72 | E81: =Quadro1!C81 -> 14425.924 | F81: =Quadro1!D81 -> 42.075613 | G81: =Quadro1!E81 -> 1109.6865 | H81: =Quadro1!F81 -> 1151.7621 | I81: =Quadro1!G81 -> 53264.952 | J81: =Quadro1!H81 -> 13316.238 | K81: =Quadro1!I81 -> 0.035
B82: S e t | D82: =Quadro1!B82 -> 73 | E82: =Quadro1!C82 -> 13316.238 | F82: =Quadro1!D82 -> 38.839027 | G82: =Quadro1!E82 -> 1109.6865 | H82: =Quadro1!F82 -> 1148.5255 | I82: =Quadro1!G82 -> 54374.639 | J82: =Quadro1!H82 -> 12206.551 | K82: =Quadro1!I82 -> 0.035
B83: O u t | D83: =Quadro1!B83 -> 74 | E83: =Quadro1!C83 -> 12206.551 | F83: =Quadro1!D83 -> 35.602442 | G83: =Quadro1!E83 -> 1109.6865 | H83: =Quadro1!F83 -> 1145.2889 | I83: =Quadro1!G83 -> 55484.325 | J83: =Quadro1!H83 -> 11096.865 | K83: =Quadro1!I83 -> 0.035
B84: N o v | D84: =Quadro1!B84 -> 75 | E84: =Quadro1!C84 -> 11096.865 | F84: =Quadro1!D84 -> 32.365856 | G84: =Quadro1!E84 -> 1109.6865 | H84: =Quadro1!F84 -> 1142.0524 | I84: =Quadro1!G84 -> 56594.012 | J84: =Quadro1!H84 -> 9987.1785 | K84: =Quadro1!I84 -> 0.035
B85: D e z | D85: =Quadro1!B85 -> 76 | E85: =Quadro1!C85 -> 9987.1785 | F85: =Quadro1!D85 -> 29.129271 | G85: =Quadro1!E85 -> 1109.6865 | H85: =Quadro1!F85 -> 1138.8158 | I85: =Quadro1!G85 -> 57703.698 | J85: =Quadro1!H85 -> 8877.492 | K85: =Quadro1!I85 -> 0.035
B86: J a n | C86: 2018 | D86: =Quadro1!B86 -> 77 | E86: =Quadro1!C86 -> 8877.492 | F86: =Quadro1!D86 -> 25.892685 | G86: =Quadro1!E86 -> 1109.6865 | H86: =Quadro1!F86 -> 1135.5792 | I86: =Quadro1!G86 -> 58813.385 | J86: =Quadro1!H86 -> 7767.8055 | K86: =Quadro1!I86 -> 0.035
B87: F ev | D87: =Quadro1!B87 -> 78 | E87: =Quadro1!C87 -> 7767.8055 | F87: =Quadro1!D87 -> 22.656099 | G87: =Quadro1!E87 -> 1109.6865 | H87: =Quadro1!F87 -> 1132.3426 | I87: =Quadro1!G87 -> 59923.071 | J87: =Quadro1!H87 -> 6658.119 | K87: =Quadro1!I87 -> 0.035
B88: M a r | D88: =Quadro1!B88 -> 79 | E88: =Quadro1!C88 -> 6658.119 | F88: =Quadro1!D88 -> 19.419514 | G88: =Quadro1!E88 -> 1109.6865 | H88: =Quadro1!F88 -> 1129.106 | I88: =Quadro1!G88 -> 61032.758 | J88: =Quadro1!H88 -> 5548.4325 | K88: =Quadro1!I88 -> 0.035
B89: A b r | D89: =Quadro1!B89 -> 80 | E89: =Quadro1!C89 -> 5548.4325 | F89: =Quadro1!D89 -> 16.182928 | G89: =Quadro1!E89 -> 1109.6865 | H89: =Quadro1!F89 -> 1125.8694 | I89: =Quadro1!G89 -> 62142.444 | J89: =Quadro1!H89 -> 4438.746 | K89: =Quadro1!I89 -> 0.035
B90: M a i | D90: =Quadro1!B90 -> 81 | E90: =Quadro1!C90 -> 4438.746 | F90: =Quadro1!D90 -> 12.946342 | G90: =Quadro1!E90 -> 1109.6865 | H90: =Quadro1!F90 -> 1122.6328 | I90: =Quadro1!G90 -> 63252.131 | J90: =Quadro1!H90 -> 3329.0595 | K90: =Quadro1!I90 -> 0.035
B91: J u n | D91: =Quadro1!B91 -> 82 | E91: =Quadro1!C91 -> 3329.0595 | F91: =Quadro1!D91 -> 9.7097569 | G91: =Quadro1!E91 -> 1109.6865 | H91: =Quadro1!F91 -> 1119.3963 | I91: =Quadro1!G91 -> 64361.817 | J91: =Quadro1!H91 -> 2219.373 | K91: =Quadro1!I91 -> 0.035
B92: J u l | D92: =Quadro1!B92 -> 83 | E92: =Quadro1!C92 -> 2219.373 | F92: =Quadro1!D92 -> 6.4731712 | G92: =Quadro1!E92 -> 1109.6865 | H92: =Quadro1!F92 -> 1116.1597 | I92: =Quadro1!G92 -> 65471.504 | J92: =Quadro1!H92 -> 1109.6865 | K92: =Quadro1!I92 -> 0.035
B93: Ago | D93: =Quadro1!B93 -> 84 | E93: =Quadro1!C93 -> 1109.6865 | F93: =Quadro1!D93 -> 3.2365856 | G93: =Quadro1!E93 -> 1109.6865 | H93: =Quadro1!F93 -> 1112.9231 | I93: =Quadro1!G93 -> 66581.19 | J93: =Quadro1!H93 -> 0 | K93: =Quadro1!I93 -> 0.035

Sheet Folha3
