Workbook

Sheet Quadro1
C4: Quadro de amortizaçao de emprestimo - 84 Meses (24 de carência+60 de amortizações ‐ mensais e constantes)
D7: QUADRO DE AMORTIZAÇÃO DE EMPRÉSTIMO
B8: Periodo | C8: Capital em dív. | E8: Prestação | G8: Amortizações | H8: Capital em dív. | I8: Taxa | J8: Nº. Ter.
B9: (meses) | C9: no inicio do per. | D9: Juro do per. | E9: Amort. Cap. | F9: Total | G9: Acumuladas | H9: no fim do per. | I9: de juro | J9: Cap.
B10: 1 | C10: 66581.19 | D10: =-IPMT($I$10:$I$93/12,1,$J$10,$C$10:$C$93,-$H$10:$H$93) -> 0 | F10: =D10+E10 -> 0 | G10: =E10 -> 0 | H10: =$C$10-G10 -> 66581.19 | I10: 0 | J10: 60
B11: =B10+1 -> 2 | C11: =H10 -> 66581.19 | D11: =-IPMT($I$10:$I$93/12,1,$J$10,$C$10:$C$93,-$H$10:$H$93) -> 0 | F11: =D11+E11 -> 0 | G11: =G10+E11 -> 0 | H11: =$C$10-G11 -> 66581.19 | I11: 0
B12: =B11+1 -> 3 | C12: =H11 -> 66581.19 | D12: =-IPMT($I$10:$I$93/12,1,$J$10,$C$10:$C$93,-$H$10:$H$93) -> 0 | F12: =D12+E12 -> 0 | G12: =G11+E12 -> 0 | H12: =$C$10-G12 -> 66581.19 | I12: 0
B13: =B12+1 -> 4 | C13: =H12 -> 66581.19 | D13: =-IPMT($I$10:$I$93/12,1,$J$10,$C$10:$C$93,-$H$10:$H$93) -> 0 | F13: =D13+E13 -> 0 | G13: =G12+E13 -> 0 | H13: =$C$10-G13 -> 66581.19 | I13: 0
B14: =B13+1 -> 5 | C14: =H13 -> 66581.19 | D14: =-IPMT($I$10:$I$93/12,1,$J$10,$C$10:$C$93,-$H$10:$H$93) -> 0 | F14: =D14+E14 -> 0 | G14: =G13+E14 -> 0 | H14: =$C$10-G14 -> 66581.19 | I14: 0
B15: =B14+1 -> 6 | C15: =H14 -> 66581.19 | D15: =-IPMT($I$10:$I$93/12,1,$J$10,$C$10:$C$93,-$H$10:$H$93) -> 0 | F15: =D15+E15 -> 0 | G15: =G14+E15 -> 0 | H15: =$C$10-G15 -> 66581.19 | I15: 0
B16: =B15+1 -> 7 | C16: =H15 -> 66581.19 | D16: =-IPMT($I$10:$I$93/12,1,$J$10,$C$10:$C$93,-$H$10:$H$93) -> 0 | F16: =D16+E16 -> 0 | G16: =G15+E16 -> 0 | H16: =$C$10-G16 -> 66581.19 | I16: 0
B17: =B16+1 -> 8 | C17: =H16 -> 66581.19 | D17: =-IPMT($I$10:$I$93/12,1,$J$10,$C$10:$C$93,-$H$10:$H$93) -> 0 | F17: =D17+E17 -> 0 | G17: =G16+E17 -> 0 | H17: =$C$10-G17 -> 66581.19 | I17: 0
B18: =B17+1 -> 9 | C18: =H17 -> 66581.19 | D18: =-IPMT($I$10:$I$93/12,1,$J$10,$C$10:$C$93,-$H$10:$H$93) -> 0 | F18: =D18+E18 -> 0 | G18: =G17+E18 -> 0 | H18: =$C$10-G18 -> 66581.19 | I18: 0
B19: =B18+1 -> 10 | C19: =H18 -> 66581.19 | D19: =-IPMT($I$10:$I$93/12,1,$J$10,$C$10:$C$93,-$H$10:$H$93) -> 0 | F19: =D19+E19 -> 0 | G19: =G18+E19 -> 0 | H19: =$C$10-G19 -> 66581.19 | I19: 0
B20: =B19+1 -> 11 | C20: =H19 -> 66581.19 | D20: =-IPMT($I$10:$I$93/12,1,$J$10,$C$10:$C$93,-$H$10:$H$93) -> 0 | F20: =D20+E20 -> 0 | G20: =G19+E20 -> 0 | H20: =$C$10-G20 -> 66581.19 | I20: 0
B21: =B20+1 -> 12 | C21: =H20 -> 66581.19 | D21: =-IPMT($I$10:$I$93/12,1,$J$10,$C$10:$C$93,-$H$10:$H$93) -> 0 | F21: =D21+E21 -> 0 | G21: =G20+E21 -> 0 | H21: =$C$10-G21 -> 66581.19 | I21: 0
B22: =B21+1 -> 13 | C22: =H21 -> 66581.19 | D22: =-IPMT($I$10:$I$93/12,1,$J$10,$C$10:$C$93,-$H$10:$H$93) -> 89.440732 | F22: =D22+E22 -> 89.440732 | G22: =G21+E22 -> 0 | H22: =$C$10-G22 -> 66581.19 | I22: 0.01612
... B33: =B32+1 -> 24 | C33: =H32 -> 66581.19 | D33: =-IPMT($I$10:$I$93/12,1,$J$10,$C$10:$C$93,-$H$10:$H$93) -> 89.440732 | F33: =D33+E33 -> 89.440732 | G33: =G32+E33 -> 0 | H33: =$C$10-G33 -> 66581.19 | I33: 0.01612
B34: =B33+1 -> 25 | C34: =H33 -> 66581.19 | D34: =-IPMT($I$10:$I$93/12,1,$J$10,$C$10:$C$93,-$H$10:$H$93) -> 89.440732 | E34: =$C$10/$J$10 -> 1109.6865 | F34: =D34+E34 -> 1199.1272 | G34: =G33+E34 -> 1109.6865 | H34: =$C$10-G34 -> 65471.503 | I34: 0.01612
B35: =B34+1 -> 26 | C35: =H34 -> 65471.503 | D35: =-IPMT($I$10:$I$93/12,1,$J$10,$C$10:$C$93,-$H$10:$H$93) -> 87.950053 | E35: =$C$10/$J$10 -> 1109.6865 | F35: =D35+E35 -> 1197.6366 | G35: =G34+E35 -> 2219.373 | H35: =$C$10-G35 -> 64361.817 | I35: 0.01612
B36: =B35+1 -> 27 | C36: =H35 -> 64361.817 | D36: =-IPMT($I$10:$I$93/12,1,$J$10,$C$10:$C$93,-$H$10:$H$93) -> 86.459374 | E36: =$C$10/$J$10 -> 1109.6865 | F36: =D36+E36 -> 1196.1459 | G36: =G35+E36 -> 3329.0595 | H36: =$C$10-G36 -> 63252.13 | I36: 0.01612
B37: =B36+1 -> 28 | C37: =H36 -> 63252.13 | D37: =-IPMT($I$10:$I$93/12,1,$J$10,$C$10:$C$93,-$H$10:$H$93) -> 84.968695 | E37: =$C$10/$J$10 -> 1109.6865 | F37: =D37+E37 -> 1194.6552 | G37: =G36+E37 -> 4438.746 | H37: =$C$10-G37 -> 62142.444 | I37: 0.01612
B38: =B37+1 -> 29 | C38: =H37 -> 62142.444 | D38: =-IPMT($I$10:$I$93/12,1,$J$10,$C$10:$C$93,-$H$10:$H$93) -> 83.478016 | E38: =$C$10/$J$10 -> 1109.6865 | F38: =D38+E38 -> 1193.1645 | G38: =G37+E38 -> 5548.4325 | H38: =$C$10-G38 -> 61032.757 | I38: 0.01612
B39: =B38+1 -> 30 | C39: =H38 -> 61032.757 | D39: =-IPMT($I$10:$I$93/12,1,$J$10,$C$10:$C$93,-$H$10:$H$93) -> 81.987338 | E39: =$C$10/$J$10 -> 1109.6865 | F39: =D39+E39 -> 1191.6738 | G39: =G38+E39 -> 6658.119 | H39: =$C$10-G39 -> 59923.071 | I39: 0.01612
B40: =B39+1 -> 31 | C40: =H39 -> 59923.071 | D40: =-IPMT($I$10:$I$93/12,1,$J$10,$C$10:$C$93,-$H$10:$H$93) -> 80.496659 | E40: =$C$10/$J$10 -> 1109.6865 | F40: =D40+E40 -> 1190.1832 | G40: =G39+E40 -> 7767.8055 | H40: =$C$10-G40 -> 58813.385 | I40: 0.01612
B41: =B40+1 -> 32 | C41: =H40 -> 58813.385 | D41: =-IPMT($I$10:$I$93/12,1,$J$10,$C$10:$C$93,-$H$10:$H$93) -> 79.00598 | E41: =$C$10/$J$10 -> 1109.6865 | F41: =D41+E41 -> 1188.6925 | G41: =G40+E41 -> 8877.492 | H41: =$C$10-G41 -> 57703.698 | I41: 0.01612
B42: =B41+1 -> 33 | C42: =H41 -> 57703.698 | D42: =-IPMT($I$10:$I$93/12,1,$J$10,$C$10:$C$93,-$H$10:$H$93) -> 77.515301 | E42: =$C$10/$J$10 -> 1109.6865 | F42: =D42+E42 -> 1187.2018 | G42: =G41+E42 -> 9987.1785 | H42: =$C$10-G42 -> 56594.012 | I42: 0.01612
B43: =B42+1 -> 34 | C43: =H42 -> 56594.012 | D43: =-IPMT($I$10:$I$93/12,1,$J$10,$C$10:$C$93,-$H$10:$H$93) -> 76.024622 | E43: =$C$10/$J$10 -> 1109.6865 | F43: =D43+E43 -> 1185.7111 | G43: =G42+E43 -> 11096.865 | H43: =$C$10-G43 -> 55484.325 | I43: 0.01612
B44: =B43+1 -> 35 | C44: =H43 -> 55484.325 | D44: =-IPMT($I$10:$I$93/12,1,$J$10,$C$10:$C$93,-$H$10:$H$93) -> 74.533943 | E44: =$C$10/$J$10 -> 1109.6865 | F44: =D44+E44 -> 1184.2204 | G44: =G43+E44 -> 12206.551 | H44: =$C$10-G44 -> 54374.639 | I44: 0.01612
B45: =B44+1 -> 36 | C45: =H44 -> 54374.639 | D45: =-IPMT($I$10:$I$93/12,1,$J$10,$C$10:$C$93,-$H$10:$H$93) -> 73.043264 | E45: =$C$10/$J$10 -> 1109.6865 | F45: =D45+E45 -> 1182.7298 | G45: =G44+E45 -> 13316.238 | H45: =$C$10-G45 -> 53264.952 | I45: 0.01612
... B93: =B92+1 -> 84 | C93: =H92 -> 1109.6865 | D93: =-IPMT($I$10:$I$93/12,1,$J$10,$C$10:$C$93,-$H$10:$H$93) -> 3.2365856 | E93: =$C$10/$J$10 -> 1109.6865 | F93: =D93+E93 -> 1112.9231 | G93: =G92+E93 -> 66581.19 | H93: =$C$10-G93 -> 0 | I93: 0.035

Sheet Quadro2
E2: Juros | F2: Euribor 30d em 12-08-2011 | G2: Spread | H2: Soma | I2: Mínimo | J2: Máximo | K2: Considerado
E3: 12 Meses | F3: 0 | G3: 0 | H3: =SUM(F3:G3) -> 0 | I3: 0 | J3: 0 | K3: 0
E4: 13 ao 36 | F4: 0.01362 | G4: 0.0025 | H4: =SUM(F4:G4) -> 0.01612 | I4: 0.015 | J4: 0.035 | K4: 0.01612
E5: 37 ao 84 | F5: 0.01362 | G5: 0.025 | H5: =SUM(F5:G5) -> 0.03862 | I5: 0.015 | J5: 0.035 | K5: 0.035
B7: QUADRO DE AMORTIZAÇÕES DE EMPRESTIMO
B8: Mês | C8: Ano | D8: Periodo (mês) | E8: Capital em dív. no inicio do período | F8: Prestação | I8: Amortizações acumuladas | J8: Capital em dív. no fim do período | K8: Taxa de juro
F9: Juro do período | G9: Amort. De cap. | H9: Total
B10: S e t | C10: 2011 | D10: =Quadro1!B10 -> 1 | E10: =Quadro1!C10 -> 66581.19 | F10: =Quadro1!D10 -> 0 | G10: =Quadro1!E10 -> 0 | H10: =Quadro1!F10 -> 0 | I10: =Quadro1!G10 -> 0 | J10: =Quadro1!H10 -> 66581.19 | K10: =Quadro1!I10 -> 0
B11: O u t | D11: =Quadro1!B11 -> 2 | E11: =Quadro1!C11 -> 66581.19 | F11: =Quadro1!D11 -> 0 | G11: =Quadro1!E11 -> 0 | H11: =Quadro1!F11 -> 0 | I11: =Quadro1!G11 -> 0 | J11: =Quadro1!H11 -> 66581.19 | K11: =Quadro1!I11 -> 0
B12: N o v | D12: =Quadro1!B12 -> 3 | E12: =Quadro1!C12 -> 66581.19 | F12: =Quadro1!D12 -> 0 | G12: =Quadro1!E12 -> 0 | H12: =Quadro1!F12 -> 0 | I12: =Quadro1!G12 -> 0 | J12: =Quadro1!H12 -> 66581.19 | K12: =Quadro1!I12 -> 0
B13: D e z | D13: =Quadro1!B13 -> 4 | E13: =Quadro1!C13 -> 66581.19 | F13: =Quadro1!D13 -> 0 | G13: =Quadro1!E13 -> 0 | H13: =Quadro1!F13 -> 0 | I13: =Quadro1!G13 -> 0 | J13: =Quadro1!H13 -> 66581.19 | K13: =Quadro1!I13 -> 0
B14: J a n | C14: 2012 | D14: =Quadro1!B14 -> 5 | E14: =Quadro1!C14 -> 66581.19 | F14: =Quadro1!D14 -> 0 | G14: =Quadro1!E14 -> 0 | H14: =Quadro1!F14 -> 0 | I14: =Quadro1!G14 -> 0 | J14: =Quadro1!H14 -> 66581.19 | K14: =Quadro1!I14 -> 0
B15: F ev | D15: =Quadro1!B15 -> 6 | E15: =Quadro1!C15 -> 66581.19 | F15: =Quadro1!D15 -> 0 | G15: =Quadro1!E15 -> 0 | H15: =Quadro1!F15 -> 0 | I15: =Quadro1!G15 -> 0 | J15: =Quadro1!H15 -> 66581.19 | K15: =Quadro1!I15 -> 0
B16: M a r | D16: =Quadro1!B16 -> 7 | E16: =Quadro1!C16 -> 66581.19 | F16: =Quadro1!D16 -> 0 | G16: =Quadro1!E16 -> 0 | H16: =Quadro1!F16 -> 0 | I16: =Quadro1!G16 -> 0 | J16: =Quadro1!H16 -> 66581.19 | K16: =Quadro1!I16 -> 0
B17: A b r | D17: =Quadro1!B17 -> 8 | E17: =Quadro1!C17 -> 66581.19 | F17: =Quadro1!D17 -> 0 | G17: =Quadro1!E17 -> 0 | H17: =Quadro1!F17 -> 0 | I17: =Quadro1!G17 -> 0 | J17: =Quadro1!H17 -> 66581.19 | K17: =Quadro1!I17 -> 0
B18: M a i | D18: =Quadro1!B18 -> 9 | E18: =Quadro1!C18 -> 66581.19 | F18: =Quadro1!D18 -> 0 | G18: =Quadro1!E18 -> 0 | H18: =Quadro1!F18 -> 0 | I18: =Quadro1!G18 -> 0 | J18: =Quadro1!H18 -> 66581.19 | K18: =Quadro1!I18 -> 0
B19: J u n | D19: =Quadro1!B19 -> 10 | E19: =Quadro1!C19 -> 66581.19 | F19: =Quadro1!D19 -> 0 | G19: =Quadro1!E19 -> 0 | H19: =Quadro1!F19 -> 0 | I19: =Quadro1!G19 -> 0 | J19: =Quadro1!H19 -> 66581.19 | K19: =Quadro1!I19 -> 0
B20: J u l | D20: =Quadro1!B20 -> 11 | E20: =Quadro1!C20 -> 66581.19 | F20: =Quadro1!D20 -> 0 | G20: =Quadro1!E20 -> 0 | H20: =Quadro1!F20 -> 0 | I20: =Quadro1!G20 -> 0 | J20: =Quadro1!H20 -> 66581.19 | K20: =Quadro1!I20 -> 0
B21: Ago | D21: =Quadro1!B21 -> 12 | E21: =Quadro1!C21 -> 66581.19 | F21: =Quadro1!D21 -> 0 | G21: =Quadro1!E21 -> 0 | H21: =Quadro1!F21 -> 0 | I21: =Quadro1!G21 -> 0 | J21: =Quadro1!H21 -> 66581.19 | K21: =Quadro1!I21 -> 0
B22: S e t | D22: =Quadro1!B22 -> 13 | E22: =Quadro1!C22 -> 66581.19 | F22: =Quadro1!D22 -> 89.440732 | G22: =Quadro1!E22 -> 0 | H22: =Quadro1!F22 -> 89.440732 | I22: =Quadro1!G22 -> 0 | J22: =Quadro1!H22 -> 66581.19 | K22: =Quadro1!I22 -> 0.01612
B23: O u t | D23: =Quadro1!B23 -> 14 | E23: =Quadro1!C23 -> 66581.19 | F23: =Quadro1!D23 -> 89.440732 | G23: =Quadro1!E23 -> 0 | H23: =Quadro1!F23 -> 89.440732 | I23: =Quadro1!G23 -> 0 | J23: =Quadro1!H23 -> 66581.19 | K23: =Quadro1!I23 -> 0.01612
B24: N o v | D24: =Quadro1!B24 -> 15 | E24: =Quadro1!C24 -> 66581.19 | F24: =Quadro1!D24 -> 89.440732 | G24: =Quadro1!E24 -> 0 | H24: =Quadro1!F24 -> 89.440732 | I24: =Quadro1!G24 -> 0 | J24: =Quadro1!H24 -> 66581.19 | K24: =Quadro1!I24 -> 0.01612
B25: D e z | D25: =Quadro1!B25 -> 16 | E25: =Quadro1!C25 -> 66581.19 | F25: =Quadro1!D25 -> 89.440732 | G25: =Quadro1!E25 -> 0 | H25: =Quadro1!F25 -> 89.440732 | I25: =Quadro1!G25 -> 0 | J25: =Quadro1!H25 -> 66581.19 | K25: =Quadro1!I25 -> 0.01612
B26: J a n | C26: 2013 | D26: =Quadro1!B26 -> 17 | E26: =Quadro1!C26 -> 66581.19 | F26: =Quadro1!D26 -> 89.440732 | G26: =Quadro1!E26 -> 0 | H26: =Quadro1!F26 -> 89.440732 | I26: =Quadro1!G26 -> 0 | J26: =Quadro1!H26 -> 66581.19 | K26: =Quadro1!I26 -> 0.01612
B27: F ev | D27: =Quadro1!B27 -> 18 | E27: =Quadro1!C27 -> 66581.19 | F27: =Quadro1!D27 -> 89.440732 | G27: =Quadro1!E27 -> 0 | H27: =Quadro1!F27 -> 89.440732 | I27: =Quadro1!G27 -> 0 | J27: =Quadro1!H27 -> 66581.19 | K27: =Quadro1!I27 -> 0.01612
B28: M a r | D28: =Quadro1!B28 -> 19 | E28: =Quadro1!C28 -> 66581.19 | F28: =Quadro1!D28 -> 89.440732 | G28: =Quadro1!E28 -> 0 | H28: =Quadro1!F28 -> 89.440732 | I28: =Quadro1!G28 -> 0 | J28: =Quadro1!H28 -> 66581.19 | K28: =Quadro1!I28 -> 0.01612
B29: A b r | D29: =Quadro1!B29 -> 20 | E29: =Quadro1!C29 -> 66581.19 | F29: =Quadro1!D29 -> 89.440732 | G29: =Quadro1!E29 -> 0 | H29: =Quadro1!F29 -> 89.440732 | I29: =Quadro1!G29 -> 0 | J29: =Quadro1!H29 -> 66581.19 | K29: =Quadro1!I29 -> 0.01612
B30: M a i | D30: =Quadro1!B30 -> 21 | E30: =Quadro1!C30 -> 66581.19 | F30: =Quadro1!D30 -> 89.440732 | G30: =Quadro1!E30 -> 0 | H30: =Quadro1!F30 -> 89.440732 | I30: =Quadro1!G30 -> 0 | J30: =Quadro1!H30 -> 66581.19 | K30: =Quadro1!I30 -> 0.01612
B31: J u n | D31: =Quadro1!B31 -> 22 | E31: =Quadro1!C31 -> 66581.19 | F31: =Quadro1!D31 -> 89.440732 | G31: =Quadro1!E31 -> 0 | H31: =Quadro1!F31 -> 89.440732 | I31: =Quadro1!G31 -> 0 | J31: =Quadro1!H31 -> 66581.19 | K31: =Quadro1!I31 -> 0.01612
B32: J u l | D32: =Quadro1!B32 -> 23 | E32: =Quadro1!C32 -> 66581.19 | F32: =Quadro1!D32 -> 89.440732 | G32: =Quadro1!E32 -> 0 | H32: =Quadro1!F32 -> 89.440732 | I32: =Quadro1!G32 -> 0 | J32: =Quadro1!H32 -> 66581.19 | K32: =Quadro1!I32 -> 0.01612
B33: Ago | D33: =Quadro1!B33 -> 24 | E33: =Quadro1!C33 -> 66581.19 | F33: =Quadro1!D33 -> 89.440732 | G33: =Quadro1!E33 -> 0 | H33: =Quadro1!F33 -> 89.440732 | I33: =Quadro1!G33 -> 0 | J33: =Quadro1!H33 -> 66581.19 | K33: =Quadro1!I33 -> 0.01612
B34: S e t | D34: =Quadro1!B34 -> 25 | E34: =Quadro1!C34 -> 66581.19 | F34: =Quadro1!D34 -> 89.440732 | G34: =Quadro1!E34 -> 1109.6865 | H34: =Quadro1!F34 -> 1199.1272 | I34: =Quadro1!G34 -> 1109.6865 | J34: =Quadro1!H34 -> 65471.503 | K34: =Quadro1!I34 -> 0.01612
B35: O u t | D35: =Quadro1!B35 -> 26 | E35: =Quadro1!C35 -> 65471.503 | F35: =Quadro1!D35 -> 87.950053 | G35: =Quadro1!E35 -> 1109.6865 | H35: =Quadro1!F35 -> 1197.6366 | I35: =Quadro1!G35 -> 2219.373 | J35: =Quadro1!H35 -> 64361.817 | K35: =Quadro1!I35 -> 0.01612
B36: N o v | D36: =Quadro1!B36 -> 27 | E36: =Quadro1!C36 -> 64361.817 | F36: =Quadro1!D36 -> 86.459374 | G36: =Quadro1!E36 -> 1109.6865 | H36: =Quadro1!F36 -> 1196.1459 | I36: =Quadro1!G36 -> 3329.0595 | J36: =Quadro1!H36 -> 63252.13 | K36: =Quadro1!I36 -> 0.01612
B37: D e z | D37: =Quadro1!B37 -> 28 | E37: =Quadro1!C37 -> 63252.13 | F37: =Quadro1!D37 -> 84.968695 | G37: =Quadro1!E37 -> 1109.6865 | H37: =Quadro1!F37 -> 1194.6552 | I37: =Quadro1!G37 -> 4438.746 | J37: =Quadro1!H37 -> 62142.444 | K37: =Quadro1!I37 -> 0.01612
B38: J a n | C38: 2014 | D38: =Quadro1!B38 -> 29 | E38: =Quadro1!C38 -> 62142.444 | F38: =Quadro1!D38 -> 83.478016 | G38: =Quadro1!E38 -> 1109.6865 | H38: =Quadro1!F38 -> 1193.1645 | I38: =Quadro1!G38 -> 5548.4325 | J38: =Quadro1!H38 -> 61032.757 | K38: =Quadro1!I38 -> 0.01612
B39: F ev | D39: =Quadro1!B39 -> 30 | E39: =Quadro1!C39 -> 61032.757 | F39: =Quadro1!D39 -> 81.987338 | G39: =Quadro1!E39 -> 1109.6865 | H39: =Quadro1!F39 -> 1191.6738 | I39: =Quadro1!G39 -> 6658.119 | J39: =Quadro1!H39 -> 59923.071 | K39: =Quadro1!I39 -> 0.01612
B40: M a r | D40: =Quadro1!B40 -> 31 | E40: =Quadro1!C40 -> 59923.071 | F40: =Quadro1!D40 -> 80.496659 | G40: =Quadro1!E40 -> 1109.6865 | H40: =Quadro1!F40 -> 1190.1832 | I40: =Quadro1!G40 -> 7767.8055 | J40: =Quadro1!H40 -> 58813.385 | K40: =Quadro1!I40 -> 0.01612
B41: A b r | D41: =Quadro1!B41 -> 32 | E41: =Quadro1!C41 -> 58813.385 | F41: =Quadro1!D41 -> 79.00598 | G41: =Quadro1!E41 -> 1109.6865 | H41: =Quadro1!F41 -> 1188.6925 | I41: =Quadro1!G41 -> 8877.492 | J41: =Quadro1!H41 -> 57703.698 | K41: =Quadro1!I41 -> 0.01612
B42: M a i | D42: =Quadro1!B42 -> 33 | E42: =Quadro1!C42 -> 57703.698 | F42: =Quadro1!D42 -> 77.515301 | G42: =Quadro1!E42 -> 1109.6865 | H42: =Quadro1!F42 -> 1187.2018 | I42: =Quadro1!G42 -> 9987.1785 | J42: =Quadro1!H42 -> 56594.012 | K42: =Quadro1!I42 -> 0.01612
...

Sheet Folha3
