Workbook

Sheet Capa
A12: PLANO DE NEGÓCIOS

Sheet 1-Empresa
A2: 1. INFORMAÇÃO DA EMPRESA
A4: 1.1. Identificação da Empresa
A6: Nome da Empresa
A7: Morada
A9: Localidade | D9: Código Postal
A10: Concelho | D10: Distrito
A11: Telefone | D11: Fax | E11: ____/___________
A12: Forma Jurídica
A14: 1.2. Identificação dos Sócios
A15: 1. Nome | E15: Idade
A16: 2. Nome | E16: Idade
A17: 3. Nome | E17: Idade
A19: 1.3. Caracterização da Actividade
A21: Principal
A22: Secundária
A24: Especifique em que consiste a principal actividade

Sheet Promotores
A1: 1.4. Experiência dos promotores nas diversas áreas do projecto
A17: 1.5. Breve diagnóstico dos promotores: apresente de forma sumária os pontos fortes e fracos dos promotores

Sheet Local
A1: 1.6.Descrição do Local (zona industrial/zona comercial)

Sheet 2-Produtos_Serviços
A1: 2. APRESENTAÇÃO DO NEGÓCIO
A3: 2.1. Descrição sumária das diversas componentes
A5: 2.1.1. O que faz? (serviços a prestar, artigos a produzir,...)

Sheet Factores
A1: 2.1.2. Que factores utiliza? ( matérias-primas, recursos humanos...)

Sheet 3-Mercado
A1: 3. ANÁLISE DE MERCADO
A3: 3.1. Pesquisa de mercado
A5: 3.1.1. Os Consumidores
A6: Identifique e caracterize os clientes ( tipo, poder de compra, dimensão, etc.)
A22: 3.1.2. A Concorrência
A23: Indique os seus concorrentes e justifique porque os considera como tal

Sheet Concorrência
A1: Quais as diferenças entre os seus produtos e os dos seus principais concorrentes?
A2: ( Se possível indique as diferenças relativamente a cada concorrente).
A17: Como avalia a sua empresa em comparação com as dos seus principais
A18: concorrentes. Justifique
A19: ( + A sua empresa é melhor; 0 a sua empresa é igual; - a sua empresa é pior )
C21: + / 0 / - | E21: Porquê ?
A22: Gama de Serviços | C22: +
A23: Qualidade dos Serviços | C23: 0
A24: Dimensão | C24: -
A25: Imagem | C25: 0/+
A26: Preço | C26: +
A27: Rapidez de execução | C27: +
A28: Garantias | C28: +

Sheet Fornecedores
A1: 3.1.3. Os Fornecedores
A2: Indique quem serão os seus fornecedores e descreva as condições que oferecem em termos de prazos de entrega, qualidade, prazos de pagamento, assistência pós-venda, etc.
A16: 3.2. Plano de Marketing
A17: 3.2.1. O Serviço
A18: Faça uma descrição detalhada dos produtos/serviços que vai oferecer

Sheet Preço_Distribuição
A1: 3.2.2. O Preço
A2: Indique o custo dos seus produtos/serviços
A17: Indique o preço de venda dos seus produtos/serviços
A38: 3.2.3. A Distribuição
A39: Indique quais os canais de distribuição que vai utilizar e justifique com os critérios que utilizou para a sua escolha

Sheet Pressupostos
A1: 5 - ESTUDO ECONÓMICO E FINANCEIRO
A2: 5.1 - Pressupostos do Projecto
AI3: 1. Plano de Investimento | AN3: Preços correntes
AN4: (contos) | CB4: Imobilizado | CC4: Valor de | CD4: Taxa | CE4: Amortização | CJ4: =BV4 -> 0 | CK4: =BW4 -> 0 | CL4: =BX4 -> 0 | CM4: =BY4 -> 0 | CN4: =BZ4 -> 0 | CW4: Designação | CX4: =CQ4 -> 0 | CY4: =CR4 -> 0 | CZ4: =CS4 -> 0 | DA4: =CT4 -> 0 | DB4: =CU4 -> 0 | ED4: PRESSUPOSTOS | EE4: INVESTIMENTO | EF4: PRODUCAO | EG4: MERCADORIAS | EH4: PROVEITOS | EI4: CONSUMOS | EJ4: FORN.SERV.EXT. | EK4: C. c/ PESSOAL | EL4: FUNCAO FINANCEIRA | EM4: CAPITAL CIRCULANTE | EN4: AUXILIARES | EO4: CONTROLO | EP4: QUADROS PRINCIPAIS | EQ4: IMPRIMIR | ER4: SAIR
CC5: aquisição | CD5: anual | CE5: anual
A6: * PERIODO DE ANÁLISE | B6: =C6-1 -> 2010 | C6: 2011 | D6: =C6+1 -> 2012 | E6: =D6+1 -> 2013 | F6: =E6+1 -> 2014 | G6: =F6+1 -> 2015 | H6: =G6+1 -> 2016 | AI6: PLANO DE INVESTIMENTOS | AJ6: =C6 -> 2011 | AK6: =D6 -> 2012 | AL6: =E6 -> 2013 | AM6: =F6 -> 2014 | AN6: =G6 -> 2015 | CW6: ACTIVO | ED6: {GOTO}A1~ | EE6: {GOTO}A63~ | EF6: {GOTO}A146~ | EG6: {GOTO}A220~ | EH6: {GOTO}A287~ | EI6: {GOTO}A258~ | EJ6: {GOTO}A331~ | EK6: {GOTO}A367~ | EL6: {MENUBRANCH MENU3} | EM6: {GOTO}A420~ | EN6: {GOTO}A540~ | EO6: {GOTO}A575~ | EP6: {MENUBRANCH MENU4} | EQ6: {MENUBRANCH MENU5} | ER6: {MENUBRANCH MENU6}
CB7: Terrenos | CC7: =AJ11 -> 0 | CD7: =IF(CE7>0,CE7/CC7,0) -> 0 | CE7: 0 | CW7: 1.1. Imobilizações Corpóreas | CX7: =M59 -> 0 | CY7: =N59 -> 0 | CZ7: =O59 -> 0 | DA7: =P59 -> 0 | DB7: =Q59 -> 0 | EL7: FUNCAO FINANCEIRA | EM7: FINANCIAMENTO A M/L PRAZO | EP7: CONTA DE RESULTADOS | EQ7: BALANCO | ER7: CASH-FLOW | ES7: MOAF | ET7: VAR. FUNDOS CIRC. | EU7: INDICADORES
A8: * NÚMERO DE MESES DE EXPLORAÇÃO | C8: 4 | D8: 12 | E8: 12 | F8: 12 | G8: 12 | H8: 12 | AI8: CAPITAL FIXO | AJ8: =AJ10+AJ19 -> 73465.96 | AK8: =AK10+AK19 -> 0 | AL8: =AL10+AL19 -> #REF! | AM8: =AM10+AM19 -> #REF! | AN8: =AN10+AN19 -> #REF! | CB8: Infraestruturas | CC8: =AJ12 -> 0 | CD8: =IF(CE8>0,CE8/CC8,0) -> 0 | CE8: 0 | CI8: Vendas de prosutos | CJ8: 0 | CK8: 0 | CL8: 0 | CM8: 0 | CN8: 0 | CW8: 1.2. Imobilizações Incorpóreas | CX8: =M58 -> 0 | CY8: =N58 -> 0 | CZ8: =O58 -> 0 | DA8: =P58 -> 0 | DB8: =Q58 -> 0
A9: * PRAZOS MÉDIOS DO CIRCULANTE (DIAS) | CB9: Construções | CC9: =AJ13 -> 0 | CD9: =IF(CE9>0,CE9/CC9,0) -> 0 | CE9: 0 | CI9: Serviços prestados | CJ9: 0 | CK9: 0 | CL9: 0 | CM9: 0 | CN9: 0 | CW9: 1.3. Investimentos Financeiros | CX9: =M60 -> 0 | CY9: =N60 -> 0 | CZ9: =O60 -> 0 | DA9: =P60 -> 0 | DB9: =Q60 -> 0 | EL9: {GOTO}A404~ | EM9: {GOTO}A448~ | EP9: {GOTO}O4~ | EQ9: {GOTO}O35~ | ER9: {GOTO}A476~ | ES9: {GOTO}O102~ | ET9: {GOTO}O150~ | EU9: {GOTO}A512~
A10: - Fornecedores (Mercadorias) | C10: 30 | D10: =C10 -> 30 | E10: =D10 -> 30 | F10: =E10 -> 30 | G10: =F10 -> 30 | H10: =G10 -> 30 | AI10: * CAPITAL FIXO CORPÓREO | AJ10: =SUM(AJ11:AJ17) -> 72465.96 | AK10: =SUM(AK11:AK17) -> 0 | AL10: =SUM(AL11:AL17) -> #REF! | AM10: =SUM(AM11:AM17) -> #REF! | AN10: =SUM(AN11:AN17) -> #REF! | CB10: Adaptação e/ou ampliação de instalações | CC10: =AJ14 -> 25000 | CD10: =IF(CE10>0,CE10/CC10,0) -> 0.1428 | CE10: 3570 | CI10: Outros | CJ10: =CJ12-CJ8-CJ9 -> 0 | CK10: =CK12-CK8-CK9 -> 0 | CL10: =CL12-CL8-CL9 -> 0 | CM10: =CM12-CM8-CM9 -> 0 | CN10: =CN12-CN8-CN9 -> 0 | CW10: 1.4. Imobilizações em curso | CX10: =M61 -> 0 | CY10: =N61 -> 0 | CZ10: =O61 -> 0 | DA10: =P61 -> 0 | DB10: =Q61 -> 0
A11: - Fornecedores (Out. Forn. Serv.) | C11: 15 | D11: =C11 -> 15 | E11: =D11 -> 15 | F11: =E11 -> 15 | G11: =F11 -> 15 | H11: =G11 -> 15 | AI11: Terrenos | AJ11: 0 | AK11: 0 | AL11: #REF! | AM11: #REF! | AN11: #REF! | CB11: Equipamento | CC11: =AJ15 -> 39848 | CD11: =IF(CE11>0,CE11/CC11,0) -> 0.1428 | CE11: 5690.2944
A12: - Clientes | C12: 7 | D12: =C12 -> 7 | E12: =D12 -> 7 | F12: =E12 -> 7 | G12: =F12 -> 7 | H12: =G12 -> 7 | AI12: Infraestruturas | AJ12: 0 | AK12: 0 | AL12: #REF! | AM12: #REF! | AN12: #REF! | CB12: Material de carga e transporte apoiável (*) | CC12: =AJ16 -> 0 | CD12: =IF(CE12>0,CE12/CC12,0) -> 0 | CE12: 0 | CI12: 1. TOTAL DE PROVEITOS | CJ12: 0 | CK12: 0 | CL12: 0 | CM12: 0 | CN12: 0 | CW12: 2. Amortizações | CX12: =M62 -> 0 | CY12: =N62 -> 0 | CZ12: =O62 -> 0 | DA12: =P62 -> 0 | DB12: =Q62 -> 0
A13: - Armazenagem | AI13: Construções | AJ13: 0 | AK13: 0 | AL13: 0 | AM13: 0 | AN13: 0 | CB13: Outro material de carga | CC13: =#REF! -> #REF! | CD13: =IF(CE13>0,CE13/CC13,0) -> 0 | CE13: 0 | ED13: PRESSUPOSTOS | EE13: INVESTIMENTO | EF13: PRODUCAO | EG13: MERCADORIAS | EH13: PROVEITOS | EI13: FORN.SERV.EXT. | EJ13: FUNCAO FINANCEIRA | EK13: AUXILIARES | EL13: CONTA DE RESULTADOS | EM13: BALANCO | EN13: CASH-FLOW | EO13: MOAF | EP13: VAR. FUNDOS CIRC. | EQ13: ANALISE COB. FIN.
A14: . Mercadorias | C14: 15 | D14: =C14 -> 15 | E14: =D14 -> 15 | F14: =E14 -> 15 | G14: =F14 -> 15 | H14: =G14 -> 15 | AI14: Adaptação e/ou ampliação de instalações | AJ14: 25000 | AK14: 0 | AL14: #REF! | AM14: #REF! | AN14: #REF! | CB14: Outros | CC14: =AJ17 -> 7617.96 | CD14: =IF(CE14>0,CE14/CC14,0) -> 0.1 | CE14: 761.796 | CI14: CUSTOS | CW14: 3. Existências
A15: . Materias Primas e Subsidiárias | C15: 0 | D15: =C15 -> 0 | E15: =D15 -> 0 | F15: =E15 -> 0 | G15: =F15 -> 0 | H15: =G15 -> 0 | AI15: Equipamento | AJ15: 39848 | AK15: 0 | AL15: #REF! | AM15: #REF! | AN15: #REF! | CW15: 3.1. Prod. e Trabalhos em Curso | CX15: 0 | CY15: 0 | CZ15: 0 | DA15: 0 | DB15: 0 | ED15: /PLT7~QBSUPOST~PQ | EE15: /PLT3~QBINVEST~PQ | EF15: /PLT4~QBPRODUCAO~PQ | EG15: /PLT7~QBMERCAD~PQ | EH15: /PLT12~QBPROV~PQ | EI15: /PLT7~QBFSE~PQ | EJ15: /PLT7~QBFUNFIN~PQ | EK15: /PLT12~QBAUXIL~PQ | EL15: /PLT12~QBDRES~PQ | EM15: /PLT7~QBBAL1~PQ | EN15: /PLL5~T10~QBCFLOW~PQ | EO15: /PLL8~T12~QBMOAF1~PQ | EP15: /PLT12~QBVARFUNC~PQ | EQ15: /PLT15~QBANACOBFIN~PQ
A16: . Produtos Acabados | C16: 0 | D16: =C16 -> 0 | E16: =D16 -> 0 | F16: =E16 -> 0 | G16: =F16 -> 0 | H16: =G16 -> 0 | AI16: Material de carga e transporte apoiável (*) | AJ16: 0 | AK16: 0 | AL16: #REF! | AM16: #REF! | AN16: #REF! | CB16: * CAPITAL FIXO INCORPÓREO | CC16: =SUM(CC17:CC18) -> 500 | CD16: =SUM(CD17:CD18) -> 0.3333 | CE16: =SUM(CE17:CE18) -> 166.65 | CI16: Custos das existências vendIdas e consumidas | CJ16: 0 | CK16: 0 | CL16: 0 | CM16: 0 | CN16: 0 | CW16: 3.2. Mercadorias | CX16: 0 | CY16: 0 | CZ16: 0 | DA16: 0 | DB16: 0
AI17: Outros | AJ17: 7617.96 | AK17: 0 | AL17: #REF! | AM17: #REF! | AN17: #REF! | CB17: Assistência técnica | CC17: =AJ21 -> 0 | CD17: =IF(CE17>0,CE17/CC17,0) -> 0 | CE17: 0 | CI17: Encargos com pessoal | CJ17: #REF! | CK17: #REF! | CL17: #REF! | CM17: #REF! | CN17: #REF! | CW17: 4. Dívidas de Terceiros de Médio e Longo Prazo | CX17: =M63 -> 0 | CY17: =N63 -> 0 | CZ17: =O63 -> 0 | DA17: =P63 -> 0 | DB17: =Q63 -> 0
A18: * VND P/ MERCADO EXTERNO (Em % média) | C18: 0 | D18: =C18 -> 0 | E18: =D18 -> 0 | F18: =E18 -> 0 | G18: =F18 -> 0 | H18: =G18 -> 0 | CB18: Outros (não apoiável) | CC18: =AJ22 -> 500 | CD18: =IF(CE18>0,CE18/CC18,0) -> 0.3333 | CE18: 166.65 | CI18: Impostos | CJ18: 0 | CK18: 0 | CL18: 0 | CM18: 0 | CN18: 0
A19: * CMP AO MERCADO EXTERNO (Em % média) | C19: 0 | D19: =C19 -> 0 | E19: =D19 -> 0 | F19: =E19 -> 0 | G19: =F19 -> 0 | H19: =G19 -> 0 | AI19: * CAPITAL FIXO INCORPÓREO | AJ19: =SUM(AJ20:AJ22) -> 1000 | AK19: =SUM(AK20:AK22) -> 0 | AL19: =SUM(AL20:AL22) -> #REF! | AM19: =SUM(AM20:AM22) -> #REF! | AN19: =SUM(AN20:AN22) -> #REF! | CI19: Amortizações e reintegrações | CJ19: 6903.6047 | CK19: 10355.407 | CL19: 10355.407 | CM19: 10133.246 | CN19: 10022.09 | CW19: 5. Dívidas de Terceiros de Curto Prazo
AI20: Estudos e projectos | AJ20: 500 | AK20: 0 | AL20: #REF! | AM20: #REF! | AN20: #REF! | CI20: Provisões | CJ20: 0 | CK20: 0 | CL20: 0 | CM20: 0 | CN20: 0 | CW20: 5.1. Clientes | CX20: =M67 -> 0 | CY20: =N67 -> 0 | CZ20: =O67 -> 0 | DA20: =P67 -> 0 | DB20: =Q67 -> 0
AI21: Assistência técnica | AJ21: 0 | AK21: 0 | AL21: #REF! | AM21: #REF! | AN21: #REF! | CB21: TOTAL | CC21: =#REF!+CC16 -> #REF! | CD21: =#REF!+CD16 -> #REF! | CE21: =#REF!+CE16 -> #REF! | CI21: Outros | CJ21: 0 | CK21: 0 | CL21: 0 | CM21: 0 | CN21: 0 | CW21: 5.2. Outros | CX21: =M68 -> 0 | CY21: =N68 -> 0 | CZ21: =O68 -> 0 | DA21: =P68 -> 0 | DB21: =Q68 -> 0 | ED21: GRAVAR | EE21: SEM GRAVAR
A22: * TAXA DE INFLAÇÃO | C22: 0.02 | D22: 0.02 | E22: =D22 -> 0.02 | F22: =E22 -> 0.02 | G22: =F22 -> 0.02 | H22: =G22 -> 0.02 | AI22: Outros (não apoiável) | AJ22: 500 | AK22: 0 | AL22: #REF! | AM22: #REF! | AN22: #REF!
A23: * PROVISOES | CI23: 2. TOTAL DE CUSTOS | CJ23: =SUM(CJ16:CJ22) -> #REF! | CK23: =SUM(CK16:CK22) -> #REF! | CL23: =SUM(CL16:CL22) -> #REF! | CM23: =SUM(CM16:CM22) -> #REF! | CN23: =SUM(CN16:CN22) -> #REF! | CW23: 6. Depósitos Bancários/Títulos Negociáveis/Caixa | CX23: =M69+M70 -> 0 | CY23: =N69+N70 -> 0 | CZ23: =O69+O70 -> 0 | DA23: =P69+P70 -> 0 | DB23: =Q69+Q70 -> 0 | ED23: /FSR | EE23: /FXY
A24: - Para Depreciação de Existências | C24: 0 | D24: =C24 -> 0 | E24: =D24 -> 0 | F24: =E24 -> 0 | G24: =F24 -> 0 | H24: =G24 -> 0 | AI24: JUROS DURANTE A FASE DE INVESTIMENTO | CB24: 14. ENCARGOS FINANCEIROS | CW24: 7. Acréscimos e Diferimentos | CX24: =M71 -> 0 | CY24: =N71 -> 0 | CZ24: =O71 -> 0 | DA24: =P71 -> 0 | DB24: =Q71 -> 0 | ED24: /FX
A25: - Para Cobranças Duvidosas | C25: 0 | D25: =C25 -> 0 | E25: =D25 -> 0 | F25: =E25 -> 0 | G25: =F25 -> 0 | H25: =G25 -> 0 | AI25: DIVERSOS | CG25: (contos) | CI25: 3. RESULTADOS SEM ENCARGOS (1-2) | CJ25: =CJ12-CJ23 -> #REF! | CK25: =CK12-CK23 -> #REF! | CL25: =CL12-CL23 -> #REF! | CM25: =CM12-CM23 -> #REF! | CN25: =CN12-CN23 -> #REF! | CW25: 8. TOTAL DO ACTIVO | CX25: =CX7+CX8+CX9+CX10-CX12+CX15+CX16+CX17+CX20+CX21+CX23+CX24 -> 0 | CY25: =CY7+CY8+CY9+CY10-CY12+CY15+CY16+CY17+CY20+CY21+CY23+CY24 -> 0 | CZ25: =CZ7+CZ8+CZ9+CZ10-CZ12+CZ15+CZ16+CZ17+CZ20+CZ21+CZ23+CZ24 -> 0 | DA25: =DA7+DA8+DA9+DA10-DA12+DA15+DA16+DA17+DA20+DA21+DA23+DA24 -> 0 | DB25: =DB7+DB8+DB9+DB10-DB12+DB15+DB16+DB17+DB20+DB21+DB23+DB24 -> 0
A26: - Para Outros Riscos e Encargos | C26: 0 | D26: 0 | E26: 0 | F26: 0 | G26: 0 | H26: 0 | AI26: FUNDO DE MANEIO | AJ26: #REF! | AK26: #REF! | AL26: #REF! | AM26: #REF! | AN26: #REF! | CC26: Prestação | CF26: Capital em dívida | CW26: CAPITAL PRÓPRIO
CB27: Período | CC27: Encargos | CD27: Reembolso | CE27: Total | CF27: No início do | CG27: No fim do | CI27: 4. Encargos financeiros | CJ27: 0 | CK27: 4275 | CL27: 3725 | CM27: 3025 | CN27: 1925 | CW27: 9. Capital Social | CX27: =M75 -> 0 | CY27: =N75 -> 0 | CZ27: =O75 -> 0 | DA27: =P75 -> 0 | DB27: =Q75 -> 0
CC28: financeiros | CF28: período | CG28: período | CW28: 10. Prestações suplementares | CX28: =M76 -> 0 | CY28: =N76 -> 0 | CZ28: =O76 -> 0 | DA28: =P76 -> 0 | DB28: =Q76 -> 0
A29: * TAXA DE DISTRIBUIÇÃO DE DIVIDENDOS | C29: 0 | D29: =C29 -> 0 | E29: =D29 -> 0 | F29: =E29 -> 0 | G29: =F29 -> 0 | H29: =G29 -> 0 | AI29: TOTAL | AJ29: =AJ26+AJ170+AJ24+AJ8 -> #REF! | AK29: =AK26+AK170+AK24+AK8 -> #REF! | AL29: =AL26+AL170+AL24+AL8 -> #REF! | AM29: =AM26+AM170+AM24+AM8 -> #REF! | AN29: =AN26+AN170+AN24+AN8 -> #REF! | CI29: 5. RESULTADOS APÓS ENCARGOS FINANCEIROS (3-4) | CJ29: =CJ25-CJ27 -> #REF! | CK29: =CK25-CK27 -> #REF! | CL29: =CL25-CL27 -> #REF! | CM29: =CM25-CM27 -> #REF! | CN29: =CN25-CN27 -> #REF! | CW29: 11. Reservas + Resultados transitados | CX29: =M77 -> 0 | CY29: =N77 -> 0 | CZ29: =O77 -> 0 | DA29: =P77 -> 0 | DB29: =Q77 -> 0
CB30: - SEMESTRE 0 | CC30: 0 | CD30: 0 | CE30: =CC30+CD30 -> 0 | CF30: 0 | CG30: 0 | CW30: 12. Resultado liquido do exercício | CX30: =M78 -> 0 | CY30: =N78 -> 0 | CZ30: =O78 -> 0 | DA30: =P78 -> 0 | DB30: =Q78 -> 0 | ED30: /PDPQ
CB31: - SEMESTRE 1 | CC31: 0 | CD31: 0 | CE31: =CC31+CD31 -> 0 | CF31: 0 | CG31: 50000 | CI31: 6. Impostos sobre o rendimento do exercício | CJ31: #REF! | CK31: #REF! | CL31: #REF! | CM31: #REF! | CN31: #REF! | CW31: 13. Dividendos antecipados | CX31: =M80 -> 0 | CY31: =N80 -> 0 | CZ31: =O80 -> 0 | DA31: =P80 -> 0 | DB31: =Q80 -> 0
CB32: 1º ANO - SEMESTRE 2 | CC32: 2250 | CD32: 5000 | CE32: =CC32+CD32 -> 7250 | CF32: 50000 | CG32: 45000
CB33: - SEMESTRE 3 | CC33: 2025 | CD33: 5000 | CE33: =CC33+CD33 -> 7025 | CF33: 45000 | CG33: 40000 | CW33: 14. TOTAL DO CAPITAL PRÓPRIO | CX33: =SUM(CX27:CX32) -> 0 | CY33: =SUM(CY27:CY32) -> 0 | CZ33: =SUM(CZ27:CZ32) -> 0 | DA33: =SUM(DA27:DA32) -> 0 | DB33: =SUM(DB27:DB32) -> 0
CB34: 2º ANO - SEMESTRE 4 | CC34: 1800 | CD34: 5000 | CE34: =CC34+CD34 -> 6800 | CF34: 40000 | CG34: 35000 | CI34: 7. RESULTADOS LÍQUIDOS (5-6) | CJ34: =CJ29-CJ31 -> #REF! | CK34: =CK29-CK31 -> #REF! | CL34: =CL29-CL31 -> #REF! | CM34: =CM29-CM31 -> #REF! | CN34: =CN29-CN31 -> #REF!
CB35: - SEMESTRE 5 | CC35: 1925 | CD35: 5000 | CE35: =CC35+CD35 -> 6925 | CF35: 35000 | CG35: 30000 | CW35: PASSIVO
CB36: 3º ANO - SEMESTRE 6 | CC36: 1650 | CD36: 5000 | CE36: =CC36+CD36 -> 6650 | CF36: 30000 | CG36: 25000 | CW36: 15. Provisões para riscos e encargos | CX36: =#REF! -> #REF! | CY36: =#REF! -> #REF! | CZ36: =#REF! -> #REF! | DA36: =#REF! -> #REF! | DB36: =#REF! -> #REF!
CB37: - SEMESTRE 7 | CC37: 1375 | CD37: 5000 | CE37: =CC37+CD37 -> 6375 | CF37: 25000 | CG37: 20000 | CI37: Controlo | CJ37: #REF! | CK37: #REF! | CL37: #REF! | CM37: #REF! | CN37: #REF!
CB38: 4º ANO - SEMESTRE 8 | CC38: 1100 | CD38: 5000 | CE38: =CC38+CD38 -> 6100 | CF38: 20000 | CG38: 15000 | CW38: 16. Dividas a terceiros médio e longo prazo
CB39: - SEMESTRE 9 | CC39: 825 | CD39: 5000 | CE39: =CC39+CD39 -> 5825 | CF39: 15000 | CG39: 10000 | CW39: 16.1. Dividas a Instituições de credito | CX39: =#REF! -> #REF! | CY39: =#REF! -> #REF! | CZ39: =#REF! -> #REF! | DA39: =#REF! -> #REF! | DB39: =#REF! -> #REF!
CB40: 5º ANO - SEMESTRE 10 | CC40: 550 | CD40: 5000 | CE40: =CC40+CD40 -> 5550 | CF40: 10000 | CG40: 5000 | CW40: 16.2. Dividas a sócios | CX40: =#REF! -> #REF! | CY40: =#REF! -> #REF! | CZ40: =#REF! -> #REF! | DA40: =#REF! -> #REF! | DB40: =#REF! -> #REF!
...

Sheet Vendas PA
A1: 5.2 - Plano de Exploração Previsional
A3: 5.2.1. - Vendas de Produtos Acabados
A5: VENDAS DE PRODUTOS ACABADOS | C5: UNIDADE | D5: Quant. Mensal | E5: Preço de venda
A6: Vestuário para senhoras | C6: N.º Peças | D6: 0 | E6: 0
A7: Vestuário para homem | C7: N.º Peças | D7: 0 | E7: 0
A8: Vestuário para criança | C8: N.º Peças | D8: 0 | E8: 0
A9: . | D9: 0 | E9: 0
A10: . | D10: 0 | E10: 0
A11: . | D11: 0 | E11: 0
A12: . | D12: 0 | E12: 0
A13: . | D13: 0 | E13: 0
A15: TAXA DE CRESCIMENTO DAS VENDAS EM QUANTIDADES | E15: =Pressupostos!D$6 -> 2012 | F15: =Pressupostos!E$6 -> 2013 | G15: =Pressupostos!F$6 -> 2014 | H15: =Pressupostos!G$6 -> 2015 | I15: =Pressupostos!H$6 -> 2016
A16: =A6 -> Vestuário para senhoras | E16: 0 | F16: =E16 -> 0 | G16: =F16 -> 0 | H16: =G16 -> 0 | I16: =H16 -> 0
A17: =A7 -> Vestuário para homem | E17: 0 | F17: =E17 -> 0 | G17: =F17 -> 0 | H17: =G17 -> 0 | I17: =H17 -> 0
A18: =A8 -> Vestuário para criança | E18: 0 | F18: =E18 -> 0 | G18: =F18 -> 0 | H18: =G18 -> 0 | I18: =H18 -> 0
A19: =A9 -> . | E19: 0 | F19: =E19 -> 0 | G19: =F19 -> 0 | H19: =G19 -> 0 | I19: =H19 -> 0
A20: =A10 -> . | E20: 0 | F20: =E20 -> 0 | G20: =F20 -> 0 | H20: =G20 -> 0 | I20: =H20 -> 0
A21: =A11 -> . | E21: 0 | F21: =E21 -> 0 | G21: =F21 -> 0 | H21: =G21 -> 0 | I21: =H21 -> 0
A22: =A12 -> . | E22: 0 | F22: =E22 -> 0 | G22: =F22 -> 0 | H22: =G22 -> 0 | I22: =H22 -> 0
A23: =A13 -> . | E23: 0 | F23: =E23 -> 0 | G23: =F23 -> 0 | H23: =G23 -> 0 | I23: =H23 -> 0
A25: TAXA DE CRESCIMENTO DO PREÇO UNITARIO | E25: =Pressupostos!D$6 -> 2012 | F25: =Pressupostos!E$6 -> 2013 | G25: =Pressupostos!F$6 -> 2014 | H25: =Pressupostos!G$6 -> 2015 | I25: =Pressupostos!H$6 -> 2016
A26: =A46 -> Vestuário para senhoras | E26: 0 | F26: =E26 -> 0 | G26: =F26 -> 0 | H26: =G26 -> 0 | I26: =H26 -> 0
A27: =A47 -> Vestuário para homem | E27: 0 | F27: =E27 -> 0 | G27: =F27 -> 0 | H27: =G27 -> 0 | I27: =H27 -> 0
A28: =A48 -> Vestuário para criança | E28: 0 | F28: =E28 -> 0 | G28: =F28 -> 0 | H28: =G28 -> 0 | I28: =H28 -> 0
A29: =A49 -> . | E29: 0 | F29: =E29 -> 0 | G29: =F29 -> 0 | H29: =G29 -> 0 | I29: =H29 -> 0
A30: =A50 -> . | E30: 0 | F30: =E30 -> 0 | G30: =F30 -> 0 | H30: =G30 -> 0 | I30: =H30 -> 0
A31: =A51 -> . | E31: 0 | F31: =E31 -> 0 | G31: =F31 -> 0 | H31: =G31 -> 0 | I31: =H31 -> 0
A32: =A52 -> . | E32: 0 | F32: =E32 -> 0 | G32: =F32 -> 0 | H32: =G32 -> 0 | I32: =H32 -> 0
A33: =A53 -> . | E33: 0 | F33: =E33 -> 0 | G33: =F33 -> 0 | H33: =G33 -> 0 | I33: =H33 -> 0
A35: Quantidades Vendidas mensais | C35: Unidade | D35: =Pressupostos!C$6 -> 2011 | E35: =Pressupostos!D$6 -> 2012 | F35: =Pressupostos!E$6 -> 2013 | G35: =Pressupostos!F$6 -> 2014 | H35: =Pressupostos!G$6 -> 2015 | I35: =Pressupostos!H$6 -> 2016
A36: =A6 -> Vestuário para senhoras | C36: =IF(ISBLANK(C6),"",C6) -> N.º Peças | D36: =D6 -> 0 | E36: =(D6*(1+E16)) -> 0 | F36: =E36*(1+F16) -> 0 | G36: =F36*(1+G16) -> 0 | H36: =G36*(1+H16) -> 0 | I36: =H36*(1+I16) -> 0
A37: =A7 -> Vestuário para homem | C37: =IF(ISBLANK(C7),"",C7) -> N.º Peças | D37: =D7 -> 0 | E37: =(D7*(1+E17)) -> 0 | F37: =E37*(1+F17) -> 0 | G37: =F37*(1+G17) -> 0 | H37: =G37*(1+H17) -> 0 | I37: =H37*(1+I17) -> 0
A38: =A8 -> Vestuário para criança | C38: =IF(ISBLANK(C8),"",C8) -> N.º Peças | D38: =D8 -> 0 | E38: =(D8*(1+E18)) -> 0 | F38: =E38*(1+F18) -> 0 | G38: =F38*(1+G18) -> 0 | H38: =G38*(1+H18) -> 0 | I38: =H38*(1+I18) -> 0
A39: =A9 -> . | C39: =IF(ISBLANK(C9),"",C9) | D39: =D9 -> 0 | E39: =(D9*(1+E19)) -> 0 | F39: =E39*(1+F19) -> 0 | G39: =F39*(1+G19) -> 0 | H39: =G39*(1+H19) -> 0 | I39: =H39*(1+I19) -> 0
A40: =A10 -> . | C40: =IF(ISBLANK(C10),"",C10) | D40: =D10 -> 0 | E40: =(D10*(1+E20)) -> 0 | F40: =E40*(1+F20) -> 0 | G40: =F40*(1+G20) -> 0 | H40: =G40*(1+H20) -> 0 | I40: =H40*(1+I20) -> 0
A41: =A11 -> . | C41: =IF(ISBLANK(C11),"",C11) | D41: =D11 -> 0 | E41: =(D11*(1+E21)) -> 0 | F41: =E41*(1+F21) -> 0 | G41: =F41*(1+G21) -> 0 | H41: =G41*(1+H21) -> 0 | I41: =H41*(1+I21) -> 0
A42: =A12 -> . | C42: =IF(ISBLANK(C12),"",C12) | D42: =D12 -> 0 | E42: =(D12*(1+E22)) -> 0 | F42: =E42*(1+F22) -> 0 | G42: =F42*(1+G22) -> 0 | H42: =G42*(1+H22) -> 0 | I42: =H42*(1+I22) -> 0
A43: =A13 -> . | C43: =IF(ISBLANK(C13),"",C13) | D43: =D13 -> 0 | E43: =(D13*(1+E23)) -> 0 | F43: =E43*(1+F23) -> 0 | G43: =F43*(1+G23) -> 0 | H43: =G43*(1+H23) -> 0 | I43: =H43*(1+I23) -> 0
C44: =IF(ISBLANK(C14),"",C14)
A45: PREÇO DE VENDA | C45: Euros | D45: =Pressupostos!C$6 -> 2011 | E45: =Pressupostos!D$6 -> 2012 | F45: =Pressupostos!E$6 -> 2013 | G45: =Pressupostos!F$6 -> 2014 | H45: =Pressupostos!G$6 -> 2015 | I45: =Pressupostos!H$6 -> 2016
...

Sheet VM
A1: 5.2.2. - Vendas de Mercadorias
A3: Vendas de Mercadorias | C3: UNIDADE | D3: Quant. Mensal | E3: Preço de venda
A4: Vestuário para senhoras | C4: N.º Peças | D4: 0 | E4: 0
A5: Vestuário para homem | C5: N.º Peças | D5: 0 | E5: 0
A6: Vestuário para criança | C6: N.º Peças | D6: 0 | E6: 0
A7: . | D7: 0 | E7: 0
A8: . | D8: 0 | E8: 0
A9: . | D9: 0 | E9: 0
A10: . | D10: 0 | E10: 0
A11: . | D11: 0 | E11: 0
A13: TAXA DE CRESCIMENTO DAS VENDAS EM QUANTIDADES | E13: =Pressupostos!D$6 -> 2012 | F13: =Pressupostos!E$6 -> 2013 | G13: =Pressupostos!F$6 -> 2014 | H13: =Pressupostos!G$6 -> 2015 | I13: =Pressupostos!H$6 -> 2016
A14: =A4 -> Vestuário para senhoras | E14: 0 | F14: =E14 -> 0 | G14: =F14 -> 0 | H14: =G14 -> 0 | I14: =H14 -> 0
A15: =A5 -> Vestuário para homem | E15: 0 | F15: =E15 -> 0 | G15: =F15 -> 0 | H15: =G15 -> 0 | I15: =H15 -> 0
A16: =A6 -> Vestuário para criança | E16: 0 | F16: =E16 -> 0 | G16: =F16 -> 0 | H16: =G16 -> 0 | I16: =H16 -> 0
A17: =A7 -> . | E17: 0 | F17: =E17 -> 0 | G17: =F17 -> 0 | H17: =G17 -> 0 | I17: =H17 -> 0
A18: =A8 -> . | E18: 0 | F18: =E18 -> 0 | G18: =F18 -> 0 | H18: =G18 -> 0 | I18: =H18 -> 0
A19: =A9 -> . | E19: 0 | F19: =E19 -> 0 | G19: =F19 -> 0 | H19: =G19 -> 0 | I19: =H19 -> 0
A20: =A10 -> . | E20: 0 | F20: =E20 -> 0 | G20: =F20 -> 0 | H20: =G20 -> 0 | I20: =H20 -> 0
A21: =A11 -> . | E21: 0 | F21: =E21 -> 0 | G21: =F21 -> 0 | H21: =G21 -> 0 | I21: =H21 -> 0
A23: TAXA DE CRESCIMENTO DO PREÇO UNITARIO | E23: =Pressupostos!D$6 -> 2012 | F23: =Pressupostos!E$6 -> 2013 | G23: =Pressupostos!F$6 -> 2014 | H23: =Pressupostos!G$6 -> 2015 | I23: =Pressupostos!H$6 -> 2016
A24: =A45 -> Vestuário para senhoras | E24: 0 | F24: =E24 -> 0 | G24: =F24 -> 0 | H24: =G24 -> 0 | I24: =H24 -> 0
A25: =A46 -> Vestuário para homem | E25: 0 | F25: =E25 -> 0 | G25: =F25 -> 0 | H25: =G25 -> 0 | I25: =H25 -> 0
A26: =A47 -> Vestuário para criança | E26: 0 | F26: =E26 -> 0 | G26: =F26 -> 0 | H26: =G26 -> 0 | I26: =H26 -> 0
A27: =A48 -> . | E27: 0 | F27: =E27 -> 0 | G27: =F27 -> 0 | H27: =G27 -> 0 | I27: =H27 -> 0
A28: =A49 -> . | E28: 0 | F28: =E28 -> 0 | G28: =F28 -> 0 | H28: =G28 -> 0 | I28: =H28 -> 0
A29: =A50 -> . | E29: 0 | F29: =E29 -> 0 | G29: =F29 -> 0 | H29: =G29 -> 0 | I29: =H29 -> 0
A30: =A51 -> . | E30: 0 | F30: =E30 -> 0 | G30: =F30 -> 0 | H30: =G30 -> 0 | I30: =H30 -> 0
A31: =A52 -> . | E31: 0 | F31: =E31 -> 0 | G31: =F31 -> 0 | H31: =G31 -> 0 | I31: =H31 -> 0
A34: Quantidades Vendidas mensais | C34: Unidade | D34: =Pressupostos!C$6 -> 2011 | E34: =Pressupostos!D$6 -> 2012 | F34: =Pressupostos!E$6 -> 2013 | G34: =Pressupostos!F$6 -> 2014 | H34: =Pressupostos!G$6 -> 2015 | I34: =Pressupostos!H$6 -> 2016
A35: =A4 -> Vestuário para senhoras | C35: =IF(ISBLANK(C4),"",C4) -> N.º Peças | D35: =D4 -> 0 | E35: =(D4*(1+E14)) -> 0 | F35: =E35*(1+F14) -> 0 | G35: =F35*(1+G14) -> 0 | H35: =G35*(1+H14) -> 0 | I35: =H35*(1+I14) -> 0
A36: =A5 -> Vestuário para homem | C36: =IF(ISBLANK(C5),"",C5) -> N.º Peças | D36: =D5 -> 0 | E36: =(D5*(1+E15)) -> 0 | F36: =E36*(1+F15) -> 0 | G36: =F36*(1+G15) -> 0 | H36: =G36*(1+H15) -> 0 | I36: =H36*(1+I15) -> 0
A37: =A6 -> Vestuário para criança | C37: =IF(ISBLANK(C6),"",C6) -> N.º Peças | D37: =D6 -> 0 | E37: =(D6*(1+E16)) -> 0 | F37: =E37*(1+F16) -> 0 | G37: =F37*(1+G16) -> 0 | H37: =G37*(1+H16) -> 0 | I37: =H37*(1+I16) -> 0
A38: =A7 -> . | C38: =IF(ISBLANK(C7),"",C7) | D38: =D7 -> 0 | E38: =(D7*(1+E17)) -> 0 | F38: =E38*(1+F17) -> 0 | G38: =F38*(1+G17) -> 0 | H38: =G38*(1+H17) -> 0 | I38: =H38*(1+I17) -> 0
A39: =A8 -> . | C39: =IF(ISBLANK(C8),"",C8) | D39: =D8 -> 0 | E39: =(D8*(1+E18)) -> 0 | F39: =E39*(1+F18) -> 0 | G39: =F39*(1+G18) -> 0 | H39: =G39*(1+H18) -> 0 | I39: =H39*(1+I18) -> 0
A40: =A9 -> . | C40: =IF(ISBLANK(C9),"",C9) | D40: =D9 -> 0 | E40: =(D9*(1+E19)) -> 0 | F40: =E40*(1+F19) -> 0 | G40: =F40*(1+G19) -> 0 | H40: =G40*(1+H19) -> 0 | I40: =H40*(1+I19) -> 0
A41: =A10 -> . | C41: =IF(ISBLANK(C10),"",C10) | D41: =D10 -> 0 | E41: =(D10*(1+E20)) -> 0 | F41: =E41*(1+F20) -> 0 | G41: =F41*(1+G20) -> 0 | H41: =G41*(1+H20) -> 0 | I41: =H41*(1+I20) -> 0
A42: =A11 -> . | C42: =IF(ISBLANK(C11),"",C11) | D42: =D11 -> 0 | E42: =(D11*(1+E21)) -> 0 | F42: =E42*(1+F21) -> 0 | G42: =F42*(1+G21) -> 0 | H42: =G42*(1+H21) -> 0 | I42: =H42*(1+I21) -> 0
C43: =IF(ISBLANK(C12),"",C12)
A44: PREÇO DE VENDA | C44: Euros | D44: =Pressupostos!C$6 -> 2011 | E44: =Pressupostos!D$6 -> 2012 | F44: =Pressupostos!E$6 -> 2013 | G44: =Pressupostos!F$6 -> 2014 | H44: =Pressupostos!G$6 -> 2015 | I44: =Pressupostos!H$6 -> 2016
A45: =A4 -> Vestuário para senhoras | D45: =E4 -> 0 | E45: =(D45*(1+E24)) -> 0 | F45: =E45*(1+F24) -> 0 | G45: =F45*(1+G24) -> 0 | H45: =G45*(1+H24) -> 0 | I45: =H45*(1+I24) -> 0
...

Sheet CMVMC
A1: 5.2.3. - Custo das Matérias Consumidas
A3: CUSTO DAS VENDAS DE PRODUTOS ACABADOS | C3: % imp. de Custos | D3: =Pressupostos!C$6 -> 2011 | E3: =Pressupostos!D$6 -> 2012 | F3: =Pressupostos!E$6 -> 2013 | G3: =Pressupostos!F$6 -> 2014 | H3: =Pressupostos!G$6 -> 2015 | I3: =Pressupostos!H$6 -> 2016
A4: ='Vendas PA'!A6 -> Vestuário para senhoras | C4: 0 | D4: ='Vendas PA'!D56*$C4 -> 0 | E4: ='Vendas PA'!E56*$C4 -> 0 | F4: ='Vendas PA'!F56*$C4 -> 0 | G4: ='Vendas PA'!G56*$C4 -> 0 | H4: ='Vendas PA'!H56*$C4 -> 0 | I4: ='Vendas PA'!I56*$C4 -> 0
A5: ='Vendas PA'!A7 -> Vestuário para homem | C5: 0 | D5: ='Vendas PA'!D57*$C5 -> 0 | E5: ='Vendas PA'!E57*$C5 -> 0 | F5: ='Vendas PA'!F57*$C5 -> 0 | G5: ='Vendas PA'!G57*$C5 -> 0 | H5: ='Vendas PA'!H57*$C5 -> 0 | I5: ='Vendas PA'!I57*$C5 -> 0
A6: ='Vendas PA'!A8 -> Vestuário para criança | C6: 0 | D6: ='Vendas PA'!D58*$C6 -> 0 | E6: ='Vendas PA'!E58*$C6 -> 0 | F6: ='Vendas PA'!F58*$C6 -> 0 | G6: ='Vendas PA'!G58*$C6 -> 0 | H6: ='Vendas PA'!H58*$C6 -> 0 | I6: ='Vendas PA'!I58*$C6 -> 0
A7: ='Vendas PA'!A9 -> . | C7: 0 | D7: ='Vendas PA'!D59*$C7 -> 0 | E7: ='Vendas PA'!E59*$C7 -> 0 | F7: ='Vendas PA'!F59*$C7 -> 0 | G7: ='Vendas PA'!G59*$C7 -> 0 | H7: ='Vendas PA'!H59*$C7 -> 0 | I7: ='Vendas PA'!I59*$C7 -> 0
A8: ='Vendas PA'!A10 -> . | C8: 0 | D8: ='Vendas PA'!D60*$C8 -> 0 | E8: ='Vendas PA'!E60*$C8 -> 0 | F8: ='Vendas PA'!F60*$C8 -> 0 | G8: ='Vendas PA'!G60*$C8 -> 0 | H8: ='Vendas PA'!H60*$C8 -> 0 | I8: ='Vendas PA'!I60*$C8 -> 0
A9: ='Vendas PA'!A11 -> . | C9: 0 | D9: ='Vendas PA'!D61*$C9 -> 0 | E9: ='Vendas PA'!E61*$C9 -> 0 | F9: ='Vendas PA'!F61*$C9 -> 0 | G9: ='Vendas PA'!G61*$C9 -> 0 | H9: ='Vendas PA'!H61*$C9 -> 0 | I9: ='Vendas PA'!I61*$C9 -> 0
A10: ='Vendas PA'!A12 -> . | C10: 0 | D10: ='Vendas PA'!D62*$C10 -> 0 | E10: ='Vendas PA'!E62*$C10 -> 0 | F10: ='Vendas PA'!F62*$C10 -> 0 | G10: ='Vendas PA'!G62*$C10 -> 0 | H10: ='Vendas PA'!H62*$C10 -> 0 | I10: ='Vendas PA'!I62*$C10 -> 0
A11: ='Vendas PA'!A13 -> . | C11: 0 | D11: ='Vendas PA'!D63*$C11 -> 0 | E11: ='Vendas PA'!E63*$C11 -> 0 | F11: ='Vendas PA'!F63*$C11 -> 0 | G11: ='Vendas PA'!G63*$C11 -> 0 | H11: ='Vendas PA'!H63*$C11 -> 0 | I11: ='Vendas PA'!I63*$C11 -> 0
A12: TOTAL | D12: =SUM(D4:D11) -> 0 | E12: =SUM(E4:E11) -> 0 | F12: =SUM(F4:F11) -> 0 | G12: =SUM(G4:G11) -> 0 | H12: =SUM(H4:H11) -> 0 | I12: =SUM(I4:I11) -> 0
A14: VARIAÇÃO DA PRODUÇÃO | D14: =Pressupostos!C$6 -> 2011 | E14: =Pressupostos!D$6 -> 2012 | F14: =Pressupostos!E$6 -> 2013 | G14: =Pressupostos!F$6 -> 2014 | H14: =Pressupostos!G$6 -> 2015 | I14: =Pressupostos!H$6 -> 2016
A15: Existência inicial P.A. | D15: 0 | E15: =D16 -> 0 | F15: =E16 -> 0 | G15: =F16 -> 0 | H15: =G16 -> 0 | I15: =H16 -> 0
A16: Existência final P.A. | D16: =('Vendas PA'!D65/Pressupostos!C8)*Pressupostos!C16/30 -> 0 | E16: =('Vendas PA'!E65/Pressupostos!D8)*Pressupostos!D16/30 -> 0 | F16: =('Vendas PA'!F65/Pressupostos!E8)*Pressupostos!E16/30 -> 0 | G16: =('Vendas PA'!G65/Pressupostos!F8)*Pressupostos!F16/30 -> 0 | H16: =('Vendas PA'!H65/Pressupostos!G8)*Pressupostos!G16/30 -> 0 | I16: =('Vendas PA'!I65/Pressupostos!H8)*Pressupostos!H16/30 -> 0
A17: VALOR | D17: =D16-D15 -> 0 | E17: =E16-E15 -> 0 | F17: =F16-F15 -> 0 | G17: =G16-G15 -> 0 | H17: =H16-H15 -> 0 | I17: =I16-I15 -> 0
A19: STOCK FINAL DE MATÉRIAS PRIMAS | D19: =Pressupostos!C$6 -> 2011 | E19: =Pressupostos!D$6 -> 2012 | F19: =Pressupostos!E$6 -> 2013 | G19: =Pressupostos!F$6 -> 2014 | H19: =Pressupostos!G$6 -> 2015 | I19: =Pressupostos!H$6 -> 2016
A20: =A4 -> Vestuário para senhoras | D20: =(D4/Pressupostos!C$8)*Pressupostos!C$15/30 -> 0 | E20: =(E4/Pressupostos!D$8)*Pressupostos!D$15/30 -> 0 | F20: =(F4/Pressupostos!E$8)*Pressupostos!E$15/30 -> 0 | G20: =(G4/Pressupostos!F$8)*Pressupostos!F$15/30 -> 0 | H20: =(H4/Pressupostos!G$8)*Pressupostos!G$15/30 -> 0 | I20: =(I4/Pressupostos!H$8)*Pressupostos!H$15/30 -> 0
A21: =A5 -> Vestuário para homem | D21: =(D5/Pressupostos!C$8)*Pressupostos!C$15/30 -> 0 | E21: =(E5/Pressupostos!D$8)*Pressupostos!D$15/30 -> 0 | F21: =(F5/Pressupostos!E$8)*Pressupostos!E$15/30 -> 0 | G21: =(G5/Pressupostos!F$8)*Pressupostos!F$15/30 -> 0 | H21: =(H5/Pressupostos!G$8)*Pressupostos!G$15/30 -> 0 | I21: =(I5/Pressupostos!H$8)*Pressupostos!H$15/30 -> 0
A22: =A6 -> Vestuário para criança | D22: =(D6/Pressupostos!C$8)*Pressupostos!C$15/30 -> 0 | E22: =(E6/Pressupostos!D$8)*Pressupostos!D$15/30 -> 0 | F22: =(F6/Pressupostos!E$8)*Pressupostos!E$15/30 -> 0 | G22: =(G6/Pressupostos!F$8)*Pressupostos!F$15/30 -> 0 | H22: =(H6/Pressupostos!G$8)*Pressupostos!G$15/30 -> 0 | I22: =(I6/Pressupostos!H$8)*Pressupostos!H$15/30 -> 0
A23: =A7 -> . | D23: =(D7/Pressupostos!C$8)*Pressupostos!C$15/30 -> 0 | E23: =(E7/Pressupostos!D$8)*Pressupostos!D$15/30 -> 0 | F23: =(F7/Pressupostos!E$8)*Pressupostos!E$15/30 -> 0 | G23: =(G7/Pressupostos!F$8)*Pressupostos!F$15/30 -> 0 | H23: =(H7/Pressupostos!G$8)*Pressupostos!G$15/30 -> 0 | I23: =(I7/Pressupostos!H$8)*Pressupostos!H$15/30 -> 0
A24: =A8 -> . | D24: =(D8/Pressupostos!C$8)*Pressupostos!C$15/30 -> 0 | E24: =(E8/Pressupostos!D$8)*Pressupostos!D$15/30 -> 0 | F24: =(F8/Pressupostos!E$8)*Pressupostos!E$15/30 -> 0 | G24: =(G8/Pressupostos!F$8)*Pressupostos!F$15/30 -> 0 | H24: =(H8/Pressupostos!G$8)*Pressupostos!G$15/30 -> 0 | I24: =(I8/Pressupostos!H$8)*Pressupostos!H$15/30 -> 0
A25: =A9 -> . | D25: =(D9/Pressupostos!C$8)*Pressupostos!C$15/30 -> 0 | E25: =(E9/Pressupostos!D$8)*Pressupostos!D$15/30 -> 0 | F25: =(F9/Pressupostos!E$8)*Pressupostos!E$15/30 -> 0 | G25: =(G9/Pressupostos!F$8)*Pressupostos!F$15/30 -> 0 | H25: =(H9/Pressupostos!G$8)*Pressupostos!G$15/30 -> 0 | I25: =(I9/Pressupostos!H$8)*Pressupostos!H$15/30 -> 0
A26: =A10 -> . | D26: =(D10/Pressupostos!C$8)*Pressupostos!C$15/30 -> 0 | E26: =(E10/Pressupostos!D$8)*Pressupostos!D$15/30 -> 0 | F26: =(F10/Pressupostos!E$8)*Pressupostos!E$15/30 -> 0 | G26: =(G10/Pressupostos!F$8)*Pressupostos!F$15/30 -> 0 | H26: =(H10/Pressupostos!G$8)*Pressupostos!G$15/30 -> 0 | I26: =(I10/Pressupostos!H$8)*Pressupostos!H$15/30 -> 0
A27: =A11 -> . | D27: =(D11/Pressupostos!C$8)*Pressupostos!C$15/30 -> 0 | E27: =(E11/Pressupostos!D$8)*Pressupostos!D$15/30 -> 0 | F27: =(F11/Pressupostos!E$8)*Pressupostos!E$15/30 -> 0 | G27: =(G11/Pressupostos!F$8)*Pressupostos!F$15/30 -> 0 | H27: =(H11/Pressupostos!G$8)*Pressupostos!G$15/30 -> 0 | I27: =(I11/Pressupostos!H$8)*Pressupostos!H$15/30 -> 0
A28: TOTAL | D28: =SUM(D20:D27) -> 0 | E28: =SUM(E20:E27) -> 0 | F28: =SUM(F20:F27) -> 0 | G28: =SUM(G20:G27) -> 0 | H28: =SUM(H20:H27) -> 0 | I28: =SUM(I20:I27) -> 0
A30: COMPRAS DE M. P. | D30: =Pressupostos!C$6 -> 2011 | E30: =Pressupostos!D$6 -> 2012 | F30: =Pressupostos!E$6 -> 2013 | G30: =Pressupostos!F$6 -> 2014 | H30: =Pressupostos!G$6 -> 2015 | I30: =Pressupostos!H$6 -> 2016
A31: Existência inicial M.P. | D31: 0 | E31: =D33 -> 0 | F31: =E33 -> 0 | G31: =F33 -> 0 | H31: =G33 -> 0 | I31: =H33 -> 0
A32: Custo das matérias consumidas | D32: =D12+D17 -> 0 | E32: =E12+E17 -> 0 | F32: =F12+F17 -> 0 | G32: =G12+G17 -> 0 | H32: =H12+H17 -> 0 | I32: =I12+I17 -> 0
A33: Existência final M.P. | D33: =D28 -> 0 | E33: =E28 -> 0 | F33: =F28 -> 0 | G33: =G28 -> 0 | H33: =H28 -> 0 | I33: =I28 -> 0
A34: Compras M.P. em valor | D34: =D32+D33-D31 -> 0 | E34: =E32+E33-E31 -> 0 | F34: =F32+F33-F31 -> 0 | G34: =G32+G33-G31 -> 0 | H34: =H32+H33-H31 -> 0 | I34: =I32+I33-I31 -> 0
D36: =Pressupostos!C$6 -> 2011 | E36: =Pressupostos!D$6 -> 2012 | F36: =Pressupostos!E$6 -> 2013 | G36: =Pressupostos!F$6 -> 2014 | H36: =Pressupostos!G$6 -> 2015 | I36: =Pressupostos!H$6 -> 2016
A37: C.M.V.M.C. | D37: =D32+'Custo Merc'!D12 -> 0 | E37: =E32+'Custo Merc'!E12 -> 0 | F37: =F32+'Custo Merc'!F12 -> 0 | G37: =G32+'Custo Merc'!G12 -> 0 | H37: =H32+'Custo Merc'!H12 -> 0 | I37: =I32+'Custo Merc'!J12 -> 0
A38: Compras de M.V.M.C. | D38: =D34+'Custo Merc'!D29 -> 0 | E38: =E34+'Custo Merc'!E29 -> 0 | F38: =F34+'Custo Merc'!F29 -> 0 | G38: =G34+'Custo Merc'!G29 -> 0 | H38: =H34+'Custo Merc'!H29 -> 0 | I38: =I34+'Custo Merc'!J29 -> 0

Sheet Custo Merc
A1: 5.2.4. - Custo das Mercadorias Vendidas
A3: CUSTO DAS MERCADORIAS VENDIDAS | C3: % imp. de Custos | D3: =Pressupostos!C$6 -> 2011 | E3: =Pressupostos!D$6 -> 2012 | F3: =Pressupostos!E$6 -> 2013 | G3: =Pressupostos!F$6 -> 2014 | H3: =Pressupostos!G$6 -> 2015 | I3: =Pressupostos!H$6 -> 2016
A4: =VM!A4 -> Vestuário para senhoras | C4: 0 | D4: =VM!D55*$C4 -> 0 | E4: =VM!E55*$C4 -> 0 | F4: =VM!F55*$C4 -> 0 | G4: =VM!G55*$C4 -> 0 | H4: =VM!H55*$C4 -> 0 | I4: =VM!I55*$C4 -> 0
A5: =VM!A5 -> Vestuário para homem | C5: 0 | D5: =VM!D56*$C5 -> 0 | E5: =VM!E56*$C5 -> 0 | F5: =VM!F56*$C5 -> 0 | G5: =VM!G56*$C5 -> 0 | H5: =VM!H56*$C5 -> 0 | I5: =VM!I56*$C5 -> 0
A6: =VM!A6 -> Vestuário para criança | C6: 0 | D6: =VM!D57*$C6 -> 0 | E6: =VM!E57*$C6 -> 0 | F6: =VM!F57*$C6 -> 0 | G6: =VM!G57*$C6 -> 0 | H6: =VM!H57*$C6 -> 0 | I6: =VM!I57*$C6 -> 0
A7: =VM!A7 -> . | C7: 0 | D7: =VM!D58*$C7 -> 0 | E7: =VM!E58*$C7 -> 0 | F7: =VM!F58*$C7 -> 0 | G7: =VM!G58*$C7 -> 0 | H7: =VM!H58*$C7 -> 0 | I7: =VM!I58*$C7 -> 0
A8: =VM!A8 -> . | C8: 0 | D8: =VM!D59*$C8 -> 0 | E8: =VM!E59*$C8 -> 0 | F8: =VM!F59*$C8 -> 0 | G8: =VM!G59*$C8 -> 0 | H8: =VM!H59*$C8 -> 0 | I8: =VM!I59*$C8 -> 0
A9: =VM!A9 -> . | C9: 0 | D9: =VM!D60*$C9 -> 0 | E9: =VM!E60*$C9 -> 0 | F9: =VM!F60*$C9 -> 0 | G9: =VM!G60*$C9 -> 0 | H9: =VM!H60*$C9 -> 0 | I9: =VM!I60*$C9 -> 0
A10: =VM!A10 -> . | C10: 0 | D10: =VM!D61*$C10 -> 0 | E10: =VM!E61*$C10 -> 0 | F10: =VM!F61*$C10 -> 0 | G10: =VM!G61*$C10 -> 0 | H10: =VM!H61*$C10 -> 0 | I10: =VM!I61*$C10 -> 0
A11: =VM!A11 -> . | C11: 0 | D11: =VM!D62*$C11 -> 0 | E11: =VM!E62*$C11 -> 0 | F11: =VM!F62*$C11 -> 0 | G11: =VM!G62*$C11 -> 0 | H11: =VM!H62*$C11 -> 0 | I11: =VM!I62*$C11 -> 0
A12: TOTAL | D12: =SUM(D4:D11) -> 0 | E12: =SUM(E4:E11) -> 0 | F12: =SUM(F4:F11) -> 0 | G12: =SUM(G4:G11) -> 0 | H12: =SUM(H4:H11) -> 0 | I12: =SUM(I4:I11) -> 0
A14: VALOR DO STOCK FINAL DE MERCADORIAS | D14: =Pressupostos!C$6 -> 2011 | E14: =Pressupostos!D$6 -> 2012 | F14: =Pressupostos!E$6 -> 2013 | G14: =Pressupostos!F$6 -> 2014 | H14: =Pressupostos!G$6 -> 2015 | I14: =Pressupostos!H$6 -> 2016
A15: =A4 -> Vestuário para senhoras | D15: =(D4/Pressupostos!C$8)*Pressupostos!C$14/30 -> 0 | E15: =(E4/Pressupostos!D$8)*Pressupostos!D$14/30 -> 0 | F15: =(F4/Pressupostos!E$8)*Pressupostos!E$14/30 -> 0 | G15: =(G4/Pressupostos!F$8)*Pressupostos!F$14/30 -> 0 | H15: =(H4/Pressupostos!G$8)*Pressupostos!G$14/30 -> 0 | I15: =(I4/Pressupostos!H$8)*Pressupostos!H$14/30 -> 0
A16: =A5 -> Vestuário para homem | D16: =(D5/Pressupostos!C$8)*Pressupostos!C$14/30 -> 0 | E16: =(E5/Pressupostos!D$8)*Pressupostos!D$14/30 -> 0 | F16: =(F5/Pressupostos!E$8)*Pressupostos!E$14/30 -> 0 | G16: =(G5/Pressupostos!F$8)*Pressupostos!F$14/30 -> 0 | H16: =(H5/Pressupostos!G$8)*Pressupostos!G$14/30 -> 0 | I16: =(I5/Pressupostos!H$8)*Pressupostos!H$14/30 -> 0
A17: =A6 -> Vestuário para criança | D17: =(D6/Pressupostos!C$8)*Pressupostos!C$14/30 -> 0 | E17: =(E6/Pressupostos!D$8)*Pressupostos!D$14/30 -> 0 | F17: =(F6/Pressupostos!E$8)*Pressupostos!E$14/30 -> 0 | G17: =(G6/Pressupostos!F$8)*Pressupostos!F$14/30 -> 0 | H17: =(H6/Pressupostos!G$8)*Pressupostos!G$14/30 -> 0 | I17: =(I6/Pressupostos!H$8)*Pressupostos!H$14/30 -> 0
A18: =A7 -> . | D18: =(D7/Pressupostos!C$8)*Pressupostos!C$14/30 -> 0 | E18: =(E7/Pressupostos!D$8)*Pressupostos!D$14/30 -> 0 | F18: =(F7/Pressupostos!E$8)*Pressupostos!E$14/30 -> 0 | G18: =(G7/Pressupostos!F$8)*Pressupostos!F$14/30 -> 0 | H18: =(H7/Pressupostos!G$8)*Pressupostos!G$14/30 -> 0 | I18: =(I7/Pressupostos!H$8)*Pressupostos!H$14/30 -> 0
A19: =A8 -> . | D19: =(D8/Pressupostos!C$8)*Pressupostos!C$14/30 -> 0 | E19: =(E8/Pressupostos!D$8)*Pressupostos!D$14/30 -> 0 | F19: =(F8/Pressupostos!E$8)*Pressupostos!E$14/30 -> 0 | G19: =(G8/Pressupostos!F$8)*Pressupostos!F$14/30 -> 0 | H19: =(H8/Pressupostos!G$8)*Pressupostos!G$14/30 -> 0 | I19: =(I8/Pressupostos!H$8)*Pressupostos!H$14/30 -> 0
A20: =A9 -> . | D20: =(D9/Pressupostos!C$8)*Pressupostos!C$14/30 -> 0 | E20: =(E9/Pressupostos!D$8)*Pressupostos!D$14/30 -> 0 | F20: =(F9/Pressupostos!E$8)*Pressupostos!E$14/30 -> 0 | G20: =(G9/Pressupostos!F$8)*Pressupostos!F$14/30 -> 0 | H20: =(H9/Pressupostos!G$8)*Pressupostos!G$14/30 -> 0 | I20: =(I9/Pressupostos!H$8)*Pressupostos!H$14/30 -> 0
A21: =A10 -> . | D21: =(D10/Pressupostos!C$8)*Pressupostos!C$14/30 -> 0 | E21: =(E10/Pressupostos!D$8)*Pressupostos!D$14/30 -> 0 | F21: =(F10/Pressupostos!E$8)*Pressupostos!E$14/30 -> 0 | G21: =(G10/Pressupostos!F$8)*Pressupostos!F$14/30 -> 0 | H21: =(H10/Pressupostos!G$8)*Pressupostos!G$14/30 -> 0 | I21: =(I10/Pressupostos!H$8)*Pressupostos!H$14/30 -> 0
A22: =A11 -> . | D22: =(D11/Pressupostos!C$8)*Pressupostos!C$14/30 -> 0 | E22: =(E11/Pressupostos!D$8)*Pressupostos!D$14/30 -> 0 | F22: =(F11/Pressupostos!E$8)*Pressupostos!E$14/30 -> 0 | G22: =(G11/Pressupostos!F$8)*Pressupostos!F$14/30 -> 0 | H22: =(H11/Pressupostos!G$8)*Pressupostos!G$14/30 -> 0 | I22: =(I11/Pressupostos!H$8)*Pressupostos!H$14/30 -> 0
A23: TOTAL | D23: =SUM(D15:D22) -> 0 | E23: =SUM(E15:E22) -> 0 | F23: =SUM(F15:F22) -> 0 | G23: =SUM(G15:G22) -> 0 | H23: =SUM(H15:H22) -> 0 | I23: =SUM(I15:I22) -> 0
A25: COMPRAS DE MERCADORIAS | D25: =Pressupostos!C$6 -> 2011 | E25: =Pressupostos!D$6 -> 2012 | F25: =Pressupostos!E$6 -> 2013 | G25: =Pressupostos!F$6 -> 2014 | H25: =Pressupostos!G$6 -> 2015 | I25: =Pressupostos!H$6 -> 2016
A26: Existência inicial Mercadorias | D26: 0 | E26: =D28 -> 0 | F26: =E28 -> 0 | G26: =F28 -> 0 | H26: =G28 -> 0 | I26: =H28 -> 0
A27: Mercadorias vendidas | D27: =D12 -> 0 | E27: =E12 -> 0 | F27: =F12 -> 0 | G27: =G12 -> 0 | H27: =H12 -> 0 | I27: =I12 -> 0
A28: Existência final Mercadorias | D28: =D23 -> 0 | E28: =E23 -> 0 | F28: =F23 -> 0 | G28: =G23 -> 0 | H28: =H23 -> 0 | I28: =I23 -> 0
A29: Compras Mercadorias em valor | D29: =D27+D28-D26 -> 0 | E29: =E27+E28-E26 -> 0 | F29: =F27+F28-F26 -> 0 | G29: =G27+G28-G26 -> 0 | H29: =H27+H28-H26 -> 0 | I29: =I27+I28-I26 -> 0

Sheet P. Serviços
A1: 5.2.5. - Prestação de Serviços
A3: PRESTAÇÂO DE SERVIÇOS E OUTROS PROV. | C3: Valor/Mês | D3: =Pressupostos!C$6 -> 2011 | E3: =Pressupostos!D$6 -> 2012 | F3: =Pressupostos!E$6 -> 2013 | G3: =Pressupostos!F$6 -> 2014 | H3: =Pressupostos!G$6 -> 2015 | I3: =Pressupostos!H$6 -> 2016
A4: Bainhas e Outras Arranjos | D4: =$C4*Pressupostos!C$8*(1+D16) -> 0 | E4: =$C4*Pressupostos!D$8*(1+E16) -> 0 | F4: =E4*(1+F16) -> 0 | G4: =F4*(1+G16) -> 0 | H4: =G4*(1+H16) -> 0 | I4: =H4*(1+I16) -> 0
A5: . | D5: =$C5*Pressupostos!C$8*(1+D17) -> 0 | E5: =$C5*Pressupostos!D$8*(1+E17) -> 0 | F5: =E5*(1+F17) -> 0 | G5: =F5*(1+G17) -> 0 | H5: =G5*(1+H17) -> 0 | I5: =H5*(1+I17) -> 0
A6: . | D6: =$C6*Pressupostos!C$8*(1+D18) -> 0 | E6: =$C6*Pressupostos!D$8*(1+E18) -> 0 | F6: =E6*(1+F18) -> 0 | G6: =F6*(1+G18) -> 0 | H6: =G6*(1+H18) -> 0 | I6: =H6*(1+I18) -> 0
A7: . | D7: =$C7*Pressupostos!C$8*(1+D19) -> 0 | E7: =$C7*Pressupostos!D$8*(1+E19) -> 0 | F7: =E7*(1+F19) -> 0 | G7: =F7*(1+G19) -> 0 | H7: =G7*(1+H19) -> 0 | I7: =H7*(1+I19) -> 0
A8: . | D8: =$C8*Pressupostos!C$8*(1+D20) -> 0 | E8: =$C8*Pressupostos!D$8*(1+E20) -> 0 | F8: =E8*(1+F20) -> 0 | G8: =F8*(1+G20) -> 0 | H8: =G8*(1+H20) -> 0 | I8: =H8*(1+I20) -> 0
A9: . | D9: =$C9*Pressupostos!C$8*(1+D21) -> 0 | E9: =$C9*Pressupostos!D$8*(1+E21) -> 0 | F9: =E9*(1+F21) -> 0 | G9: =F9*(1+G21) -> 0 | H9: =G9*(1+H21) -> 0 | I9: =H9*(1+I21) -> 0
A10: . | D10: =$C10*Pressupostos!C$8*(1+D22) -> 0 | E10: =$C10*Pressupostos!D$8*(1+E22) -> 0 | F10: =E10*(1+F22) -> 0 | G10: =F10*(1+G22) -> 0 | H10: =G10*(1+H22) -> 0 | I10: =H10*(1+I22) -> 0
A11: . | D11: =$C11*Pressupostos!C$8*(1+D23) -> 0 | E11: =$C11*Pressupostos!D$8*(1+E23) -> 0 | F11: =E11*(1+F23) -> 0 | G11: =F11*(1+G23) -> 0 | H11: =G11*(1+H23) -> 0 | I11: =H11*(1+I23) -> 0
A12: . | D12: =$C12*Pressupostos!C$8*(1+D24) -> 0 | E12: =$C12*Pressupostos!D$8*(1+E24) -> 0 | F12: =E12*(1+F24) -> 0 | G12: =F12*(1+G24) -> 0 | H12: =G12*(1+H24) -> 0 | I12: =H12*(1+I24) -> 0
A13: TOTAL PRESTAÇÃO DE SERVIÇOS | D13: =SUM(D4:D12) -> 0 | E13: =SUM(E4:E12) -> 0 | F13: =SUM(F4:F12) -> 0 | G13: =SUM(G4:G12) -> 0 | H13: =SUM(H4:H12) -> 0 | I13: =SUM(I4:I12) -> 0
A15: TAXAS DE CRESCIMENTO DA PRESTAÇÃO DE SERVIÇOS | E15: =Pressupostos!D$6 -> 2012 | F15: =Pressupostos!E$6 -> 2013 | G15: =Pressupostos!F$6 -> 2014 | H15: =Pressupostos!G$6 -> 2015 | I15: =Pressupostos!H$6 -> 2016
A16: =A4 -> Bainhas e Outras Arranjos | E16: 0 | F16: =E16 -> 0 | G16: =F16 -> 0 | H16: =G16 -> 0 | I16: =H16 -> 0
A17: =A5 -> . | E17: 0 | F17: =E17 -> 0 | G17: =F17 -> 0 | H17: =G17 -> 0 | I17: =H17 -> 0
A18: =A6 -> . | E18: 0 | F18: =E18 -> 0 | G18: =F18 -> 0 | H18: =G18 -> 0 | I18: =H18 -> 0
A19: =A7 -> . | E19: 0 | F19: =E19 -> 0 | G19: =F19 -> 0 | H19: =G19 -> 0 | I19: =H19 -> 0
A20: =A8 -> . | E20: 0 | F20: =E20 -> 0 | G20: =F20 -> 0 | H20: =G20 -> 0 | I20: =H20 -> 0
A21: =A9 -> . | E21: 0 | F21: =E21 -> 0 | G21: =F21 -> 0 | H21: =G21 -> 0 | I21: =H21 -> 0
A22: =A10 -> . | E22: 0 | F22: =E22 -> 0 | G22: =F22 -> 0 | H22: =G22 -> 0 | I22: =H22 -> 0
A23: =A11 -> . | E23: 0 | F23: =E23 -> 0 | G23: =F23 -> 0 | H23: =G23 -> 0 | I23: =H23 -> 0
A24: =A12 -> . | E24: 0 | F24: =E24 -> 0 | G24: =F24 -> 0 | H24: =G24 -> 0 | I24: =H24 -> 0
A26: OUTROS PROVEITOS | D26: =Pressupostos!C$6 -> 2011 | E26: =Pressupostos!D$6 -> 2012 | F26: =Pressupostos!E$6 -> 2013 | G26: =Pressupostos!F$6 -> 2014 | H26: =Pressupostos!G$6 -> 2015 | I26: =Pressupostos!H$6 -> 2016
A37: TOTAL DE OUTROS PROVEITOS | D37: =SUM(D27:D36) -> 0 | E37: =SUM(E27:E36) -> 0 | F37: =SUM(F27:F36) -> 0 | G37: =SUM(G27:G36) -> 0 | H37: =SUM(H27:H36) -> 0 | I37: =SUM(I27:I36) -> 0

Sheet FSE
A1: 5.2.6. - Fornecimentos e Serviços Externos
A3: FORNECIMENTOS E SERVIÇOS EXTERNOS | C3: Valor Mês (€) | D3: =Pressupostos!C$6 -> 2011 | E3: =Pressupostos!D$6 -> 2012 | F3: =Pressupostos!E$6 -> 2013 | G3: =Pressupostos!F$6 -> 2014 | H3: =Pressupostos!G$6 -> 2015 | I3: =Pressupostos!H$6 -> 2016
A4: Subcontratos | D4: =$C4*Pressupostos!C$8 -> 0 | E4: =$C4*(1+Pressupostos!D$22)*Pressupostos!D$8 -> 0 | F4: =$C4*(1+Pressupostos!D$22)*(1+Pressupostos!E$22)*Pressupostos!E$8 -> 0 | G4: =$C4*(1+Pressupostos!D$22)*(1+Pressupostos!E$22)*(1+Pressupostos!F$22)*Pressupostos!F$8 -> 0 | H4: =$C4*(1+Pressupostos!D$22)*(1+Pressupostos!E$22)*(1+Pressupostos!F$22)*(1+Pressupostos!G$22)*Pressupostos!G$8 -> 0 | I4: =$C4*(1+Pressupostos!E$22)*(1+Pressupostos!F$22)*(1+Pressupostos!G$22)*(1+Pressupostos!H$22)*Pressupostos!H$8 -> 0
A5: Electricidade e Gás | C5: 0 | D5: =$C5*Pressupostos!C$8 -> 0 | E5: =$C5*(1+Pressupostos!D$22)*Pressupostos!D$8 -> 0 | F5: =$C5*(1+Pressupostos!D$22)*(1+Pressupostos!E$22)*Pressupostos!E$8 -> 0 | G5: =$C5*(1+Pressupostos!D$22)*(1+Pressupostos!E$22)*(1+Pressupostos!F$22)*Pressupostos!F$8 -> 0 | H5: =$C5*(1+Pressupostos!D$22)*(1+Pressupostos!E$22)*(1+Pressupostos!F$22)*(1+Pressupostos!G$22)*Pressupostos!G$8 -> 0 | I5: =$C5*(1+Pressupostos!E$22)*(1+Pressupostos!F$22)*(1+Pressupostos!G$22)*(1+Pressupostos!H$22)*Pressupostos!H$8 -> 0
A6: Água | C6: 0 | D6: =$C6*Pressupostos!C$8 -> 0 | E6: =$C6*(1+Pressupostos!D$22)*Pressupostos!D$8 -> 0 | F6: =$C6*(1+Pressupostos!D$22)*(1+Pressupostos!E$22)*Pressupostos!E$8 -> 0 | G6: =$C6*(1+Pressupostos!D$22)*(1+Pressupostos!E$22)*(1+Pressupostos!F$22)*Pressupostos!F$8 -> 0 | H6: =$C6*(1+Pressupostos!D$22)*(1+Pressupostos!E$22)*(1+Pressupostos!F$22)*(1+Pressupostos!G$22)*Pressupostos!G$8 -> 0 | I6: =$C6*(1+Pressupostos!E$22)*(1+Pressupostos!F$22)*(1+Pressupostos!G$22)*(1+Pressupostos!H$22)*Pressupostos!H$8 -> 0
A7: Ferramentas e Utensilios de desgaste rápido | C7: 0 | D7: =$C7*Pressupostos!C$8 -> 0 | E7: =$C7*(1+Pressupostos!D$22)*Pressupostos!D$8 -> 0 | F7: =$C7*(1+Pressupostos!D$22)*(1+Pressupostos!E$22)*Pressupostos!E$8 -> 0 | G7: =$C7*(1+Pressupostos!D$22)*(1+Pressupostos!E$22)*(1+Pressupostos!F$22)*Pressupostos!F$8 -> 0 | H7: =$C7*(1+Pressupostos!D$22)*(1+Pressupostos!E$22)*(1+Pressupostos!F$22)*(1+Pressupostos!G$22)*Pressupostos!G$8 -> 0 | I7: =$C7*(1+Pressupostos!E$22)*(1+Pressupostos!F$22)*(1+Pressupostos!G$22)*(1+Pressupostos!H$22)*Pressupostos!H$8 -> 0
A8: Material de Escritório | C8: 0 | D8: =$C8*Pressupostos!C$8 -> 0 | E8: =$C8*(1+Pressupostos!D$22)*Pressupostos!D$8 -> 0 | F8: =$C8*(1+Pressupostos!D$22)*(1+Pressupostos!E$22)*Pressupostos!E$8 -> 0 | G8: =$C8*(1+Pressupostos!D$22)*(1+Pressupostos!E$22)*(1+Pressupostos!F$22)*Pressupostos!F$8 -> 0 | H8: =$C8*(1+Pressupostos!D$22)*(1+Pressupostos!E$22)*(1+Pressupostos!F$22)*(1+Pressupostos!G$22)*Pressupostos!G$8 -> 0 | I8: =$C8*(1+Pressupostos!E$22)*(1+Pressupostos!F$22)*(1+Pressupostos!G$22)*(1+Pressupostos!H$22)*Pressupostos!H$8 -> 0
A9: Comunicações | C9: 0 | D9: =$C9*Pressupostos!C$8 -> 0 | E9: =$C9*(1+Pressupostos!D$22)*Pressupostos!D$8 -> 0 | F9: =$C9*(1+Pressupostos!D$22)*(1+Pressupostos!E$22)*Pressupostos!E$8 -> 0 | G9: =$C9*(1+Pressupostos!D$22)*(1+Pressupostos!E$22)*(1+Pressupostos!F$22)*Pressupostos!F$8 -> 0 | H9: =$C9*(1+Pressupostos!D$22)*(1+Pressupostos!E$22)*(1+Pressupostos!F$22)*(1+Pressupostos!G$22)*Pressupostos!G$8 -> 0 | I9: =$C9*(1+Pressupostos!E$22)*(1+Pressupostos!F$22)*(1+Pressupostos!G$22)*(1+Pressupostos!H$22)*Pressupostos!H$8 -> 0
A10: Rendas e Alugeres (Instalações) | C10: 0 | D10: =$C10*Pressupostos!C$8 -> 0 | E10: =$C10*(1+Pressupostos!D$22)*Pressupostos!D$8 -> 0 | F10: =$C10*(1+Pressupostos!D$22)*(1+Pressupostos!E$22)*Pressupostos!E$8 -> 0 | G10: =$C10*(1+Pressupostos!D$22)*(1+Pressupostos!E$22)*(1+Pressupostos!F$22)*Pressupostos!F$8 -> 0 | H10: =$C10*(1+Pressupostos!D$22)*(1+Pressupostos!E$22)*(1+Pressupostos!F$22)*(1+Pressupostos!G$22)*Pressupostos!G$8 -> 0 | I10: =$C10*(1+Pressupostos!E$22)*(1+Pressupostos!F$22)*(1+Pressupostos!G$22)*(1+Pressupostos!H$22)*Pressupostos!H$8 -> 0
A11: Seguros | C11: 0 | D11: =$C11*Pressupostos!C$8 -> 0 | E11: =$C11*(1+Pressupostos!D$22)*Pressupostos!D$8 -> 0 | F11: =$C11*(1+Pressupostos!D$22)*(1+Pressupostos!E$22)*Pressupostos!E$8 -> 0 | G11: =$C11*(1+Pressupostos!D$22)*(1+Pressupostos!E$22)*(1+Pressupostos!F$22)*Pressupostos!F$8 -> 0 | H11: =$C11*(1+Pressupostos!D$22)*(1+Pressupostos!E$22)*(1+Pressupostos!F$22)*(1+Pressupostos!G$22)*Pressupostos!G$8 -> 0 | I11: =$C11*(1+Pressupostos!E$22)*(1+Pressupostos!F$22)*(1+Pressupostos!G$22)*(1+Pressupostos!H$22)*Pressupostos!H$8 -> 0
A12: Transportes de Mercadorias | C12: 0 | D12: =$C12*Pressupostos!C$8 -> 0 | E12: =$C12*(1+Pressupostos!D$22)*Pressupostos!D$8 -> 0 | F12: =$C12*(1+Pressupostos!D$22)*(1+Pressupostos!E$22)*Pressupostos!E$8 -> 0 | G12: =$C12*(1+Pressupostos!D$22)*(1+Pressupostos!E$22)*(1+Pressupostos!F$22)*Pressupostos!F$8 -> 0 | H12: =$C12*(1+Pressupostos!D$22)*(1+Pressupostos!E$22)*(1+Pressupostos!F$22)*(1+Pressupostos!G$22)*Pressupostos!G$8 -> 0 | I12: =$C12*(1+Pressupostos!E$22)*(1+Pressupostos!F$22)*(1+Pressupostos!G$22)*(1+Pressupostos!H$22)*Pressupostos!H$8 -> 0
A13: Deslocações e Estadas | C13: 0 | D13: =$C13*Pressupostos!C$8 -> 0 | E13: =$C13*(1+Pressupostos!D$22)*Pressupostos!D$8 -> 0 | F13: =$C13*(1+Pressupostos!D$22)*(1+Pressupostos!E$22)*Pressupostos!E$8 -> 0 | G13: =$C13*(1+Pressupostos!D$22)*(1+Pressupostos!E$22)*(1+Pressupostos!F$22)*Pressupostos!F$8 -> 0 | H13: =$C13*(1+Pressupostos!D$22)*(1+Pressupostos!E$22)*(1+Pressupostos!F$22)*(1+Pressupostos!G$22)*Pressupostos!G$8 -> 0 | I13: =$C13*(1+Pressupostos!E$22)*(1+Pressupostos!F$22)*(1+Pressupostos!G$22)*(1+Pressupostos!H$22)*Pressupostos!H$8 -> 0
A14: Conservação e Reparação | C14: 0 | D14: =$C14*Pressupostos!C$8 -> 0 | E14: =$C14*(1+Pressupostos!D$22)*Pressupostos!D$8 -> 0 | F14: =$C14*(1+Pressupostos!D$22)*(1+Pressupostos!E$22)*Pressupostos!E$8 -> 0 | G14: =$C14*(1+Pressupostos!D$22)*(1+Pressupostos!E$22)*(1+Pressupostos!F$22)*Pressupostos!F$8 -> 0 | H14: =$C14*(1+Pressupostos!D$22)*(1+Pressupostos!E$22)*(1+Pressupostos!F$22)*(1+Pressupostos!G$22)*Pressupostos!G$8 -> 0 | I14: =$C14*(1+Pressupostos!E$22)*(1+Pressupostos!F$22)*(1+Pressupostos!G$22)*(1+Pressupostos!H$22)*Pressupostos!H$8 -> 0
A15: Publicidade e Propaganda | C15: 0 | D15: =$C15*Pressupostos!C$8 -> 0 | E15: =$C15*(1+Pressupostos!D$22)*Pressupostos!D$8 -> 0 | F15: =$C15*(1+Pressupostos!D$22)*(1+Pressupostos!E$22)*Pressupostos!E$8 -> 0 | G15: =$C15*(1+Pressupostos!D$22)*(1+Pressupostos!E$22)*(1+Pressupostos!F$22)*Pressupostos!F$8 -> 0 | H15: =$C15*(1+Pressupostos!D$22)*(1+Pressupostos!E$22)*(1+Pressupostos!F$22)*(1+Pressupostos!G$22)*Pressupostos!G$8 -> 0 | I15: =$C15*(1+Pressupostos!E$22)*(1+Pressupostos!F$22)*(1+Pressupostos!G$22)*(1+Pressupostos!H$22)*Pressupostos!H$8 -> 0
A16: Limpeza, Higiene e Conforto | C16: 0 | D16: =$C16*Pressupostos!C$8 -> 0 | E16: =$C16*(1+Pressupostos!D$22)*Pressupostos!D$8 -> 0 | F16: =$C16*(1+Pressupostos!D$22)*(1+Pressupostos!E$22)*Pressupostos!E$8 -> 0 | G16: =$C16*(1+Pressupostos!D$22)*(1+Pressupostos!E$22)*(1+Pressupostos!F$22)*Pressupostos!F$8 -> 0 | H16: =$C16*(1+Pressupostos!D$22)*(1+Pressupostos!E$22)*(1+Pressupostos!F$22)*(1+Pressupostos!G$22)*Pressupostos!G$8 -> 0 | I16: =$C16*(1+Pressupostos!E$22)*(1+Pressupostos!F$22)*(1+Pressupostos!G$22)*(1+Pressupostos!H$22)*Pressupostos!H$8 -> 0
A17: Vigilância e Segurança | C17: 0 | D17: =$C17*Pressupostos!C$8 -> 0 | E17: =$C17*(1+Pressupostos!D$22)*Pressupostos!D$8 -> 0 | F17: =$C17*(1+Pressupostos!D$22)*(1+Pressupostos!E$22)*Pressupostos!E$8 -> 0 | G17: =$C17*(1+Pressupostos!D$22)*(1+Pressupostos!E$22)*(1+Pressupostos!F$22)*Pressupostos!F$8 -> 0 | H17: =$C17*(1+Pressupostos!D$22)*(1+Pressupostos!E$22)*(1+Pressupostos!F$22)*(1+Pressupostos!G$22)*Pressupostos!G$8 -> 0 | I17: =$C17*(1+Pressupostos!E$22)*(1+Pressupostos!F$22)*(1+Pressupostos!G$22)*(1+Pressupostos!H$22)*Pressupostos!H$8 -> 0
A18: Trabalhos Especializados (Contabilista) | D18: =$C18*Pressupostos!C$8 -> 0 | E18: =$C18*(1+Pressupostos!D$22)*Pressupostos!D$8 -> 0 | F18: =$C18*(1+Pressupostos!D$22)*(1+Pressupostos!E$22)*Pressupostos!E$8 -> 0 | G18: =$C18*(1+Pressupostos!D$22)*(1+Pressupostos!E$22)*(1+Pressupostos!F$22)*Pressupostos!F$8 -> 0 | H18: =$C18*(1+Pressupostos!D$22)*(1+Pressupostos!E$22)*(1+Pressupostos!F$22)*(1+Pressupostos!G$22)*Pressupostos!G$8 -> 0 | I18: =$C18*(1+Pressupostos!E$22)*(1+Pressupostos!F$22)*(1+Pressupostos!G$22)*(1+Pressupostos!H$22)*Pressupostos!H$8 -> 0
A19: Outros FSE | D19: =$C19*Pressupostos!C$8 -> 0 | E19: =$C19*(1+Pressupostos!D$22)*Pressupostos!D$8 -> 0 | F19: =$C19*(1+Pressupostos!D$22)*(1+Pressupostos!E$22)*Pressupostos!E$8 -> 0 | G19: =$C19*(1+Pressupostos!D$22)*(1+Pressupostos!E$22)*(1+Pressupostos!F$22)*Pressupostos!F$8 -> 0 | H19: =$C19*(1+Pressupostos!D$22)*(1+Pressupostos!E$22)*(1+Pressupostos!F$22)*(1+Pressupostos!G$22)*Pressupostos!G$8 -> 0 | I19: =$C19*(1+Pressupostos!E$22)*(1+Pressupostos!F$22)*(1+Pressupostos!G$22)*(1+Pressupostos!H$22)*Pressupostos!H$8 -> 0
A20: TOTAL DE FORN. E SERV. EXTERNOS | D20: =SUM(D4:D19) -> 0 | E20: =SUM(E4:E19) -> 0 | F20: =SUM(F4:F19) -> 0 | G20: =SUM(G4:G19) -> 0 | H20: =SUM(H4:H19) -> 0 | I20: =SUM(I4:I19) -> 0
A22: PROVISÕES | C22: =D22-1 -> 2010 | D22: =Pressupostos!C$6 -> 2011 | E22: =Pressupostos!D$6 -> 2012 | F22: =Pressupostos!E$6 -> 2013 | G22: =Pressupostos!F$6 -> 2014 | H22: =Pressupostos!G$6 -> 2015 | I22: =Pressupostos!H$6 -> 2016
A24: Para Depreciação de Existências | D24: =Pressupostos!C$24*(FMN!D5+FMN!D6+FMN!D7) -> 0 | E24: =Pressupostos!D$24*(FMN!E5+FMN!E6+FMN!E7) -> 0 | F24: =Pressupostos!E$24*(FMN!F5+FMN!F6+FMN!F7) -> 0 | G24: =Pressupostos!F$24*(FMN!G5+FMN!G6+FMN!G7) -> 0 | H24: =Pressupostos!G$24*(FMN!H5+FMN!H6+FMN!H7) -> 0 | I24: =Pressupostos!H$24*(FMN!J5+FMN!J6+FMN!J7) -> 0
A25: Para Cobranças Duvidosas | D25: =Pressupostos!C$25*FMN!D4 -> 0 | E25: =Pressupostos!D$25*FMN!E4 -> 0 | F25: =Pressupostos!E$25*FMN!F4 -> 0 | G25: =Pressupostos!F$25*FMN!G4 -> 0 | H25: =Pressupostos!G$25*FMN!H4 -> 0 | I25: =Pressupostos!H$25*FMN!J4 -> 0
A26: Para Outros Riscos e Encargos | D26: 0 | E26: 0 | F26: 0 | G26: 0 | H26: 0 | I26: 0
A28: TOTAL DAS PROVISÕES | D28: =D25+D24 -> 0 | E28: =E25+E24 -> 0 | F28: =F25+F24 -> 0 | G28: =G25+G24 -> 0 | H28: =H25+H24 -> 0 | I28: =I25+I24 -> 0

Sheet C. Pessoal
A1: 5.2.7. - Custos com Pessoal
A3: CUSTOS COM O PESSOAL | C3: Valor unit. | D3: =Pressupostos!C$6 -> 2011 | E3: =Pressupostos!D$6 -> 2012 | F3: =Pressupostos!E$6 -> 2013 | G3: =Pressupostos!F$6 -> 2014 | H3: =Pressupostos!G$6 -> 2015 | I3: =Pressupostos!H$6 -> 2016
A4: *SUBSÍDIO DE REFEIÇÃO | C4: Dia | D4: 3.83 | E4: =D4*(1+E10) -> 3.9449 | F4: =E4*(1+F10) -> 4.063247 | G4: =F4*(1+G10) -> 4.1851444 | H4: =G4*(1+H10) -> 4.3106987 | I4: =H4*(1+I10) -> 4.4400197
A5: * ENCARGOS SOCIAIS DE CONTA DA EMP.
A6: - Segurança Social do Sócio Gerente | C6: % | D6: 0.2125 | E6: =D6 -> 0.2125 | F6: =E6 -> 0.2125 | G6: =F6 -> 0.2125 | H6: =G6 -> 0.2125 | I6: =H6 -> 0.2125
A7: - Segurança Social | C7: % | D7: 0.2375 | E7: =D7 -> 0.2375 | F7: =E7 -> 0.2375 | G7: =F7 -> 0.2375 | H7: =G7 -> 0.2375 | I7: =H7 -> 0.2375
A8: - Seguro de Acidentes de Trabalho | C8: % | D8: 0.02 | E8: =D8 -> 0.02 | F8: =E8 -> 0.02 | G8: =F8 -> 0.02 | H8: =G8 -> 0.02 | I8: =H8 -> 0.02
A9: - Outros custos | C9: % | D9: 0.005 | E9: =D9 -> 0.005 | F9: =E9 -> 0.005 | G9: =F9 -> 0.005 | H9: =G9 -> 0.005 | I9: =H9 -> 0.005
A10: * Tx de Crescimento Nominal Salários | C10: % | E10: 0.03 | F10: =E10 -> 0.03 | G10: =F10 -> 0.03 | H10: =G10 -> 0.03 | I10: =H10 -> 0.03
A12: TRABALHADORES POR CATEGORIAS | D12: =Pressupostos!C$6 -> 2011 | E12: =Pressupostos!D$6 -> 2012 | F12: =Pressupostos!E$6 -> 2013 | G12: =Pressupostos!F$6 -> 2014 | H12: =Pressupostos!G$6 -> 2015 | I12: =Pressupostos!H$6 -> 2016
A13: Sócio Gerente | C13: N.º | D13: 0 | E13: =D13 -> 0 | F13: =E13 -> 0 | G13: =F13 -> 0 | H13: =G13 -> 0 | I13: =H13 -> 0
A14: Recepcionista/Auxiliar | C14: N.º | D14: 0 | E14: =D14 -> 0 | F14: =E14 -> 0 | G14: =F14 -> 0 | H14: =G14 -> 0 | I14: =H14 -> 0
C15: N.º | D15: 0 | E15: =D15 -> 0 | F15: =E15 -> 0 | G15: =F15 -> 0 | H15: =G15 -> 0 | I15: =H15 -> 0
C16: N.º | D16: 0 | E16: =D16 -> 0 | F16: =E16 -> 0 | G16: =F16 -> 0 | H16: =G16 -> 0 | I16: =H16 -> 0
C17: N.º | D17: 0 | E17: =D17 -> 0 | F17: =E17 -> 0 | G17: =F17 -> 0 | H17: =G17 -> 0 | I17: =H17 -> 0
C18: N.º | D18: 0 | E18: =D18 -> 0 | F18: =E18 -> 0 | G18: =F18 -> 0 | H18: =G18 -> 0 | I18: =H18 -> 0
C19: N.º | D19: 0 | E19: =D19 -> 0 | F19: =E19 -> 0 | G19: =F19 -> 0 | H19: =G19 -> 0 | I19: =H19 -> 0
C20: N.º | D20: 0 | E20: =D20 -> 0 | F20: =E20 -> 0 | G20: =F20 -> 0 | H20: =G20 -> 0 | I20: =H20 -> 0
C21: N.º | D21: 0 | E21: =D21 -> 0 | F21: =E21 -> 0 | G21: =F21 -> 0 | H21: =G21 -> 0 | I21: =H21 -> 0
A22: TOTAL | D22: =SUM(D13:D21) -> 0 | E22: =SUM(E13:E21) -> 0 | F22: =SUM(F13:F21) -> 0 | G22: =SUM(G13:G21) -> 0 | H22: =SUM(H13:H21) -> 0 | I22: =SUM(I13:I21) -> 0
A23: CUSTOS ANUAIS COM PESSOAL | C23: Rem. Mês | D23: =Pressupostos!C$6 -> 2011 | E23: =Pressupostos!D$6 -> 2012 | F23: =Pressupostos!E$6 -> 2013 | G23: =Pressupostos!F$6 -> 2014 | H23: =Pressupostos!G$6 -> 2015 | I23: =Pressupostos!H$6 -> 2016
A24: =IF(ISBLANK(A13),"",A13) -> Sócio Gerente | C24: 0 | D24: =($C24*D13*14)*(1+D$6+D$8+D$9)*Pressupostos!C$8/12+(D$4*22*D13)*Pressupostos!C$8*11/12 -> 0 | E24: =($C24*E13*14)*(1+E$10)*(1+E$6+E$8+E$9)+(E$4*22*E13)*11 -> 0 | F24: =($C24*F13*14)*(1+F$10)*(1+E$10)*(1+F$6+F$8+F$9)+(F$4*22*F13)*11 -> 0 | G24: =($C24*G13*14)*(1+G$10)*(1+F$10)*(1+E$10)*(1+G$6+G$8+G$9)+(G$4*22*G13)*11 -> 0 | H24: =($C24*H13*14)*(1+G$10)*(1+F$10)*(1+E$10)*(1+H$10)*(1+H$6+H$8+H$9)+(H$4*22*H13)*11 -> 0 | I24: =($C24*I13*14)*(1+H$10)*(1+G$10)*(1+F$10)*(1+I$10)*(1+I$6+I$8+I$9)+(I$4*22*I13)*11 -> 0
A25: =IF(ISBLANK(A14),"",A14) -> Recepcionista/Auxiliar | C25: 0 | D25: =($C25*D14*14)*(1+D$7+D$8+D$9)*Pressupostos!$C$8/12+(D$4*22*D14)*Pressupostos!$C$8*11/12 -> 0 | E25: =($C25*E14*14)*(1+E$10)*(1+E$7+E$8+E$9)+(E$4*22*E14)*11 -> 0 | F25: =($C25*F14*14)*(1+F$10)*(1+E$10)*(1+F$7+F$8+F$9)+(F$4*22*F14)*11 -> 0 | G25: =($C25*G14*14)*(1+G$10)*(1+F$10)*(1+E$10)*(1+G$7+G$8+G$9)+(G$4*22*G14)*11 -> 0 | H25: =($C25*H14*14)*(1+G$10)*(1+F$10)*(1+E$10)*(1+H$10)*(1+H$7+H$8+H$9)+(H$4*22*H14)*11 -> 0 | I25: =($C25*I14*14)*(1+H$10)*(1+G$10)*(1+F$10)*(1+I$10)*(1+I$7+I$8+I$9)+(I$4*22*I14)*11 -> 0
A26: =IF(ISBLANK(A15),"",A15) | D26: =($C26*D15*14)*(1+D$7+D$8+D$9)*Pressupostos!$C$8/12+(D$4*22*D15)*Pressupostos!$C$8*11/12 -> 0 | E26: =($C26*E15*14)*(1+E$10)*(1+E$7+E$8+E$9)+(E$4*22*E15)*11 -> 0 | F26: =($C26*F15*14)*(1+F$10)*(1+E$10)*(1+F$7+F$8+F$9)+(F$4*22*F15)*11 -> 0 | G26: =($C26*G15*14)*(1+G$10)*(1+F$10)*(1+E$10)*(1+G$7+G$8+G$9)+(G$4*22*G15)*11 -> 0 | H26: =($C26*H15*14)*(1+G$10)*(1+F$10)*(1+E$10)*(1+H$10)*(1+H$7+H$8+H$9)+(H$4*22*H15)*11 -> 0 | I26: =($C26*I15*14)*(1+H$10)*(1+G$10)*(1+F$10)*(1+I$10)*(1+I$7+I$8+I$9)+(I$4*22*I15)*11 -> 0
A27: =IF(ISBLANK(A16),"",A16) | D27: =($C27*D16*14)*(1+D$7+D$8+D$9)*Pressupostos!$C$8/12+(D$4*22*D16)*Pressupostos!$C$8*11/12 -> 0 | E27: =($C27*E16*14)*(1+E$10)*(1+E$7+E$8+E$9)+(E$4*22*E16)*11 -> 0 | F27: =($C27*F16*14)*(1+F$10)*(1+E$10)*(1+F$7+F$8+F$9)+(F$4*22*F16)*11 -> 0 | G27: =($C27*G16*14)*(1+G$10)*(1+F$10)*(1+E$10)*(1+G$7+G$8+G$9)+(G$4*22*G16)*11 -> 0 | H27: =($C27*H16*14)*(1+G$10)*(1+F$10)*(1+E$10)*(1+H$10)*(1+H$7+H$8+H$9)+(H$4*22*H16)*11 -> 0 | I27: =($C27*I16*14)*(1+H$10)*(1+G$10)*(1+F$10)*(1+I$10)*(1+I$7+I$8+I$9)+(I$4*22*I16)*11 -> 0
A28: =IF(ISBLANK(A17),"",A17) | D28: =($C28*D17*14)*(1+D$7+D$8+D$9)*Pressupostos!$C$8/12+(D$4*22*D17)*Pressupostos!$C$8*11/12 -> 0 | E28: =($C28*E17*14)*(1+E$10)*(1+E$7+E$8+E$9)+(E$4*22*E17)*11 -> 0 | F28: =($C28*F17*14)*(1+F$10)*(1+E$10)*(1+F$7+F$8+F$9)+(F$4*22*F17)*11 -> 0 | G28: =($C28*G17*14)*(1+G$10)*(1+F$10)*(1+E$10)*(1+G$7+G$8+G$9)+(G$4*22*G17)*11 -> 0 | H28: =($C28*H17*14)*(1+G$10)*(1+F$10)*(1+E$10)*(1+H$10)*(1+H$7+H$8+H$9)+(H$4*22*H17)*11 -> 0 | I28: =($C28*I17*14)*(1+H$10)*(1+G$10)*(1+F$10)*(1+I$10)*(1+I$7+I$8+I$9)+(I$4*22*I17)*11 -> 0
A29: =IF(ISBLANK(A18),"",A18) | D29: =($C29*D18*14)*(1+D$7+D$8+D$9)*Pressupostos!$C$8/12+(D$4*22*D18)*Pressupostos!$C$8*11/12 -> 0 | E29: =($C29*E18*14)*(1+E$10)*(1+E$7+E$8+E$9)+(E$4*22*E18)*11 -> 0 | F29: =($C29*F18*14)*(1+F$10)*(1+E$10)*(1+F$7+F$8+F$9)+(F$4*22*F18)*11 -> 0 | G29: =($C29*G18*14)*(1+G$10)*(1+F$10)*(1+E$10)*(1+G$7+G$8+G$9)+(G$4*22*G18)*11 -> 0 | H29: =($C29*H18*14)*(1+G$10)*(1+F$10)*(1+E$10)*(1+H$10)*(1+H$7+H$8+H$9)+(H$4*22*H18)*11 -> 0 | I29: =($C29*I18*14)*(1+H$10)*(1+G$10)*(1+F$10)*(1+I$10)*(1+I$7+I$8+I$9)+(I$4*22*I18)*11 -> 0
