Workbook

Sheet Apuramento
A1: Apuramento do IVA
A3: Cliente: | J3: NIPC
A4: Período: | E4: JANEIRO | O4: JANEIRO
O5: FEVEREIRO
D6: BASE TRIBUTÁVEL | K6: IMPOSTO A FAVOR DO ESTADO | O6: MARÇO
O7: ABRIL
E8: 1 | F8: ='Venda Bens'!D51+'Prest Serv'!D36+Outros!D33 -> 0 | L8: 2 | M8: ='Venda Bens'!E51+'Prest Serv'!E36+Outros!E33 -> 0
E9: 5 | F9: ='Venda Bens'!F51+'Prest Serv'!F36+Outros!F33 -> 0 | L9: 6 | M9: ='Venda Bens'!G51+'Prest Serv'!G36+Outros!G33 -> 0 | O9: MAIO
E10: 3 | F10: ='Venda Bens'!H51+'Prest Serv'!H36+Outros!H33+M49 -> 0 | L10: 4 | M10: ='Venda Bens'!I51+'Prest Serv'!I36+Outros!I33+'Comp Exist'!J96+'Comp Imob'!F37 -> 0 | O10: JUNHO
E11: 7 | F11: =+'Venda Bens'!D61+'Venda Bens'!F61+'Venda Bens'!H61+'Prest Serv'!D46+'Prest Serv'!F46+'Prest Serv'!H46 -> 0 | O11: JULHO
E12: 8 | F12: =+'Venda Bens'!D81+'Venda Bens'!F81+'Venda Bens'!H81+'Prest Serv'!D85+'Prest Serv'!F85+'Prest Serv'!H85 -> 0 | O12: AGOSTO
E13: 9 | F13: =+'Prest Serv'!J36+'Prest Serv'!L36 -> 0 | O13: SETEMBRO
E14: 10 | F14: =+I15+I16+I17 -> 0 | L14: 11 | M14: =+M15 -> 0 | O14: OUTUBRO
E15: 12 | I15: =+'Comp Exist'!D106+'Comp Exist'!F106+'Comp Exist'!H106+'Comp Imob'!D47 -> 0 | L15: 13 | M15: =+'Comp Exist'!E106+'Comp Exist'!G106+'Comp Exist'!I106+'Comp Imob'!E47 -> 0
E16: 14
E17: 15
E18: 16 | I18: =+FSE!E66+FSE!G66+FSE!I66 -> 0 | L18: 17 | M18: =+FSE!F66+FSE!H66+FSE!J66 -> 0
O19: NOVEMBRO
O20: DEZEMBRO
H21: 20 | I21: ='Comp Imob'!E24+'Comp Imob'!E37+'Comp Imob'!E47 -> 0
H22: 21 | I22: ='Comp Exist'!E82+'Comp Exist'!E106 -> 0 | O22: 03T
H23: 23 | I23: ='Comp Exist'!G82+'Comp Exist'!G106 -> 0 | O23: 06T
H24: 22 | I24: ='Comp Exist'!I82+'Comp Exist'!I106+'Comp Exist'!I96 -> 0 | O24: 09T
H25: 24 | I25: =FSE!F58+FSE!H58+FSE!J58+FSE!J66 -> 0 | O25: 12T
H26: 40 | I26: =Devoluções!F44+Devoluções!H44+Devoluções!J44 -> 0 | L26: 41 | M26: =Devoluções!F22+Devoluções!H22+Devoluções!J22 -> 0
H27: 61 | I27: =M59 -> 0
H28: 65 | L28: 66
H29: 67 | L29: 68
H30: 81 | I30: =M58 -> 0
B32: TOTAL DA BASE TRIBUTÁVEL | H32: IMPOSTO A FAVOR DO SUJEITO PASSIVO | L32: TOTAL DO IMPOSTO A FAVOR DO ESTADO
B33: 90 | C33: =SUM(F8:I13)+F14+I18 -> 0 | H33: 91 | I33: =SUM(I21:J30) -> 0 | L33: 92 | M33: =SUM(M8:M14)+SUM(M18:M29) -> 0
F36: IMPOSTO A ENTREGAR AO ESTADO ----------> | L36: 93 | M36: =IF(M33>I33,M33-I33,0) -> 0
B38: CRÉDITO DE IMPOSTO A RECUPERAR | L38: EXCESSO A REPORTAR
B39: 94 | C39: =IF(I33>M33,I33-M33,0) -> 0 | L39: 96 | M39: =C39 -> 0
B41: IVA LIQUIDADO NA QUALIDADE DE ADQUIRENTE (VALORES DAS BASES TRIBUTÁVEIS CAMPOS 1, 5 E 3)
B42: ENTIDADES RESIDENTES EM PAÍSES COMUNITÁRIOS | L42: PAÍSES TERCEIROS
B43: 97 | C43: 0 | L43: 98 | M43: 0
B45: IVA LIQUIDADO POR APLICAÇÃO DA REGRA DE INVERSÃO DO SUJEITO PASSIVO
B46: OURO | L46: AQUISIÇÕES DE IMÓVEIS
B47: 99 | C47: 0 | L47: 100 | M47: 0
...

Sheet Comp Exist
D1: Taxa Reduzida | F1: Taxa Intermédia | H1: Taxa Normal
A2: Nº Doc | B2: Data | C2: Descritivo da Despesa | D2: Valor Incidência | E2: 0.06 | F2: Valor Incidência | G2: 0.13 | H2: Valor Incidência | I2: 0.23
A3: Compras a Crédito - Mercado Nacional
J4: Totais | K4: Conta | N4: Desvio IVA
E5: =D5*0.06 -> 0 | I5: =H5*0.23 -> 0 | J5: =SUM(D5+E5+F5+G5+H5+I5) -> 0 | L5: =D5*6% -> 0 | M5: =H5*23% -> 0 | N5: =E5-L5 -> 0 | O5: =I5-M5 -> 0
E6: =D6*0.06 -> 0 | I6: =H6*0.23 -> 0 | J6: =SUM(D6+E6+F6+G6+H6+I6) -> 0 | L6: =D6*6% -> 0 | M6: =H6*23% -> 0 | N6: =E6-L6 -> 0 | O6: =I6-M6 -> 0
E7: =D7*0.06 -> 0 | I7: =H7*0.23 -> 0 | J7: =SUM(D7+E7+F7+G7+H7+I7) -> 0 | L7: =D7*6% -> 0 | M7: =H7*23% -> 0 | N7: =E7-L7 -> 0 | O7: =I7-M7 -> 0
E8: =D8*0.06 -> 0 | I8: =H8*0.23 -> 0 | J8: =SUM(D8+E8+F8+G8+H8+I8) -> 0 | L8: =D8*6% -> 0 | M8: =H8*23% -> 0 | N8: =E8-L8 -> 0 | O8: =I8-M8 -> 0
E9: =D9*0.06 -> 0 | I9: =H9*0.23 -> 0 | J9: =SUM(D9+E9+F9+G9+H9+I9) -> 0 | L9: =D9*6% -> 0 | M9: =H9*23% -> 0 | N9: =E9-L9 -> 0 | O9: =I9-M9 -> 0
E10: =D10*0.06 -> 0 | I10: =H10*0.23 -> 0 | J10: =SUM(D10+E10+F10+G10+H10+I10) -> 0 | L10: =D10*6% -> 0 | M10: =H10*23% -> 0 | N10: =E10-L10 -> 0 | O10: =I10-M10 -> 0
E11: =D11*0.06 -> 0 | I11: =H11*0.23 -> 0 | J11: =SUM(D11+E11+F11+G11+H11+I11) -> 0 | L11: =D11*6% -> 0 | M11: =H11*23% -> 0 | N11: =E11-L11 -> 0 | O11: =I11-M11 -> 0
E12: =D12*0.06 -> 0 | I12: =H12*0.23 -> 0 | J12: =SUM(D12+E12+F12+G12+H12+I12) -> 0 | L12: =D12*6% -> 0 | M12: =H12*23% -> 0 | N12: =E12-L12 -> 0 | O12: =I12-M12 -> 0
E13: =D13*0.06 -> 0 | I13: =H13*0.23 -> 0 | J13: =SUM(D13+E13+F13+G13+H13+I13) -> 0 | L13: =D13*6% -> 0 | M13: =H13*23% -> 0 | N13: =E13-L13 -> 0 | O13: =I13-M13 -> 0
E14: =D14*0.06 -> 0 | I14: =H14*0.23 -> 0 | J14: =SUM(D14+E14+F14+G14+H14+I14) -> 0 | L14: =D14*6% -> 0 | M14: =H14*23% -> 0 | N14: =E14-L14 -> 0 | O14: =I14-M14 -> 0
E15: =D15*0.06 -> 0 | I15: =H15*0.23 -> 0 | J15: =SUM(D15+E15+F15+G15+H15+I15) -> 0 | L15: =D15*6% -> 0 | M15: =H15*23% -> 0 | N15: =E15-L15 -> 0 | O15: =I15-M15 -> 0
E16: =D16*0.06 -> 0 | I16: =H16*0.23 -> 0 | J16: =SUM(D16+E16+F16+G16+H16+I16) -> 0 | L16: =D16*6% -> 0 | M16: =H16*23% -> 0 | N16: =E16-L16 -> 0 | O16: =I16-M16 -> 0
... E52: =D52*0.06 -> 0 | I52: =H52*0.23 -> 0 | J52: =SUM(D52+E52+F52+G52+H52+I52) -> 0 | L52: =D52*6% -> 0 | M52: =H52*23% -> 0 | N52: =E52-L52 -> 0 | O52: =I52-M52 -> 0
A53: Compras a Dinheiro - Mercado Nacional
E55: =D55*0.06 -> 0 | I55: =H55*0.23 -> 0 | J55: =SUM(D55+E55+F55+G55+H55+I55) -> 0 | L55: =D55*6% -> 0 | M55: =H55*23% -> 0 | N55: =E55-L55 -> 0 | O55: =I55-M55 -> 0
E56: =D56*0.06 -> 0 | I56: =H56*0.23 -> 0 | J56: =SUM(D56+E56+F56+G56+H56+I56) -> 0 | L56: =D56*6% -> 0 | M56: =H56*23% -> 0 | N56: =E56-L56 -> 0 | O56: =I56-M56 -> 0
E57: =D57*0.06 -> 0 | I57: =H57*0.23 -> 0 | J57: =SUM(D57+E57+F57+G57+H57+I57) -> 0 | L57: =D57*6% -> 0 | M57: =H57*23% -> 0 | N57: =E57-L57 -> 0 | O57: =I57-M57 -> 0
E58: =D58*0.06 -> 0 | I58: =H58*0.23 -> 0 | J58: =SUM(D58+E58+F58+G58+H58+I58) -> 0 | L58: =D58*6% -> 0 | M58: =H58*23% -> 0 | N58: =E58-L58 -> 0 | O58: =I58-M58 -> 0
E59: =D59*0.06 -> 0 | I59: =H59*0.23 -> 0 | J59: =SUM(D59+E59+F59+G59+H59+I59) -> 0 | L59: =D59*6% -> 0 | M59: =H59*23% -> 0 | N59: =E59-L59 -> 0 | O59: =I59-M59 -> 0
E60: =D60*0.06 -> 0 | I60: =H60*0.23 -> 0 | J60: =SUM(D60+E60+F60+G60+H60+I60) -> 0 | L60: =D60*6% -> 0 | M60: =H60*23% -> 0 | N60: =E60-L60 -> 0 | O60: =I60-M60 -> 0
E61: =D61*0.06 -> 0 | I61: =H61*0.23 -> 0 | J61: =SUM(D61+E61+F61+G61+H61+I61) -> 0 | L61: =D61*6% -> 0 | M61: =H61*23% -> 0 | N61: =E61-L61 -> 0 | O61: =I61-M61 -> 0
E62: =D62*0.06 -> 0 | I62: =H62*0.23 -> 0 | J62: =SUM(D62+E62+F62+G62+H62+I62) -> 0 | L62: =D62*6% -> 0 | M62: =H62*23% -> 0 | N62: =E62-L62 -> 0 | O62: =I62-M62 -> 0
E63: =D63*0.06 -> 0 | I63: =H63*0.23 -> 0 | J63: =SUM(D63+E63+F63+G63+H63+I63) -> 0 | L63: =D63*6% -> 0 | M63: =H63*23% -> 0 | N63: =E63-L63 -> 0 | O63: =I63-M63 -> 0
E64: =D64*0.06 -> 0 | I64: =H64*0.23 -> 0 | J64: =SUM(D64+E64+F64+G64+H64+I64) -> 0 | L64: =D64*6% -> 0 | M64: =H64*23% -> 0 | N64: =E64-L64 -> 0 | O64: =I64-M64 -> 0
E65: =D65*0.06 -> 0 | I65: =H65*0.23 -> 0 | J65: =SUM(D65+E65+F65+G65+H65+I65) -> 0 | L65: =D65*6% -> 0 | M65: =H65*23% -> 0 | N65: =E65-L65 -> 0 | O65: =I65-M65 -> 0
E66: =D66*0.06 -> 0 | I66: =H66*0.23 -> 0 | J66: =SUM(D66+E66+F66+G66+H66+I66) -> 0 | L66: =D66*6% -> 0 | M66: =H66*23% -> 0 | N66: =E66-L66 -> 0 | O66: =I66-M66 -> 0
... E81: =D81*0.06 -> 0 | I81: =H81*0.23 -> 0 | J81: =SUM(D81+E81+F81+G81+H81+I81) -> 0 | L81: =D81*6% -> 0 | M81: =H81*23% -> 0 | N81: =E81-L81 -> 0 | O81: =I81-M81 -> 0
A82: TOTAL | D82: =SUM(D5:D81) -> 0 | E82: =SUM(E5:E81) -> 0 | F82: =SUM(F5:F81) -> 0 | G82: =SUM(G5:G81) -> 0 | H82: =SUM(H5:H81) -> 0 | I82: =SUM(I5:I81) -> 0 | J82: =SUM(D82+E82+F82+G82+H82+I82) -> 0
D86: Taxa Reduzida | F86: Taxa Intermédia | H86: Iva Dedutível | J86: Iva Liquidado
A87: Nº Doc | B87: Data | C87: Descritivo da Despesa | D87: Valor Incidência | E87: 0.06 | F87: Valor Incidência | G87: 0.13 | H87: Valor Incidência | I87: 2432…-23% | J87: 2433…-23%
A88: IVA devido pelo Adquirente
N89: Desvio IVA
E90: =D90*0.06 -> 0 | I90: =H90*0.23 -> 0 | J90: =I90 -> 0 | M90: =H90*23% -> 0 | N90: =I90-M90 -> 0
E91: =D91*0.06 -> 0 | I91: =H91*0.23 -> 0 | J91: =I91 -> 0 | M91: =H91*23% -> 0 | N91: =I91-M91 -> 0
E92: =D92*0.06 -> 0 | I92: =H92*0.23 -> 0 | J92: =I92 -> 0 | M92: =H92*23% -> 0 | N92: =I92-M92 -> 0
E93: =D93*0.06 -> 0 | I93: =H93*0.23 -> 0 | J93: =I93 -> 0 | M93: =H93*23% -> 0 | N93: =I93-M93 -> 0
...

Sheet Comp Imob
D1: Taxa Normal
A2: Nº Doc | B2: Data | C2: Descritivo da Despesa | D2: Valor Incidência | E2: 0.23
A3: Mercado Nacional
H4: Desvio IVA
E5: =D5*0.23 -> 0 | G5: =D5*0.23 -> 0 | H5: =E5-G5 -> 0 | I5: TOTTA - CRÉDITO ESPECIALIZADO
E6: =D6*0.23 -> 0 | G6: =D6*0.23 -> 0 | H6: =E6-G6 -> 0 | I6: ESPECTRO, LDA
E7: =D7*0.23 -> 0 | G7: =D7*0.23 -> 0 | H7: =E7-G7 -> 0
E8: =D8*0.23 -> 0 | G8: =D8*0.23 -> 0 | H8: =E8-G8 -> 0
E9: =D9*0.23 -> 0 | G9: =D9*0.23 -> 0 | H9: =E9-G9 -> 0 | I9: OSVALDO TOSTE, LDA
E10: =D10*0.23 -> 0 | G10: =D10*0.23 -> 0 | H10: =E10-G10 -> 0 | I10: JORGE M. SOARES DA FONSECA
E11: =D11*0.23 -> 0 | G11: =D11*0.23 -> 0 | H11: =E11-G11 -> 0 | I11: K-MED CENTRO
E12: =D12*0.23 -> 0 | G12: =D12*0.23 -> 0 | H12: =E12-G12 -> 0 | I12: LANSA.PT DECORAÇÕES - CARLOS DAMÁSI
E13: =D13*0.23 -> 0 | G13: =D13*0.23 -> 0 | H13: =E13-G13 -> 0 | I13: LAVANDARIA N. CALIFÓRNIA, LDA
E14: =D14*0.23 -> 0 | G14: =D14*0.23 -> 0 | H14: =E14-G14 -> 0 | I14: LOGICÓPIA
E15: =D15*0.23 -> 0 | G15: =D15*0.23 -> 0 | H15: =E15-G15 -> 0 | I15: MAJORCOPIA - COM. EQ. ESC., LDA
E16: =D16*0.23 -> 0 | G16: =D16*0.23 -> 0 | H16: =E16-G16 -> 0 | I16: MAKRO
E17: =D17*0.23 -> 0 | G17: =D17*0.23 -> 0 | H17: =E17-G17 -> 0 | I17: MANUEL PARENTE
E18: =D18*0.23 -> 0 | G18: =D18*0.23 -> 0 | H18: =E18-G18 -> 0 | I18: MARIA HELENA TELES GONÇALVES, LDA
E19: =D19*0.23 -> 0 | G19: =D19*0.23 -> 0 | H19: =E19-G19 -> 0 | I19: NEGOCIARE, LDA
E20: =D20*0.23 -> 0 | G20: =D20*0.23 -> 0 | H20: =E20-G20 -> 0 | I20: Ó - CRIAT. IMAG. E PUBLICIDADE, LDA
... E23: =D23*0.23 -> 0 | G23: =D23*0.23 -> 0 | H23: =E23-G23 -> 0 | I23: RECLANEON ANA PAULA M. SIMÕES
A24: TOTAL | D24: =SUM(D5:D23) -> 0 | E24: =SUM(E5:E23) -> 0 | I24: REIS DOS SANTOS & DIAS, LDA
D27: Iva Dedutível | F27: Iva Liquidado
A28: Nº Doc | B28: Data | C28: Descritivo da Despesa | D28: Valor Incidência | E28: 2432…-23% | F28: 2433…-23% | I28: SADO 77 - MOV. ESTOFOS, LDA
A29: IVA liquidado pelo Adquirente
H30: Desvio IVA
E31: =D31*0.23 -> 0 | F31: =E31 -> 0 | G31: =D31*0.23 -> 0 | H31: =E31-G31 -> 0
E32: =D32*0.23 -> 0 | F32: =E32 -> 0 | G32: =D32*0.23 -> 0 | H32: =E32-G32 -> 0
E33: =D33*0.23 -> 0 | F33: =E33 -> 0 | G33: =D33*0.23 -> 0 | H33: =E33-G33 -> 0
E34: =D34*0.23 -> 0 | F34: =E34 -> 0 | G34: =D34*0.23 -> 0 | H34: =E34-G34 -> 0
E35: =D35*0.23 -> 0 | F35: =E35 -> 0 | G35: =D35*0.23 -> 0 | H35: =E35-G35 -> 0
E36: =D36*0.23 -> 0 | F36: =E36 -> 0 | G36: =D36*0.23 -> 0 | H36: =E36-G36 -> 0
A37: TOTAL | D37: =SUM(D31:D36) -> 0 | E37: =SUM(E31:E36) -> 0 | F37: =SUM(F31:F36) -> 0
A39: Mercado Intracomunitário (Com Imposto Liquidado)
H40: Desvio IVA
E41: =D41*0.23 -> 0 | G41: =D41*0.23 -> 0 | H41: =E41-G41 -> 0
E42: =D42*0.23 -> 0 | G42: =D42*0.23 -> 0 | H42: =E42-G42 -> 0
E43: =D43*0.23 -> 0 | G43: =D43*0.23 -> 0 | H43: =E43-G43 -> 0
E44: =D44*0.23 -> 0 | G44: =D44*0.23 -> 0 | H44: =E44-G44 -> 0
E45: =D45*0.23 -> 0 | G45: =D45*0.23 -> 0 | H45: =E45-G45 -> 0
...

Sheet Venda Bens
D1: Taxa Reduzida | F1: Taxa Intermédia | H1: Taxa Normal
A2: Nº Doc | B2: Data | C2: Descritivo da Venda | D2: Valor Incidência | E2: 0.06 | F2: Valor Incidência | G2: 0.13 | H2: Valor Incidência | I2: 0.23
A3: Vendas a Crédito - Mercado Nacional
J4: Totais | K4: Conta | O4: Desvio do IVA
E5: =D5*0.06 -> 0 | G5: =F5*0.13 -> 0 | I5: =H5*0.23 -> 0 | J5: =SUM(D5+E5+F5+G5+H5+I5) -> 0 | L5: =D5*0.06 -> 0 | M5: =+F5*0.13 -> 0 | N5: =+H5*0.23 -> 0 | O5: =+L5-E5 -> 0 | P5: =+M5-G5 -> 0 | Q5: =+O5-L5 -> 0
E6: =D6*0.06 -> 0 | G6: =F6*0.13 -> 0 | I6: =H6*0.23 -> 0 | J6: =SUM(D6+E6+F6+G6+H6+I6) -> 0 | L6: =D6*0.06 -> 0 | M6: =+F6*0.13 -> 0 | N6: =+H6*0.23 -> 0 | O6: =+L6-E6 -> 0 | P6: =+N6-I6 -> 0 | Q6: =+O6-L6 -> 0
E7: =D7*0.06 -> 0 | G7: =F7*0.13 -> 0 | I7: =H7*0.23 -> 0 | J7: =SUM(D7+E7+F7+G7+H7+I7) -> 0 | L7: =D7*0.06 -> 0 | M7: =+F7*0.13 -> 0 | N7: =+H7*0.23 -> 0 | O7: =+L7-E7 -> 0 | P7: =+N7-I7 -> 0 | Q7: =+O7-L7 -> 0
E8: =D8*0.06 -> 0 | G8: =F8*0.13 -> 0 | I8: =H8*0.23 -> 0 | J8: =SUM(D8+E8+F8+G8+H8+I8) -> 0 | L8: =D8*0.06 -> 0 | M8: =+F8*0.13 -> 0 | N8: =+H8*0.23 -> 0 | O8: =+L8-E8 -> 0 | P8: =+N8-I8 -> 0 | Q8: =+O8-L8 -> 0
E9: =D9*0.06 -> 0 | G9: =F9*0.13 -> 0 | I9: =H9*0.23 -> 0 | J9: =SUM(D9+E9+F9+G9+H9+I9) -> 0 | L9: =D9*0.06 -> 0 | M9: =+F9*0.13 -> 0 | N9: =+H9*0.23 -> 0 | O9: =+L9-E9 -> 0 | P9: =+N9-I9 -> 0 | Q9: =+O9-L9 -> 0
E10: =D10*0.06 -> 0 | G10: =F10*0.13 -> 0 | I10: =H10*0.23 -> 0 | J10: =SUM(D10+E10+F10+G10+H10+I10) -> 0 | L10: =D10*0.06 -> 0 | M10: =+F10*0.13 -> 0 | N10: =+H10*0.23 -> 0 | O10: =+L10-E10 -> 0 | P10: =+N10-I10 -> 0 | Q10: =+O10-L10 -> 0
E11: =D11*0.06 -> 0 | G11: =F11*0.13 -> 0 | I11: =H11*0.23 -> 0 | J11: =SUM(D11+E11+F11+G11+H11+I11) -> 0 | L11: =D11*0.06 -> 0 | M11: =+F11*0.13 -> 0 | N11: =+H11*0.23 -> 0 | O11: =+L11-E11 -> 0 | P11: =+N11-I11 -> 0 | Q11: =+O11-L11 -> 0
E12: =D12*0.06 -> 0 | G12: =F12*0.13 -> 0 | I12: =H12*0.23 -> 0 | J12: =SUM(D12+E12+F12+G12+H12+I12) -> 0 | L12: =D12*0.06 -> 0 | M12: =+F12*0.13 -> 0 | N12: =+H12*0.23 -> 0 | O12: =+L12-E12 -> 0 | P12: =+N12-I12 -> 0 | Q12: =+O12-L12 -> 0
E13: =D13*0.06 -> 0 | G13: =F13*0.13 -> 0 | I13: =H13*0.23 -> 0 | J13: =SUM(D13+E13+F13+G13+H13+I13) -> 0 | L13: =D13*0.06 -> 0 | M13: =+F13*0.13 -> 0 | N13: =+H13*0.23 -> 0 | O13: =+L13-E13 -> 0 | P13: =+N13-I13 -> 0 | Q13: =+O13-L13 -> 0
E14: =D14*0.06 -> 0 | G14: =F14*0.13 -> 0 | I14: =H14*0.23 -> 0 | J14: =SUM(D14+E14+F14+G14+H14+I14) -> 0 | L14: =D14*0.06 -> 0 | M14: =+F14*0.13 -> 0 | N14: =+H14*0.23 -> 0 | O14: =+L14-E14 -> 0 | P14: =+N14-I14 -> 0 | Q14: =+O14-L14 -> 0
E15: =D15*0.06 -> 0 | G15: =F15*0.13 -> 0 | I15: =H15*0.23 -> 0 | J15: =SUM(D15+E15+F15+G15+H15+I15) -> 0 | L15: =D15*0.06 -> 0 | M15: =+F15*0.13 -> 0 | N15: =+H15*0.23 -> 0 | O15: =+L15-E15 -> 0 | P15: =+N15-I15 -> 0 | Q15: =+O15-L15 -> 0
E16: =D16*0.06 -> 0 | G16: =F16*0.13 -> 0 | I16: =H16*0.23 -> 0 | J16: =SUM(D16+E16+F16+G16+H16+I16) -> 0 | L16: =D16*0.06 -> 0 | M16: =+F16*0.13 -> 0 | N16: =+H16*0.23 -> 0 | O16: =+L16-E16 -> 0 | P16: =+N16-I16 -> 0 | Q16: =+O16-L16 -> 0
E17: =D17*0.06 -> 0 | G17: =F17*0.13 -> 0 | I17: =H17*0.23 -> 0 | J17: =SUM(D17+E17+F17+G17+H17+I17) -> 0 | L17: =D17*0.06 -> 0 | M17: =+F17*0.13 -> 0 | N17: =+H17*0.23 -> 0 | O17: =+L17-E17 -> 0 | P17: =+N17-I17 -> 0 | Q17: =+O17-L17 -> 0
... E27: =D27*0.06 -> 0 | G27: =F27*0.13 -> 0 | I27: =H27*0.23 -> 0 | J27: =SUM(D27+E27+F27+G27+H27+I27) -> 0 | L27: =D27*0.06 -> 0 | M27: =+F27*0.13 -> 0 | N27: =+H27*0.23 -> 0 | O27: =+L27-E27 -> 0 | P27: =+N27-I27 -> 0 | Q27: =+O27-L27 -> 0
A28: Vendas a Dinheiro - Mercado Nacional | L28: =D28*0.06 -> 0 | M28: =+F28*0.13 -> 0 | N28: =+H28*0.23 -> 0 | O28: =+L28-E28 -> 0 | P28: =+N28-I28 -> 0 | Q28: =+O28-L28 -> 0
J29: Totais | K29: Conta | L29: =D29*0.06 -> 0 | M29: =+F29*0.13 -> 0 | N29: =+H29*0.23 -> 0 | O29: =+L29-E29 -> 0 | P29: =+N29-I29 -> 0 | Q29: =+O29-L29 -> 0
E30: =D30*0.06 -> 0 | G30: =F30*0.13 -> 0 | I30: =H30*0.23 -> 0 | J30: =SUM(D30+E30+F30+G30+H30+I30) -> 0 | L30: =D30*0.06 -> 0 | M30: =+F30*0.13 -> 0 | N30: =+H30*0.23 -> 0 | O30: =+L30-E30 -> 0 | P30: =+N30-I30 -> 0 | Q30: =+O30-L30 -> 0
E31: =D31*0.06 -> 0 | G31: =F31*0.13 -> 0 | I31: =H31*0.23 -> 0 | J31: =SUM(D31+E31+F31+G31+H31+I31) -> 0 | L31: =D31*0.06 -> 0 | M31: =+F31*0.13 -> 0 | N31: =+H31*0.23 -> 0 | O31: =+L31-E31 -> 0 | P31: =+N31-I31 -> 0 | Q31: =+O31-L31 -> 0
E32: =D32*0.06 -> 0 | G32: =F32*0.13 -> 0 | I32: =H32*0.23 -> 0 | J32: =SUM(D32+E32+F32+G32+H32+I32) -> 0 | L32: =D32*0.06 -> 0 | M32: =+F32*0.13 -> 0 | N32: =+H32*0.23 -> 0 | O32: =+L32-E32 -> 0 | P32: =+N32-I32 -> 0 | Q32: =+O32-L32 -> 0
E33: =D33*0.06 -> 0 | G33: =F33*0.13 -> 0 | I33: =H33*0.23 -> 0 | J33: =SUM(D33+E33+F33+G33+H33+I33) -> 0 | L33: =D33*0.06 -> 0 | M33: =+F33*0.13 -> 0 | N33: =+H33*0.23 -> 0 | O33: =+L33-E33 -> 0 | P33: =+N33-I33 -> 0 | Q33: =+O33-L33 -> 0
E34: =D34*0.06 -> 0 | G34: =F34*0.13 -> 0 | I34: =H34*0.23 -> 0 | J34: =SUM(D34+E34+F34+G34+H34+I34) -> 0 | L34: =D34*0.06 -> 0 | M34: =+F34*0.13 -> 0 | N34: =+H34*0.23 -> 0 | O34: =+L34-E34 -> 0 | P34: =+N34-I34 -> 0 | Q34: =+O34-L34 -> 0
E35: =D35*0.06 -> 0 | G35: =F35*0.13 -> 0 | I35: =H35*0.23 -> 0 | J35: =SUM(D35+E35+F35+G35+H35+I35) -> 0 | L35: =D35*0.06 -> 0 | M35: =+F35*0.13 -> 0 | N35: =+H35*0.23 -> 0 | O35: =+L35-E35 -> 0 | P35: =+N35-I35 -> 0 | Q35: =+O35-L35 -> 0
E36: =D36*0.06 -> 0 | G36: =F36*0.13 -> 0 | I36: =H36*0.23 -> 0 | J36: =SUM(D36+E36+F36+G36+H36+I36) -> 0 | L36: =D36*0.06 -> 0 | M36: =+F36*0.13 -> 0 | N36: =+H36*0.23 -> 0 | O36: =+L36-E36 -> 0 | P36: =+N36-I36 -> 0 | Q36: =+O36-L36 -> 0
E37: =D37*0.06 -> 0 | G37: =F37*0.13 -> 0 | I37: =H37*0.23 -> 0 | J37: =SUM(D37+E37+F37+G37+H37+I37) -> 0 | L37: =D37*0.06 -> 0 | M37: =+F37*0.13 -> 0 | N37: =+H37*0.23 -> 0 | O37: =+L37-E37 -> 0 | P37: =+N37-I37 -> 0 | Q37: =+O37-L37 -> 0
E38: =D38*0.06 -> 0 | G38: =F38*0.13 -> 0 | I38: =H38*0.23 -> 0 | J38: =SUM(D38+E38+F38+G38+H38+I38) -> 0 | L38: =D38*0.06 -> 0 | M38: =+F38*0.13 -> 0 | N38: =+H38*0.23 -> 0 | O38: =+L38-E38 -> 0 | P38: =+N38-I38 -> 0 | Q38: =+O38-L38 -> 0
E39: =D39*0.06 -> 0 | G39: =F39*0.13 -> 0 | I39: =H39*0.23 -> 0 | J39: =SUM(D39+E39+F39+G39+H39+I39) -> 0 | L39: =D39*0.06 -> 0 | M39: =+F39*0.13 -> 0 | N39: =+H39*0.23 -> 0 | O39: =+L39-E39 -> 0 | P39: =+N39-I39 -> 0 | Q39: =+O39-L39 -> 0
E40: =D40*0.06 -> 0 | G40: =F40*0.13 -> 0 | I40: =H40*0.23 -> 0 | J40: =SUM(D40+E40+F40+G40+H40+I40) -> 0 | L40: =D40*0.06 -> 0 | M40: =+F40*0.13 -> 0 | N40: =+H40*0.23 -> 0 | O40: =+L40-E40 -> 0 | P40: =+N40-I40 -> 0 | Q40: =+O40-L40 -> 0
E41: =D41*0.06 -> 0 | G41: =F41*0.13 -> 0 | I41: =H41*0.23 -> 0 | J41: =SUM(D41+E41+F41+G41+H41+I41) -> 0 | L41: =D41*0.06 -> 0 | M41: =+F41*0.13 -> 0 | N41: =+H41*0.23 -> 0 | O41: =+L41-E41 -> 0 | P41: =+N41-I41 -> 0 | Q41: =+O41-L41 -> 0
... E49: =D49*0.06 -> 0 | G49: =F49*0.13 -> 0 | I49: =H49*0.23 -> 0 | J49: =SUM(D49+E49+F49+G49+H49+I49) -> 0 | L49: =D49*0.06 -> 0 | M49: =+F49*0.13 -> 0 | N49: =+H49*0.23 -> 0 | O49: =+L49-E49 -> 0 | P49: =+N49-I49 -> 0 | Q49: =+O49-L49 -> 0
E50: =D50*0.06 -> 0 | G50: =F50*0.13 -> 0 | I50: =H50*0.23 -> 0 | J50: =SUM(D50+E50+F50+G50+H50+I50) -> 0 | L50: =D50*0.06 -> 0 | N50: =+H50*0.23 -> 0 | O50: =+L50-E50 -> 0 | P50: =+N51-I50 -> 0 | Q50: =+O51-L50 -> 0
A51: TOTAL | D51: =SUM(D5:D50) -> 0 | E51: =SUM(E5:E50) -> 0 | F51: =SUM(F5:F50) -> 0 | G51: =SUM(G5:G50) -> 0 | H51: =SUM(H5:H50) -> 0 | I51: =SUM(I5:I50) -> 0 | J51: =SUM(D51+E51+F51+G51+H51+I51) -> 0 | L51: =+E51+Outros!E33 -> 0 | M51: =+F50*0.13 -> 0 | N51: =+H50*0.21 -> 0 | O51: =+L51-E51 -> 0 | P51: =+N52-I51 -> 0 | Q51: =+O52-L51 -> 0
M52: =+H51+Outros!H33 -> 0
A53: Mercado Intracomunitário | N53: DECLARAÇÃO RECAPITULATIVA
J54: Totais | K54: Conta
J55: =SUM(D55+E55+F55+G55+H55+I55) -> 0 | N55: PAÍS | O55: PREFIXO | P55: NIF | Q55: VALOR | R55: TIPO
J56: =SUM(D56+E56+F56+G56+H56+I56) -> 0
...

Sheet Prest Serv
D1: Taxa Reduzida | F1: Taxa Intermédia | H1: Taxa Normal
A2: Nº Doc | B2: Data | C2: Descritivo da Venda | D2: Valor Incidência | E2: 0.06 | F2: Valor Incidência | G2: 0.13 | H2: Valor Incidência | I2: 0.23
A3: Mercado Nacional | J3: =SUM(C3+D3+E3+F3+G3+H3+I3+I3) -> 0
J4: Totais | K4: Conta | O4: Desvio do IVA
E5: =D5*0.06 -> 0 | G5: =F5*0.13 -> 0 | I5: =H5*0.23 -> 0 | J5: =SUM(C5+D5+E5+F5+G5+H5+I5+I5) -> 0 | L5: =E5*0.06 -> 0 | M5: =+G5*0.13 -> 0 | N5: =+I5*0.23 -> 0 | O5: =+L5-E5 -> 0 | P5: =+M5-G5 -> 0 | Q5: =+N5-I5 -> 0
E6: =D6*0.06 -> 0 | G6: =F6*0.13 -> 0 | I6: =H6*0.23 -> 0 | J6: =SUM(C6+D6+E6+F6+G6+H6+I6+I6) -> 0 | L6: =E6*0.06 -> 0 | M6: =+G6*0.13 -> 0 | N6: =+I6*0.23 -> 0 | O6: =+L6-E6 -> 0 | P6: =+M6-G6 -> 0 | Q6: =+N6-I6 -> 0
E7: =D7*0.06 -> 0 | G7: =F7*0.13 -> 0 | I7: =H7*0.23 -> 0 | J7: =SUM(C7+D7+E7+F7+G7+H7+I7+I7) -> 0 | L7: =E7*0.06 -> 0 | M7: =+G7*0.13 -> 0 | N7: =+I7*0.23 -> 0 | O7: =+L7-E7 -> 0 | P7: =+M7-G7 -> 0 | Q7: =+N7-I7 -> 0
E8: =D8*0.06 -> 0 | G8: =F8*0.13 -> 0 | I8: =H8*0.23 -> 0 | J8: =SUM(C8+D8+E8+F8+G8+H8+I8+I8) -> 0 | L8: =E8*0.06 -> 0 | M8: =+G8*0.13 -> 0 | N8: =+I8*0.23 -> 0 | O8: =+L8-E8 -> 0 | P8: =+M8-G8 -> 0 | Q8: =+N8-I8 -> 0
E9: =D9*0.06 -> 0 | G9: =F9*0.13 -> 0 | I9: =H9*0.23 -> 0 | J9: =SUM(C9+D9+E9+F9+G9+H9+I9+I9) -> 0 | L9: =E9*0.06 -> 0 | M9: =+G9*0.13 -> 0 | N9: =+I9*0.23 -> 0 | O9: =+L9-E9 -> 0 | P9: =+M9-G9 -> 0 | Q9: =+N9-I9 -> 0
E10: =D10*0.06 -> 0 | G10: =F10*0.13 -> 0 | I10: =H10*0.23 -> 0 | J10: =SUM(C10+D10+E10+F10+G10+H10+I10+I10) -> 0 | L10: =E10*0.06 -> 0 | M10: =+G10*0.13 -> 0 | N10: =+I10*0.23 -> 0 | O10: =+L10-E10 -> 0 | P10: =+M10-G10 -> 0 | Q10: =+N10-I10 -> 0
E11: =D11*0.06 -> 0 | G11: =F11*0.13 -> 0 | I11: =H11*0.23 -> 0 | J11: =SUM(C11+D11+E11+F11+G11+H11+I11+I11) -> 0 | L11: =E11*0.06 -> 0 | M11: =+G11*0.13 -> 0 | N11: =+I11*0.23 -> 0 | O11: =+L11-E11 -> 0 | P11: =+M11-G11 -> 0 | Q11: =+N11-I11 -> 0
E12: =D12*0.06 -> 0 | G12: =F12*0.13 -> 0 | I12: =H12*0.23 -> 0 | J12: =SUM(C12+D12+E12+F12+G12+H12+I12+I12) -> 0 | L12: =E12*0.06 -> 0 | M12: =+G12*0.13 -> 0 | N12: =+I12*0.23 -> 0 | O12: =+L12-E12 -> 0 | P12: =+M12-G12 -> 0 | Q12: =+N12-I12 -> 0
E13: =D13*0.06 -> 0 | G13: =F13*0.13 -> 0 | I13: =H13*0.23 -> 0 | J13: =SUM(C13+D13+E13+F13+G13+H13+I13+I13) -> 0 | L13: =E13*0.06 -> 0 | M13: =+G13*0.13 -> 0 | N13: =+I13*0.23 -> 0 | O13: =+L13-E13 -> 0 | P13: =+M13-G13 -> 0 | Q13: =+N13-I13 -> 0
E14: =D14*0.06 -> 0 | G14: =F14*0.13 -> 0 | I14: =H14*0.23 -> 0 | J14: =SUM(C14+D14+E14+F14+G14+H14+I14+I14) -> 0 | L14: =E14*0.06 -> 0 | M14: =+G14*0.13 -> 0 | N14: =+I14*0.23 -> 0 | O14: =+L14-E14 -> 0 | P14: =+M14-G14 -> 0 | Q14: =+N14-I14 -> 0
E15: =D15*0.06 -> 0 | G15: =F15*0.13 -> 0 | I15: =H15*0.23 -> 0 | J15: =SUM(C15+D15+E15+F15+G15+H15+I15+I15) -> 0 | L15: =E15*0.06 -> 0 | M15: =+G15*0.13 -> 0 | N15: =+I15*0.23 -> 0 | O15: =+L15-E15 -> 0 | P15: =+M15-G15 -> 0 | Q15: =+N15-I15 -> 0
E16: =D16*0.06 -> 0 | G16: =F16*0.13 -> 0 | I16: =H16*0.23 -> 0 | J16: =SUM(C16+D16+E16+F16+G16+H16+I16+I16) -> 0 | L16: =E16*0.06 -> 0 | M16: =+G16*0.13 -> 0 | N16: =+I16*0.23 -> 0 | O16: =+L16-E16 -> 0 | P16: =+M16-G16 -> 0 | Q16: =+N16-I16 -> 0
... E27: =D27*0.06 -> 0 | G27: =F27*0.13 -> 0 | I27: =H27*0.23 -> 0 | J27: =SUM(C27+D27+E27+F27+G27+H27+I27+I27) -> 0 | L27: =E27*0.06 -> 0 | M27: =+G27*0.13 -> 0 | N27: =+I27*0.23 -> 0 | O27: =+L27-E27 -> 0 | P27: =+M27-G27 -> 0 | Q27: =+N27-I27 -> 0
E28: =D28*0.06 -> 0 | G28: =F28*0.13 -> 0 | I28: =H28*0.23 -> 0 | J28: =SUM(C28+D28+E28+F28+G28+H28+I28+I28) -> 0 | O28: =+L28-E28 -> 0 | P28: =+M28-G28 -> 0 | Q28: =+N28-I28 -> 0
E29: =D29*0.06 -> 0 | G29: =F29*0.13 -> 0 | I29: =H29*0.23 -> 0 | J29: =SUM(C29+D29+E29+F29+G29+H29+I29+I29) -> 0 | O29: =+L29-E29 -> 0 | P29: =+M29-G29 -> 0 | Q29: =+N29-I29 -> 0
E30: =D30*0.06 -> 0 | G30: =F30*0.13 -> 0 | I30: =H30*0.23 -> 0 | J30: =SUM(C30+D30+E30+F30+G30+H30+I30+I30) -> 0 | O30: =+L30-E30 -> 0 | P30: =+M30-G30 -> 0 | Q30: =+N30-I30 -> 0
E31: =D31*0.06 -> 0 | G31: =F31*0.13 -> 0 | I31: =H31*0.23 -> 0 | J31: =SUM(C31+D31+E31+F31+G31+H31+I31+I31) -> 0 | O31: =+L31-E31 -> 0 | P31: =+M31-G31 -> 0 | Q31: =+N31-I31 -> 0
E32: =D32*0.06 -> 0 | G32: =F32*0.13 -> 0 | I32: =H32*0.23 -> 0 | J32: =SUM(C32+D32+E32+F32+G32+H32+I32+I32) -> 0 | O32: =+L32-E32 -> 0 | P32: =+M32-G32 -> 0 | Q32: =+N32-I32 -> 0
E33: =D33*0.06 -> 0 | G33: =F33*0.13 -> 0 | I33: =H33*0.23 -> 0 | J33: =SUM(C33+D33+E33+F33+G33+H33+I33+I33) -> 0 | O33: =+L33-E33 -> 0 | P33: =+M33-G33 -> 0 | Q33: =+N33-I33 -> 0
E34: =D34*0.06 -> 0 | G34: =F34*0.13 -> 0 | I34: =H34*0.23 -> 0 | J34: =SUM(C34+D34+E34+F34+G34+H34+I34+I34) -> 0 | O34: =+L34-E34 -> 0 | P34: =+M34-G34 -> 0 | Q34: =+N34-I34 -> 0
E35: =D35*0.06 -> 0 | G35: =F35*0.13 -> 0 | I35: =H35*0.23 -> 0 | J35: =SUM(C35+D35+E35+F35+G35+H35+I35+I35) -> 0 | O35: =+L35-E35 -> 0 | P35: =+M35-G35 -> 0 | Q35: =+N35-I35 -> 0
A36: TOTAL | D36: =SUM(D8:D35) -> 0 | E36: =SUM(E8:E35) -> 0 | F36: =SUM(F5:F35) -> 0 | G36: =SUM(G5:G35) -> 0 | H36: =SUM(H5:H35) -> 0 | I36: =SUM(I5:I35) -> 0 | J36: =SUM(C36+D36+E36+F36+G36+H36+I36+I36) -> 0 | K36: =SUM(D36+E36+F36+G36+H36+I36+J36) -> 0
A38: Mercado Intracomunitário | N38: DECLARAÇÃO RECAPITULATIVA
J39: Totais | K39: Conta
J40: =SUM(D40+E40+F40+G40+H40+I40) -> 0 | N40: PAÍS | O40: PREFIXO | P40: NIF | Q40: VALOR | R40: TIPO
J41: =SUM(D41+E41+F41+G41+H41+I41) -> 0
J42: =SUM(D42+E42+F42+G42+H42+I42) -> 0
J43: =SUM(D43+E43+F43+G43+H43+I43) -> 0
J44: =SUM(D44+E44+F44+G44+H44+I44) -> 0
J45: =SUM(D45+E45+F45+G45+H45+I45) -> 0
A46: TOTAL | D46: =SUM(D40:D45) -> 0 | E46: =SUM(E40:E45) -> 0 | F46: =SUM(F40:F45) -> 0 | G46: =SUM(G40:G45) -> 0 | H46: =SUM(H40:H45) -> 0 | I46: =SUM(I40:I45) -> 0 | J46: =SUM(D46+E46+F46+G46+H46+I46) -> 0
A48: Outros Mercados
J49: Totais | K49: Conta
J50: =SUM(D50+E50+F50+G50+H50+I50) -> 0
J51: =SUM(D51+E51+F51+G51+H51+I51) -> 0
J52: =SUM(D52+E52+F52+G52+H52+I52) -> 0
...

Sheet Devoluções
E1: Taxa Reduzida | G1: Taxa Intermédia | I1: Taxa Normal
A2: Nº Doc | B2: Data | C2: Descritivo da Despesa | D2: Conta a Crédito | E2: Valor Incidência | F2: 0.06 | G2: Valor Incidência | H2: 0.13 | I2: Valor Incidência | J2: 0.23
A3: Devolução de Compras e Descontos e Abatimentos
K4: Totais | L4: Conta
F5: =E5*0.06 -> 0 | H5: =G5*0.13 -> 0 | J5: =I5*0.23 -> 0 | K5: =SUM(E5+F5+G5+H5+I5+J5) -> 0 | M5: =+E5*6% -> 0 | N5: =+I5*23% -> 0 | O5: =+M5-F5 -> 0 | P5: A. WINTER, LDA | Q5: =+N5-J5 -> 0
F6: =E6*0.06 -> 0 | H6: =G6*0.13 -> 0 | J6: =I6*0.23 -> 0 | K6: =SUM(E6+F6+G6+H6+I6+J6) -> 0 | M6: =+E6*6% -> 0 | N6: =+I6*23% -> 0
F7: =E7*0.06 -> 0 | H7: =G7*0.13 -> 0 | J7: =I7*0.23 -> 0 | K7: =SUM(E7+F7+G7+H7+I7+J7) -> 0 | M7: =+E7*6% -> 0 | N7: =+I7*23% -> 0 | O7: =+M7-F7 -> 0 | Q7: =+N7-J7 -> 0
F8: =E8*0.06 -> 0 | H8: =G8*0.13 -> 0 | J8: =I8*0.23 -> 0 | K8: =SUM(E8+F8+G8+H8+I8+J8) -> 0 | M8: =+E8*6% -> 0 | N8: =+I8*23% -> 0 | O8: =+M8-F8 -> 0 | Q8: =+N8-J8 -> 0
F9: =E9*0.06 -> 0 | H9: =G9*0.13 -> 0 | J9: =I9*0.23 -> 0 | K9: =SUM(E9+F9+G9+H9+I9+J9) -> 0 | M9: =+E9*6% -> 0 | N9: =+I9*23% -> 0 | O9: =+M9-F9 -> 0 | Q9: =+N9-J9 -> 0
F10: =E10*0.06 -> 0 | H10: =G10*0.13 -> 0 | J10: =I10*0.23 -> 0 | K10: =SUM(E10+F10+G10+H10+I10+J10) -> 0 | M10: =+E10*6% -> 0 | N10: =+I10*23% -> 0 | O10: =+M10-F10 -> 0 | Q10: =+N10-J10 -> 0
F11: =E11*0.06 -> 0 | H11: =G11*0.13 -> 0 | J11: =I11*0.23 -> 0 | K11: =SUM(E11+F11+G11+H11+I11+J11) -> 0 | M11: =+E11*6% -> 0 | N11: =+I11*23% -> 0 | O11: =+M11-F11 -> 0 | P11: AIRESS PROOPTICA PORTUGAL | Q11: =+N11-J11 -> 0
F12: =E12*0.06 -> 0 | H12: =G12*0.13 -> 0 | J12: =I12*0.23 -> 0 | K12: =SUM(E12+F12+G12+H12+I12+J12) -> 0 | M12: =+E12*6% -> 0 | N12: =+I12*23% -> 0 | O12: =+M12-F12 -> 0 | Q12: =+N12-J12 -> 0
F13: =E13*0.06 -> 0 | H13: =G13*0.13 -> 0 | J13: =I13*0.23 -> 0 | K13: =SUM(E13+F13+G13+H13+I13+J13) -> 0 | M13: =+E13*6% -> 0 | N13: =+I13*23% -> 0 | O13: =+M13-F13 -> 0 | P13: AIRESS PROOPTICA PORTUGAL | Q13: =+N13-J13 -> 0
F14: =E14*0.06 -> 0 | H14: =G14*0.13 -> 0 | J14: =I14*0.23 -> 0 | K14: =SUM(E14+F14+G14+H14+I14+J14) -> 0 | M14: =+E14*6% -> 0 | N14: =+I14*23% -> 0 | O14: =+M14-F14 -> 0 | P14: ALCON PORTUGAL - PROD. E | Q14: =+N14-J14 -> 0
F15: =E15*0.06 -> 0 | H15: =G15*0.13 -> 0 | J15: =I15*0.23 -> 0 | K15: =SUM(E15+F15+G15+H15+I15+J15) -> 0 | M15: =+E15*6% -> 0 | N15: =+I15*23% -> 0
F16: =E16*0.06 -> 0 | H16: =G16*0.13 -> 0 | J16: =I16*0.23 -> 0 | K16: =SUM(E16+F16+G16+H16+I16+J16) -> 0 | M16: =+E16*6% -> 0 | N16: =+I16*23% -> 0
F17: =E17*0.06 -> 0 | H17: =G17*0.13 -> 0 | J17: =I17*0.23 -> 0 | K17: =SUM(E17+F17+G17+H17+I17+J17) -> 0 | M17: =+E17*6% -> 0 | N17: =+I17*23% -> 0
F18: =E18*0.06 -> 0 | H18: =G18*0.13 -> 0 | J18: =I18*0.23 -> 0 | K18: =SUM(E18+F18+G18+H18+I18+J18) -> 0 | M18: =+E18*6% -> 0 | N18: =+I18*23% -> 0
F19: =E19*0.06 -> 0 | H19: =G19*0.13 -> 0 | J19: =I19*0.23 -> 0 | K19: =SUM(E19+F19+G19+H19+I19+J19) -> 0 | M19: =+E19*6% -> 0 | N19: =+I19*23% -> 0 | O19: =+M19-F19 -> 0 | P19: IODEL IBERICA | Q19: =+N19-J19 -> 0
F20: =E20*0.06 -> 0 | H20: =G20*0.13 -> 0 | J20: =I20*0.23 -> 0 | K20: =SUM(E20+F20+G20+H20+I20+J20) -> 0 | M20: =+E20*6% -> 0 | N20: =+I20*23% -> 0 | O20: =+M20-F20 -> 0 | P20: IOLA - INDÚSTRIA ÓPTICA, S.A. | Q20: =+N20-J20 -> 0
F21: =E21*0.06 -> 0 | H21: =G21*0.13 -> 0 | J21: =I21*0.23 -> 0 | K21: =SUM(E21+F21+G21+H21+I21+J21) -> 0 | M21: =+E21*6% -> 0 | N21: =+I21*23% -> 0 | O21: =+M21-F21 -> 0 | P21: ITALIANA ÓPTICA, LDA | Q21: =+N21-J21 -> 0
A22: TOTAL DEVOLUÇÃO DE COMPRAS | E22: =SUM(E5:E21) -> 0 | F22: =SUM(F5:F21) -> 0 | G22: =SUM(G5:G21) -> 0 | H22: =SUM(H5:H21) -> 0 | I22: =SUM(I5:I21) -> 0 | J22: =SUM(J5:J21) -> 0 | K22: =SUM(E22+F22+G22+H22+I22+J22) -> 0 | M22: =+J22-J44 -> 0 | P22: JOHNSON & JOHNSON, LDA
E26: Taxa Reduzida | G26: Taxa Intermédia | I26: Taxa Normal
A27: Nº Doc | B27: Data | C27: Descritivo da Despesa | D27: Conta a Débito | E27: Valor Incidência | F27: 0.06 | G27: Valor Incidência | H27: 0.13 | I27: Valor Incidência | J27: 0.23 | P27: JOSÉ COSTA MENDES & C.ª, LDA
A28: Devolução de Vendas e Descontos e Abatimentos | P28: LENCO LAB. PORT. LENTES
K29: Totais | L29: Conta | P29: LIQUILENTES - COM. PROD. ÓPTICA, LD
F30: =E30*0.06 -> 0 | H30: =G30*0.13 -> 0 | J30: =I30*0.23 -> 0 | K30: =SUM(E30+F30+G30+H30+I30+J30) -> 0 | N30: =+I30*23% -> 0 | P30: LUSÍADAS
F31: =E31*0.06 -> 0 | H31: =G31*0.13 -> 0 | J31: =I31*0.23 -> 0 | K31: =SUM(E31+F31+G31+H31+I31+J31) -> 0 | N31: =+I31*23% -> 0 | P31: LITE PRICE - ANA PAULA SILVEIRA
F32: =E32*0.06 -> 0 | H32: =G32*0.13 -> 0 | J32: =I32*0.23 -> 0 | K32: =SUM(E32+F32+G32+H32+I32+J32) -> 0 | N32: =+I32*23% -> 0 | P32: LUXOTTICA PORTUGAL, S.A.
F33: =E33*0.06 -> 0 | H33: =G33*0.13 -> 0 | J33: =I33*0.23 -> 0 | K33: =SUM(E33+F33+G33+H33+I33+J33) -> 0 | N33: =+I33*23% -> 0 | P33: MARCOLIN EYEWEAR
F34: =E34*0.06 -> 0 | H34: =G34*0.13 -> 0 | J34: =I34*0.23 -> 0 | K34: =SUM(E34+F34+G34+H34+I34+J34) -> 0 | N34: =+I34*23% -> 0 | P34: MARIA HELENA PEREIRA SILVA FAIM
F35: =E35*0.06 -> 0 | H35: =G35*0.13 -> 0 | J35: =I35*0.23 -> 0 | K35: =SUM(E35+F35+G35+H35+I35+J35) -> 0 | N35: =+I35*23% -> 0 | P35: MIRA PACK
F36: =E36*0.06 -> 0 | H36: =G36*0.13 -> 0 | J36: =I36*0.23 -> 0 | K36: =SUM(E36+F36+G36+H36+I36+J36) -> 0 | N36: =+I36*23% -> 0 | P36: MODAVISÃO, LDA
F37: =E37*0.06 -> 0 | H37: =G37*0.13 -> 0 | J37: =I37*0.23 -> 0 | K37: =SUM(E37+F37+G37+H37+I37+J37) -> 0 | N37: =+I37*23% -> 0 | P37: NEPPACH IMPORTAÇÕES, LDA
F38: =E38*0.06 -> 0 | H38: =G38*0.13 -> 0 | J38: =I38*0.23 -> 0 | K38: =SUM(E38+F38+G38+H38+I38+J38) -> 0 | N38: =+I38*23% -> 0 | P38: NOPT - NUNO MIRANDA
F39: =E39*0.06 -> 0 | H39: =G39*0.13 -> 0 | J39: =I39*0.23 -> 0 | K39: =SUM(E39+F39+G39+H39+I39+J39) -> 0 | N39: =+I39*23% -> 0 | P39: NOVARTIS FARMA, S.A.
F40: =E40*0.06 -> 0 | H40: =G40*0.13 -> 0 | J40: =I40*0.23 -> 0 | K40: =SUM(E40+F40+G40+H40+I40+J40) -> 0 | N40: =+I40*23% -> 0 | P40: OPB - IMPORTAÇÃO E EXPORTAÇÃO, LDA
F41: =E41*0.06 -> 0 | H41: =G41*0.13 -> 0 | J41: =I41*0.23 -> 0 | K41: =SUM(E41+F41+G41+H41+I41+J41) -> 0 | N41: =+I41*23% -> 0 | P41: OPTICONTACT - ÓPTICA E INST., LDA
... F43: =E43*0.06 -> 0 | H43: =G43*0.13 -> 0 | J43: =I43*0.23 -> 0 | K43: =SUM(E43+F43+G43+H43+I43+J43) -> 0 | N43: =+I43*23% -> 0 | P43: OPTIESTOJO - ART. ÓPTICA, LDA
A44: TOTAL DEVOLUÇÃO DE VENDAS | E44: =SUM(E30:E43) -> 0 | F44: =SUM(F30:F43) -> 0 | G44: =SUM(G30:G43) -> 0 | H44: =SUM(H30:H43) -> 0 | I44: =SUM(I30:I43) -> 0 | J44: =SUM(J30:J43) -> 0 | K44: =SUM(E44+F44+G44+H44+I44+J44) -> 0 | P44: OPTIFAR - IMP. EXPORTAÇÃO, LDA
...

Sheet FSE
E1: Taxa Reduzida | G1: Taxa Intermédia | I1: Taxa Normal | K1: ISENTOS
A2: Nº Doc | B2: Data | C2: Descritivo da Despesa | D2: Conta a débito | E2: Valor Incidência | F2: 2432…-6% | G2: Valor Incidência | H2: 2432…-13% | I2: Valor Incidência | J2: 2432…-23%
A3: Mercado Nacional
P4: Desvio do IVA
C5: luz | D5: 622 | F5: =E5*0.06 -> 0 | H5: =G5*0.13 -> 0 | J5: =I5*0.23 -> 0 | L5: =E5*6% -> 0 | M5: =G5*13% -> 0 | N5: =I5*23% -> 0 | P5: =+L5-F5 -> 0 | Q5: =+N5-H5 -> 0 | R5: =+M5-H5 -> 0 | S5: =+N5-J5 -> 0
F6: =E6*0.06 -> 0 | H6: =G6*0.13 -> 0 | J6: =I6*0.23 -> 0 | L6: =E6*6% -> 0 | M6: =G6*13% -> 0 | N6: =I6*23% -> 0 | P6: =+L6-F6 -> 0 | Q6: =+N6-H6 -> 0 | R6: =+M6-H6 -> 0 | S6: =+N6-J6 -> 0
F7: =E7*0.06 -> 0 | H7: =G7*0.13 -> 0 | J7: =I7*0.23 -> 0 | L7: =E7*6% -> 0 | M7: =G7*13% -> 0 | N7: =I7*23% -> 0 | P7: =+L7-F7 -> 0 | Q7: =+N7-H7 -> 0 | R7: =+M7-H7 -> 0 | S7: =+N7-J7 -> 0
F8: =E8*0.06 -> 0 | H8: =G8*0.13 -> 0 | J8: =I8*0.23 -> 0 | L8: =E8*6% -> 0 | M8: =G8*13% -> 0 | N8: =I8*23% -> 0 | P8: =+L8-F8 -> 0 | Q8: =+N8-H8 -> 0 | R8: =+M8-H8 -> 0 | S8: =+N8-J8 -> 0
F9: =E9*0.06 -> 0 | H9: =G9*0.13 -> 0 | J9: =I9*0.23 -> 0 | L9: =E9*6% -> 0 | M9: =G9*13% -> 0 | N9: =I9*23% -> 0 | P9: =+L9-F9 -> 0 | Q9: =+N9-H9 -> 0 | R9: =+M9-H9 -> 0 | S9: =+N9-J9 -> 0
F10: =E10*0.06 -> 0 | H10: =G10*0.13 -> 0 | J10: =I10*0.23 -> 0 | L10: =E10*6% -> 0 | M10: =G10*13% -> 0 | N10: =I10*23% -> 0 | P10: =+L10-F10 -> 0 | Q10: =+N10-H10 -> 0 | R10: =+M10-H10 -> 0 | S10: =+N10-J10 -> 0
F11: =E11*0.06 -> 0 | H11: =G11*0.13 -> 0 | J11: =I11*0.23 -> 0 | L11: =E11*6% -> 0 | M11: =G11*13% -> 0 | N11: =I11*23% -> 0 | P11: =+L11-F11 -> 0 | Q11: =+N11-H11 -> 0 | R11: =+M11-H11 -> 0 | S11: =+N11-J11 -> 0
F12: =E12*0.06 -> 0 | H12: =G12*0.13 -> 0 | J12: =I12*0.23 -> 0 | L12: =E12*6% -> 0 | M12: =G12*13% -> 0 | N12: =I12*23% -> 0 | P12: =+L12-F12 -> 0 | Q12: =+N12-H12 -> 0 | R12: =+M12-H12 -> 0 | S12: =+N12-J12 -> 0
F13: =E13*0.06 -> 0 | H13: =G13*0.13 -> 0 | J13: =I13*0.23 -> 0 | L13: =E13*6% -> 0 | M13: =G13*13% -> 0 | N13: =I13*23% -> 0 | P13: =+L13-F13 -> 0 | Q13: =+N13-H13 -> 0 | R13: =+M13-H13 -> 0 | S13: =+N13-J13 -> 0
F14: =E14*0.06 -> 0 | H14: =G14*0.13 -> 0 | J14: =I14*0.23 -> 0 | L14: =E14*6% -> 0 | M14: =G14*13% -> 0 | N14: =I14*23% -> 0 | P14: =+L14-F14 -> 0 | Q14: =+N14-H14 -> 0 | R14: =+M14-H14 -> 0 | S14: =+N14-J14 -> 0
F15: =E15*0.06 -> 0 | H15: =G15*0.13 -> 0 | J15: =I15*0.23 -> 0 | L15: =E15*6% -> 0 | M15: =G15*13% -> 0 | N15: =I15*23% -> 0 | P15: =+L15-F15 -> 0 | Q15: =+N15-H15 -> 0 | R15: =+M15-H15 -> 0 | S15: =+N15-J15 -> 0
F16: =E16*0.06 -> 0 | H16: =G16*0.13 -> 0 | J16: =I16*0.23 -> 0 | L16: =E16*6% -> 0 | M16: =G16*13% -> 0 | N16: =I16*23% -> 0 | P16: =+L16-F16 -> 0 | Q16: =+N16-H16 -> 0 | R16: =+M16-H16 -> 0 | S16: =+N16-J16 -> 0
F17: =E17*0.06 -> 0 | H17: =G17*0.13 -> 0 | J17: =I17*0.23 -> 0 | L17: =E17*6% -> 0 | M17: =G17*13% -> 0 | N17: =I17*23% -> 0 | P17: =+L17-F17 -> 0 | Q17: =+N17-H17 -> 0 | R17: =+M17-H17 -> 0 | S17: =+N17-J17 -> 0
... F57: =E57*0.06 -> 0 | H57: =G57*0.13 -> 0 | J57: =I57*0.23 -> 0 | L57: =E57*6% -> 0 | M57: =G57*13% -> 0 | N57: =I57*23% -> 0 | P57: =+L57-F57 -> 0 | Q57: =+N57-H57 -> 0 | R57: =+M57-H57 -> 0 | S57: =+N57-J57 -> 0
A58: TOTAL | E58: =SUM(E5:E57) -> 0 | F58: =SUM(F5:F57) -> 0 | G58: =SUM(G5:G57) -> 0 | H58: =SUM(H5:H57) -> 0 | I58: =SUM(I5:I57) -> 0 | J58: =SUM(J5:J57) -> 0 | K58: =SUM(K5:K57) -> 0

Sheet Outros
D1: Taxa Reduzida | F1: Taxa Intermédia | H1: Taxa Normal
A2: Nº Doc | B2: Data | C2: Descritivo da Despesa | D2: Valor Incidência | E2: 0.06 | F2: Valor Incidência | G2: 0.13 | H2: Valor Incidência | I2: 0.23
A3: Isento de IVA
A19: TOTAL ISENTOS DE IVA | D19: =SUM(D5:D18) -> 0 | E19: =SUM(E5:E18) -> 0 | F19: =SUM(F5:F18) -> 0 | G19: =SUM(G5:G18) -> 0 | H19: =SUM(H5:H18) -> 0 | I19: =SUM(I5:I18) -> 0
A21: Ofertas
J23: =D23*6% -> 0 | K23: =H23*23% -> 0
J24: =D24*6% -> 0 | K24: =H24*23% -> 0
J25: =D25*6% -> 0 | K25: =H25*23% -> 0
J26: =D26*6% -> 0 | K26: =H26*23% -> 0
J27: =D27*6% -> 0 | K27: =H27*23% -> 0
J28: =D28*6% -> 0 | K28: =H28*23% -> 0
J29: =D29*6% -> 0 | K29: =H29*23% -> 0
J30: =D30*6% -> 0 | K30: =H30*23% -> 0
J31: =D31*6% -> 0 | K31: =H31*23% -> 0
J32: =D32*6% -> 0 | K32: =H32*23% -> 0
A33: TOTAL DE OFERTAS | D33: =SUM(D23:D32) -> 0 | E33: =SUM(E23:E32) -> 0 | F33: =SUM(F23:F32) -> 0 | G33: =SUM(G23:G32) -> 0 | H33: =SUM(H23:H32) -> 0 | I33: =SUM(I23:I32) -> 0
A35: IVA não Dedutível
A51: TOTAL IVA NÃO DEDUTIVEL | D51: =SUM(D37:D50) -> 0 | E51: =SUM(E37:E50) -> 0 | F51: =SUM(F37:F50) -> 0 | G51: =SUM(G37:G50) -> 0 | H51: =SUM(H37:H50) -> 0 | I51: =SUM(I37:I50) -> 0
