Workbook

Sheet Balanço
A1: Balanço Financeiro | G1: Balanço SNS
G2: Activo | H2: 2009 | I2: 2008 | J2: 2007 | K2: 2006
A3: Activo | B3: 2009 | C3: 2008 | D3: 2007 | E3: 2006
G4: Activo não corrente
A5: Activo não corrente | G5: Activos fixos tangíveis | H5: 9880294 | I5: 10173948 | J5: 10427304 | K5: 11197902
A6: Activos fixos tangíveis | B6: 9880294 | C6: 10173948 | D6: 10427304 | E6: 11197902 | G6: Outros activos fixos intangíveis | H6: 507817 | J6: 396883 | K6: 863174
A7: Outros activos fixos intangíveis | B7: 507817 | D7: 396883 | E7: 863174 | G7: Participações financeiras pelo método da equivalência patrimonial | K7: 137300
A8: Participações financeiras pelo método da equivalência patrimonial | E8: 137300 | G8: Participações financeiras pelo método do custo | H8: 16249 | I8: 11916 | J8: 11916 | K8: 1729989
A9: Participações financeiras pelo método do custo | B9: 16249 | C9: 11916 | D9: 11916 | E9: 1729989 | G9: Activos por impostos diferidos | H9: 2463933 | I9: 3689588 | J9: 4997819 | K9: 3587834
A10: Activos por impostos diferidos | B10: 2463933 | C10: 3689588 | D10: 4997819 | E10: 3587834 | H10: =SUM(H5:H9) -> 12868293 | I10: =SUM(I5:I9) -> 13875452 | J10: =SUM(J5:J9) -> 15833922 | K10: =SUM(K5:K9) -> 17516199
A11: Clientes de Cobrança Duvidosa | C11: =1000000-698325 -> 301675 | D11: =52956-D16 -> 51927 | G11: Activo corrente
B12: =SUM(B6:B11) -> 12868293 | C12: =SUM(C6:C10) -> 13875452 | D12: =SUM(D6:D10) -> 15833922 | E12: =SUM(E6:E10) -> 17516199 | G12: Inventários | H12: 365382 | I12: 337566 | J12: 220579 | K12: 361564
A13: Activo corrente | G13: Clientes | H13: 6931528 | I13: 3295052 | J13: 2529149 | K13: 3876671
A14: Inventários | B14: 365382 | C14: 337566 | D14: 220579 | E14: 361564 | G14: Outras contas a receber | H14: 4774728 | I14: 7283898 | J14: 7151604 | K14: 1473308
A15: Clientes | B15: 6931527 | C15: =3295054-C16 -> 2898404 | D15: =2529149-D16 -> 2528120 | E15: 3876671 | G15: Impostos sobre o rendimento a receber | H15: 196789 | I15: 152946 | J15: 141530 | K15: 170366
A16: Clientes de Cobrança Duvidosa | C16: =698325-C11 -> 396650 | D16: =53985-52956 -> 1029 | G16: Caixa e seus equivalentes | H16: 1150951 | I16: 358264 | J16: 433436 | K16: 529436
A17: Outras contas a receber | B17: 4774728 | C17: 7283898 | D17: 7151604 | E17: 1473308 | H17: =SUM(H12:H16) -> 13419378 | I17: =SUM(I12:I16) -> 11427726 | J17: =SUM(J12:J16) -> 10476298 | K17: =SUM(K12:K16) -> 6411345
A18: Impostos sobre o rendimento a receber | B18: 196789 | C18: 152946 | D18: 141530 | E18: 170366 | G18: Total do activo | H18: =H10+H17 -> 26287671 | I18: =I10+I17 -> 25303178 | J18: =J10+J17 -> 26310220 | K18: =K10+K17 -> 23927544
A19: Depósitos Bancários | B19: 1106184 | C19: 335568 | D19: 421645 | E19: 514247
A20: Caixa | B20: 44767 | C20: 22696 | D20: 11791 | E20: 15188 | G20: Capital Próprio e Passivo
B21: =SUM(B14:B20) -> 13419377 | C21: =SUM(C14:C20) -> 11427728 | D21: =SUM(D14:D20) -> 10476298 | E21: =SUM(E14:E20) -> 6411344 | G21: Capital próprio
A22: Total do activo | B22: =B12+B21 -> 26287670 | C22: =C12+C21 -> 25303180 | D22: =D12+D21 -> 26310220 | E22: =E12+E21 -> 23927543 | G22: Capital nominal | H22: 14775000 | I22: 11500000 | J22: 5550000 | K22: 5550000
G23: Prestações suplementares e outros instrumentos de capital | H23: 1950000 | I23: 1950000
A24: Capital Próprio e Passivo | G24: Acções (quotas) próprias | H24: -3610 | I24: -3610 | J24: -13620 | K24: -61820
A25: Capital próprio | G25: Prémios de emissão | H25: -72604 | I25: -72604 | J25: -62595 | K25: -129710
A26: Capital nominal | B26: 14775000 | C26: 11500000 | D26: 5550000 | E26: 5550000 | G26: Reservas não distribuíveis | H26: 1177410 | I26: 1177410 | J26: 1174181 | K26: 1174181
A27: Prestações suplementares e outros instrumentos de capital | B27: 1950000 | C27: 1950000 | G27: Reservas distribuíveis | H27: 1541294 | I27: 1541294 | J27: 1541294 | K27: 1541294
A28: Acções (quotas) próprias | B28: -3610 | C28: -3610 | D28: -13620 | E28: -61820 | G28: Reservas de conversão cambial | H28: -5811 | I28: -1098 | J28: -811
A29: Prémios de emissão | B29: -72604 | C29: -72604 | D29: -62595 | E29: -129710 | G29: Excedentes de valorização de activos fixos | H29: 199562 | I29: 200828 | J29: 1290584 | K29: 1309355
A30: Reservas não distribuíveis | B30: 1177410 | C30: 1177410 | D30: 1174181 | E30: 1174181 | G30: Excedentes de valorização de activos financeiros | H30: -372990 | I30: -74750 | J30: -74748 | K30: -3460969
A31: Reservas distribuíveis | B31: 1541294 | C31: 1541294 | D31: 1541294 | E31: 1541294 | G31: Resultados acumulados | H31: -18547772 | I31: -16834134 | J31: -21914928 | K31: -16260891
A32: Reservas de conversão cambial | B32: -5811 | C32: -1098 | D32: -811 | G32: Resultado líquido do período | H32: -270272 | I32: -597203 | J32: 842613 | K32: -3891130
A33: Excedentes de valorização de activos fixos | B33: 199562 | C33: 200828 | D33: 1290584 | E33: 1309355 | G33: Interesses minoritários | H33: 163221 | I33: 105395 | K33: 251569
A34: Excedentes de valorização de activos financeiros | B34: -372990 | C34: -74750 | D34: -74748 | E34: -3460969 | G34: Total do capital próprio | H34: =SUM(H22:H33) -> 533428 | I34: =SUM(I22:I33) -> -1108472 | J34: =SUM(J22:J33) -> -11668030 | K34: =SUM(K22:K33) -> -13978121
A35: Resultados transitados | B35: -270272 | C35: -597203 | D35: 842613 | E35: -3891130
A36: Resultados acumulados | B36: -18547772 | C36: -16834134 | D36: -21914928 | E36: -16260891 | G36: Passivo
A37: Resultado líquido do período | B37: =-270272-B35 -> 0 | C37: =-597203-C35 -> 0 | D37: =842613-D35 -> 0 | E37: =-3891130-E35 -> 0 | G37: Passivo não corrente
A38: Interesses minoritários | B38: 163221 | C38: 105395 | E38: 251569 | G38: Empréstimos e descobertos bancários | H38: 31250 | I38: 8069 | J38: 8099000 | K38: 8099000
A39: Total do capital próprio | B39: =SUM(B26:B38) -> 533428 | C39: =SUM(C26:C38) -> -1108472 | D39: =SUM(D26:D38) -> -11668030 | E39: =SUM(E26:E38) -> -13978121 | G39: Passivos por impostos diferidos | H39: 21939 | I39: 22395 | J39: 420757 | K39: 1141195
G40: Passivos por locação financeira | H40: 213912 | I40: 201207 | J40: 4718495 | K40: 4979282
...

Sheet Estrutura de Prov. e de Cus
A2: Estrutura de Proveitos e Custos
G3: Proveitos
A4: Estruturas de Proveitos | B4: 2009 | C4: 2008 | D4: 2007 | E4: 2006 | G4: Indicadores | H4: 2009 | I4: 2008 | J4: 2007 | K4: 2006
A5: 71 - Vendas | B5: =Balanço!H61 -> 17241376 | C5: =Balanço!I61 -> 11589647 | D5: =Balanço!J61 -> 5669135 | E5: =Balanço!K61 -> 4653821 | G5: Vendas | H5: =Balanço!N61 -> 0.57241885 | I5: =Balanço!O61 -> 0.38477975 | J5: =Balanço!P61 -> 0.18821698 | K5: =Balanço!Q61 -> 0.15450825
A6: 72 - Prestações de Serviços | B6: =Balanço!H62 -> 12878834 | C6: =Balanço!I62 -> 8786179 | D6: =Balanço!J62 -> 6858067 | E6: =Balanço!K62 -> 9297903 | G6: Prestações de Serviços | H6: =Balanço!N62 -> 0.42758115 | I6: =Balanço!O62 -> 0.29170378 | J6: =Balanço!P62 -> 0.22768988 | K6: =Balanço!Q62 -> 0.30869317
A7: 73 - Proveitos Suplementares | B7: =Balanço!H69 -> 0 | C7: =Balanço!I69 -> 0 | D7: =Balanço!J69 -> 0 | E7: =Balanço!K69 -> 0 | G7: Proveitos Suplementares | H7: =Balanço!N69 -> 0 | I7: =Balanço!O69 -> 0 | J7: =Balanço!P69 -> 0 | K7: =Balanço!Q69 -> 0
A8: 76 - Outros Proveitos e Ganhos Operacionais | B8: =Balanço!H75 -> 669614 | C8: =Balanço!I75 -> 632266 | D8: =Balanço!J75 -> 212946 | E8: =Balanço!K75 -> 1478508 | G8: Outros Proveitos e Ganhos Operacionais | H8: =Balanço!N75 -> 0.022231386 | I8: =Balanço!O75 -> 0.020991421 | J8: =Balanço!P75 -> 0.007069871 | K8: =Balanço!Q75 -> 0.049086909
A9: 77 - Reversões de Amortizações e Ajustamentos | B9: =Balanço!H79 -> 0 | C9: =Balanço!I79 -> 0 | D9: =Balanço!J79 -> 0 | E9: =Balanço!K79 -> 0 | G9: Reversões de Amortizações e Ajustamentos | H9: =Balanço!N79 -> 0 | I9: =Balanço!O79 -> 0 | J9: =Balanço!P79 -> 0 | K9: =Balanço!Q79 -> 0
A10: 78 - Proveitos e Ganhos Financeiros | B10: =Balanço!H84 -> 28048 | C10: =Balanço!I84 -> 83189 | D10: =Balanço!J84 -> 61807 | E10: =Balanço!K84 -> 56006 | G10: Proveitos e Ganhos Financeiros | H10: =Balanço!N84 -> 0.00093120201 | I10: =Balanço!O84 -> 0.0027618997 | J10: =Balanço!P84 -> 0.0020520109 | K10: =Balanço!Q84 -> 0.001859416
A11: 79 - Proveitos e Ganhos Extraordinários | B11: =Balanço!H87 -> 0 | C11: =Balanço!I87 -> 0 | D11: =Balanço!J87 -> 0 | E11: =Balanço!K87 -> 0 | G11: Proveitos e Ganhos Extraordinarios | H11: =Balanço!N87 -> 0 | I11: =Balanço!O87 -> 0 | J11: =Balanço!P87 -> 0 | K11: =Balanço!Q87 -> 0
A12: Total de Proveitos | B12: =SUM(B5:B11) -> 30817872 | C12: =SUM(C5:C11) -> 21091281 | D12: =SUM(D5:D11) -> 12801955 | E12: =SUM(E5:E11) -> 15486238
G13: Custos
A14: Estrutura de Custos | B14: 2009 | C14: 2008 | D14: 2007 | E14: 2006 | G14: Indicadores | H14: 2009 | I14: 2008 | J14: 2007 | K14: 2006
A15: 61 - CMVMC | B15: =Balanço!H67 -> 15362721 | C15: =Balanço!I67 -> 10141430 | D15: =Balanço!J67 -> 4509152 | E15: =Balanço!K67 -> 4176103 | G15: CMVMC | H15: =Balanço!N67 -> 0.51004694 | I15: =Balanço!O67 -> 0.33669852 | J15: =Balanço!P67 -> 0.1497052 | K15: =Balanço!Q67 -> 0.13864787
A16: 62 - Fornecimentos e Serviços Externos | B16: =Balanço!H68 -> 5483679 | C16: =Balanço!I68 -> 3159985 | D16: =Balanço!J68 -> 2921625 | E16: =Balanço!K68 -> 5198521 | G16: Fornecimento e Serviços Externos | H16: =Balanço!N68 -> 0.18205979 | I16: =Balanço!O68 -> 0.10491245 | J16: =Balanço!P68 -> 0.096998826 | K16: =Balanço!Q68 -> 0.17259246
A17: 63 - Impostos | G17: Impostos
A18: 64 - Custos com o pessoal | B18: =Balanço!H73 -> 7458601 | C18: =Balanço!I73 -> 5430227 | D18: =Balanço!J73 -> 4716242 | E18: =Balanço!K73 -> 5401192 | G18: Custos com o Pessoal | H18: =Balanço!N73 -> 0.24762779 | I18: =Balanço!O73 -> 0.18028516 | J18: =Balanço!P73 -> 0.15658065 | K18: =Balanço!Q73 -> 0.17932119
A19: 65 - Outros Custos e Perdas Operacionais | B19: =Balanço!H74 -> 683029 | C19: =Balanço!I74 -> 428976 | D19: =Balanço!J74 -> 518666 | E19: =Balanço!K74 -> 2263012 | G19: Outros Custos e Perdas Operacionais | H19: =Balanço!N74 -> 0.022676768 | I19: =Balanço!O74 -> 0.014242132 | J19: =Balanço!P74 -> 0.017219867 | K19: =Balanço!Q74 -> 0.075132677
A20: 66 - Amortizações e Ajustamentos do Exercício | B20: =Balanço!H77 -> 578946 | C20: =Balanço!I77 -> 787421 | D20: =Balanço!J77 -> 891992 | E20: =Balanço!K77 -> 1032707 | G20: Amortizações e Ajustamentos do Exercicio | H20: =Balanço!N77 -> 0.019221181 | I20: =Balanço!O77 -> 0.026142613 | J20: =Balanço!P77 -> 0.029614402 | K20: =Balanço!Q77 -> 0.034286182
A21: 68 - Custos e Perdas Financeiros | B21: =Balanço!H82 -> 282943 | C21: =Balanço!I82 -> 162792 | D21: =Balanço!J82 -> 109931 | E21: =Balanço!K82 -> 181151 | G21: Custos e Perdas Financeiras | H21: =Balanço!N82 -> 0.0093937924 | I21: =Balanço!O82 -> 0.0054047432 | J21: =Balanço!P82 -> 0.0036497421 | K21: =Balanço!Q82 -> 0.0060142675
A22: 69 - Custos e Perdas Extraordinários | B22: =Balanço!H86 -> 114194 | C22: =Balanço!I86 -> 1698 | D22: =Balanço!J86 -> 929790 | E22: =Balanço!K86 -> 730223 | G22: Custos e Perdas Extraordinarias | H22: =Balanço!N86 -> 0.003791275 | I22: =Balanço!O86 -> 5.6374109e-05 | J22: =Balanço!P86 -> 0.030869307 | K22: =Balanço!Q86 -> 0.024243622
A23: Total dos Custos | B23: =SUM(B15:B22) -> 29964113 | C23: =SUM(C15:C22) -> 20112529 | D23: =SUM(D15:D22) -> 14597398 | E23: =SUM(E15:E22) -> 18982909
A25: Representação Gráfica entre o Prazo Médio de Pagamento e de Recebimento
B26: PMR | C26: PMP
A27: 2009 | B27: 100.24 | C27: 386.77
A28: 2008 | B28: 61.96 | C28: 261.16
A29: 2007 | B29: 87.91 | C29: 752.5
A30: 2006 | B30: 121.04 | C30: 290.32
A32: Representação Gráfica entre a Produtividade do Trabalho e do Equipamento
B34: Produtividade do Equipamento | C34: Produtividade do Trabalho
A35: 2009 | B35: 0.94 | C35: 39801.76
A36: 2008 | B36: 0.7 | C36: 30362.28
A37: 2007 | B37: 0.49 | C37: 21967.27
A38: 2006 | B38: 0.44 | C38: 21079
A40: Representação Gráfica da Liquidez Geral, Reduzida e Imediata
B41: Liquidez Geral | C41: Liquidez Reduzida | D41: Liquidez Imediata
A42: 2009 | B42: 50.24 | C42: 0.51 | D42: 0.05
A43: 2008 | B43: 49.33 | C43: 0.42 | D43: 0.01
A44: 2007 | B44: 0.79 | C44: 0.41 | D44: 0.02
A45: 2006 | B45: 0.45 | C45: 0.26 | D45: 0.02
...
