Workbook
Name tab: #REF!

Sheet Tabela Final
A1: 1 | B1: 2 | C1: 3 | D1: 4 | E1: 5 | F1: 6 | G1: 7 | H1: 8 | I1: 9 | J1: 10 | K1: 11 | L1: 12 | M1: 13 | N1: 14 | O1: 15 | P1: 16 | Q1: 17 | R1: 18 | S1: 19 | T1: 20 | U1: 21 | V1: 22 | W1: 23 | X1: 24 | Y1: 25 | Z1: 26 | AA1: 27 | AB1: 28 | AC1: 29 | AD1: 30 | AE1: 31 | AF1: 32 | AG1: 33 | AH1: 34 | AI1: 35 | AJ1: 36 | AK1: 37 | AL1: 38 | AM1: 39 | AN1: 40 | AO1: 41 | AP1: 42 | AQ1: 43 | AR1: 44 | AS1: 45 | AT1: 46 | AU1: 47 | AV1: 48 | AW1: 49 | AX1: 48 | AY1: 49
A3: Recibo | B3: Data | C3: Num | D3: Nome | E3: Profissão | F3: Remuneração da Categoria | G3: Dias Úteis Mês | H3: Número Horas Semana | I3: Número de Horas Mês | J3: Remuneração Hora | K3: Número Faltas Dias | L3: Valor Faltas Dias | M3: Número Faltas Horas | N3: Valor Faltas Hora | O3: Total Faltas | P3: N.º de Horas a | S3: Total Das Horas a | V3: Total Horas Extraordinárias | W3: Outros Compl./Sub Férias | X3: Total Remuneração HE/Outros Bruta | Y3: Valor Sub. Alimentação | Z3: Complementos | AD3: Remuneração Bruta | AE3: Incidência | AF3: Descontos | AK3: Liquido a Receber | AL3: Sujeito a IRS | AM3: IRS retido | AN3: S SOCIAL | AO3: IRS | AQ3: S.SOCIAL O. SOCIAIS | AS3: S.SOCIAL PESSOAL | AT3: A RECEB O.SOCIAIS | AU3: A RECB PESSOAL | AV3: S. SOCIAL TOTAL | AW3: CUSTO O.SOCIAIS | AX3: CUSTO PESSOAL
P4: 0.5 | Q4: 0.75 | R4: 1 | S4: 0.5 | T4: 0.75 | U4: 1 | Z4: Sub. Ref. | AA4: H. E. | AB4: Com./S.Natal | AC4: Outros | AF4: TSU | AG4: Taxa | AH4: IRS | AI4: Sindicato | AJ4: Total | AO4: irs
A5: 1 | B5: 40574 | C5: 1 | D5: =IF(N(C5)>0,IF(N(C5)<34,VLOOKUP('Tabela Final'!C5,' Pessoal'!$A$2:$B$34,2),""),"") -> Susana | E5: =IF(N(C5)>0,IF(N(C5)<34,VLOOKUP(C5,' Pessoal'!$A$2:$C$34,3),""),"") -> Gerente | F5: =IF(N(C5)>0,IF(N(C5)<34,VLOOKUP(C5,' Pessoal'!$A$2:$M$34,4)),"") -> 927 | G5: 22 | H5: 40 | I5: =IF(N(H5)>0,(H5*52)/12,"") -> 173.33333 | J5: =IF(N(C5)>0,ROUND((F5/I5),2),"") -> 5.35 | L5: =IF(N(C5)>0,K5*((ROUND(I5/30,2)*J5)),"") -> 0 | N5: =IF(N(C5)>0,(M5*J5),"") -> 0 | O5: =IF(N(C5)>0,ROUND(L5+N5,2),"") -> 0 | S5: =IF(N(P5)>0,P5*ROUND((J5+($P$4*J5)),2),"") | T5: =IF(N(Q5)>0,Q5*ROUND((J5+($Q$4*J5)),2),"") | U5: =IF(N(R5)>0,R5*ROUND((J5+($R$4*J5)),2),"") | V5: =IF(N(C5)>0,SUM(S5:U5),"") -> 0 | X5: =IF(N(C5)>0,V5+W5,"") -> 0 | Y5: =IF(N(C5)>0,VLOOKUP(C5,' Pessoal'!$A$2:$M$34,10),"") -> 6.41 | Z5: =IF(N(C5)>0,(G5*Y5),"") -> 141.02 | AA5: =IF(N(C5)>0,V5,"") -> 0 | AC5: =IF(N(C5)>0,V5,"") -> 0 | AD5: =IF(N(C5)>0,ROUND(SUM(X5+F5+Z5+AA5+AB5+AC5)-O5,2),"") -> 1068.02 | AE5: =IF(N(C5)>0,(ROUND(IF((Y5)>6.41,((Y5-6.41)*G6+F5+AA5+AB5+AC5-O5),F5+AA5+AB5+AC5-O5),2))," ") -> 927 | AF5: =IF(N(C5)>0,ROUND(AE5*VLOOKUP(C5,' Pessoal'!$A$2:$M$34,9),2),"") -> 86.21 | AG5: 0.08 | AH5: =IF(N(C5)>0,ROUND(AE5*AG5,2),"") -> 74.16 | AI5: 0 | AJ5: =IF(N(C5)>0,SUM(AF5+AH5)+(AD5*AI5),"") -> 160.37 | AK5: =IF(N(C5)>0,(AD5-AJ5),"") -> 907.65 | AL5: =AE5 -> 927 | AM5: =AH5 -> 74.16 | AN5: =AF5 -> 86.21 | AO5: =SUM(AH5:AH9) -> 74.16 | AP5: =AE5 -> 927 | AQ5: =AP5*0.2125 -> 196.9875 | AR5: =SUM(AE6:AE9) -> 1075 | AS5: =ROUND(AR5*0.2375,2) -> 255.31 | AT5: =AK5 -> 907.65 | AU5: =ROUND(SUM(AK6:AK9),2) -> 1238.79 | AV5: =ROUND(AP5*0.3125+AR5*0.3475,2) -> 663.25 | AW5: =AD5 -> 1068.02 | AX5: =SUM(AD6:AD9) -> 1357.04
A6: 2 | B6: =B5 -> 40574 | C6: 2 | D6: =IF(N(C6)>0,IF(N(C6)<34,VLOOKUP('Tabela Final'!C6,' Pessoal'!$A$2:$B$34,2),""),"") -> Nuno | E6: =IF(N(C6)>0,IF(N(C6)<34,VLOOKUP(C6,' Pessoal'!$A$2:$C$34,3),""),"") -> Ajud. Electricista | F6: 0 | G6: 22 | H6: 40 | I6: =IF(N(H6)>0,(H6*52)/12,"") -> 173.33333 | J6: =IF(N(C6)>0,ROUND((F6/I6),2),"") -> 0 | L6: =IF(N(C6)>0,K6*((ROUND(I6/30,2)*J6)),"") -> 0 | N6: =IF(N(C6)>0,(M6*J6),"") -> 0 | O6: =IF(N(C6)>0,ROUND(L6+N6,2),"") -> 0 | S6: =IF(N(P6)>0,P6*ROUND((J6+($P$4*J6)),2),"") | T6: =IF(N(Q6)>0,Q6*ROUND((J6+($Q$4*J6)),2),"") | U6: =IF(N(R6)>0,R6*ROUND((J6+($R$4*J6)),2),"") | V6: =IF(N(C6)>0,SUM(S6:U6),"") -> 0 | X6: =IF(N(C6)>0,V6+W6,"") -> 0 | Y6: 0 | Z6: =IF(N(C6)>0,(G6*Y6),"") -> 0 | AA6: =IF(N(C6)>0,V6,"") -> 0 | AC6: =IF(N(C6)>0,V6,"") -> 0 | AD6: =IF(N(C6)>0,ROUND(SUM(X6+F6+Z6+AA6+AB6+AC6)-O6,2),"") -> 0 | AE6: =IF(N(C6)>0,(ROUND(IF((Y6)>6.41,((Y6-6.41)*G7+F6+AA6+AB6+AC6-O6),F6+AA6+AB6+AC6-O6),2))," ") -> 0 | AF6: =IF(N(C6)>0,ROUND(AE6*VLOOKUP(C6,' Pessoal'!$A$2:$M$34,9),2),"") -> 0 | AG6: 0 | AH6: =IF(N(C6)>0,ROUND(AE6*AG6,2),"") -> 0 | AI6: 0 | AJ6: =IF(N(C6)>0,SUM(AF6+AH6)+(AD6*AI6),"") -> 0 | AK6: =IF(N(C6)>0,(AD6-AJ6),"") -> 0 | AL6: =AE6 -> 0 | AM6: =AH6 -> 0 | AN6: =AF6 -> 0
A7: 3 | B7: =B6 -> 40574 | C7: 3 | D7: =IF(N(C7)>0,IF(N(C7)<34,VLOOKUP('Tabela Final'!C7,' Pessoal'!$A$2:$B$34,2),""),"") -> Fábio | E7: =IF(N(C7)>0,IF(N(C7)<34,VLOOKUP(C7,' Pessoal'!$A$2:$C$34,3),""),"") -> Ajud. Electricista | F7: 0 | G7: 22 | H7: 40 | I7: =IF(N(H7)>0,(H7*52)/12,"") -> 173.33333 | J7: =IF(N(C7)>0,ROUND((F7/I7),2),"") -> 0 | L7: =IF(N(C7)>0,K7*((ROUND(I7/30,2)*J7)),"") -> 0 | N7: =IF(N(C7)>0,(M7*J7),"") -> 0 | O7: =IF(N(C7)>0,ROUND(L7+N7,2),"") -> 0 | S7: =IF(N(P7)>0,P7*ROUND((J7+($P$4*J7)),2),"") | T7: =IF(N(Q7)>0,Q7*ROUND((J7+($Q$4*J7)),2),"") | U7: =IF(N(R7)>0,R7*ROUND((J7+($R$4*J7)),2),"") | V7: =IF(N(C7)>0,SUM(S7:U7),"") -> 0 | X7: =IF(N(C7)>0,V7+W7,"") -> 0 | Y7: 0 | Z7: =IF(N(C7)>0,(G7*Y7),"") -> 0 | AA7: =IF(N(C7)>0,V7,"") -> 0 | AC7: =IF(N(C7)>0,V7,"") -> 0 | AD7: =IF(N(C7)>0,ROUND(SUM(X7+F7+Z7+AA7+AB7+AC7)-O7,2),"") -> 0 | AE7: =IF(N(C7)>0,(ROUND(IF((Y7)>6.41,((Y7-6.41)*G8+F7+AA7+AB7+AC7-O7),F7+AA7+AB7+AC7-O7),2))," ") -> 0 | AF7: =IF(N(C7)>0,ROUND(AE7*VLOOKUP(C7,' Pessoal'!$A$2:$M$34,9),2),"") -> 0 | AG7: 0 | AH7: =IF(N(C7)>0,ROUND(AE7*AG7,2),"") -> 0 | AI7: 0 | AJ7: =IF(N(C7)>0,SUM(AF7+AH7)+(AD7*AI7),"") -> 0 | AK7: =IF(N(C7)>0,(AD7-AJ7),"") -> 0 | AL7: =AE7 -> 0 | AM7: =AH7 -> 0 | AN7: =AF7 -> 0
A8: 4 | B8: =B7 -> 40574 | C8: 4 | D8: =IF(N(C8)>0,IF(N(C8)<34,VLOOKUP('Tabela Final'!C8,' Pessoal'!$A$2:$B$34,2),""),"") -> Carlos | E8: =IF(N(C8)>0,IF(N(C8)<34,VLOOKUP(C8,' Pessoal'!$A$2:$C$34,3),""),"") -> Ajud. Electricista | F8: =IF(N(C8)>0,IF(N(C8)<34,VLOOKUP(C8,' Pessoal'!$A$2:$M$34,4)),"") -> 485 | G8: 22 | H8: 40 | I8: =IF(N(H8)>0,(H8*52)/12,"") -> 173.33333 | J8: =IF(N(C8)>0,ROUND((F8/I8),2),"") -> 2.8 | L8: =IF(N(C8)>0,K8*((ROUND(I8/30,2)*J8)),"") -> 0 | N8: =IF(N(C8)>0,(M8*J8),"") -> 0 | O8: =IF(N(C8)>0,ROUND(L8+N8,2),"") -> 0 | S8: =IF(N(P8)>0,P8*ROUND((J8+($P$4*J8)),2),"") | T8: =IF(N(Q8)>0,Q8*ROUND((J8+($Q$4*J8)),2),"") | U8: =IF(N(R8)>0,R8*ROUND((J8+($R$4*J8)),2),"") | V8: =IF(N(C8)>0,SUM(S8:U8),"") -> 0 | X8: 0 | Y8: =IF(N(C8)>0,VLOOKUP(C8,' Pessoal'!$A$2:$M$34,10),"") -> 6.41 | Z8: =IF(N(C8)>0,(G8*Y8),"") -> 141.02 | AA8: =IF(N(C8)>0,V8,"") -> 0 | AC8: 40 | AD8: =IF(N(C8)>0,ROUND(SUM(X8+F8+Z8+AA8+AB8+AC8)-O8,2),"") -> 666.02 | AE8: =IF(N(C8)>0,(ROUND(IF((Y8)>6.41,((Y8-6.41)*G9+F8+AA8+AB8+AC8-O8),F8+AA8+AB8+AC8-O8),2))," ") -> 525 | AF8: =IF(N(C8)>0,ROUND(AE8*VLOOKUP(C8,' Pessoal'!$A$2:$M$34,9),2),"") -> 57.75 | AG8: 0 | AH8: =IF(N(C8)>0,ROUND(AE8*AG8,2),"") -> 0 | AI8: 0 | AJ8: =IF(N(C8)>0,SUM(AF8+AH8)+(AD8*AI8),"") -> 57.75 | AK8: =IF(N(C8)>0,(AD8-AJ8),"") -> 608.27 | AL8: =AE8 -> 525 | AM8: =AH8 -> 0 | AN8: =AF8 -> 57.75
A9: 5 | B9: =B8 -> 40574 | C9: 5 | D9: =IF(N(C9)>0,IF(N(C9)<34,VLOOKUP('Tabela Final'!C9,' Pessoal'!$A$2:$B$34,2),""),"") -> André | E9: =IF(N(C9)>0,IF(N(C9)<34,VLOOKUP(C9,' Pessoal'!$A$2:$C$34,3),""),"") -> Ajud. Electricista | F9: =IF(N(C9)>0,IF(N(C9)<34,VLOOKUP(C9,' Pessoal'!$A$2:$M$34,4)),"") -> 550 | G9: 22 | H9: 40 | I9: =IF(N(H9)>0,(H9*52)/12,"") -> 173.33333 | J9: =IF(N(C9)>0,ROUND((F9/I9),2),"") -> 3.17 | L9: =IF(N(C9)>0,K9*((ROUND(I9/30,2)*J9)),"") -> 0 | N9: =IF(N(C9)>0,(M9*J9),"") -> 0 | O9: =IF(N(C9)>0,ROUND(L9+N9,2),"") -> 0 | S9: =IF(N(P9)>0,P9*ROUND((J9+($P$4*J9)),2),"") | T9: =IF(N(Q9)>0,Q9*ROUND((J9+($Q$4*J9)),2),"") | U9: =IF(N(R9)>0,R9*ROUND((J9+($R$4*J9)),2),"") | V9: =IF(N(C9)>0,SUM(S9:U9),"") -> 0 | X9: =IF(N(C9)>0,V9+W9,"") -> 0 | Y9: =IF(N(C9)>0,VLOOKUP(C9,' Pessoal'!$A$2:$M$34,10),"") -> 6.41 | Z9: =IF(N(C9)>0,(G9*Y9),"") -> 141.02 | AA9: =IF(N(C9)>0,V9,"") -> 0 | AC9: =IF(N(C9)>0,V9,"") -> 0 | AD9: =IF(N(C9)>0,ROUND(SUM(X9+F9+Z9+AA9+AB9+AC9)-O9,2),"") -> 691.02 | AE9: =IF(N(C9)>0,(ROUND(IF((Y9)>6.41,((Y9-6.41)*G10+F9+AA9+AB9+AC9-O9),F9+AA9+AB9+AC9-O9),2))," ") -> 550 | AF9: =IF(N(C9)>0,ROUND(AE9*VLOOKUP(C9,' Pessoal'!$A$2:$M$34,9),2),"") -> 60.5 | AG9: 0 | AH9: =IF(N(C9)>0,ROUND(AE9*AG9,2),"") -> 0 | AI9: 0 | AJ9: =IF(N(C9)>0,SUM(AF9+AH9)+(AD9*AI9),"") -> 60.5 | AK9: =IF(N(C9)>0,(AD9-AJ9),"") -> 630.52 | AL9: =AE9 -> 550 | AM9: =AH9 -> 0 | AN9: =AF9 -> 60.5
A10: 6 | B10: 40602 | C10: 1 | D10: =IF(N(C10)>0,IF(N(C10)<34,VLOOKUP('Tabela Final'!C10,' Pessoal'!$A$2:$B$34,2),""),"") -> Susana | E10: =IF(N(C10)>0,IF(N(C10)<34,VLOOKUP(C10,' Pessoal'!$A$2:$C$34,3),""),"") -> Gerente | F10: =IF(N(C10)>0,IF(N(C10)<34,VLOOKUP(C10,' Pessoal'!$A$2:$M$34,4)),"") -> 927 | G10: 22 | H10: =IF(N(C10)>0,$H$5,"") -> 40 | I10: =IF(N(H10)>0,(H10*52)/12,"") -> 173.33333 | J10: =IF(N(C10)>0,ROUND((F10/I10),2),"") -> 5.35 | L10: =IF(N(C10)>0,K10*((ROUND(I10/30,2)*J10)),"") -> 0 | N10: =IF(N(C10)>0,(M10*J10),"") -> 0 | O10: =IF(N(C10)>0,ROUND(L10+N10,2),"") -> 0 | S10: =IF(N(P10)>0,P10*ROUND((J10+($P$4*J10)),2),"") | T10: =IF(N(Q10)>0,Q10*ROUND((J10+($Q$4*J10)),2),"") | U10: =IF(N(R10)>0,R10*ROUND((J10+($R$4*J10)),2),"") | V10: =IF(N(C10)>0,SUM(S10:U10),"") -> 0 | X10: =IF(N(C10)>0,V10+W10,"") -> 0 | Y10: =IF(N(C10)>0,VLOOKUP(C10,' Pessoal'!$A$2:$M$34,10),"") -> 6.41 | Z10: =IF(N(C10)>0,(G10*Y10),"") -> 141.02 | AA10: =IF(N(C10)>0,V10,"") -> 0 | AC10: =IF(N(C10)>0,V10,"") -> 0 | AD10: =IF(N(C10)>0,ROUND(SUM(X10+F10+Z10+AA10+AB10+AC10)-O10,2),"") -> 1068.02 | AE10: =IF(N(C10)>0,(ROUND(IF((Y10)>6.41,((Y10-6.41)*G11+F10+AA10+AB10+AC10-O10),F10+AA10+AB10+AC10-O10),2))," ") -> 927 | AF10: =IF(N(C10)>0,ROUND(AE10*VLOOKUP(C10,' Pessoal'!$A$2:$M$34,9),2),"") -> 86.21 | AG10: 0.08 | AH10: =IF(N(C10)>0,ROUND(AE10*AG10,2),"") -> 74.16 | AI10: 0 | AJ10: =IF(N(C10)>0,SUM(AF10+AH10)+(AD10*AI10),"") -> 160.37 | AK10: =IF(N(C10)>0,(AD10-AJ10),"") -> 907.65 | AL10: =AE10+AL5 -> 1854 | AM10: =AH10+AM5 -> 148.32 | AN10: =AF10+AN5 -> 172.42 | AO10: =SUM(AH10:AH14) -> 74.16 | AP10: =AE10 -> 927 | AQ10: =AP10*0.2125 -> 196.9875 | AR10: =SUM(AE11:AE14) -> 1035 | AS10: =ROUND(AR10*0.2375,2)-$AE13*0.01 -> 240.96 | AT10: =AK10 -> 907.65 | AU10: =ROUND(SUM(AK11:AK14),2) -> 1087.81 | AV10: =ROUND(AP10*0.3125+AR10*0.3475,2)-$AE13*0.01 -> 644.5 | AW10: =AD10 -> 1068.02 | AX10: =SUM(AD11:AD14) -> 1201.66
A11: 7 | B11: =B10 -> 40602 | C11: 2 | D11: =IF(N(C11)>0,IF(N(C11)<34,VLOOKUP('Tabela Final'!C11,' Pessoal'!$A$2:$B$34,2),""),"") -> Nuno | E11: =IF(N(C11)>0,IF(N(C11)<34,VLOOKUP(C11,' Pessoal'!$A$2:$C$34,3),""),"") -> Ajud. Electricista | F11: 0 | G11: 22 | H11: =IF(N(C11)>0,$H$5,"") -> 40 | I11: =IF(N(H11)>0,(H11*52)/12,"") -> 173.33333 | J11: =IF(N(C11)>0,ROUND((F11/I11),2),"") -> 0 | L11: =IF(N(C11)>0,K11*((ROUND(I11/30,2)*J11)),"") -> 0 | N11: =IF(N(C11)>0,(M11*J11),"") -> 0 | O11: =IF(N(C11)>0,ROUND(L11+N11,2),"") -> 0 | S11: =IF(N(P11)>0,P11*ROUND((J11+($P$4*J11)),2),"") | T11: =IF(N(Q11)>0,Q11*ROUND((J11+($Q$4*J11)),2),"") | U11: =IF(N(R11)>0,R11*ROUND((J11+($R$4*J11)),2),"") | V11: =IF(N(C11)>0,SUM(S11:U11),"") -> 0 | X11: =IF(N(C11)>0,V11+W11,"") -> 0 | Y11: =IF(N(C11)>0,VLOOKUP(C11,' Pessoal'!$A$2:$M$34,10),"") -> 0 | Z11: 0 | AA11: =IF(N(C11)>0,V11,"") -> 0 | AC11: =IF(N(C11)>0,V11,"") -> 0 | AD11: =IF(N(C11)>0,ROUND(SUM(X11+F11+Z11+AA11+AB11+AC11)-O11,2),"") -> 0 | AE11: =IF(N(C11)>0,(ROUND(IF((Y11)>6.41,((Y11-6.41)*G12+F11+AA11+AB11+AC11-O11),F11+AA11+AB11+AC11-O11),2))," ") -> 0 | AF11: =IF(N(C11)>0,ROUND(AE11*VLOOKUP(C11,' Pessoal'!$A$2:$M$34,9),2),"") -> 0 | AG11: 0 | AH11: =IF(N(C11)>0,ROUND(AE11*AG11,2),"") -> 0 | AI11: 0 | AJ11: =IF(N(C11)>0,SUM(AF11+AH11)+(AD11*AI11),"") -> 0 | AK11: =IF(N(C11)>0,(AD11-AJ11),"") -> 0 | AL11: =AE11+AL6 -> 0 | AM11: =AH11+AM6 -> 0 | AN11: =AF11+AN6 -> 0
A12: 8 | B12: =B11 -> 40602 | C12: 3 | D12: =IF(N(C12)>0,IF(N(C12)<34,VLOOKUP('Tabela Final'!C12,' Pessoal'!$A$2:$B$34,2),""),"") -> Fábio | E12: =IF(N(C12)>0,IF(N(C12)<34,VLOOKUP(C12,' Pessoal'!$A$2:$C$34,3),""),"") -> Ajud. Electricista | F12: 0 | G12: 22 | H12: =IF(N(C12)>0,$H$5,"") -> 40 | I12: =IF(N(H12)>0,(H12*52)/12,"") -> 173.33333 | J12: =IF(N(C12)>0,ROUND((F12/I12),2),"") -> 0 | L12: =IF(N(C12)>0,K12*((ROUND(I12/30,2)*J12)),"") -> 0 | N12: =IF(N(C12)>0,(M12*J12),"") -> 0 | O12: =IF(N(C12)>0,ROUND(L12+N12,2),"") -> 0 | S12: =IF(N(P12)>0,P12*ROUND((J12+($P$4*J12)),2),"") | T12: =IF(N(Q12)>0,Q12*ROUND((J12+($Q$4*J12)),2),"") | U12: =IF(N(R12)>0,R12*ROUND((J12+($R$4*J12)),2),"") | V12: =IF(N(C12)>0,SUM(S12:U12),"") -> 0 | X12: =IF(N(C12)>0,V12+W12,"") -> 0 | Y12: =IF(N(C12)>0,VLOOKUP(C12,' Pessoal'!$A$2:$M$34,10),"") -> 0 | Z12: 0 | AA12: =IF(N(C12)>0,V12,"") -> 0 | AC12: =IF(N(C12)>0,V12,"") -> 0 | AD12: =IF(N(C12)>0,ROUND(SUM(X12+F12+Z12+AA12+AB12+AC12)-O12,2),"") -> 0 | AE12: =IF(N(C12)>0,(ROUND(IF((Y12)>6.41,((Y12-6.41)*G13+F12+AA12+AB12+AC12-O12),F12+AA12+AB12+AC12-O12),2))," ") -> 0 | AF12: =IF(N(C12)>0,ROUND(AE12*VLOOKUP(C12,' Pessoal'!$A$2:$M$34,9),2),"") -> 0 | AG12: 0 | AH12: =IF(N(C12)>0,ROUND(AE12*AG12,2),"") -> 0 | AI12: 0 | AJ12: =IF(N(C12)>0,SUM(AF12+AH12)+(AD12*AI12),"") -> 0 | AK12: =IF(N(C12)>0,(AD12-AJ12),"") -> 0 | AL12: =AE12+AL7 -> 0 | AM12: =AH12+AM7 -> 0 | AN12: =AF12+AN7 -> 0
A13: 9 | B13: =B12 -> 40602 | C13: 4 | D13: =IF(N(C13)>0,IF(N(C13)<34,VLOOKUP('Tabela Final'!C13,' Pessoal'!$A$2:$B$34,2),""),"") -> Carlos | E13: =IF(N(C13)>0,IF(N(C13)<34,VLOOKUP(C13,' Pessoal'!$A$2:$C$34,3),""),"") -> Ajud. Electricista | F13: =IF(N(C13)>0,IF(N(C13)<34,VLOOKUP(C13,' Pessoal'!$A$2:$M$34,4)),"") -> 485 | G13: =22-17 -> 5 | H13: =IF(N(C13)>0,$H$5,"") -> 40 | I13: =IF(N(H13)>0,(H13*52)/12,"") -> 173.33333 | J13: =IF(N(C13)>0,ROUND((F13/I13),2),"") -> 2.8 | L13: =IF(N(C13)>0,K13*((ROUND(I13/30,2)*J13)),"") -> 0 | N13: =IF(N(C13)>0,(M13*J13),"") -> 0 | O13: =IF(N(C13)>0,ROUND(L13+N13,2),"") -> 0 | S13: =IF(N(P13)>0,P13*ROUND((J13+($P$4*J13)),2),"") | T13: =IF(N(Q13)>0,Q13*ROUND((J13+($Q$4*J13)),2),"") | U13: =IF(N(R13)>0,R13*ROUND((J13+($R$4*J13)),2),"") | V13: =IF(N(C13)>0,SUM(S13:U13),"") -> 0 | X13: =IF(N(C13)>0,V13+W13,"") -> 0 | Y13: =IF(N(C13)>0,VLOOKUP(C13,' Pessoal'!$A$2:$M$34,10),"") -> 6.41 | Z13: =IF(N(C13)>0,(G13*Y13),"") -> 32.05 | AA13: =IF(N(C13)>0,V13,"") -> 0 | AC13: 0 | AD13: =IF(N(C13)>0,ROUND(SUM(X13+F13+Z13+AA13+AB13+AC13)-O13,2),"") -> 517.05 | AE13: =IF(N(C13)>0,(ROUND(IF((Y13)>6.41,((Y13-6.41)*G14+F13+AA13+AB13+AC13-O13),F13+AA13+AB13+AC13-O13),2))," ") -> 485 | AF13: =IF(N(C13)>0,ROUND(AE13*VLOOKUP(C13,' Pessoal'!$A$2:$M$34,9),2),"") -> 53.35 | AG13: 0 | AH13: =IF(N(C13)>0,ROUND(AE13*AG13,2),"") -> 0 | AI13: 0 | AJ13: =IF(N(C13)>0,SUM(AF13+AH13)+(AD13*AI13),"") -> 53.35 | AK13: =IF(N(C13)>0,(AD13-AJ13),"") -> 463.7 | AL13: =AE13+AL8 -> 1010 | AM13: =AH13+AM8 -> 0 | AN13: =AF13+AN8 -> 111.1
A14: 10 | B14: =B13 -> 40602 | C14: 5 | D14: =IF(N(C14)>0,IF(N(C14)<34,VLOOKUP('Tabela Final'!C14,' Pessoal'!$A$2:$B$34,2),""),"") -> André | E14: =IF(N(C14)>0,IF(N(C14)<34,VLOOKUP(C14,' Pessoal'!$A$2:$C$34,3),""),"") -> Ajud. Electricista | F14: =IF(N(C14)>0,IF(N(C14)<34,VLOOKUP(C14,' Pessoal'!$A$2:$M$34,4)),"") -> 550 | G14: =22-1 -> 21 | H14: =IF(N(C14)>0,$H$5,"") -> 40 | I14: =IF(N(H14)>0,(H14*52)/12,"") -> 173.33333 | J14: =IF(N(C14)>0,ROUND((F14/I14),2),"") -> 3.17 | L14: =IF(N(C14)>0,K14*((ROUND(I14/30,2)*J14)),"") -> 0 | N14: =IF(N(C14)>0,(M14*J14),"") -> 0 | O14: =IF(N(C14)>0,ROUND(L14+N14,2),"") -> 0 | S14: =IF(N(P14)>0,P14*ROUND((J14+($P$4*J14)),2),"") | T14: =IF(N(Q14)>0,Q14*ROUND((J14+($Q$4*J14)),2),"") | U14: =IF(N(R14)>0,R14*ROUND((J14+($R$4*J14)),2),"") | V14: =IF(N(C14)>0,SUM(S14:U14),"") -> 0 | X14: =IF(N(C14)>0,V14+W14,"") -> 0 | Y14: =IF(N(C14)>0,VLOOKUP(C14,' Pessoal'!$A$2:$M$34,10),"") -> 6.41 | Z14: =IF(N(C14)>0,(G14*Y14),"") -> 134.61 | AA14: =IF(N(C14)>0,V14,"") -> 0 | AC14: =IF(N(C14)>0,V14,"") -> 0 | AD14: =IF(N(C14)>0,ROUND(SUM(X14+F14+Z14+AA14+AB14+AC14)-O14,2),"") -> 684.61 | AE14: =IF(N(C14)>0,(ROUND(IF((Y14)>6.41,((Y14-6.41)*G15+F14+AA14+AB14+AC14-O14),F14+AA14+AB14+AC14-O14),2))," ") -> 550 | AF14: =IF(N(C14)>0,ROUND(AE14*VLOOKUP(C14,' Pessoal'!$A$2:$M$34,9),2),"") -> 60.5 | AG14: 0 | AH14: =IF(N(C14)>0,ROUND(AE14*AG14,2),"") -> 0 | AI14: 0 | AJ14: =IF(N(C14)>0,SUM(AF14+AH14)+(AD14*AI14),"") -> 60.5 | AK14: =IF(N(C14)>0,(AD14-AJ14),"") -> 624.11 | AL14: =AE14+AL9 -> 1100 | AM14: =AH14+AM9 -> 0 | AN14: =AF14+AN9 -> 121
A15: 11 | B15: 40633 | C15: 1 | D15: =IF(N(C15)>0,IF(N(C15)<34,VLOOKUP('Tabela Final'!C15,' Pessoal'!$A$2:$B$34,2),""),"") -> Susana | E15: =IF(N(C15)>0,IF(N(C15)<34,VLOOKUP(C15,' Pessoal'!$A$2:$C$34,3),""),"") -> Gerente | F15: =IF(N(C15)>0,IF(N(C15)<34,VLOOKUP(C15,' Pessoal'!$A$2:$M$34,4)),"") -> 927 | G15: 22 | H15: =IF(N(C15)>0,$H$5,"") -> 40 | I15: =IF(N(H15)>0,(H15*52)/12,"") -> 173.33333 | J15: =IF(N(C15)>0,ROUND((F15/I15),2),"") -> 5.35 | L15: =IF(N(C15)>0,K15*((ROUND(I15/30,2)*J15)),"") -> 0 | N15: =IF(N(C15)>0,(M15*J15),"") -> 0 | O15: =IF(N(C15)>0,ROUND(L15+N15,2),"") -> 0 | S15: =IF(N(P15)>0,P15*ROUND((J15+($P$4*J15)),2),"") | T15: =IF(N(Q15)>0,Q15*ROUND((J15+($Q$4*J15)),2),"") | U15: =IF(N(R15)>0,R15*ROUND((J15+($R$4*J15)),2),"") | V15: =IF(N(C15)>0,SUM(S15:U15),"") -> 0 | X15: =IF(N(C15)>0,V15+W15,"") -> 0 | Y15: =IF(N(C15)>0,VLOOKUP(C15,' Pessoal'!$A$2:$M$34,10),"") -> 6.41 | Z15: =IF(N(C15)>0,(G15*Y15),"") -> 141.02 | AA15: =IF(N(C15)>0,V15,"") -> 0 | AC15: =IF(N(C15)>0,V15,"") -> 0 | AD15: =IF(N(C15)>0,ROUND(SUM(X15+F15+Z15+AA15+AB15+AC15)-O15,2),"") -> 1068.02 | AE15: =IF(N(C15)>0,(ROUND(IF((Y15)>6.41,((Y15-6.41)*G16+F15+AA15+AB15+AC15-O15),F15+AA15+AB15+AC15-O15),2))," ") -> 927 | AF15: =IF(N(C15)>0,ROUND(AE15*VLOOKUP(C15,' Pessoal'!$A$2:$M$34,9),2),"") -> 86.21 | AG15: 0.08 | AH15: =IF(N(C15)>0,ROUND(AE15*AG15,2),"") -> 74.16 | AI15: 0 | AJ15: =IF(N(C15)>0,SUM(AF15+AH15)+(AD15*AI15),"") -> 160.37 | AK15: =IF(N(C15)>0,(AD15-AJ15),"") -> 907.65 | AL15: =AE15+AL10 -> 2781 | AM15: =AH15+AM10 -> 222.48 | AN15: =AF15+AN10 -> 258.63 | AO15: =SUM(AH15:AH19) -> 74.16 | AP15: =AE15 -> 927 | AQ15: =AP15*0.2125 -> 196.9875 | AR15: =SUM(AE16:AE19) -> 1035 | AS15: =ROUND(AR15*0.2375,2)-$AE18*0.01 -> 240.96 | AT15: =AK15 -> 907.65 | AU15: =ROUND(SUM(AK16:AK19),2) -> 1190.37 | AV15: =ROUND(AP15*0.3125+AR15*0.3475,2)-$AE18*0.01 -> 644.5 | AW15: =AD15 -> 1068.02 | AX15: =SUM(AD16:AD19) -> 1304.22
A16: 12 | B16: =B15 -> 40633 | C16: 2 | D16: =IF(N(C16)>0,IF(N(C16)<34,VLOOKUP('Tabela Final'!C16,' Pessoal'!$A$2:$B$34,2),""),"") -> Nuno | E16: =IF(N(C16)>0,IF(N(C16)<34,VLOOKUP(C16,' Pessoal'!$A$2:$C$34,3),""),"") -> Ajud. Electricista | F16: 0 | G16: 22 | H16: =IF(N(C16)>0,$H$5,"") -> 40 | I16: =IF(N(H16)>0,(H16*52)/12,"") -> 173.33333 | J16: =IF(N(C16)>0,ROUND((F16/I16),2),"") -> 0 | L16: =IF(N(C16)>0,K16*((ROUND(I16/30,2)*J16)),"") -> 0 | N16: =IF(N(C16)>0,(M16*J16),"") -> 0 | O16: =IF(N(C16)>0,ROUND(L16+N16,2),"") -> 0 | S16: =IF(N(P16)>0,P16*ROUND((J16+($P$4*J16)),2),"") | T16: =IF(N(Q16)>0,Q16*ROUND((J16+($Q$4*J16)),2),"") | U16: =IF(N(R16)>0,R16*ROUND((J16+($R$4*J16)),2),"") | V16: =IF(N(C16)>0,SUM(S16:U16),"") -> 0 | X16: =IF(N(C16)>0,V16+W16,"") -> 0 | Y16: =IF(N(C16)>0,VLOOKUP(C16,' Pessoal'!$A$2:$M$34,10),"") -> 0 | Z16: 0 | AA16: =IF(N(C16)>0,V16,"") -> 0 | AC16: =IF(N(C16)>0,V16,"") -> 0 | AD16: =IF(N(C16)>0,ROUND(SUM(X16+F16+Z16+AA16+AB16+AC16)-O16,2),"") -> 0 | AE16: =IF(N(C16)>0,(ROUND(IF((Y16)>6.41,((Y16-6.41)*G17+F16+AA16+AB16+AC16-O16),F16+AA16+AB16+AC16-O16),2))," ") -> 0 | AF16: =IF(N(C16)>0,ROUND(AE16*VLOOKUP(C16,' Pessoal'!$A$2:$M$34,9),2),"") -> 0 | AG16: 0 | AH16: =IF(N(C16)>0,ROUND(AE16*AG16,2),"") -> 0 | AI16: 0 | AJ16: =IF(N(C16)>0,SUM(AF16+AH16)+(AD16*AI16),"") -> 0 | AK16: =IF(N(C16)>0,(AD16-AJ16),"") -> 0 | AL16: =AE16+AL11 -> 0 | AM16: =AH16+AM11 -> 0 | AN16: =AF16+AN11 -> 0
A17: 13 | B17: =B16 -> 40633 | C17: 3 | D17: =IF(N(C17)>0,IF(N(C17)<34,VLOOKUP('Tabela Final'!C17,' Pessoal'!$A$2:$B$34,2),""),"") -> Fábio | E17: =IF(N(C17)>0,IF(N(C17)<34,VLOOKUP(C17,' Pessoal'!$A$2:$C$34,3),""),"") -> Ajud. Electricista | F17: 0 | G17: 22 | H17: =IF(N(C17)>0,$H$5,"") -> 40 | I17: =IF(N(H17)>0,(H17*52)/12,"") -> 173.33333 | J17: =IF(N(C17)>0,ROUND((F17/I17),2),"") -> 0 | L17: =IF(N(C17)>0,K17*((ROUND(I17/30,2)*J17)),"") -> 0 | N17: =IF(N(C17)>0,(M17*J17),"") -> 0 | O17: =IF(N(C17)>0,ROUND(L17+N17,2),"") -> 0 | S17: =IF(N(P17)>0,P17*ROUND((J17+($P$4*J17)),2),"") | T17: =IF(N(Q17)>0,Q17*ROUND((J17+($Q$4*J17)),2),"") | U17: =IF(N(R17)>0,R17*ROUND((J17+($R$4*J17)),2),"") | V17: =IF(N(C17)>0,SUM(S17:U17),"") -> 0 | X17: =IF(N(C17)>0,V17+W17,"") -> 0 | Y17: =IF(N(C17)>0,VLOOKUP(C17,' Pessoal'!$A$2:$M$34,10),"") -> 0 | Z17: 0 | AA17: =IF(N(C17)>0,V17,"") -> 0 | AC17: =IF(N(C17)>0,V17,"") -> 0 | AD17: =IF(N(C17)>0,ROUND(SUM(X17+F17+Z17+AA17+AB17+AC17)-O17,2),"") -> 0 | AE17: =IF(N(C17)>0,(ROUND(IF((Y17)>6.41,((Y17-6.41)*G18+F17+AA17+AB17+AC17-O17),F17+AA17+AB17+AC17-O17),2))," ") -> 0 | AF17: =IF(N(C17)>0,ROUND(AE17*VLOOKUP(C17,' Pessoal'!$A$2:$M$34,9),2),"") -> 0 | AG17: 0 | AH17: =IF(N(C17)>0,ROUND(AE17*AG17,2),"") -> 0 | AI17: 0 | AJ17: =IF(N(C17)>0,SUM(AF17+AH17)+(AD17*AI17),"") -> 0 | AK17: =IF(N(C17)>0,(AD17-AJ17),"") -> 0 | AL17: =AE17+AL12 -> 0 | AM17: =AH17+AM12 -> 0 | AN17: =AF17+AN12 -> 0
A18: 14 | B18: =B17 -> 40633 | C18: 4 | D18: =IF(N(C18)>0,IF(N(C18)<34,VLOOKUP('Tabela Final'!C18,' Pessoal'!$A$2:$B$34,2),""),"") -> Carlos | E18: =IF(N(C18)>0,IF(N(C18)<34,VLOOKUP(C18,' Pessoal'!$A$2:$C$34,3),""),"") -> Ajud. Electricista | F18: =IF(N(C18)>0,IF(N(C18)<34,VLOOKUP(C18,' Pessoal'!$A$2:$M$34,4)),"") -> 485 | G18: 20 | H18: =IF(N(C18)>0,$H$5,"") -> 40 | I18: =IF(N(H18)>0,(H18*52)/12,"") -> 173.33333 | J18: =IF(N(C18)>0,ROUND((F18/I18),2),"") -> 2.8 | L18: =IF(N(C18)>0,K18*((ROUND(I18/30,2)*J18)),"") -> 0 | N18: =IF(N(C18)>0,(M18*J18),"") -> 0 | O18: =IF(N(C18)>0,ROUND(L18+N18,2),"") -> 0 | S18: =IF(N(P18)>0,P18*ROUND((J18+($P$4*J18)),2),"") | T18: =IF(N(Q18)>0,Q18*ROUND((J18+($Q$4*J18)),2),"") | U18: =IF(N(R18)>0,R18*ROUND((J18+($R$4*J18)),2),"") | V18: =IF(N(C18)>0,SUM(S18:U18),"") -> 0 | X18: =IF(N(C18)>0,V18+W18,"") -> 0 | Y18: =IF(N(C18)>0,VLOOKUP(C18,' Pessoal'!$A$2:$M$34,10),"") -> 6.41 | Z18: =IF(N(C18)>0,(G18*Y18),"") -> 128.2 | AA18: =IF(N(C18)>0,V18,"") -> 0 | AC18: 0 | AD18: =IF(N(C18)>0,ROUND(SUM(X18+F18+Z18+AA18+AB18+AC18)-O18,2),"") -> 613.2 | AE18: =IF(N(C18)>0,(ROUND(IF((Y18)>6.41,((Y18-6.41)*G19+F18+AA18+AB18+AC18-O18),F18+AA18+AB18+AC18-O18),2))," ") -> 485 | AF18: =IF(N(C18)>0,ROUND(AE18*VLOOKUP(C18,' Pessoal'!$A$2:$M$34,9),2),"") -> 53.35 | AG18: 0 | AH18: =IF(N(C18)>0,ROUND(AE18*AG18,2),"") -> 0 | AI18: 0 | AJ18: =IF(N(C18)>0,SUM(AF18+AH18)+(AD18*AI18),"") -> 53.35 | AK18: =IF(N(C18)>0,(AD18-AJ18),"") -> 559.85 | AL18: =AE18+AL13 -> 1495 | AM18: =AH18+AM13 -> 0 | AN18: =AF18+AN13 -> 164.45
A19: 15 | B19: =B18 -> 40633 | C19: 5 | D19: =IF(N(C19)>0,IF(N(C19)<34,VLOOKUP('Tabela Final'!C19,' Pessoal'!$A$2:$B$34,2),""),"") -> André | E19: =IF(N(C19)>0,IF(N(C19)<34,VLOOKUP(C19,' Pessoal'!$A$2:$C$34,3),""),"") -> Ajud. Electricista | F19: =IF(N(C19)>0,IF(N(C19)<34,VLOOKUP(C19,' Pessoal'!$A$2:$M$34,4)),"") -> 550 | G19: 22 | H19: =IF(N(C19)>0,$H$5,"") -> 40 | I19: =IF(N(H19)>0,(H19*52)/12,"") -> 173.33333 | J19: =IF(N(C19)>0,ROUND((F19/I19),2),"") -> 3.17 | L19: =IF(N(C19)>0,K19*((ROUND(I19/30,2)*J19)),"") -> 0 | N19: =IF(N(C19)>0,(M19*J19),"") -> 0 | O19: =IF(N(C19)>0,ROUND(L19+N19,2),"") -> 0 | S19: =IF(N(P19)>0,P19*ROUND((J19+($P$4*J19)),2),"") | T19: =IF(N(Q19)>0,Q19*ROUND((J19+($Q$4*J19)),2),"") | U19: =IF(N(R19)>0,R19*ROUND((J19+($R$4*J19)),2),"") | V19: =IF(N(C19)>0,SUM(S19:U19),"") -> 0 | X19: =IF(N(C19)>0,V19+W19,"") -> 0 | Y19: =IF(N(C19)>0,VLOOKUP(C19,' Pessoal'!$A$2:$M$34,10),"") -> 6.41 | Z19: =IF(N(C19)>0,(G19*Y19),"") -> 141.02 | AA19: =IF(N(C19)>0,V19,"") -> 0 | AC19: 0 | AD19: =IF(N(C19)>0,ROUND(SUM(X19+F19+Z19+AA19+AB19+AC19)-O19,2),"") -> 691.02 | AE19: =IF(N(C19)>0,(ROUND(IF((Y19)>6.41,((Y19-6.41)*G20+F19+AA19+AB19+AC19-O19),F19+AA19+AB19+AC19-O19),2))," ") -> 550 | AF19: =IF(N(C19)>0,ROUND(AE19*VLOOKUP(C19,' Pessoal'!$A$2:$M$34,9),2),"") -> 60.5 | AG19: 0 | AH19: =IF(N(C19)>0,ROUND(AE19*AG19,2),"") -> 0 | AI19: 0 | AJ19: =IF(N(C19)>0,SUM(AF19+AH19)+(AD19*AI19),"") -> 60.5 | AK19: =IF(N(C19)>0,(AD19-AJ19),"") -> 630.52 | AL19: =AE19+AL14 -> 1650 | AM19: =AH19+AM14 -> 0 | AN19: =AF19+AN14 -> 181.5
A20: 16 | B20: 40663 | C20: 1 | D20: =IF(N(C20)>0,IF(N(C20)<34,VLOOKUP('Tabela Final'!C20,' Pessoal'!$A$2:$B$34,2),""),"") -> Susana | E20: =IF(N(C20)>0,IF(N(C20)<34,VLOOKUP(C20,' Pessoal'!$A$2:$C$34,3),""),"") -> Gerente | F20: =IF(N(C20)>0,IF(N(C20)<34,VLOOKUP(C20,' Pessoal'!$A$2:$M$34,4)),"") -> 927 | G20: 22 | H20: =IF(N(C20)>0,$H$5,"") -> 40 | I20: =IF(N(H20)>0,(H20*52)/12,"") -> 173.33333 | J20: =IF(N(C20)>0,ROUND((F20/I20),2),"") -> 5.35 | L20: =IF(N(C20)>0,K20*((ROUND(I20/30,2)*J20)),"") -> 0 | N20: =IF(N(C20)>0,(M20*J20),"") -> 0 | O20: =IF(N(C20)>0,ROUND(L20+N20,2),"") -> 0 | S20: =IF(N(P20)>0,P20*ROUND((J20+($P$4*J20)),2),"") | T20: =IF(N(Q20)>0,Q20*ROUND((J20+($Q$4*J20)),2),"") | U20: =IF(N(R20)>0,R20*ROUND((J20+($R$4*J20)),2),"") | V20: =IF(N(C20)>0,SUM(S20:U20),"") -> 0 | X20: =IF(N(C20)>0,V20+W20,"") -> 0 | Y20: =IF(N(C20)>0,VLOOKUP(C20,' Pessoal'!$A$2:$M$34,10),"") -> 6.41 | Z20: =IF(N(C20)>0,(G20*Y20),"") -> 141.02 | AA20: =IF(N(C20)>0,V20,"") -> 0 | AC20: =IF(N(C20)>0,V20,"") -> 0 | AD20: =IF(N(C20)>0,ROUND(SUM(X20+F20+Z20+AA20+AB20+AC20)-O20,2),"") -> 1068.02 | AE20: =IF(N(C20)>0,(ROUND(IF((Y20)>6.41,((Y20-6.41)*G21+F20+AA20+AB20+AC20-O20),F20+AA20+AB20+AC20-O20),2))," ") -> 927 | AF20: =IF(N(C20)>0,ROUND(AE20*VLOOKUP(C20,' Pessoal'!$A$2:$M$34,9),2),"") -> 86.21 | AG20: 0.08 | AH20: =IF(N(C20)>0,ROUND(AE20*AG20,2),"") -> 74.16 | AI20: 0 | AJ20: =IF(N(C20)>0,SUM(AF20+AH20)+(AD20*AI20),"") -> 160.37 | AK20: =IF(N(C20)>0,(AD20-AJ20),"") -> 907.65 | AL20: =AE20+AL15 -> 3708 | AM20: =AH20+AM15 -> 296.64 | AN20: =AF20+AN15 -> 344.84 | AO20: =SUM(AH20:AH24) -> 74.16 | AP20: =AE20 -> 927 | AQ20: =AP20*0.2125 -> 196.9875 | AR20: =SUM(AE21:AE24) -> 1035 | AS20: =ROUND(AR20*0.2375,2)-$AE23*0.01 -> 240.96 | AT20: =AK20 -> 907.65 | AU20: =ROUND(SUM(AK21:AK24),2) -> 1203.19 | AV20: =ROUND(AP20*0.3125+AR20*0.3475,2)-$AE23*0.01 -> 644.5 | AW20: =AD20 -> 1068.02 | AX20: =SUM(AD21:AD24) -> 1317.04
A21: 17 | B21: =B20 -> 40663 | C21: 2 | D21: =IF(N(C21)>0,IF(N(C21)<34,VLOOKUP('Tabela Final'!C21,' Pessoal'!$A$2:$B$34,2),""),"") -> Nuno | E21: =IF(N(C21)>0,IF(N(C21)<34,VLOOKUP(C21,' Pessoal'!$A$2:$C$34,3),""),"") -> Ajud. Electricista | F21: 0 | G21: 22 | H21: =IF(N(C21)>0,$H$5,"") -> 40 | I21: =IF(N(H21)>0,(H21*52)/12,"") -> 173.33333 | J21: =IF(N(C21)>0,ROUND((F21/I21),2),"") -> 0 | L21: =IF(N(C21)>0,K21*((ROUND(I21/30,2)*J21)),"") -> 0 | N21: =IF(N(C21)>0,(M21*J21),"") -> 0 | O21: =IF(N(C21)>0,ROUND(L21+N21,2),"") -> 0 | S21: =IF(N(P21)>0,P21*ROUND((J21+($P$4*J21)),2),"") | T21: =IF(N(Q21)>0,Q21*ROUND((J21+($Q$4*J21)),2),"") | U21: =IF(N(R21)>0,R21*ROUND((J21+($R$4*J21)),2),"") | V21: =IF(N(C21)>0,SUM(S21:U21),"") -> 0 | X21: =IF(N(C21)>0,V21+W21,"") -> 0 | Y21: =IF(N(C21)>0,VLOOKUP(C21,' Pessoal'!$A$2:$M$34,10),"") -> 0 | Z21: 0 | AA21: =IF(N(C21)>0,V21,"") -> 0 | AC21: =IF(N(C21)>0,V21,"") -> 0 | AD21: =IF(N(C21)>0,ROUND(SUM(X21+F21+Z21+AA21+AB21+AC21)-O21,2),"") -> 0 | AE21: =IF(N(C21)>0,(ROUND(IF((Y21)>6.41,((Y21-6.41)*G22+F21+AA21+AB21+AC21-O21),F21+AA21+AB21+AC21-O21),2))," ") -> 0 | AF21: =IF(N(C21)>0,ROUND(AE21*VLOOKUP(C21,' Pessoal'!$A$2:$M$34,9),2),"") -> 0 | AG21: 0 | AH21: =IF(N(C21)>0,ROUND(AE21*AG21,2),"") -> 0 | AI21: 0 | AJ21: =IF(N(C21)>0,SUM(AF21+AH21)+(AD21*AI21),"") -> 0 | AK21: =IF(N(C21)>0,(AD21-AJ21),"") -> 0 | AL21: =AE21+AL16 -> 0 | AM21: =AH21+AM16 -> 0 | AN21: =AF21+AN16 -> 0
A22: 18 | B22: =B21 -> 40663 | C22: 3 | D22: =IF(N(C22)>0,IF(N(C22)<34,VLOOKUP('Tabela Final'!C22,' Pessoal'!$A$2:$B$34,2),""),"") -> Fábio | E22: =IF(N(C22)>0,IF(N(C22)<34,VLOOKUP(C22,' Pessoal'!$A$2:$C$34,3),""),"") -> Ajud. Electricista | F22: 0 | G22: 22 | H22: =IF(N(C22)>0,$H$5,"") -> 40 | I22: =IF(N(H22)>0,(H22*52)/12,"") -> 173.33333 | J22: =IF(N(C22)>0,ROUND((F22/I22),2),"") -> 0 | L22: =IF(N(C22)>0,K22*((ROUND(I22/30,2)*J22)),"") -> 0 | N22: =IF(N(C22)>0,(M22*J22),"") -> 0 | O22: =IF(N(C22)>0,ROUND(L22+N22,2),"") -> 0 | S22: =IF(N(P22)>0,P22*ROUND((J22+($P$4*J22)),2),"") | T22: =IF(N(Q22)>0,Q22*ROUND((J22+($Q$4*J22)),2),"") | U22: =IF(N(R22)>0,R22*ROUND((J22+($R$4*J22)),2),"") | V22: =IF(N(C22)>0,SUM(S22:U22),"") -> 0 | X22: =IF(N(C22)>0,V22+W22,"") -> 0 | Y22: =IF(N(C22)>0,VLOOKUP(C22,' Pessoal'!$A$2:$M$34,10),"") -> 0 | Z22: 0 | AA22: =IF(N(C22)>0,V22,"") -> 0 | AC22: =IF(N(C22)>0,V22,"") -> 0 | AD22: =IF(N(C22)>0,ROUND(SUM(X22+F22+Z22+AA22+AB22+AC22)-O22,2),"") -> 0 | AE22: =IF(N(C22)>0,(ROUND(IF((Y22)>6.41,((Y22-6.41)*G23+F22+AA22+AB22+AC22-O22),F22+AA22+AB22+AC22-O22),2))," ") -> 0 | AF22: =IF(N(C22)>0,ROUND(AE22*VLOOKUP(C22,' Pessoal'!$A$2:$M$34,9),2),"") -> 0 | AG22: 0 | AH22: =IF(N(C22)>0,ROUND(AE22*AG22,2),"") -> 0 | AI22: 0 | AJ22: =IF(N(C22)>0,SUM(AF22+AH22)+(AD22*AI22),"") -> 0 | AK22: =IF(N(C22)>0,(AD22-AJ22),"") -> 0 | AL22: =AE22+AL17 -> 0 | AM22: =AH22+AM17 -> 0 | AN22: =AF22+AN17 -> 0
A23: 19 | B23: =B22 -> 40663 | C23: 4 | D23: =IF(N(C23)>0,IF(N(C23)<34,VLOOKUP('Tabela Final'!C23,' Pessoal'!$A$2:$B$34,2),""),"") -> Carlos | E23: =IF(N(C23)>0,IF(N(C23)<34,VLOOKUP(C23,' Pessoal'!$A$2:$C$34,3),""),"") -> Ajud. Electricista | F23: =IF(N(C23)>0,IF(N(C23)<34,VLOOKUP(C23,' Pessoal'!$A$2:$M$34,4)),"") -> 485 | G23: 22 | H23: =IF(N(C23)>0,$H$5,"") -> 40 | I23: =IF(N(H23)>0,(H23*52)/12,"") -> 173.33333 | J23: =IF(N(C23)>0,ROUND((F23/I23),2),"") -> 2.8 | L23: =IF(N(C23)>0,K23*((ROUND(I23/30,2)*J23)),"") -> 0 | N23: =IF(N(C23)>0,(M23*J23),"") -> 0 | O23: =IF(N(C23)>0,ROUND(L23+N23,2),"") -> 0 | S23: =IF(N(P23)>0,P23*ROUND((J23+($P$4*J23)),2),"") | T23: =IF(N(Q23)>0,Q23*ROUND((J23+($Q$4*J23)),2),"") | U23: =IF(N(R23)>0,R23*ROUND((J23+($R$4*J23)),2),"") | V23: =IF(N(C23)>0,SUM(S23:U23),"") -> 0 | X23: =IF(N(C23)>0,V23+W23,"") -> 0 | Y23: =IF(N(C23)>0,VLOOKUP(C23,' Pessoal'!$A$2:$M$34,10),"") -> 6.41 | Z23: =IF(N(C23)>0,(G23*Y23),"") -> 141.02 | AA23: =IF(N(C23)>0,V23,"") -> 0 | AC23: =IF(N(C23)>0,V23,"") -> 0 | AD23: =IF(N(C23)>0,ROUND(SUM(X23+F23+Z23+AA23+AB23+AC23)-O23,2),"") -> 626.02 | AE23: =IF(N(C23)>0,(ROUND(IF((Y23)>6.41,((Y23-6.41)*G24+F23+AA23+AB23+AC23-O23),F23+AA23+AB23+AC23-O23),2))," ") -> 485 | AF23: =IF(N(C23)>0,ROUND(AE23*VLOOKUP(C23,' Pessoal'!$A$2:$M$34,9),2),"") -> 53.35 | AG23: 0 | AH23: =IF(N(C23)>0,ROUND(AE23*AG23,2),"") -> 0 | AI23: 0 | AJ23: =IF(N(C23)>0,SUM(AF23+AH23)+(AD23*AI23),"") -> 53.35 | AK23: =IF(N(C23)>0,(AD23-AJ23),"") -> 572.67 | AL23: =AE23+AL18 -> 1980 | AM23: =AH23+AM18 -> 0 | AN23: =AF23+AN18 -> 217.8
A24: 20 | B24: =B23 -> 40663 | C24: 5 | D24: =IF(N(C24)>0,IF(N(C24)<34,VLOOKUP('Tabela Final'!C24,' Pessoal'!$A$2:$B$34,2),""),"") -> André | E24: =IF(N(C24)>0,IF(N(C24)<34,VLOOKUP(C24,' Pessoal'!$A$2:$C$34,3),""),"") -> Ajud. Electricista | F24: =IF(N(C24)>0,IF(N(C24)<34,VLOOKUP(C24,' Pessoal'!$A$2:$M$34,4)),"") -> 550 | G24: 22 | H24: =IF(N(C24)>0,$H$5,"") -> 40 | I24: =IF(N(H24)>0,(H24*52)/12,"") -> 173.33333 | J24: =IF(N(C24)>0,ROUND((F24/I24),2),"") -> 3.17 | L24: =IF(N(C24)>0,K24*((ROUND(I24/30,2)*J24)),"") -> 0 | N24: =IF(N(C24)>0,(M24*J24),"") -> 0 | O24: =IF(N(C24)>0,ROUND(L24+N24,2),"") -> 0 | S24: =IF(N(P24)>0,P24*ROUND((J24+($P$4*J24)),2),"") | T24: =IF(N(Q24)>0,Q24*ROUND((J24+($Q$4*J24)),2),"") | U24: =IF(N(R24)>0,R24*ROUND((J24+($R$4*J24)),2),"") | V24: =IF(N(C24)>0,SUM(S24:U24),"") -> 0 | X24: =IF(N(C24)>0,V24+W24,"") -> 0 | Y24: =IF(N(C24)>0,VLOOKUP(C24,' Pessoal'!$A$2:$M$34,10),"") -> 6.41 | Z24: =IF(N(C24)>0,(G24*Y24),"") -> 141.02 | AA24: =IF(N(C24)>0,V24,"") -> 0 | AC24: =IF(N(C24)>0,V24,"") -> 0 | AD24: =IF(N(C24)>0,ROUND(SUM(X24+F24+Z24+AA24+AB24+AC24)-O24,2),"") -> 691.02 | AE24: =IF(N(C24)>0,(ROUND(IF((Y24)>6.41,((Y24-6.41)*G25+F24+AA24+AB24+AC24-O24),F24+AA24+AB24+AC24-O24),2))," ") -> 550 | AF24: =IF(N(C24)>0,ROUND(AE24*VLOOKUP(C24,' Pessoal'!$A$2:$M$34,9),2),"") -> 60.5 | AG24: 0 | AH24: =IF(N(C24)>0,ROUND(AE24*AG24,2),"") -> 0 | AI24: 0 | AJ24: =IF(N(C24)>0,SUM(AF24+AH24)+(AD24*AI24),"") -> 60.5 | AK24: =IF(N(C24)>0,(AD24-AJ24),"") -> 630.52 | AL24: =AE24+AL19 -> 2200 | AM24: =AH24+AM19 -> 0 | AN24: =AF24+AN19 -> 242
A25: 21 | B25: 40694 | C25: 1 | D25: =IF(N(C25)>0,IF(N(C25)<34,VLOOKUP('Tabela Final'!C25,' Pessoal'!$A$2:$B$34,2),""),"") -> Susana | E25: =IF(N(C25)>0,IF(N(C25)<34,VLOOKUP(C25,' Pessoal'!$A$2:$C$34,3),""),"") -> Gerente | F25: =IF(N(C25)>0,IF(N(C25)<34,VLOOKUP(C25,' Pessoal'!$A$2:$M$34,4)),"") -> 927 | G25: 22 | H25: =IF(N(C25)>0,$H$5,"") -> 40 | I25: =IF(N(H25)>0,(H25*52)/12,"") -> 173.33333 | J25: =IF(N(C25)>0,ROUND((F25/I25),2),"") -> 5.35 | L25: =IF(N(C25)>0,K25*((ROUND(I25/30,2)*J25)),"") -> 0 | N25: =IF(N(C25)>0,(M25*J25),"") -> 0 | O25: =IF(N(C25)>0,ROUND(L25+N25,2),"") -> 0 | S25: =IF(N(P25)>0,P25*ROUND((J25+($P$4*J25)),2),"") | T25: =IF(N(Q25)>0,Q25*ROUND((J25+($Q$4*J25)),2),"") | U25: =IF(N(R25)>0,R25*ROUND((J25+($R$4*J25)),2),"") | V25: =IF(N(C25)>0,SUM(S25:U25),"") -> 0 | X25: =IF(N(C25)>0,V25+W25,"") -> 0 | Y25: =IF(N(C25)>0,VLOOKUP(C25,' Pessoal'!$A$2:$M$34,10),"") -> 6.41 | Z25: =IF(N(C25)>0,(G25*Y25),"") -> 141.02 | AA25: =IF(N(C25)>0,V25,"") -> 0 | AC25: =IF(N(C25)>0,V25,"") -> 0 | AD25: =IF(N(C25)>0,ROUND(SUM(X25+F25+Z25+AA25+AB25+AC25)-O25,2),"") -> 1068.02 | AE25: =IF(N(C25)>0,(ROUND(IF((Y25)>6.41,((Y25-6.41)*G26+F25+AA25+AB25+AC25-O25),F25+AA25+AB25+AC25-O25),2))," ") -> 927 | AF25: =IF(N(C25)>0,ROUND(AE25*VLOOKUP(C25,' Pessoal'!$A$2:$M$34,9),2),"") -> 86.21 | AG25: 0.08 | AH25: =IF(N(C25)>0,ROUND(AE25*AG25,2),"") -> 74.16 | AI25: 0 | AJ25: =IF(N(C25)>0,SUM(AF25+AH25)+(AD25*AI25),"") -> 160.37 | AK25: =IF(N(C25)>0,(AD25-AJ25),"") -> 907.65 | AL25: =AE25+AL20 -> 4635 | AM25: =AH25+AM20+AH65 -> 444.96 | AN25: =AF25+AN20 -> 431.05 | AO25: =SUM(AH25:AH29) -> 74.16 | AP25: =AE25 -> 927 | AQ25: =AP25*0.2125 -> 196.9875 | AR25: =SUM(AE26:AE29) -> 1035 | AS25: =ROUND(AR25*0.2375,2)-$AE28*0.01 -> 240.96 | AT25: =AK25 -> 907.65 | AU25: =ROUND(SUM(AK26:AK29),2) -> 1203.19 | AV25: =ROUND(AP25*0.3125+AR25*0.3475,2)-$AE28*0.01 -> 644.5 | AW25: =AD25 -> 1068.02 | AX25: =SUM(AD26:AD29) -> 1317.04
A26: 22 | B26: =B25 -> 40694 | C26: 2 | D26: =IF(N(C26)>0,IF(N(C26)<34,VLOOKUP('Tabela Final'!C26,' Pessoal'!$A$2:$B$34,2),""),"") -> Nuno | E26: =IF(N(C26)>0,IF(N(C26)<34,VLOOKUP(C26,' Pessoal'!$A$2:$C$34,3),""),"") -> Ajud. Electricista | F26: =IF(N(C26)>0,IF(N(C26)<34,VLOOKUP(C26,' Pessoal'!$A$2:$M$34,4)),"") -> 0 | G26: 22 | H26: =IF(N(C26)>0,$H$5,"") -> 40 | I26: =IF(N(H26)>0,(H26*52)/12,"") -> 173.33333 | J26: =IF(N(C26)>0,ROUND((F26/I26),2),"") -> 0 | L26: =IF(N(C26)>0,K26*((ROUND(I26/30,2)*J26)),"") -> 0 | N26: =IF(N(C26)>0,(M26*J26),"") -> 0 | O26: =IF(N(C26)>0,ROUND(L26+N26,2),"") -> 0 | S26: =IF(N(P26)>0,P26*ROUND((J26+($P$4*J26)),2),"") | T26: =IF(N(Q26)>0,Q26*ROUND((J26+($Q$4*J26)),2),"") | U26: =IF(N(R26)>0,R26*ROUND((J26+($R$4*J26)),2),"") | V26: =IF(N(C26)>0,SUM(S26:U26),"") -> 0 | X26: =IF(N(C26)>0,V26+W26,"") -> 0 | Y26: =IF(N(C26)>0,VLOOKUP(C26,' Pessoal'!$A$2:$M$34,10),"") -> 0 | Z26: =IF(N(C26)>0,(G26*Y26),"") -> 0 | AA26: =IF(N(C26)>0,V26,"") -> 0 | AC26: =IF(N(C26)>0,V26,"") -> 0 | AD26: =IF(N(C26)>0,ROUND(SUM(X26+F26+Z26+AA26+AB26+AC26)-O26,2),"") -> 0 | AE26: =IF(N(C26)>0,(ROUND(IF((Y26)>6.41,((Y26-6.41)*G27+F26+AA26+AB26+AC26-O26),F26+AA26+AB26+AC26-O26),2))," ") -> 0 | AF26: =IF(N(C26)>0,ROUND(AE26*VLOOKUP(C26,' Pessoal'!$A$2:$M$34,9),2),"") -> 0 | AG26: 0 | AH26: =IF(N(C26)>0,ROUND(AE26*AG26,2),"") -> 0 | AI26: 0 | AJ26: =IF(N(C26)>0,SUM(AF26+AH26)+(AD26*AI26),"") -> 0 | AK26: =IF(N(C26)>0,(AD26-AJ26),"") -> 0 | AL26: =AE26+AL21 -> 0 | AM26: =AH26+AM21 -> 0 | AN26: =AF26+AN21 -> 0
A27: 23 | B27: =B26 -> 40694 | C27: 3 | D27: =IF(N(C27)>0,IF(N(C27)<34,VLOOKUP('Tabela Final'!C27,' Pessoal'!$A$2:$B$34,2),""),"") -> Fábio | E27: =IF(N(C27)>0,IF(N(C27)<34,VLOOKUP(C27,' Pessoal'!$A$2:$C$34,3),""),"") -> Ajud. Electricista | F27: =IF(N(C27)>0,IF(N(C27)<34,VLOOKUP(C27,' Pessoal'!$A$2:$M$34,4)),"") -> 0 | G27: 22 | H27: =IF(N(C27)>0,$H$5,"") -> 40 | I27: =IF(N(H27)>0,(H27*52)/12,"") -> 173.33333 | J27: =IF(N(C27)>0,ROUND((F27/I27),2),"") -> 0 | L27: =IF(N(C27)>0,K27*((ROUND(I27/30,2)*J27)),"") -> 0 | N27: =IF(N(C27)>0,(M27*J27),"") -> 0 | O27: =IF(N(C27)>0,ROUND(L27+N27,2),"") -> 0 | S27: =IF(N(P27)>0,P27*ROUND((J27+($P$4*J27)),2),"") | T27: =IF(N(Q27)>0,Q27*ROUND((J27+($Q$4*J27)),2),"") | U27: =IF(N(R27)>0,R27*ROUND((J27+($R$4*J27)),2),"") | V27: =IF(N(C27)>0,SUM(S27:U27),"") -> 0 | X27: =IF(N(C27)>0,V27+W27,"") -> 0 | Y27: =IF(N(C27)>0,VLOOKUP(C27,' Pessoal'!$A$2:$M$34,10),"") -> 0 | Z27: =IF(N(C27)>0,(G27*Y27),"") -> 0 | AA27: =IF(N(C27)>0,V27,"") -> 0 | AC27: =IF(N(C27)>0,V27,"") -> 0 | AD27: =IF(N(C27)>0,ROUND(SUM(X27+F27+Z27+AA27+AB27+AC27)-O27,2),"") -> 0 | AE27: =IF(N(C27)>0,(ROUND(IF((Y27)>6.41,((Y27-6.41)*G28+F27+AA27+AB27+AC27-O27),F27+AA27+AB27+AC27-O27),2))," ") -> 0 | AF27: =IF(N(C27)>0,ROUND(AE27*VLOOKUP(C27,' Pessoal'!$A$2:$M$34,9),2),"") -> 0 | AG27: 0 | AH27: =IF(N(C27)>0,ROUND(AE27*AG27,2),"") -> 0 | AI27: 0 | AJ27: =IF(N(C27)>0,SUM(AF27+AH27)+(AD27*AI27),"") -> 0 | AK27: =IF(N(C27)>0,(AD27-AJ27),"") -> 0 | AL27: =AE27+AL22 -> 0 | AM27: =AH27+AM22 -> 0 | AN27: =AF27+AN22 -> 0
A28: 24 | B28: =B27 -> 40694 | C28: 4 | D28: =IF(N(C28)>0,IF(N(C28)<34,VLOOKUP('Tabela Final'!C28,' Pessoal'!$A$2:$B$34,2),""),"") -> Carlos | E28: =IF(N(C28)>0,IF(N(C28)<34,VLOOKUP(C28,' Pessoal'!$A$2:$C$34,3),""),"") -> Ajud. Electricista | F28: =IF(N(C28)>0,IF(N(C28)<34,VLOOKUP(C28,' Pessoal'!$A$2:$M$34,4)),"") -> 485 | G28: 22 | H28: =IF(N(C28)>0,$H$5,"") -> 40 | I28: =IF(N(H28)>0,(H28*52)/12,"") -> 173.33333 | J28: =IF(N(C28)>0,ROUND((F28/I28),2),"") -> 2.8 | L28: =IF(N(C28)>0,K28*((ROUND(I28/30,2)*J28)),"") -> 0 | N28: =IF(N(C28)>0,(M28*J28),"") -> 0 | O28: =IF(N(C28)>0,ROUND(L28+N28,2),"") -> 0 | S28: =IF(N(P28)>0,P28*ROUND((J28+($P$4*J28)),2),"") | T28: =IF(N(Q28)>0,Q28*ROUND((J28+($Q$4*J28)),2),"") | U28: =IF(N(R28)>0,R28*ROUND((J28+($R$4*J28)),2),"") | V28: =IF(N(C28)>0,SUM(S28:U28),"") -> 0 | X28: =IF(N(C28)>0,V28+W28,"") -> 0 | Y28: =IF(N(C28)>0,VLOOKUP(C28,' Pessoal'!$A$2:$M$34,10),"") -> 6.41 | Z28: =IF(N(C28)>0,(G28*Y28),"") -> 141.02 | AA28: =IF(N(C28)>0,V28,"") -> 0 | AC28: =IF(N(C28)>0,V28,"") -> 0 | AD28: =IF(N(C28)>0,ROUND(SUM(X28+F28+Z28+AA28+AB28+AC28)-O28,2),"") -> 626.02 | AE28: =IF(N(C28)>0,(ROUND(IF((Y28)>6.41,((Y28-6.41)*G29+F28+AA28+AB28+AC28-O28),F28+AA28+AB28+AC28-O28),2))," ") -> 485 | AF28: =IF(N(C28)>0,ROUND(AE28*VLOOKUP(C28,' Pessoal'!$A$2:$M$34,9),2),"") -> 53.35 | AG28: 0 | AH28: =IF(N(C28)>0,ROUND(AE28*AG28,2),"") -> 0 | AI28: 0 | AJ28: =IF(N(C28)>0,SUM(AF28+AH28)+(AD28*AI28),"") -> 53.35 | AK28: =IF(N(C28)>0,(AD28-AJ28),"") -> 572.67 | AL28: =AE28+AL23 -> 2465 | AM28: =AH28+AM23 -> 0 | AN28: =AF28+AN23 -> 271.15
A29: 25 | B29: =B28 -> 40694 | C29: 5 | D29: =IF(N(C29)>0,IF(N(C29)<34,VLOOKUP('Tabela Final'!C29,' Pessoal'!$A$2:$B$34,2),""),"") -> André | E29: =IF(N(C29)>0,IF(N(C29)<34,VLOOKUP(C29,' Pessoal'!$A$2:$C$34,3),""),"") -> Ajud. Electricista | F29: =IF(N(C29)>0,IF(N(C29)<34,VLOOKUP(C29,' Pessoal'!$A$2:$M$34,4)),"") -> 550 | G29: 22 | H29: =IF(N(C29)>0,$H$5,"") -> 40 | I29: =IF(N(H29)>0,(H29*52)/12,"") -> 173.33333 | J29: =IF(N(C29)>0,ROUND((F29/I29),2),"") -> 3.17 | L29: =IF(N(C29)>0,K29*((ROUND(I29/30,2)*J29)),"") -> 0 | N29: =IF(N(C29)>0,(M29*J29),"") -> 0 | O29: =IF(N(C29)>0,ROUND(L29+N29,2),"") -> 0 | S29: =IF(N(P29)>0,P29*ROUND((J29+($P$4*J29)),2),"") | T29: =IF(N(Q29)>0,Q29*ROUND((J29+($Q$4*J29)),2),"") | U29: =IF(N(R29)>0,R29*ROUND((J29+($R$4*J29)),2),"") | V29: =IF(N(C29)>0,SUM(S29:U29),"") -> 0 | X29: =IF(N(C29)>0,V29+W29,"") -> 0 | Y29: =IF(N(C29)>0,VLOOKUP(C29,' Pessoal'!$A$2:$M$34,10),"") -> 6.41 | Z29: =IF(N(C29)>0,(G29*Y29),"") -> 141.02 | AA29: =IF(N(C29)>0,V29,"") -> 0 | AC29: =IF(N(C29)>0,V29,"") -> 0 | AD29: =IF(N(C29)>0,ROUND(SUM(X29+F29+Z29+AA29+AB29+AC29)-O29,2),"") -> 691.02 | AE29: =IF(N(C29)>0,(ROUND(IF((Y29)>6.41,((Y29-6.41)*G30+F29+AA29+AB29+AC29-O29),F29+AA29+AB29+AC29-O29),2))," ") -> 550 | AF29: =IF(N(C29)>0,ROUND(AE29*VLOOKUP(C29,' Pessoal'!$A$2:$M$34,9),2),"") -> 60.5 | AG29: 0 | AH29: =IF(N(C29)>0,ROUND(AE29*AG29,2),"") -> 0 | AI29: 0 | AJ29: =IF(N(C29)>0,SUM(AF29+AH29)+(AD29*AI29),"") -> 60.5 | AK29: =IF(N(C29)>0,(AD29-AJ29),"") -> 630.52 | AL29: =AE29+AL24 -> 2750 | AM29: =AH29+AM24 -> 0 | AN29: =AF29+AN24 -> 302.5
A30: 26 | B30: 40724 | C30: 1 | D30: =IF(N(C30)>0,IF(N(C30)<34,VLOOKUP('Tabela Final'!C30,' Pessoal'!$A$2:$B$34,2),""),"") -> Susana | E30: =IF(N(C30)>0,IF(N(C30)<34,VLOOKUP(C30,' Pessoal'!$A$2:$C$34,3),""),"") -> Gerente | F30: =IF(N(C30)>0,IF(N(C30)<34,VLOOKUP(C30,' Pessoal'!$A$2:$M$34,4)),"") -> 927 | G30: 22 | H30: =IF(N(C30)>0,$H$5,"") -> 40 | I30: =IF(N(H30)>0,(H30*52)/12,"") -> 173.33333 | J30: =IF(N(C30)>0,ROUND((F30/I30),2),"") -> 5.35 | L30: =IF(N(C30)>0,K30*((ROUND(I30/30,2)*J30)),"") -> 0 | N30: =IF(N(C30)>0,(M30*J30),"") -> 0 | O30: =IF(N(C30)>0,ROUND(L30+N30,2),"") -> 0 | S30: =IF(N(P30)>0,P30*ROUND((J30+($P$4*J30)),2),"") | T30: =IF(N(Q30)>0,Q30*ROUND((J30+($Q$4*J30)),2),"") | U30: =IF(N(R30)>0,R30*ROUND((J30+($R$4*J30)),2),"") | V30: =IF(N(C30)>0,SUM(S30:U30),"") -> 0 | X30: =IF(N(C30)>0,V30+W30,"") -> 0 | Y30: =IF(N(C30)>0,VLOOKUP(C30,' Pessoal'!$A$2:$M$34,10),"") -> 6.41 | Z30: =IF(N(C30)>0,(G30*Y30),"") -> 141.02 | AA30: =IF(N(C30)>0,V30,"") -> 0 | AC30: =IF(N(C30)>0,V30,"") -> 0 | AD30: =IF(N(C30)>0,ROUND(SUM(X30+F30+Z30+AA30+AB30+AC30)-O30,2),"") -> 1068.02 | AE30: =IF(N(C30)>0,(ROUND(IF((Y30)>6.41,((Y30-6.41)*G31+F30+AA30+AB30+AC30-O30),F30+AA30+AB30+AC30-O30),2))," ") -> 927 | AF30: =IF(N(C30)>0,ROUND(AE30*VLOOKUP(C30,' Pessoal'!$A$2:$M$34,9),2),"") -> 86.21 | AG30: 0.08 | AH30: =IF(N(C30)>0,ROUND(AE30*AG30,2),"") -> 74.16 | AI30: 0 | AJ30: =IF(N(C30)>0,SUM(AF30+AH30)+(AD30*AI30),"") -> 160.37 | AK30: =IF(N(C30)>0,(AD30-AJ30),"") -> 907.65 | AL30: =AE30+AL25 -> 5562 | AM30: =AH30+AM25+AH65+AH68 -> 667.44 | AN30: =AF30+AN25 -> 517.26 | AO30: =SUM(AH30:AH34) -> 74.16 | AP30: =AE30 -> 927 | AQ30: =AP30*0.2125 -> 196.9875 | AR30: =SUM(AE31:AE34) -> 1035 | AS30: =ROUND(AR30*0.2375,2)-$AE33*0.01 -> 240.96 | AT30: =AK30 -> 907.65 | AU30: =ROUND(SUM(AK31:AK34),2) -> 1203.19 | AV30: =ROUND(AP30*0.3125+AR30*0.3475,2)-$AE33*0.01 -> 644.5 | AW30: =AD30 -> 1068.02 | AX30: =SUM(AD31:AD34) -> 1317.04
A31: 27 | B31: =B30 -> 40724 | C31: 2 | D31: =IF(N(C31)>0,IF(N(C31)<34,VLOOKUP('Tabela Final'!C31,' Pessoal'!$A$2:$B$34,2),""),"") -> Nuno | E31: =IF(N(C31)>0,IF(N(C31)<34,VLOOKUP(C31,' Pessoal'!$A$2:$C$34,3),""),"") -> Ajud. Electricista | F31: =IF(N(C31)>0,IF(N(C31)<34,VLOOKUP(C31,' Pessoal'!$A$2:$M$34,4)),"") -> 0 | G31: 22 | H31: =IF(N(C31)>0,$H$5,"") -> 40 | I31: =IF(N(H31)>0,(H31*52)/12,"") -> 173.33333 | J31: =IF(N(C31)>0,ROUND((F31/I31),2),"") -> 0 | L31: =IF(N(C31)>0,K31*((ROUND(I31/30,2)*J31)),"") -> 0 | N31: =IF(N(C31)>0,(M31*J31),"") -> 0 | O31: =IF(N(C31)>0,ROUND(L31+N31,2),"") -> 0 | S31: =IF(N(P31)>0,P31*ROUND((J31+($P$4*J31)),2),"") | T31: =IF(N(Q31)>0,Q31*ROUND((J31+($Q$4*J31)),2),"") | U31: =IF(N(R31)>0,R31*ROUND((J31+($R$4*J31)),2),"") | V31: =IF(N(C31)>0,SUM(S31:U31),"") -> 0 | X31: =IF(N(C31)>0,V31+W31,"") -> 0 | Y31: =IF(N(C31)>0,VLOOKUP(C31,' Pessoal'!$A$2:$M$34,10),"") -> 0 | Z31: =IF(N(C31)>0,(G31*Y31),"") -> 0 | AA31: =IF(N(C31)>0,V31,"") -> 0 | AC31: =IF(N(C31)>0,V31,"") -> 0 | AD31: =IF(N(C31)>0,ROUND(SUM(X31+F31+Z31+AA31+AB31+AC31)-O31,2),"") -> 0 | AE31: =IF(N(C31)>0,(ROUND(IF((Y31)>6.41,((Y31-6.41)*G32+F31+AA31+AB31+AC31-O31),F31+AA31+AB31+AC31-O31),2))," ") -> 0 | AF31: =IF(N(C31)>0,ROUND(AE31*VLOOKUP(C31,' Pessoal'!$A$2:$M$34,9),2),"") -> 0 | AG31: 0 | AH31: =IF(N(C31)>0,ROUND(AE31*AG31,2),"") -> 0 | AI31: 0 | AJ31: =IF(N(C31)>0,SUM(AF31+AH31)+(AD31*AI31),"") -> 0 | AK31: =IF(N(C31)>0,(AD31-AJ31),"") -> 0 | AL31: =AE31+AL26 -> 0 | AM31: =AH31+AM26 -> 0 | AN31: =AF31+AN26 -> 0
A32: 28 | B32: =B31 -> 40724 | C32: 3 | D32: =IF(N(C32)>0,IF(N(C32)<34,VLOOKUP('Tabela Final'!C32,' Pessoal'!$A$2:$B$34,2),""),"") -> Fábio | E32: =IF(N(C32)>0,IF(N(C32)<34,VLOOKUP(C32,' Pessoal'!$A$2:$C$34,3),""),"") -> Ajud. Electricista | F32: =IF(N(C32)>0,IF(N(C32)<34,VLOOKUP(C32,' Pessoal'!$A$2:$M$34,4)),"") -> 0 | G32: 22 | H32: =IF(N(C32)>0,$H$5,"") -> 40 | I32: =IF(N(H32)>0,(H32*52)/12,"") -> 173.33333 | J32: =IF(N(C32)>0,ROUND((F32/I32),2),"") -> 0 | L32: =IF(N(C32)>0,K32*((ROUND(I32/30,2)*J32)),"") -> 0 | N32: =IF(N(C32)>0,(M32*J32),"") -> 0 | O32: =IF(N(C32)>0,ROUND(L32+N32,2),"") -> 0 | S32: =IF(N(P32)>0,P32*ROUND((J32+($P$4*J32)),2),"") | T32: =IF(N(Q32)>0,Q32*ROUND((J32+($Q$4*J32)),2),"") | U32: =IF(N(R32)>0,R32*ROUND((J32+($R$4*J32)),2),"") | V32: =IF(N(C32)>0,SUM(S32:U32),"") -> 0 | X32: =IF(N(C32)>0,V32+W32,"") -> 0 | Y32: =IF(N(C32)>0,VLOOKUP(C32,' Pessoal'!$A$2:$M$34,10),"") -> 0 | Z32: =IF(N(C32)>0,(G32*Y32),"") -> 0 | AA32: =IF(N(C32)>0,V32,"") -> 0 | AC32: =IF(N(C32)>0,V32,"") -> 0 | AD32: =IF(N(C32)>0,ROUND(SUM(X32+F32+Z32+AA32+AB32+AC32)-O32,2),"") -> 0 | AE32: =IF(N(C32)>0,(ROUND(IF((Y32)>6.41,((Y32-6.41)*G33+F32+AA32+AB32+AC32-O32),F32+AA32+AB32+AC32-O32),2))," ") -> 0 | AF32: =IF(N(C32)>0,ROUND(AE32*VLOOKUP(C32,' Pessoal'!$A$2:$M$34,9),2),"") -> 0 | AG32: 0 | AH32: =IF(N(C32)>0,ROUND(AE32*AG32,2),"") -> 0 | AI32: 0 | AJ32: =IF(N(C32)>0,SUM(AF32+AH32)+(AD32*AI32),"") -> 0 | AK32: =IF(N(C32)>0,(AD32-AJ32),"") -> 0 | AL32: =AE32+AL27 -> 0 | AM32: =AH32+AM27 -> 0 | AN32: =AF32+AN27 -> 0
A33: 29 | B33: =B32 -> 40724 | C33: 4 | D33: =IF(N(C33)>0,IF(N(C33)<34,VLOOKUP('Tabela Final'!C33,' Pessoal'!$A$2:$B$34,2),""),"") -> Carlos | E33: =IF(N(C33)>0,IF(N(C33)<34,VLOOKUP(C33,' Pessoal'!$A$2:$C$34,3),""),"") -> Ajud. Electricista | F33: =IF(N(C33)>0,IF(N(C33)<34,VLOOKUP(C33,' Pessoal'!$A$2:$M$34,4)),"") -> 485 | G33: 22 | H33: =IF(N(C33)>0,$H$5,"") -> 40 | I33: =IF(N(H33)>0,(H33*52)/12,"") -> 173.33333 | J33: =IF(N(C33)>0,ROUND((F33/I33),2),"") -> 2.8 | L33: =IF(N(C33)>0,K33*((ROUND(I33/30,2)*J33)),"") -> 0 | N33: =IF(N(C33)>0,(M33*J33),"") -> 0 | O33: =IF(N(C33)>0,ROUND(L33+N33,2),"") -> 0 | S33: =IF(N(P33)>0,P33*ROUND((J33+($P$4*J33)),2),"") | T33: =IF(N(Q33)>0,Q33*ROUND((J33+($Q$4*J33)),2),"") | U33: =IF(N(R33)>0,R33*ROUND((J33+($R$4*J33)),2),"") | V33: =IF(N(C33)>0,SUM(S33:U33),"") -> 0 | X33: =IF(N(C33)>0,V33+W33,"") -> 0 | Y33: =IF(N(C33)>0,VLOOKUP(C33,' Pessoal'!$A$2:$M$34,10),"") -> 6.41 | Z33: =IF(N(C33)>0,(G33*Y33),"") -> 141.02 | AA33: =IF(N(C33)>0,V33,"") -> 0 | AC33: =IF(N(C33)>0,V33,"") -> 0 | AD33: =IF(N(C33)>0,ROUND(SUM(X33+F33+Z33+AA33+AB33+AC33)-O33,2),"") -> 626.02 | AE33: =IF(N(C33)>0,(ROUND(IF((Y33)>6.41,((Y33-6.41)*G34+F33+AA33+AB33+AC33-O33),F33+AA33+AB33+AC33-O33),2))," ") -> 485 | AF33: =IF(N(C33)>0,ROUND(AE33*VLOOKUP(C33,' Pessoal'!$A$2:$M$34,9),2),"") -> 53.35 | AG33: 0 | AH33: =IF(N(C33)>0,ROUND(AE33*AG33,2),"") -> 0 | AI33: 0 | AJ33: =IF(N(C33)>0,SUM(AF33+AH33)+(AD33*AI33),"") -> 53.35 | AK33: =IF(N(C33)>0,(AD33-AJ33),"") -> 572.67 | AL33: =AE33+AL28 -> 2950 | AM33: =AH33+AM28 -> 0 | AN33: =AF33+AN28 -> 324.5
A34: 30 | B34: =B33 -> 40724 | C34: 5 | D34: =IF(N(C34)>0,IF(N(C34)<34,VLOOKUP('Tabela Final'!C34,' Pessoal'!$A$2:$B$34,2),""),"") -> André | E34: =IF(N(C34)>0,IF(N(C34)<34,VLOOKUP(C34,' Pessoal'!$A$2:$C$34,3),""),"") -> Ajud. Electricista | F34: =IF(N(C34)>0,IF(N(C34)<34,VLOOKUP(C34,' Pessoal'!$A$2:$M$34,4)),"") -> 550 | G34: 22 | H34: =IF(N(C34)>0,$H$5,"") -> 40 | I34: =IF(N(H34)>0,(H34*52)/12,"") -> 173.33333 | J34: =IF(N(C34)>0,ROUND((F34/I34),2),"") -> 3.17 | L34: =IF(N(C34)>0,K34*((ROUND(I34/30,2)*J34)),"") -> 0 | N34: =IF(N(C34)>0,(M34*J34),"") -> 0 | O34: =IF(N(C34)>0,ROUND(L34+N34,2),"") -> 0 | S34: =IF(N(P34)>0,P34*ROUND((J34+($P$4*J34)),2),"") | T34: =IF(N(Q34)>0,Q34*ROUND((J34+($Q$4*J34)),2),"") | U34: =IF(N(R34)>0,R34*ROUND((J34+($R$4*J34)),2),"") | V34: =IF(N(C34)>0,SUM(S34:U34),"") -> 0 | X34: =IF(N(C34)>0,V34+W34,"") -> 0 | Y34: =IF(N(C34)>0,VLOOKUP(C34,' Pessoal'!$A$2:$M$34,10),"") -> 6.41 | Z34: =IF(N(C34)>0,(G34*Y34),"") -> 141.02 | AA34: =IF(N(C34)>0,V34,"") -> 0 | AC34: =IF(N(C34)>0,V34,"") -> 0 | AD34: =IF(N(C34)>0,ROUND(SUM(X34+F34+Z34+AA34+AB34+AC34)-O34,2),"") -> 691.02 | AE34: =IF(N(C34)>0,(ROUND(IF((Y34)>6.41,((Y34-6.41)*G35+F34+AA34+AB34+AC34-O34),F34+AA34+AB34+AC34-O34),2))," ") -> 550 | AF34: =IF(N(C34)>0,ROUND(AE34*VLOOKUP(C34,' Pessoal'!$A$2:$M$34,9),2),"") -> 60.5 | AG34: 0 | AH34: =IF(N(C34)>0,ROUND(AE34*AG34,2),"") -> 0 | AI34: 0 | AJ34: =IF(N(C34)>0,SUM(AF34+AH34)+(AD34*AI34),"") -> 60.5 | AK34: =IF(N(C34)>0,(AD34-AJ34),"") -> 630.52 | AL34: =AE34+AL29 -> 3300 | AM34: =AH34+AM29 -> 0 | AN34: =AF34+AN29 -> 363
A35: 31 | B35: 40754 | C35: 1 | D35: =IF(N(C35)>0,IF(N(C35)<34,VLOOKUP('Tabela Final'!C35,' Pessoal'!$A$2:$B$34,2),""),"") -> Susana | E35: =IF(N(C35)>0,IF(N(C35)<34,VLOOKUP(C35,' Pessoal'!$A$2:$C$34,3),""),"") -> Gerente | F35: =IF(N(C35)>0,IF(N(C35)<34,VLOOKUP(C35,' Pessoal'!$A$2:$M$34,4)),"") -> 927 | G35: 22 | H35: =IF(N(C35)>0,$H$5,"") -> 40 | I35: =IF(N(H35)>0,(H35*52)/12,"") -> 173.33333 | J35: =IF(N(C35)>0,ROUND((F35/I35),2),"") -> 5.35 | L35: =IF(N(C35)>0,K35*((ROUND(I35/30,2)*J35)),"") -> 0 | N35: =IF(N(C35)>0,(M35*J35),"") -> 0 | O35: =IF(N(C35)>0,ROUND(L35+N35,2),"") -> 0 | S35: =IF(N(P35)>0,P35*ROUND((J35+($P$4*J35)),2),"") | T35: =IF(N(Q35)>0,Q35*ROUND((J35+($Q$4*J35)),2),"") | U35: =IF(N(R35)>0,R35*ROUND((J35+($R$4*J35)),2),"") | V35: =IF(N(C35)>0,SUM(S35:U35),"") -> 0 | X35: =IF(N(C35)>0,V35+W35,"") -> 0 | Y35: =IF(N(C35)>0,VLOOKUP(C35,' Pessoal'!$A$2:$M$34,10),"") -> 6.41 | Z35: =IF(N(C35)>0,(G35*Y35),"") -> 141.02 | AA35: =IF(N(C35)>0,V35,"") -> 0 | AC35: =IF(N(C35)>0,V35,"") -> 0 | AD35: =IF(N(C35)>0,ROUND(SUM(X35+F35+Z35+AA35+AB35+AC35)-O35,2),"") -> 1068.02 | AE35: =IF(N(C35)>0,(ROUND(IF((Y35)>6.41,((Y35-6.41)*G36+F35+AA35+AB35+AC35-O35),F35+AA35+AB35+AC35-O35),2))," ") -> 927 | AF35: =IF(N(C35)>0,ROUND(AE35*VLOOKUP(C35,' Pessoal'!$A$2:$M$34,9),2),"") -> 86.21 | AG35: 0.08 | AH35: =IF(N(C35)>0,ROUND(AE35*AG35,2),"") -> 74.16 | AI35: 0 | AJ35: =IF(N(C35)>0,SUM(AF35+AH35)+(AD35*AI35),"") -> 160.37 | AK35: =IF(N(C35)>0,(AD35-AJ35),"") -> 907.65 | AL35: =AE35+AL30 -> 6489 | AM35: =AH35+AM30 -> 741.6 | AN35: =AF35+AN30 -> 603.47 | AO35: =SUM(AH35:AH39) -> 74.16 | AP35: =AE35 -> 927 | AQ35: =AP35*0.2125 -> 196.9875 | AR35: =SUM(AE36:AE39) -> 1035 | AS35: =ROUND(AR35*0.2375,2)-$AE38*0.01 -> 240.96 | AT35: =AK35 -> 907.65 | AU35: =ROUND(SUM(AK36:AK39),2) -> 1203.19 | AV35: =ROUND(AP35*0.3125+AR35*0.3475,2)-$AE38*0.01 -> 644.5 | AW35: =AD35 -> 1068.02 | AX35: =SUM(AD36:AD39) -> 1317.04
A36: 32 | B36: =B35 -> 40754 | C36: 2 | D36: =IF(N(C36)>0,IF(N(C36)<34,VLOOKUP('Tabela Final'!C36,' Pessoal'!$A$2:$B$34,2),""),"") -> Nuno | E36: =IF(N(C36)>0,IF(N(C36)<34,VLOOKUP(C36,' Pessoal'!$A$2:$C$34,3),""),"") -> Ajud. Electricista | F36: =IF(N(C36)>0,IF(N(C36)<34,VLOOKUP(C36,' Pessoal'!$A$2:$M$34,4)),"") -> 0 | G36: 22 | H36: 40 | I36: =IF(N(H36)>0,(H36*52)/12,"") -> 173.33333 | J36: =IF(N(C36)>0,ROUND((F36/I36),2),"") -> 0 | S36: =IF(N(P36)>0,P36*ROUND((J36+($P$4*J36)),2),"") | T36: =IF(N(Q36)>0,Q36*ROUND((J36+($Q$4*J36)),2),"") | U36: =IF(N(R36)>0,R36*ROUND((J36+($R$4*J36)),2),"") | V36: =IF(N(C36)>0,SUM(S36:U36),"") -> 0 | X36: =IF(N(C36)>0,V36+W36,"") -> 0 | Y36: =IF(N(C36)>0,VLOOKUP(C36,' Pessoal'!$A$2:$M$34,10),"") -> 0 | Z36: =IF(N(C36)>0,(G36*Y36),"") -> 0 | AA36: =IF(N(C36)>0,V36,"") -> 0 | AC36: =IF(N(C36)>0,V36,"") -> 0 | AD36: =IF(N(C36)>0,ROUND(SUM(X36+F36+Z36+AA36+AB36+AC36)-O36,2),"") -> 0 | AE36: =IF(N(C36)>0,(ROUND(IF((Y36)>6.41,((Y36-6.41)*G37+F36+AA36+AB36+AC36-O36),F36+AA36+AB36+AC36-O36),2))," ") -> 0 | AF36: =IF(N(C36)>0,ROUND(AE36*VLOOKUP(C36,' Pessoal'!$A$2:$M$34,9),2),"") -> 0 | AG36: 0 | AH36: =IF(N(C36)>0,ROUND(AE36*AG36,2),"") -> 0 | AI36: 0 | AJ36: =IF(N(C36)>0,SUM(AF36+AH36)+(AD36*AI36),"") -> 0 | AK36: =IF(N(C36)>0,(AD36-AJ36),"") -> 0 | AL36: =AE36+AL31 -> 0 | AM36: =AH36+AM31 -> 0 | AN36: =AF36+AN31 -> 0
A37: 33 | B37: =B36 -> 40754 | C37: 3 | D37: =IF(N(C37)>0,IF(N(C37)<34,VLOOKUP('Tabela Final'!C37,' Pessoal'!$A$2:$B$34,2),""),"") -> Fábio | E37: =IF(N(C37)>0,IF(N(C37)<34,VLOOKUP(C37,' Pessoal'!$A$2:$C$34,3),""),"") -> Ajud. Electricista | F37: =IF(N(C37)>0,IF(N(C37)<34,VLOOKUP(C37,' Pessoal'!$A$2:$M$34,4)),"") -> 0 | G37: 22 | H37: 40 | I37: =IF(N(H37)>0,(H37*52)/12,"") -> 173.33333 | J37: =IF(N(C37)>0,ROUND((F37/I37),2),"") -> 0 | L37: =IF(N(C37)>0,K37*((ROUND(I37/30,2)*J37)),"") -> 0 | N37: =IF(N(C37)>0,(M37*J37),"") -> 0 | O37: =IF(N(C37)>0,ROUND(L37+N37,2),"") -> 0 | S37: =IF(N(P37)>0,P37*ROUND((J37+($P$4*J37)),2),"") | T37: =IF(N(Q37)>0,Q37*ROUND((J37+($Q$4*J37)),2),"") | U37: =IF(N(R37)>0,R37*ROUND((J37+($R$4*J37)),2),"") | V37: =IF(N(C37)>0,SUM(S37:U37),"") -> 0 | X37: =IF(N(C37)>0,V37+W37,"") -> 0 | Y37: =IF(N(C37)>0,VLOOKUP(C37,' Pessoal'!$A$2:$M$34,10),"") -> 0 | Z37: =IF(N(C37)>0,(G37*Y37),"") -> 0 | AA37: =IF(N(C37)>0,V37,"") -> 0 | AC37: =IF(N(C37)>0,V37,"") -> 0 | AD37: =IF(N(C37)>0,ROUND(SUM(X37+F37+Z37+AA37+AB37+AC37)-O37,2),"") -> 0 | AE37: =IF(N(C37)>0,(ROUND(IF((Y37)>6.41,((Y37-6.41)*G38+F37+AA37+AB37+AC37-O37),F37+AA37+AB37+AC37-O37),2))," ") -> 0 | AF37: =IF(N(C37)>0,ROUND(AE37*VLOOKUP(C37,' Pessoal'!$A$2:$M$34,9),2),"") -> 0 | AG37: 0 | AH37: =IF(N(C37)>0,ROUND(AE37*AG37,2),"") -> 0 | AI37: 0 | AJ37: =IF(N(C37)>0,SUM(AF37+AH37)+(AD37*AI37),"") -> 0 | AK37: =IF(N(C37)>0,(AD37-AJ37),"") -> 0 | AL37: =AE37+AL32 -> 0 | AM37: =AH37+AM32 -> 0 | AN37: =AF37+AN32 -> 0
A38: 34 | B38: =B37 -> 40754 | C38: 4 | D38: =IF(N(C38)>0,IF(N(C38)<34,VLOOKUP('Tabela Final'!C38,' Pessoal'!$A$2:$B$34,2),""),"") -> Carlos | E38: =IF(N(C38)>0,IF(N(C38)<34,VLOOKUP(C38,' Pessoal'!$A$2:$C$34,3),""),"") -> Ajud. Electricista | F38: =IF(N(C38)>0,IF(N(C38)<34,VLOOKUP(C38,' Pessoal'!$A$2:$M$34,4)),"") -> 485 | G38: 22 | H38: =IF(N(C38)>0,$H$5,"") -> 40 | I38: =IF(N(H38)>0,(H38*52)/12,"") -> 173.33333 | J38: =IF(N(C38)>0,ROUND((F38/I38),2),"") -> 2.8 | S38: =IF(N(P38)>0,P38*ROUND((J38+($P$4*J38)),2),"") | T38: =IF(N(Q38)>0,Q38*ROUND((J38+($Q$4*J38)),2),"") | U38: =IF(N(R38)>0,R38*ROUND((J38+($R$4*J38)),2),"") | V38: =IF(N(C38)>0,SUM(S38:U38),"") -> 0 | X38: =IF(N(C38)>0,V38+W38,"") -> 0 | Y38: =IF(N(C38)>0,VLOOKUP(C38,' Pessoal'!$A$2:$M$34,10),"") -> 6.41 | Z38: =IF(N(C38)>0,(G38*Y38),"") -> 141.02 | AA38: =IF(N(C38)>0,V38,"") -> 0 | AC38: =IF(N(C38)>0,V38,"") -> 0 | AD38: =IF(N(C38)>0,ROUND(SUM(X38+F38+Z38+AA38+AB38+AC38)-O38,2),"") -> 626.02 | AE38: =IF(N(C38)>0,(ROUND(IF((Y38)>6.41,((Y38-6.41)*G39+F38+AA38+AB38+AC38-O38),F38+AA38+AB38+AC38-O38),2))," ") -> 485 | AF38: =IF(N(C38)>0,ROUND(AE38*VLOOKUP(C38,' Pessoal'!$A$2:$M$34,9),2),"") -> 53.35 | AG38: 0 | AH38: =IF(N(C38)>0,ROUND(AE38*AG38,2),"") -> 0 | AI38: 0 | AJ38: =IF(N(C38)>0,SUM(AF38+AH38)+(AD38*AI38),"") -> 53.35 | AK38: =IF(N(C38)>0,(AD38-AJ38),"") -> 572.67 | AL38: =AE38+AL33 -> 3435 | AM38: =AH38+AM33 -> 0 | AN38: =AF38+AN33 -> 377.85
A39: 35 | B39: =B38 -> 40754 | C39: 5 | D39: =IF(N(C39)>0,IF(N(C39)<34,VLOOKUP('Tabela Final'!C39,' Pessoal'!$A$2:$B$34,2),""),"") -> André | E39: =IF(N(C39)>0,IF(N(C39)<34,VLOOKUP(C39,' Pessoal'!$A$2:$C$34,3),""),"") -> Ajud. Electricista | F39: =IF(N(C39)>0,IF(N(C39)<34,VLOOKUP(C39,' Pessoal'!$A$2:$M$34,4)),"") -> 550 | G39: 22 | H39: =IF(N(C39)>0,$H$5,"") -> 40 | I39: =IF(N(H39)>0,(H39*52)/12,"") -> 173.33333 | J39: =IF(N(C39)>0,ROUND((F39/I39),2),"") -> 3.17 | S39: =IF(N(P39)>0,P39*ROUND((J39+($P$4*J39)),2),"") | T39: =IF(N(Q39)>0,Q39*ROUND((J39+($Q$4*J39)),2),"") | U39: =IF(N(R39)>0,R39*ROUND((J39+($R$4*J39)),2),"") | V39: =IF(N(C39)>0,SUM(S39:U39),"") -> 0 | X39: =IF(N(C39)>0,V39+W39,"") -> 0 | Y39: =IF(N(C39)>0,VLOOKUP(C39,' Pessoal'!$A$2:$M$34,10),"") -> 6.41 | Z39: =IF(N(C39)>0,(G39*Y39),"") -> 141.02 | AA39: =IF(N(C39)>0,V39,"") -> 0 | AC39: =IF(N(C39)>0,V39,"") -> 0 | AD39: =IF(N(C39)>0,ROUND(SUM(X39+F39+Z39+AA39+AB39+AC39)-O39,2),"") -> 691.02 | AE39: =IF(N(C39)>0,(ROUND(IF((Y39)>6.41,((Y39-6.41)*G40+F39+AA39+AB39+AC39-O39),F39+AA39+AB39+AC39-O39),2))," ") -> 550 | AF39: =IF(N(C39)>0,ROUND(AE39*VLOOKUP(C39,' Pessoal'!$A$2:$M$34,9),2),"") -> 60.5 | AG39: 0 | AH39: =IF(N(C39)>0,ROUND(AE39*AG39,2),"") -> 0 | AI39: 0 | AJ39: =IF(N(C39)>0,SUM(AF39+AH39)+(AD39*AI39),"") -> 60.5 | AK39: =IF(N(C39)>0,(AD39-AJ39),"") -> 630.52 | AL39: =AE39+AL34 -> 3850 | AM39: =AH39+AM34 -> 0 | AN39: =AF39+AN34 -> 423.5
A40: 36 | B40: 40786 | C40: 1 | D40: =IF(N(C40)>0,IF(N(C40)<34,VLOOKUP('Tabela Final'!C40,' Pessoal'!$A$2:$B$34,2),""),"") -> Susana | E40: =IF(N(C40)>0,IF(N(C40)<34,VLOOKUP(C40,' Pessoal'!$A$2:$C$34,3),""),"") -> Gerente | F40: =IF(N(C40)>0,IF(N(C40)<34,VLOOKUP(C40,' Pessoal'!$A$2:$M$34,4)),"") -> 927 | G40: 22 | H40: =IF(N(C40)>0,$H$5,"") -> 40 | I40: =IF(N(H40)>0,(H40*52)/12,"") -> 173.33333 | J40: =IF(N(C40)>0,ROUND((F40/I40),2),"") -> 5.35 | L40: =IF(N(C40)>0,K40*((ROUND(I40/30,2)*J40)),"") -> 0 | N40: =IF(N(C40)>0,(M40*J40),"") -> 0 | O40: =IF(N(C40)>0,ROUND(L40+N40,2),"") -> 0 | S40: =IF(N(P40)>0,P40*ROUND((J40+($P$4*J40)),2),"") | T40: =IF(N(Q40)>0,Q40*ROUND((J40+($Q$4*J40)),2),"") | U40: =IF(N(R40)>0,R40*ROUND((J40+($R$4*J40)),2),"") | V40: =IF(N(C40)>0,SUM(S40:U40),"") -> 0 | X40: =IF(N(C40)>0,V40+W40,"") -> 0 | Y40: =IF(N(C40)>0,VLOOKUP(C40,' Pessoal'!$A$2:$M$34,10),"") -> 6.41 | Z40: =IF(N(C40)>0,(G40*Y40),"") -> 141.02 | AA40: =IF(N(C40)>0,V40,"") -> 0 | AC40: =IF(N(C40)>0,V40,"") -> 0 | AD40: =IF(N(C40)>0,ROUND(SUM(X40+F40+Z40+AA40+AB40+AC40)-O40,2),"") -> 1068.02 | AE40: =IF(N(C40)>0,(ROUND(IF((Y40)>6.41,((Y40-6.41)*G41+F40+AA40+AB40+AC40-O40),F40+AA40+AB40+AC40-O40),2))," ") -> 927 | AF40: =IF(N(C40)>0,ROUND(AE40*VLOOKUP(C40,' Pessoal'!$A$2:$M$34,9),2),"") -> 86.21 | AG40: 0.08 | AH40: =IF(N(C40)>0,ROUND(AE40*AG40,2),"") -> 74.16 | AI40: 0 | AJ40: =IF(N(C40)>0,SUM(AF40+AH40)+(AD40*AI40),"") -> 160.37 | AK40: =IF(N(C40)>0,(AD40-AJ40),"") -> 907.65 | AL40: =AE40+AL35 -> 7416 | AM40: =AH40+AM35 -> 815.76 | AN40: =AF40+AN35 -> 689.68 | AO40: =SUM(AH40:AH44) -> 74.16 | AP40: =AE40 -> 927 | AQ40: =AP40*0.2125 -> 196.9875 | AR40: =SUM(AE41:AE44) -> 1035 | AS40: =ROUND(AR40*0.2375,2)-$AE43*0.01 -> 240.96 | AT40: =AK40 -> 907.65 | AU40: =ROUND(SUM(AK41:AK44),2) -> 1203.19 | AV40: =ROUND(AP40*0.3125+AR40*0.3475,2)-$AE43*0.01 -> 644.5 | AW40: =AD40 -> 1068.02 | AX40: =SUM(AD41:AD44) -> 1317.04
A41: 37 | B41: =B40 -> 40786 | C41: 2 | D41: =IF(N(C41)>0,IF(N(C41)<34,VLOOKUP('Tabela Final'!C41,' Pessoal'!$A$2:$B$34,2),""),"") -> Nuno | E41: =IF(N(C41)>0,IF(N(C41)<34,VLOOKUP(C41,' Pessoal'!$A$2:$C$34,3),""),"") -> Ajud. Electricista | F41: =IF(N(C41)>0,IF(N(C41)<34,VLOOKUP(C41,' Pessoal'!$A$2:$M$34,4)),"") -> 0 | G41: 22 | H41: 40 | S41: =IF(N(P41)>0,P41*ROUND((J41+($P$4*J41)),2),"") | T41: =IF(N(Q41)>0,Q41*ROUND((J41+($Q$4*J41)),2),"") | U41: =IF(N(R41)>0,R41*ROUND((J41+($R$4*J41)),2),"") | V41: =IF(N(C41)>0,SUM(S41:U41),"") -> 0 | X41: =IF(N(C41)>0,V41+W41,"") -> 0 | Y41: =IF(N(C41)>0,VLOOKUP(C41,' Pessoal'!$A$2:$M$34,10),"") -> 0 | Z41: =IF(N(C41)>0,(G41*Y41),"") -> 0 | AA41: =IF(N(C41)>0,V41,"") -> 0 | AC41: =IF(N(C41)>0,V41,"") -> 0 | AD41: =IF(N(C41)>0,ROUND(SUM(X41+F41+Z41+AA41+AB41+AC41)-O41,2),"") -> 0 | AE41: =IF(N(C41)>0,(ROUND(IF((Y41)>6.41,((Y41-6.41)*G42+F41+AA41+AB41+AC41-O41),F41+AA41+AB41+AC41-O41),2))," ") -> 0 | AF41: =IF(N(C41)>0,ROUND(AE41*VLOOKUP(C41,' Pessoal'!$A$2:$M$34,9),2),"") -> 0 | AG41: 0 | AH41: =IF(N(C41)>0,ROUND(AE41*AG41,2),"") -> 0 | AI41: 0 | AJ41: =IF(N(C41)>0,SUM(AF41+AH41)+(AD41*AI41),"") -> 0 | AK41: =IF(N(C41)>0,(AD41-AJ41),"") -> 0
...

Sheet  Pessoal
A1: N.º Empregado | B1: Nome | C1: Categoria | D1: Vencimento | E1: N.º Dependentes | F1: Titular Rendimentos | G1: Departamento | H1: Sindicato | I1: Taxa S. Social | J1: Valor Sub. Alimentação | K1: Estado Civil | L1: N.º de Contribuinte | M1: Beneficiário | N1: Início
A2: 1 | B2: Susana | C2: Gerente | D2: 927 | E2: 0 | F2: 1 | G2: Gerência | H2: Não | I2: 0.093 | J2: 6.41 | K2: Divorciado | L2: 215600000 | M2: 11075114000 | N2: 39142 | O2: 0.02
