Workbook
Name tab: #REF!

Sheet Tabela Final
A1: 1 | B1: 2 | C1: 3 | D1: 4 | E1: 5 | F1: 6 | G1: 7 | H1: 8 | I1: 9 | J1: 10 | K1: 11 | L1: 12 | M1: 13 | N1: 14 | O1: 15 | P1: 16 | Q1: 17 | R1: 18 | S1: 19 | T1: 20 | U1: 21 | V1: 22 | W1: 23 | X1: 24 | Y1: 25 | Z1: 26 | AA1: 27 | AB1: 28 | AC1: 29 | AD1: 30 | AE1: 31 | AF1: 32 | AG1: 33 | AH1: 34 | AI1: 35 | AJ1: 36 | AK1: 37 | AL1: 38 | AM1: 39 | AN1: 40 | AO1: 41 | AP1: 42 | AQ1: 43 | AR1: 44 | AS1: 45 | AT1: 46 | AU1: 47 | AV1: 48 | AW1: 49 | AX1: 48 | AY1: 49
A3: Recibo | B3: Data | C3: Num | D3: Nome | E3: Profissão | F3: Remuneração da Categoria | G3: Dias Úteis Mês | H3: Número Horas Semana | I3: Número de Horas Mês | J3: Remuneração Hora | K3: Número Faltas Dias | L3: Valor Faltas Dias | M3: Número Faltas Horas | N3: Valor Faltas Hora | O3: Total Faltas | P3: N.º de Horas a | S3: Total Das Horas a | V3: Total Horas Extraordinárias | W3: Outros Compl./Sub Férias | X3: Total Remuneração HE/Outros Bruta | Y3: Valor Sub. Alimentação | Z3: Complementos | AD3: Remuneração Bruta | AE3: Incidência | AF3: Descontos | AK3: Liquido a Receber | AL3: Sujeito a IRS | AM3: IRS retido | AN3: S SOCIAL | AO3: IRS | AQ3: S.SOCIAL O. SOCIAIS | AS3: S.SOCIAL PESSOAL | AT3: A RECEB O.SOCIAIS | AU3: A RECB PESSOAL | AV3: S. SOCIAL TOTAL | AW3: CUSTO O.SOCIAIS | AX3: CUSTO PESSOAL
P4: 0.5 | Q4: 0.75 | R4: 1 | S4: 0.5 | T4: 0.75 | U4: 1 | Z4: Sub. Ref. | AA4: H. E. | AB4: Com./S.Natal | AC4: Outros | AF4: TSU | AG4: Taxa | AH4: IRS | AI4: Sindicato | AJ4: Total | AO4: irs
A5: 1 | B5: 40574 | C5: 1 | D5: =IF(N(C5)>0,IF(N(C5)<34,VLOOKUP('Tabela Final'!C5,' Pessoal'!$A$2:$B$34,2),""),"") -> Susana | E5: =IF(N(C5)>0,IF(N(C5)<34,VLOOKUP(C5,' Pessoal'!$A$2:$C$34,3),""),"") -> Gerente | F5: =IF(N(C5)>0,IF(N(C5)<34,VLOOKUP(C5,' Pessoal'!$A$2:$M$34,4)),"") -> 927 | G5: 22 | H5: 40 | I5: =IF(N(H5)>0,(H5*52)/12,"") -> 173.33333 | J5: =IF(N(C5)>0,ROUND((F5/I5),2),"") -> 5.35 | L5: =IF(N(C5)>0,K5*((ROUND(I5/30,2)*J5)),"") -> 0 | N5: =IF(N(C5)>0,(M5*J5),"") -> 0 | O5: =IF(N(C5)>0,ROUND(L5+N5,2),"") -> 0 | S5: =IF(N(P5)>0,P5*ROUND((J5+($P$4*J5)),2),"") | T5: =IF(N(Q5)>0,Q5*ROUND((J5+($Q$4*J5)),2),"") | U5: =IF(N(R5)>0,R5*ROUND((J5+($R$4*J5)),2),"") | V5: =IF(N(C5)>0,SUM(S5:U5),"") -> 0 | X5: =IF(N(C5)>0,V5+W5,"") -> 0 | Y5: =IF(N(C5)>0,VLOOKUP(C5,' Pessoal'!$A$2:$M$34,10),"") -> 6.41 | Z5: =IF(N(C5)>0,(G5*Y5),"") -> 141.02 | AA5: =IF(N(C5)>0,V5,"") -> 0 | AC5: =IF(N(C5)>0,V5,"") -> 0 | AD5: =IF(N(C5)>0,ROUND(SUM(X5+F5+Z5+AA5+AB5+AC5)-O5,2),"") -> 1068.02 | AE5: =IF(N(C5)>0,(ROUND(IF((Y5)>6.41,((Y5-6.41)*G6+F5+AA5+AB5+AC5-O5),F5+AA5+AB5+AC5-O5),2))," ") -> 927 | AF5: =IF(N(C5)>0,ROUND(AE5*VLOOKUP(C5,' Pessoal'!$A$2:$M$34,9),2),"") -> 86.21 | AG5: 0.08 | AH5: =IF(N(C5)>0,ROUND(AE5*AG5,2),"") -> 74.16 | AI5: 0 | AJ5: =IF(N(C5)>0,SUM(AF5+AH5)+(AD5*AI5),"") -> 160.37 | AK5: =IF(N(C5)>0,(AD5-AJ5),"") -> 907.65 | AL5: =AE5 -> 927 | AM5: =AH5 -> 74.16 | AN5: =AF5 -> 86.21 | AO5: =SUM(AH5:AH9) -> 74.16 | AP5: =AE5 -> 927 | AQ5: =AP5*0.2125 -> 196.9875 | AR5: =SUM(AE6:AE9) -> 1075 | AS5: =ROUND(AR5*0.2375,2) -> 255.31 | AT5: =AK5 -> 907.65 | AU5: =ROUND(SUM(AK6:AK9),2) -> 1238.79 | AV5: =ROUND(AP5*0.3125+AR5*0.3475,2) -> 663.25 | AW5: =AD5 -> 1068.02 | AX5: =SUM(AD6:AD9) -> 1357.04
A6: 2 | B6: =B5 -> 40574 | C6: 2 | D6: =IF(N(C6)>0,IF(N(C6)<34,VLOOKUP('Tabela Final'!C6,' Pessoal'!$A$2:$B$34,2),""),"") -> Nuno | E6: =IF(N(C6)>0,IF(N(C6)<34,VLOOKUP(C6,' Pessoal'!$A$2:$C$34,3),""),"") -> Ajud. Electricista | F6: 0 | G6: 22 | H6: 40 | I6: =IF(N(H6)>0,(H6*52)/12,"") -> 173.33333 | J6: =IF(N(C6)>0,ROUND((F6/I6),2),"") -> 0 | L6: =IF(N(C6)>0,K6*((ROUND(I6/30,2)*J6)),"") -> 0 | N6: =IF(N(C6)>0,(M6*J6),"") -> 0 | O6: =IF(N(C6)>0,ROUND(L6+N6,2),"") -> 0 | S6: =IF(N(P6)>0,P6*ROUND((J6+($P$4*J6)),2),"") | T6: =IF(N(Q6)>0,Q6*ROUND((J6+($Q$4*J6)),2),"") | U6: =IF(N(R6)>0,R6*ROUND((J6+($R$4*J6)),2),"") | V6: =IF(N(C6)>0,SUM(S6:U6),"") -> 0 | X6: =IF(N(C6)>0,V6+W6,"") -> 0 | Y6: 0 | Z6: =IF(N(C6)>0,(G6*Y6),"") -> 0 | AA6: =IF(N(C6)>0,V6,"") -> 0 | AC6: =IF(N(C6)>0,V6,"") -> 0 | AD6: =IF(N(C6)>0,ROUND(SUM(X6+F6+Z6+AA6+AB6+AC6)-O6,2),"") -> 0 | AE6: =IF(N(C6)>0,(ROUND(IF((Y6)>6.41,((Y6-6.41)*G7+F6+AA6+AB6+AC6-O6),F6+AA6+AB6+AC6-O6),2))," ") -> 0 | AF6: =IF(N(C6)>0,ROUND(AE6*VLOOKUP(C6,' Pessoal'!$A$2:$M$34,9),2),"") -> 0 | AG6: 0 | AH6: =IF(N(C6)>0,ROUND(AE6*AG6,2),"") -> 0 | AI6: 0 | AJ6: =IF(N(C6)>0,SUM(AF6+AH6)+(AD6*AI6),"") -> 0 | AK6: =IF(N(C6)>0,(AD6-AJ6),"") -> 0 | AL6: =AE6 -> 0 | AM6: =AH6 -> 0 | AN6: =AF6 -> 0
A7: 3 | B7: =B6 -> 40574 | C7: 3 | D7: =IF(N(C7)>0,IF(N(C7)<34,VLOOKUP('Tabela Final'!C7,' Pessoal'!$A$2:$B$34,2),""),"") -> Fábio | E7: =IF(N(C7)>0,IF(N(C7)<34,VLOOKUP(C7,' Pessoal'!$A$2:$C$34,3),""),"") -> Ajud. Electricista | F7: 0 | G7: 22 | H7: 40 | I7: =IF(N(H7)>0,(H7*52)/12,"") -> 173.33333 | J7: =IF(N(C7)>0,ROUND((F7/I7),2),"") -> 0 | L7: =IF(N(C7)>0,K7*((ROUND(I7/30,2)*J7)),"") -> 0 | N7: =IF(N(C7)>0,(M7*J7),"") -> 0 | O7: =IF(N(C7)>0,ROUND(L7+N7,2),"") -> 0 | S7: =IF(N(P7)>0,P7*ROUND((J7+($P$4*J7)),2),"") | T7: =IF(N(Q7)>0,Q7*ROUND((J7+($Q$4*J7)),2),"") | U7: =IF(N(R7)>0,R7*ROUND((J7+($R$4*J7)),2),"") | V7: =IF(N(C7)>0,SUM(S7:U7),"") -> 0 | X7: =IF(N(C7)>0,V7+W7,"") -> 0 | Y7: 0 | Z7: =IF(N(C7)>0,(G7*Y7),"") -> 0 | AA7: =IF(N(C7)>0,V7,"") -> 0 | AC7: =IF(N(C7)>0,V7,"") -> 0 | AD7: =IF(N(C7)>0,ROUND(SUM(X7+F7+Z7+AA7+AB7+AC7)-O7,2),"") -> 0 | AE7: =IF(N(C7)>0,(ROUND(IF((Y7)>6.41,((Y7-6.41)*G8+F7+AA7+AB7+AC7-O7),F7+AA7+AB7+AC7-O7),2))," ") -> 0 | AF7: =IF(N(C7)>0,ROUND(AE7*VLOOKUP(C7,' Pessoal'!$A$2:$M$34,9),2),"") -> 0 | AG7: 0 | AH7: =IF(N(C7)>0,ROUND(AE7*AG7,2),"") -> 0 | AI7: 0 | AJ7: =IF(N(C7)>0,SUM(AF7+AH7)+(AD7*AI7),"") -> 0 | AK7: =IF(N(C7)>0,(AD7-AJ7),"") -> 0 | AL7: =AE7 -> 0 | AM7: =AH7 -> 0 | AN7: =AF7 -> 0
A8: 4 | B8: =B7 -> 40574 | C8: 4 | D8: =IF(N(C8)>0,IF(N(C8)<34,VLOOKUP('Tabela Final'!C8,' Pessoal'!$A$2:$B$34,2),""),"") -> Carlos | E8: =IF(N(C8)>0,IF(N(C8)<34,VLOOKUP(C8,' Pessoal'!$A$2:$C$34,3),""),"") -> Ajud. Electricista | F8: =IF(N(C8)>0,IF(N(C8)<34,VLOOKUP(C8,' Pessoal'!$A$2:$M$34,4)),"") -> 485 | G8: 22 | H8: 40 | I8: =IF(N(H8)>0,(H8*52)/12,"") -> 173.33333 | J8: =IF(N(C8)>0,ROUND((F8/I8),2),"") -> 2.8 | L8: =IF(N(C8)>0,K8*((ROUND(I8/30,2)*J8)),"") -> 0 | N8: =IF(N(C8)>0,(M8*J8),"") -> 0 | O8: =IF(N(C8)>0,ROUND(L8+N8,2),"") -> 0 | S8: =IF(N(P8)>0,P8*ROUND((J8+($P$4*J8)),2),"") | T8: =IF(N(Q8)>0,Q8*ROUND((J8+($Q$4*J8)),2),"") | U8: =IF(N(R8)>0,R8*ROUND((J8+($R$4*J8)),2),"") | V8: =IF(N(C8)>0,SUM(S8:U8),"") -> 0 | X8: 0 | Y8: =IF(N(C8)>0,VLOOKUP(C8,' Pessoal'!$A$2:$M$34,10),"") -> 6.41 | Z8: =IF(N(C8)>0,(G8*Y8),"") -> 141.02 | AA8: =IF(N(C8)>0,V8,"") -> 0 | AC8: 40 | AD8: =IF(N(C8)>0,ROUND(SUM(X8+F8+Z8+AA8+AB8+AC8)-O8,2),"") -> 666.02 | AE8: =IF(N(C8)>0,(ROUND(IF((Y8)>6.41,((Y8-6.41)*G9+F8+AA8+AB8+AC8-O8),F8+AA8+AB8+AC8-O8),2))," ") -> 525 | AF8: =IF(N(C8)>0,ROUND(AE8*VLOOKUP(C8,' Pessoal'!$A$2:$M$34,9),2),"") -> 57.75 | AG8: 0 | AH8: =IF(N(C8)>0,ROUND(AE8*AG8,2),"") -> 0 | AI8: 0 | AJ8: =IF(N(C8)>0,SUM(AF8+AH8)+(AD8*AI8),"") -> 57.75 | AK8: =IF(N(C8)>0,(AD8-AJ8),"") -> 608.27 | AL8: =AE8 -> 525 | AM8: =AH8 -> 0 | AN8: =AF8 -> 57.75
A9: 5 | B9: =B8 -> 40574 | C9: 5 | D9: =IF(N(C9)>0,IF(N(C9)<34,VLOOKUP('Tabela Final'!C9,' Pessoal'!$A$2:$B$34,2),""),"") -> André | E9: =IF(N(C9)>0,IF(N(C9)<34,VLOOKUP(C9,' Pessoal'!$A$2:$C$34,3),""),"") -> Ajud. Electricista | F9: =IF(N(C9)>0,IF(N(C9)<34,VLOOKUP(C9,' Pessoal'!$A$2:$M$34,4)),"") -> 550 | G9: 22 | H9: 40 | I9: =IF(N(H9)>0,(H9*52)/12,"") -> 173.33333 | J9: =IF(N(C9)>0,ROUND((F9/I9),2),"") -> 3.17 | L9: =IF(N(C9)>0,K9*((ROUND(I9/30,2)*J9)),"") -> 0 | N9: =IF(N(C9)>0,(M9*J9),"") -> 0 | O9: =IF(N(C9)>0,ROUND(L9+N9,2),"") -> 0 | S9: =IF(N(P9)>0,P9*ROUND((J9+($P$4*J9)),2),"") | T9: =IF(N(Q9)>0,Q9*ROUND((J9+($Q$4*J9)),2),"") | U9: =IF(N(R9)>0,R9*ROUND((J9+($R$4*J9)),2),"") | V9: =IF(N(C9)>0,SUM(S9:U9),"") -> 0 | X9: =IF(N(C9)>0,V9+W9,"") -> 0 | Y9: =IF(N(C9)>0,VLOOKUP(C9,' Pessoal'!$A$2:$M$34,10),"") -> 6.41 | Z9: =IF(N(C9)>0,(G9*Y9),"") -> 141.02 | AA9: =IF(N(C9)>0,V9,"") -> 0 | AC9: =IF(N(C9)>0,V9,"") -> 0 | AD9: =IF(N(C9)>0,ROUND(SUM(X9+F9+Z9+AA9+AB9+AC9)-O9,2),"") -> 691.02 | AE9: =IF(N(C9)>0,(ROUND(IF((Y9)>6.41,((Y9-6.41)*G10+F9+AA9+AB9+AC9-O9),F9+AA9+AB9+AC9-O9),2))," ") -> 550 | AF9: =IF(N(C9)>0,ROUND(AE9*VLOOKUP(C9,' Pessoal'!$A$2:$M$34,9),2),"") -> 60.5 | AG9: 0 | AH9: =IF(N(C9)>0,ROUND(AE9*AG9,2),"") -> 0 | AI9: 0 | AJ9: =IF(N(C9)>0,SUM(AF9+AH9)+(AD9*AI9),"") -> 60.5 | AK9: =IF(N(C9)>0,(AD9-AJ9),"") -> 630.52 | AL9: =AE9 -> 550 | AM9: =AH9 -> 0 | AN9: =AF9 -> 60.5
A10: 6 | B10: 40602 | C10: 1 | D10: =IF(N(C10)>0,IF(N(C10)<34,VLOOKUP('Tabela Final'!C10,' Pessoal'!$A$2:$B$34,2),""),"") -> Susana | E10: =IF(N(C10)>0,IF(N(C10)<34,VLOOKUP(C10,' Pessoal'!$A$2:$C$34,3),""),"") -> Gerente | F10: =IF(N(C10)>0,IF(N(C10)<34,VLOOKUP(C10,' Pessoal'!$A$2:$M$34,4)),"") -> 927 | G10: 22 | H10: =IF(N(C10)>0,$H$5,"") -> 40 | I10: =IF(N(H10)>0,(H10*52)/12,"") -> 173.33333 | J10: =IF(N(C10)>0,ROUND((F10/I10),2),"") -> 5.35 | L10: =IF(N(C10)>0,K10*((ROUND(I10/30,2)*J10)),"") -> 0 | N10: =IF(N(C10)>0,(M10*J10),"") -> 0 | O10: =IF(N(C10)>0,ROUND(L10+N10,2),"") -> 0 | S10: =IF(N(P10)>0,P10*ROUND((J10+($P$4*J10)),2),"") | T10: =IF(N(Q10)>0,Q10*ROUND((J10+($Q$4*J10)),2),"") | U10: =IF(N(R10)>0,R10*ROUND((J10+($R$4*J10)),2),"") | V10: =IF(N(C10)>0,SUM(S10:U10),"") -> 0 | X10: =IF(N(C10)>0,V10+W10,"") -> 0 | Y10: =IF(N(C10)>0,VLOOKUP(C10,' Pessoal'!$A$2:$M$34,10),"") -> 6.41 | Z10: =IF(N(C10)>0,(G10*Y10),"") -> 141.02 | AA10: =IF(N(C10)>0,V10,"") -> 0 | AC10: =IF(N(C10)>0,V10,"") -> 0 | AD10: =IF(N(C10)>0,ROUND(SUM(X10+F10+Z10+AA10+AB10+AC10)-O10,2),"") -> 1068.02 | AE10: =IF(N(C10)>0,(ROUND(IF((Y10)>6.41,((Y10-6.41)*G11+F10+AA10+AB10+AC10-O10),F10+AA10+AB10+AC10-O10),2))," ") -> 927 | AF10: =IF(N(C10)>0,ROUND(AE10*VLOOKUP(C10,' Pessoal'!$A$2:$M$34,9),2),"") -> 86.21 | AG10: 0.08 | AH10: =IF(N(C10)>0,ROUND(AE10*AG10,2),"") -> 74.16 | AI10: 0 | AJ10: =IF(N(C10)>0,SUM(AF10+AH10)+(AD10*AI10),"") -> 160.37 | AK10: =IF(N(C10)>0,(AD10-AJ10),"") -> 907.65 | AL10: =AE10+AL5 -> 1854 | AM10: =AH10+AM5 -> 148.32 | AN10: =AF10+AN5 -> 172.42 | AO10: =SUM(AH10:AH14) -> 74.16 | AP10: =AE10 -> 927 | AQ10: =AP10*0.2125 -> 196.9875 | AR10: =SUM(AE11:AE14) -> 1035 | AS10: =ROUND(AR10*0.2375,2)-$AE13*0.01 -> 240.96 | AT10: =AK10 -> 907.65 | AU10: =ROUND(SUM(AK11:AK14),2) -> 1087.81 | AV10: =ROUND(AP10*0.3125+AR10*0.3475,2)-$AE13*0.01 -> 644.5 | AW10: =AD10 -> 1068.02 | AX10: =SUM(AD11:AD14) -> 1201.66
A11: 7 | B11: =B10 -> 40602 | C11: 2 | D11: =IF(N(C11)>0,IF(N(C11)<34,VLOOKUP('Tabela Final'!C11,' Pessoal'!$A$2:$B$34,2),""),"") -> Nuno | E11: =IF(N(C11)>0,IF(N(C11)<34,VLOOKUP(C11,' Pessoal'!$A$2:$C$34,3),""),"") -> Ajud. Electricista | F11: 0 | G11: 22 | H11: =IF(N(C11)>0,$H$5,"") -> 40 | I11: =IF(N(H11)>0,(H11*52)/12,"") -> 173.33333 | J11: =IF(N(C11)>0,ROUND((F11/I11),2),"") -> 0 | L11: =IF(N(C11)>0,K11*((ROUND(I11/30,2)*J11)),"") -> 0 | N11: =IF(N(C11)>0,(M11*J11),"") -> 0 | O11: =IF(N(C11)>0,ROUND(L11+N11,2),"") -> 0 | S11: =IF(N(P11)>0,P11*ROUND((J11+($P$4*J11)),2),"") | T11: =IF(N(Q11)>0,Q11*ROUND((J11+($Q$4*J11)),2),"") | U11: =IF(N(R11)>0,R11*ROUND((J11+($R$4*J11)),2),"") | V11: =IF(N(C11)>0,SUM(S11:U11),"") -> 0 | X11: =IF(N(C11)>0,V11+W11,"") -> 0 | Y11: =IF(N(C11)>0,VLOOKUP(C11,' Pessoal'!$A$2:$M$34,10),"") -> 0 | Z11: 0 | AA11: =IF(N(C11)>0,V11,"") -> 0 | AC11: =IF(N(C11)>0,V11,"") -> 0 | AD11: =IF(N(C11)>0,ROUND(SUM(X11+F11+Z11+AA11+AB11+AC11)-O11,2),"") -> 0 | AE11: =IF(N(C11)>0,(ROUND(IF((Y11)>6.41,((Y11-6.41)*G12+F11+AA11+AB11+AC11-O11),F11+AA11+AB11+AC11-O11),2))," ") -> 0 | AF11: =IF(N(C11)>0,ROUND(AE11*VLOOKUP(C11,' Pessoal'!$A$2:$M$34,9),2),"") -> 0 | AG11: 0 | AH11: =IF(N(C11)>0,ROUND(AE11*AG11,2),"") -> 0 | AI11: 0 | AJ11: =IF(N(C11)>0,SUM(AF11+AH11)+(AD11*AI11),"") -> 0 | AK11: =IF(N(C11)>0,(AD11-AJ11),"") -> 0 | AL11: =AE11+AL6 -> 0 | AM11: =AH11+AM6 -> 0 | AN11: =AF11+AN6 -> 0
A12: 8 | B12: =B11 -> 40602 | C12: 3 | D12: =IF(N(C12)>0,IF(N(C12)<34,VLOOKUP('Tabela Final'!C12,' Pessoal'!$A$2:$B$34,2),""),"") -> Fábio | E12: =IF(N(C12)>0,IF(N(C12)<34,VLOOKUP(C12,' Pessoal'!$A$2:$C$34,3),""),"") -> Ajud. Electricista | F12: 0 | G12: 22 | H12: =IF(N(C12)>0,$H$5,"") -> 40 | I12: =IF(N(H12)>0,(H12*52)/12,"") -> 173.33333 | J12: =IF(N(C12)>0,ROUND((F12/I12),2),"") -> 0 | L12: =IF(N(C12)>0,K12*((ROUND(I12/30,2)*J12)),"") -> 0 | N12: =IF(N(C12)>0,(M12*J12),"") -> 0 | O12: =IF(N(C12)>0,ROUND(L12+N12,2),"") -> 0 | S12: =IF(N(P12)>0,P12*ROUND((J12+($P$4*J12)),2),"") | T12: =IF(N(Q12)>0,Q12*ROUND((J12+($Q$4*J12)),2),"") | U12: =IF(N(R12)>0,R12*ROUND((J12+($R$4*J12)),2),"") | V12: =IF(N(C12)>0,SUM(S12:U12),"") -> 0 | X12: =IF(N(C12)>0,V12+W12,"") -> 0 | Y12: =IF(N(C12)>0,VLOOKUP(C12,' Pessoal'!$A$2:$M$34,10),"") -> 0 | Z12: 0 | AA12: =IF(N(C12)>0,V12,"") -> 0 | AC12: =IF(N(C12)>0,V12,"") -> 0 | AD12: =IF(N(C12)>0,ROUND(SUM(X12+F12+Z12+AA12+AB12+AC12)-O12,2),"") -> 0 | AE12: =IF(N(C12)>0,(ROUND(IF((Y12)>6.41,((Y12-6.41)*G13+F12+AA12+AB12+AC12-O12),F12+AA12+AB12+AC12-O12),2))," ") -> 0 | AF12: =IF(N(C12)>0,ROUND(AE12*VLOOKUP(C12,' Pessoal'!$A$2:$M$34,9),2),"") -> 0 | AG12: 0 | AH12: =IF(N(C12)>0,ROUND(AE12*AG12,2),"") -> 0 | AI12: 0 | AJ12: =IF(N(C12)>0,SUM(AF12+AH12)+(AD12*AI12),"") -> 0 | AK12: =IF(N(C12)>0,(AD12-AJ12),"") -> 0 | AL12: =AE12+AL7 -> 0 | AM12: =AH12+AM7 -> 0 | AN12: =AF12+AN7 -> 0
A13: 9 | B13: =B12 -> 40602 | C13: 4 | D13: =IF(N(C13)>0,IF(N(C13)<34,VLOOKUP('Tabela Final'!C13,' Pessoal'!$A$2:$B$34,2),""),"") -> Carlos | E13: =IF(N(C13)>0,IF(N(C13)<34,VLOOKUP(C13,' Pessoal'!$A$2:$C$34,3),""),"") -> Ajud. Electricista | F13: =IF(N(C13)>0,IF(N(C13)<34,VLOOKUP(C13,' Pessoal'!$A$2:$M$34,4)),"") -> 485 | G13: =22-17 -> 5 | H13: =IF(N(C13)>0,$H$5,"") -> 40 | I13: =IF(N(H13)>0,(H13*52)/12,"") -> 173.33333 | J13: =IF(N(C13)>0,ROUND((F13/I13),2),"") -> 2.8 | L13: =IF(N(C13)>0,K13*((ROUND(I13/30,2)*J13)),"") -> 0 | N13: =IF(N(C13)>0,(M13*J13),"") -> 0 | O13: =IF(N(C13)>0,ROUND(L13+N13,2),"") -> 0 | S13: =IF(N(P13)>0,P13*ROUND((J13+($P$4*J13)),2),"") | T13: =IF(N(Q13)>0,Q13*ROUND((J13+($Q$4*J13)),2),"") | U13: =IF(N(R13)>0,R13*ROUND((J13+($R$4*J13)),2),"") | V13: =IF(N(C13)>0,SUM(S13:U13),"") -> 0 | X13: =IF(N(C13)>0,V13+W13,"") -> 0 | Y13: =IF(N(C13)>0,VLOOKUP(C13,' Pessoal'!$A$2:$M$34,10),"") -> 6.41 | Z13: =IF(N(C13)>0,(G13*Y13),"") -> 32.05 | AA13: =IF(N(C13)>0,V13,"") -> 0 | AC13: 0 | AD13: =IF(N(C13)>0,ROUND(SUM(X13+F13+Z13+AA13+AB13+AC13)-O13,2),"") -> 517.05 | AE13: =IF(N(C13)>0,(ROUND(IF((Y13)>6.41,((Y13-6.41)*G14+F13+AA13+AB13+AC13-O13),F13+AA13+AB13+AC13-O13),2))," ") -> 485 | AF13: =IF(N(C13)>0,ROUND(AE13*VLOOKUP(C13,' Pessoal'!$A$2:$M$34,9),2),"") -> 53.35 | AG13: 0 | AH13: =IF(N(C13)>0,ROUND(AE13*AG13,2),"") -> 0 | AI13: 0 | AJ13: =IF(N(C13)>0,SUM(AF13+AH13)+(AD13*AI13),"") -> 53.35 | AK13: =IF(N(C13)>0,(AD13-AJ13),"") -> 463.7 | AL13: =AE13+AL8 -> 1010 | AM13: =AH13+AM8 -> 0 | AN13: =AF13+AN8 -> 111.1
A14: 10 | B14: =B13 -> 40602 | C14: 5 | D14: =IF(N(C14)>0,IF(N(C14)<34,VLOOKUP('Tabela Final'!C14,' Pessoal'!$A$2:$B$34,2),""),"") -> André | E14: =IF(N(C14)>0,IF(N(C14)<34,VLOOKUP(C14,' Pessoal'!$A$2:$C$34,3),""),"") -> Ajud. Electricista | F14: =IF(N(C14)>0,IF(N(C14)<34,VLOOKUP(C14,' Pessoal'!$A$2:$M$34,4)),"") -> 550 | G14: =22-1 -> 21 | H14: =IF(N(C14)>0,$H$5,"") -> 40 | I14: =IF(N(H14)>0,(H14*52)/12,"") -> 173.33333 | J14: =IF(N(C14)>0,ROUND((F14/I14),2),"") -> 3.17 | L14: =IF(N(C14)>0,K14*((ROUND(I14/30,2)*J14)),"") -> 0 | N14: =IF(N(C14)>0,(M14*J14),"") -> 0 | O14: =IF(N(C14)>0,ROUND(L14+N14,2),"") -> 0 | S14: =IF(N(P14)>0,P14*ROUND((J14+($P$4*J14)),2),"") | T14: =IF(N(Q14)>0,Q14*ROUND((J14+($Q$4*J14)),2),"") | U14: =IF(N(R14)>0,R14*ROUND((J14+($R$4*J14)),2),"") | V14: =IF(N(C14)>0,SUM(S14:U14),"") -> 0 | X14: =IF(N(C14)>0,V14+W14,"") -> 0 | Y14: =IF(N(C14)>0,VLOOKUP(C14,' Pessoal'!$A$2:$M$34,10),"") -> 6.41 | Z14: =IF(N(C14)>0,(G14*Y14),"") -> 134.61 | AA14: =IF(N(C14)>0,V14,"") -> 0 | AC14: =IF(N(C14)>0,V14,"") -> 0 | AD14: =IF(N(C14)>0,ROUND(SUM(X14+F14+Z14+AA14+AB14+AC14)-O14,2),"") -> 684.61 | AE14: =IF(N(C14)>0,(ROUND(IF((Y14)>6.41,((Y14-6.41)*G15+F14+AA14+AB14+AC14-O14),F14+AA14+AB14+AC14-O14),2))," ") -> 550 | AF14: =IF(N(C14)>0,ROUND(AE14*VLOOKUP(C14,' Pessoal'!$A$2:$M$34,9),2),"") -> 60.5 | AG14: 0 | AH14: =IF(N(C14)>0,ROUND(AE14*AG14,2),"") -> 0 | AI14: 0 | AJ14: =IF(N(C14)>0,SUM(AF14+AH14)+(AD14*AI14),"") -> 60.5 | AK14: =IF(N(C14)>0,(AD14-AJ14),"") -> 624.11 | AL14: =AE14+AL9 -> 1100 | AM14: =AH14+AM9 -> 0 | AN14: =AF14+AN9 -> 121
A15: 11 | B15: 40633 | C15: 1 | D15: =IF(N(C15)>0,IF(N(C15)<34,VLOOKUP('Tabela Final'!C15,' Pessoal'!$A$2:$B$34,2),""),"") -> Susana | E15: =IF(N(C15)>0,IF(N(C15)<34,VLOOKUP(C15,' Pessoal'!$A$2:$C$34,3),""),"") -> Gerente | F15: =IF(N(C15)>0,IF(N(C15)<34,VLOOKUP(C15,' Pessoal'!$A$2:$M$34,4)),"") -> 927 | G15: 22 | H15: =IF(N(C15)>0,$H$5,"") -> 40 | I15: =IF(N(H15)>0,(H15*52)/12,"") -> 173.33333 | J15: =IF(N(C15)>0,ROUND((F15/I15),2),"") -> 5.35 | L15: =IF(N(C15)>0,K15*((ROUND(I15/30,2)*J15)),"") -> 0 | N15: =IF(N(C15)>0,(M15*J15),"") -> 0 | O15: =IF(N(C15)>0,ROUND(L15+N15,2),"") -> 0 | S15: =IF(N(P15)>0,P15*ROUND((J15+($P$4*J15)),2),"") | T15: =IF(N(Q15)>0,Q15*ROUND((J15+($Q$4*J15)),2),"") | U15: =IF(N(R15)>0,R15*ROUND((J15+($R$4*J15)),2),"") | V15: =IF(N(C15)>0,SUM(S15:U15),"") -> 0 | X15: =IF(N(C15)>0,V15+W15,"") -> 0 | Y15: =IF(N(C15)>0,VLOOKUP(C15,' Pessoal'!$A$2:$M$34,10),"") -> 6.41 | Z15: =IF(N(C15)>0,(G15*Y15),"") -> 141.02 | AA15: =IF(N(C15)>0,V15,"") -> 0 | AC15: =IF(N(C15)>0,V15,"") -> 0 | AD15: =IF(N(C15)>0,ROUND(SUM(X15+F15+Z15+AA15+AB15+AC15)-O15,2),"") -> 1068.02 | AE15: =IF(N(C15)>0,(ROUND(IF((Y15)>6.41,((Y15-6.41)*G16+F15+AA15+AB15+AC15-O15),F15+AA15+AB15+AC15-O15),2))," ") -> 927 | AF15: =IF(N(C15)>0,ROUND(AE15*VLOOKUP(C15,' Pessoal'!$A$2:$M$34,9),2),"") -> 86.21 | AG15: 0.08 | AH15: =IF(N(C15)>0,ROUND(AE15*AG15,2),"") -> 74.16 | AI15: 0 | AJ15: =IF(N(C15)>0,SUM(AF15+AH15)+(AD15*AI15),"") -> 160.37 | AK15: =IF(N(C15)>0,(AD15-AJ15),"") -> 907.65 | AL15: =AE15+AL10 -> 2781 | AM15: =AH15+AM10 -> 222.48 | AN15: =AF15+AN10 -> 258.63 | AO15: =SUM(AH15:AH19) -> 74.16 | AP15: =AE15 -> 927 | AQ15: =AP15*0.2125 -> 196.9875 | AR15: =SUM(AE16:AE19) -> 1035 | AS15: =ROUND(AR15*0.2375,2)-$AE18*0.01 -> 240.96 | AT15: =AK15 -> 907.65 | AU15: =ROUND(SUM(AK16:AK19),2) -> 1190.37 | AV15: =ROUND(AP15*0.3125+AR15*0.3475,2)-$AE18*0.01 -> 644.5 | AW15: =AD15 -> 1068.02 | AX15: =SUM(AD16:AD19) -> 1304.22
A16: 12 | B16: =B15 -> 40633 | C16: 2 | D16: =IF(N(C16)>0,IF(N(C16)<34,VLOOKUP('Tabela Final'!C16,' Pessoal'!$A$2:$B$34,2),""),"") -> Nuno | E16: =IF(N(C16)>0,IF(N(C16)<34,VLOOKUP(C16,' Pessoal'!$A$2:$C$34,3),""),"") -> Ajud. Electricista | F16: 0 | G16: 22 | H16: =IF(N(C16)>0,$H$5,"") -> 40 | I16: =IF(N(H16)>0,(H16*52)/12,"") -> 173.33333 | J16: =IF(N(C16)>0,ROUND((F16/I16),2),"") -> 0 | L16: =IF(N(C16)>0,K16*((ROUND(I16/30,2)*J16)),"") -> 0 | N16: =IF(N(C16)>0,(M16*J16),"") -> 0 | O16: =IF(N(C16)>0,ROUND(L16+N16,2),"") -> 0 | S16: =IF(N(P16)>0,P16*ROUND((J16+($P$4*J16)),2),"") | T16: =IF(N(Q16)>0,Q16*ROUND((J16+($Q$4*J16)),2),"") | U16: =IF(N(R16)>0,R16*ROUND((J16+($R$4*J16)),2),"") | V16: =IF(N(C16)>0,SUM(S16:U16),"") -> 0 | X16: =IF(N(C16)>0,V16+W16,"") -> 0 | Y16: =IF(N(C16)>0,VLOOKUP(C16,' Pessoal'!$A$2:$M$34,10),"") -> 0 | Z16: 0 | AA16: =IF(N(C16)>0,V16,"") -> 0 | AC16: =IF(N(C16)>0,V16,"") -> 0 | AD16: =IF(N(C16)>0,ROUND(SUM(X16+F16+Z16+AA16+AB16+AC16)-O16,2),"") -> 0 | AE16: =IF(N(C16)>0,(ROUND(IF((Y16)>6.41,((Y16-6.41)*G17+F16+AA16+AB16+AC16-O16),F16+AA16+AB16+AC16-O16),2))," ") -> 0 | AF16: =IF(N(C16)>0,ROUND(AE16*VLOOKUP(C16,' Pessoal'!$A$2:$M$34,9),2),"") -> 0 | AG16: 0 | AH16: =IF(N(C16)>0,ROUND(AE16*AG16,2),"") -> 0 | AI16: 0 | AJ16: =IF(N(C16)>0,SUM(AF16+AH16)+(AD16*AI16),"") -> 0 | AK16: =IF(N(C16)>0,(AD16-AJ16),"") -> 0 | AL16: =AE16+AL11 -> 0 | AM16: =AH16+AM11 -> 0 | AN16: =AF16+AN11 -> 0
A17: 13 | B17: =B16 -> 40633 | C17: 3 | D17: =IF(N(C17)>0,IF(N(C17)<34,VLOOKUP('Tabela Final'!C17,' Pessoal'!$A$2:$B$34,2),""),"") -> Fábio | E17: =IF(N(C17)>0,IF(N(C17)<34,VLOOKUP(C17,' Pessoal'!$A$2:$C$34,3),""),"") -> Ajud. Electricista | F17: 0 | G17: 22 | H17: =IF(N(C17)>0,$H$5,"") -> 40 | I17: =IF(N(H17)>0,(H17*52)/12,"") -> 173.33333 | J17: =IF(N(C17)>0,ROUND((F17/I17),2),"") -> 0 | L17: =IF(N(C17)>0,K17*((ROUND(I17/30,2)*J17)),"") -> 0 | N17: =IF(N(C17)>0,(M17*J17),"") -> 0 | O17: =IF(N(C17)>0,ROUND(L17+N17,2),"") -> 0 | S17: =IF(N(P17)>0,P17*ROUND((J17+($P$4*J17)),2),"") | T17: =IF(N(Q17)>0,Q17*ROUND((J17+($Q$4*J17)),2),"") | U17: =IF(N(R17)>0,R17*ROUND((J17+($R$4*J17)),2),"") | V17: =IF(N(C17)>0,SUM(S17:U17),"") -> 0 | X17: =IF(N(C17)>0,V17+W17,"") -> 0 | Y17: =IF(N(C17)>0,VLOOKUP(C17,' Pessoal'!$A$2:$M$34,10),"") -> 0 | Z17: 0 | AA17: =IF(N(C17)>0,V17,"") -> 0 | AC17: =IF(N(C17)>0,V17,"") -> 0 | AD17: =IF(N(C17)>0,ROUND(SUM(X17+F17+Z17+AA17+AB17+AC17)-O17,2),"") -> 0 | AE17: =IF(N(C17)>0,(ROUND(IF((Y17)>6.41,((Y17-6.41)*G18+F17+AA17+AB17+AC17-O17),F17+AA17+AB17+AC17-O17),2))," ") -> 0 | AF17: =IF(N(C17)>0,ROUND(AE17*VLOOKUP(C17,' Pessoal'!$A$2:$M$34,9),2),"") -> 0 | AG17: 0 | AH17: =IF(N(C17)>0,ROUND(AE17*AG17,2),"") -> 0 | AI17: 0 | AJ17: =IF(N(C17)>0,SUM(AF17+AH17)+(AD17*AI17),"") -> 0 | AK17: =IF(N(C17)>0,(AD17-AJ17),"") -> 0 | AL17: =AE17+AL12 -> 0 | AM17: =AH17+AM12 -> 0 | AN17: =AF17+AN12 -> 0
A18: 14 | B18: =B17 -> 40633 | C18: 4 | D18: =IF(N(C18)>0,IF(N(C18)<34,VLOOKUP('Tabela Final'!C18,' Pessoal'!$A$2:$B$34,2),""),"") -> Carlos | E18: =IF(N(C18)>0,IF(N(C18)<34,VLOOKUP(C18,' Pessoal'!$A$2:$C$34,3),""),"") -> Ajud. Electricista | F18: =IF(N(C18)>0,IF(N(C18)<34,VLOOKUP(C18,' Pessoal'!$A$2:$M$34,4)),"") -> 485 | G18: 20 | H18: =IF(N(C18)>0,$H$5,"") -> 40 | I18: =IF(N(H18)>0,(H18*52)/12,"") -> 173.33333 | J18: =IF(N(C18)>0,ROUND((F18/I18),2),"") -> 2.8 | L18: =IF(N(C18)>0,K18*((ROUND(I18/30,2)*J18)),"") -> 0 | N18: =IF(N(C18)>0,(M18*J18),"") -> 0 | O18: =IF(N(C18)>0,ROUND(L18+N18,2),"") -> 0 | S18: =IF(N(P18)>0,P18*ROUND((J18+($P$4*J18)),2),"") | T18: =IF(N(Q18)>0,Q18*ROUND((J18+($Q$4*J18)),2),"") | U18: =IF(N(R18)>0,R18*ROUND((J18+($R$4*J18)),2),"") | V18: =IF(N(C18)>0,SUM(S18:U18),"") -> 0 | X18: =IF(N(C18)>0,V18+W18,"") -> 0 | Y18: =IF(N(C18)>0,VLOOKUP(C18,' Pessoal'!$A$2:$M$34,10),"") -> 6.41 | Z18: =IF(N(C18)>0,(G18*Y18),"") -> 128.2 | AA18: =IF(N(C18)>0,V18,"") -> 0 | AC18: 0 | AD18: =IF(N(C18)>0,ROUND(SUM(X18+F18+Z18+AA18+AB18+AC18)-O18,2),"") -> 613.2 | AE18: =IF(N(C18)>0,(ROUND(IF((Y18)>6.41,((Y18-6.41)*G19+F18+AA18+AB18+AC18-O18),F18+AA18+AB18+AC18-O18),2))," ") -> 485 | AF18: =IF(N(C18)>0,ROUND(AE18*VLOOKUP(C18,' Pessoal'!$A$2:$M$34,9),2),"") -> 53.35 | AG18: 0 | AH18: =IF(N(C18)>0,ROUND(AE18*AG18,2),"") -> 0 | AI18: 0 | AJ18: =IF(N(C18)>0,SUM(AF18+AH18)+(AD18*AI18),"") -> 53.35 | AK18: =IF(N(C18)>0,(AD18-AJ18),"") -> 559.85 | AL18: =AE18+AL13 -> 1495 | AM18: =AH18+AM13 -> 0 | AN18: =AF18+AN13 -> 164.45
A19: 15 | B19: =B18 -> 40633 | C19: 5 | D19: =IF(N(C19)>0,IF(N(C19)<34,VLOOKUP('Tabela Final'!C19,' Pessoal'!$A$2:$B$34,2),""),"") -> André | E19: =IF(N(C19)>0,IF(N(C19)<34,VLOOKUP(C19,' Pessoal'!$A$2:$C$34,3),""),"") -> Ajud. Electricista | F19: =IF(N(C19)>0,IF(N(C19)<34,VLOOKUP(C19,' Pessoal'!$A$2:$M$34,4)),"") -> 550 | G19: 22 | H19: =IF(N(C19)>0,$H$5,"") -> 40 | I19: =IF(N(H19)>0,(H19*52)/12,"") -> 173.33333 | J19: =IF(N(C19)>0,ROUND((F19/I19),2),"") -> 3.17 | L19: =IF(N(C19)>0,K19*((ROUND(I19/30,2)*J19)),"") -> 0 | N19: =IF(N(C19)>0,(M19*J19),"") -> 0 | O19: =IF(N(C19)>0,ROUND(L19+N19,2),"") -> 0 | S19: =IF(N(P19)>0,P19*ROUND((J19+($P$4*J19)),2),"") | T19: =IF(N(Q19)>0,Q19*ROUND((J19+($Q$4*J19)),2),"") | U19: =IF(N(R19)>0,R19*ROUND((J19+($R$4*J19)),2),"") | V19: =IF(N(C19)>0,SUM(S19:U19),"") -> 0 | X19: =IF(N(C19)>0,V19+W19,"") -> 0 | Y19: =IF(N(C19)>0,VLOOKUP(C19,' Pessoal'!$A$2:$M$34,10),"") -> 6.41 | Z19: =IF(N(C19)>0,(G19*Y19),"") -> 141.02 | AA19: =IF(N(C19)>0,V19,"") -> 0 | AC19: 0 | AD19: =IF(N(C19)>0,ROUND(SUM(X19+F19+Z19+AA19+AB19+AC19)-O19,2),"") -> 691.02 | AE19: =IF(N(C19)>0,(ROUND(IF((Y19)>6.41,((Y19-6.41)*G20+F19+AA19+AB19+AC19-O19),F19+AA19+AB19+AC19-O19),2))," ") -> 550 | AF19: =IF(N(C19)>0,ROUND(AE19*VLOOKUP(C19,' Pessoal'!$A$2:$M$34,9),2),"") -> 60.5 | AG19: 0 | AH19: =IF(N(C19)>0,ROUND(AE19*AG19,2),"") -> 0 | AI19: 0 | AJ19: =IF(N(C19)>0,SUM(AF19+AH19)+(AD19*AI19),"") -> 60.5 | AK19: =IF(N(C19)>0,(AD19-AJ19),"") -> 630.52 | AL19: =AE19+AL14 -> 1650 | AM19: =AH19+AM14 -> 0 | AN19: =AF19+AN14 -> 181.5
A20: 16 | B20: 40663 | C20: 1 | D20: =IF(N(C20)>0,IF(N(C20)<34,VLOOKUP('Tabela Final'!C20,' Pessoal'!$A$2:$B$34,2),""),"") -> Susana | E20: =IF(N(C20)>0,IF(N(C20)<34,VLOOKUP(C20,' Pessoal'!$A$2:$C$34,3),""),"") -> Gerente | F20: =IF(N(C20)>0,IF(N(C20)<34,VLOOKUP(C20,' Pessoal'!$A$2:$M$34,4)),"") -> 927 | G20: 22 | H20: =IF(N(C20)>0,$H$5,"") -> 40 | I20: =IF(N(H20)>0,(H20*52)/12,"") -> 173.33333 | J20: =IF(N(C20)>0,ROUND((F20/I20),2),"") -> 5.35 | L20: =IF(N(C20)>0,K20*((ROUND(I20/30,2)*J20)),"") -> 0 | N20: =IF(N(C20)>0,(M20*J20),"") -> 0 | O20: =IF(N(C20)>0,ROUND(L20+N20,2),"") -> 0 | S20: =IF(N(P20)>0,P20*ROUND((J20+($P$4*J20)),2),"") | T20: =IF(N(Q20)>0,Q20*ROUND((J20+($Q$4*J20)),2),"") | U20: =IF(N(R20)>0,R20*ROUND((J20+($R$4*J20)),2),"") | V20: =IF(N(C20)>0,SUM(S20:U20),"") -> 0 | X20: =IF(N(C20)>0,V20+W20,"") -> 0 | Y20: =IF(N(C20)>0,VLOOKUP(C20,' Pessoal'!$A$2:$M$34,10),"") -> 6.41 | Z20: =IF(N(C20)>0,(G20*Y20),"") -> 141.02 | AA20: =IF(N(C20)>0,V20,"") -> 0 | AC20: =IF(N(C20)>0,V20,"") -> 0 | AD20: =IF(N(C20)>0,ROUND(SUM(X20+F20+Z20+AA20+AB20+AC20)-O20,2),"") -> 1068.02 | AE20: =IF(N(C20)>0,(ROUND(IF((Y20)>6.41,((Y20-6.41)*G21+F20+AA20+AB20+AC20-O20),F20+AA20+AB20+AC20-O20),2))," ") -> 927 | AF20: =IF(N(C20)>0,ROUND(AE20*VLOOKUP(C20,' Pessoal'!$A$2:$M$34,9),2),"") -> 86.21 | AG20: 0.08 | AH20: =IF(N(C20)>0,ROUND(AE20*AG20,2),"") -> 74.16 | AI20: 0 | AJ20: =IF(N(C20)>0,SUM(AF20+AH20)+(AD20*AI20),"") -> 160.37 | AK20: =IF(N(C20)>0,(AD20-AJ20),"") -> 907.65 | AL20: =AE20+AL15 -> 3708 | AM20: =AH20+AM15 -> 296.64 | AN20: =AF20+AN15 -> 344.84 | AO20: =SUM(AH20:AH24) -> 74.16 | AP20: =AE20 -> 927 | AQ20: =AP20*0.2125 -> 196.9875 | AR20: =SUM(AE21:AE24) -> 1035 | AS20: =ROUND(AR20*0.2375,2)-$AE23*0.01 -> 240.96 | AT20: =AK20 -> 907.65 | AU20: =ROUND(SUM(AK21:AK24),2) -> 1203.19 | AV20: =ROUND(AP20*0.3125+AR20*0.3475,2)-$AE23*0.01 -> 644.5 | AW20: =AD20 -> 1068.02 | AX20: =SUM(AD21:AD24) -> 1317.04
A21: 17 | B21: =B20 -> 40663 | C21: 2 | D21: =IF(N(C21)>0,IF(N(C21)<34,VLOOKUP('Tabela Final'!C21,' Pessoal'!$A$2:$B$34,2),""),"") -> Nuno | E21: =IF(N(C21)>0,IF(N(C21)<34,VLOOKUP(C21,' Pessoal'!$A$2:$C$34,3),""),"") -> Ajud. Electricista | F21: 0 | G21: 22 | H21: =IF(N(C21)>0,$H$5,"") -> 40 | I21: =IF(N(H21)>0,(H21*52)/12,"") -> 173.33333 | J21: =IF(N(C21)>0,ROUND((F21/I21),2),"") -> 0 | L21: =IF(N(C21)>0,K21*((ROUND(I21/30,2)*J21)),"") -> 0 | N21: =IF(N(C21)>0,(M21*J21),"") -> 0 | O21: =IF(N(C21)>0,ROUND(L21+N21,2),"") -> 0 | S21: =IF(N(P21)>0,P21*ROUND((J21+($P$4*J21)),2),"") | T21: =IF(N(Q21)>0,Q21*ROUND((J21+($Q$4*J21)),2),"") | U21: =IF(N(R21)>0,R21*ROUND((J21+($R$4*J21)),2),"") | V21: =IF(N(C21)>0,SUM(S21:U21),"") -> 0 | X21: =IF(N(C21)>0,V21+W21,"") -> 0 | Y21: =IF(N(C21)>0,VLOOKUP(C21,' Pessoal'!$A$2:$M$34,10),"") -> 0 | Z21: 0 | AA21: =IF(N(C21)>0,V21,"") -> 0 | AC21: =IF(N(C21)>0,V21,"") -> 0 | AD21: =IF(N(C21)>0,ROUND(SUM(X21+F21+Z21+AA21+AB21+AC21)-O21,2),"") -> 0 | AE21: =IF(N(C21)>0,(ROUND(IF((Y21)>6.41,((Y21-6.41)*G22+F21+AA21+AB21+AC21-O21),F21+AA21+AB21+AC21-O21),2))," ") -> 0 | AF21: =IF(N(C21)>0,ROUND(AE21*VLOOKUP(C21,' Pessoal'!$A$2:$M$34,9),2),"") -> 0 | AG21: 0 | AH21: =IF(N(C21)>0,ROUND(AE21*AG21,2),"") -> 0 | AI21: 0 | AJ21: =IF(N(C21)>0,SUM(AF21+AH21)+(AD21*AI21),"") -> 0 | AK21: =IF(N(C21)>0,(AD21-AJ21),"") -> 0 | AL21: =AE21+AL16 -> 0 | AM21: =AH21+AM16 -> 0 | AN21: =AF21+AN16 -> 0
A22: 18 | B22: =B21 -> 40663 | C22: 3 | D22: =IF(N(C22)>0,IF(N(C22)<34,VLOOKUP('Tabela Final'!C22,' Pessoal'!$A$2:$B$34,2),""),"") -> Fábio | E22: =IF(N(C22)>0,IF(N(C22)<34,VLOOKUP(C22,' Pessoal'!$A$2:$C$34,3),""),"") -> Ajud. Electricista | F22: 0 | G22: 22 | H22: =IF(N(C22)>0,$H$5,"") -> 40 | I22: =IF(N(H22)>0,(H22*52)/12,"") -> 173.33333 | J22: =IF(N(C22)>0,ROUND((F22/I22),2),"") -> 0 | L22: =IF(N(C22)>0,K22*((ROUND(I22/30,2)*J22)),"") -> 0 | N22: =IF(N(C22)>0,(M22*J22),"") -> 0 | O22: =IF(N(C22)>0,ROUND(L22+N22,2),"") -> 0 | S22: =IF(N(P22)>0,P22*ROUND((J22+($P$4*J22)),2),"") | T22: =IF(N(Q22)>0,Q22*ROUND((J22+($Q$4*J22)),2),"") | U22: =IF(N(R22)>0,R22*ROUND((J22+($R$4*J22)),2),"") | V22: =IF(N(C22)>0,SUM(S22:U22),"") -> 0 | X22: =IF(N(C22)>0,V22+W22,"") -> 0 | Y22: =IF(N(C22)>0,VLOOKUP(C22,' Pessoal'!$A$2:$M$34,10),"") -> 0 | Z22: 0 | AA22: =IF(N(C22)>0,V22,"") -> 0 | AC22: =IF(N(C22)>0,V22,"") -> 0 | AD22: =IF(N(C22)>0,ROUND(SUM(X22+F22+Z22+AA22+AB22+AC22)-O22,2),"") -> 0 | AE22: =IF(N(C22)>0,(ROUND(IF((Y22)>6.41,((Y22-6.41)*G23+F22+AA22+AB22+AC22-O22),F22+AA22+AB22+AC22-O22),2))," ") -> 0 | AF22: =IF(N(C22)>0,ROUND(AE22*VLOOKUP(C22,' Pessoal'!$A$2:$M$34,9),2),"") -> 0 | AG22: 0 | AH22: =IF(N(C22)>0,ROUND(AE22*AG22,2),"") -> 0 | AI22: 0 | AJ22: =IF(N(C22)>0,SUM(AF22+AH22)+(AD22*AI22),"") -> 0 | AK22: =IF(N(C22)>0,(AD22-AJ22),"") -> 0 | AL22: =AE22+AL17 -> 0 | AM22: =AH22+AM17 -> 0 | AN22: =AF22+AN17 -> 0
A23: 19 | B23: =B22 -> 40663 | C23: 4 | D23: =IF(N(C23)>0,IF(N(C23)<34,VLOOKUP('Tabela Final'!C23,' Pessoal'!$A$2:$B$34,2),""),"") -> Carlos | E23: =IF(N(C23)>0,IF(N(C23)<34,VLOOKUP(C23,' Pessoal'!$A$2:$C$34,3),""),"") -> Ajud. Electricista | F23: =IF(N(C23)>0,IF(N(C23)<34,VLOOKUP(C23,' Pessoal'!$A$2:$M$34,4)),"") -> 485 | G23: 22 | H23: =IF(N(C23)>0,$H$5,"") -> 40 | I23: =IF(N(H23)>0,(H23*52)/12,"") -> 173.33333 | J23: =IF(N(C23)>0,ROUND((F23/I23),2),"") -> 2.8 | L23: =IF(N(C23)>0,K23*((ROUND(I23/30,2)*J23)),"") -> 0 | N23: =IF(N(C23)>0,(M23*J23),"") -> 0 | O23: =IF(N(C23)>0,ROUND(L23+N23,2),"") -> 0 | S23: =IF(N(P23)>0,P23*ROUND((J23+($P$4*J23)),2),"") | T23: =IF(N(Q23)>0,Q23*ROUND((J23+($Q$4*J23)),2),"") | U23: =IF(N(R23)>0,R23*ROUND((J23+($R$4*J23)),2),"") | V23: =IF(N(C23)>0,SUM(S23:U23),"") -> 0 | X23: =IF(N(C23)>0,V23+W23,"") -> 0 | Y23: =IF(N(C23)>0,VLOOKUP(C23,' Pessoal'!$A$2:$M$34,10),"") -> 6.41 | Z23: =IF(N(C23)>0,(G23*Y23),"") -> 141.02 | AA23: =IF(N(C23)>0,V23,"") -> 0 | AC23: =IF(N(C23)>0,V23,"") -> 0 | AD23: =IF(N(C23)>0,ROUND(SUM(X23+F23+Z23+AA23+AB23+AC23)-O23,2),"") -> 626.02 | AE23: =IF(N(C23)>0,(ROUND(IF((Y23)>6.41,((Y23-6.41)*G24+F23+AA23+AB23+AC23-O23),F23+AA23+AB23+AC23-O23),2))," ") -> 485 | AF23: =IF(N(C23)>0,ROUND(AE23*VLOOKUP(C23,' Pessoal'!$A$2:$M$34,9),2),"") -> 53.35 | AG23: 0 | AH23: =IF(N(C23)>0,ROUND(AE23*AG23,2),"") -> 0 | AI23: 0 | AJ23: =IF(N(C23)>0,SUM(AF23+AH23)+(AD23*AI23),"") -> 53.35 | AK23: =IF(N(C23)>0,(AD23-AJ23),"") -> 572.67 | AL23: =AE23+AL18 -> 1980 | AM23: =AH23+AM18 -> 0 | AN23: =AF23+AN18 -> 217.8
A24: 20 | B24: =B23 -> 40663 | C24: 5 | D24: =IF(N(C24)>0,IF(N(C24)<34,VLOOKUP('Tabela Final'!C24,' Pessoal'!$A$2:$B$34,2),""),"") -> André | E24: =IF(N(C24)>0,IF(N(C24)<34,VLOOKUP(C24,' Pessoal'!$A$2:$C$34,3),""),"") -> Ajud. Electricista | F24: =IF(N(C24)>0,IF(N(C24)<34,VLOOKUP(C24,' Pessoal'!$A$2:$M$34,4)),"") -> 550 | G24: 22 | H24: =IF(N(C24)>0,$H$5,"") -> 40 | I24: =IF(N(H24)>0,(H24*52)/12,"") -> 173.33333 | J24: =IF(N(C24)>0,ROUND((F24/I24),2),"") -> 3.17 | L24: =IF(N(C24)>0,K24*((ROUND(I24/30,2)*J24)),"") -> 0 | N24: =IF(N(C24)>0,(M24*J24),"") -> 0 | O24: =IF(N(C24)>0,ROUND(L24+N24,2),"") -> 0 | S24: =IF(N(P24)>0,P24*ROUND((J24+($P$4*J24)),2),"") | T24: =IF(N(Q24)>0,Q24*ROUND((J24+($Q$4*J24)),2),"") | U24: =IF(N(R24)>0,R24*ROUND((J24+($R$4*J24)),2),"") | V24: =IF(N(C24)>0,SUM(S24:U24),"") -> 0 | X24: =IF(N(C24)>0,V24+W24,"") -> 0 | Y24: =IF(N(C24)>0,VLOOKUP(C24,' Pessoal'!$A$2:$M$34,10),"") -> 6.41 | Z24: =IF(N(C24)>0,(G24*Y24),"") -> 141.02 | AA24: =IF(N(C24)>0,V24,"") -> 0 | AC24: =IF(N(C24)>0,V24,"") -> 0 | AD24: =IF(N(C24)>0,ROUND(SUM(X24+F24+Z24+AA24+AB24+AC24)-O24,2),"") -> 691.02 | AE24: =IF(N(C24)>0,(ROUND(IF((Y24)>6.41,((Y24-6.41)*G25+F24+AA24+AB24+AC24-O24),F24+AA24+AB24+AC24-O24),2))," ") -> 550 | AF24: =IF(N(C24)>0,ROUND(AE24*VLOOKUP(C24,' Pessoal'!$A$2:$M$34,9),2),"") -> 60.5 | AG24: 0 | AH24: =IF(N(C24)>0,ROUND(AE24*AG24,2),"") -> 0 | AI24: 0 | AJ24: =IF(N(C24)>0,SUM(AF24+AH24)+(AD24*AI24),"") -> 60.5 | AK24: =IF(N(C24)>0,(AD24-AJ24),"") -> 630.52 | AL24: =AE24+AL19 -> 2200 | AM24: =AH24+AM19 -> 0 | AN24: =AF24+AN19 -> 242
A25: 21 | B25: 40694 | C25: 1 | D25: =IF(N(C25)>0,IF(N(C25)<34,VLOOKUP('Tabela Final'!C25,' Pessoal'!$A$2:$B$34,2),""),"") -> Susana | E25: =IF(N(C25)>0,IF(N(C25)<34,VLOOKUP(C25,' Pessoal'!$A$2:$C$34,3),""),"") -> Gerente | F25: =IF(N(C25)>0,IF(N(C25)<34,VLOOKUP(C25,' Pessoal'!$A$2:$M$34,4)),"") -> 927 | G25: 22 | H25: =IF(N(C25)>0,$H$5,"") -> 40 | I25: =IF(N(H25)>0,(H25*52)/12,"") -> 173.33333 | J25: =IF(N(C25)>0,ROUND((F25/I25),2),"") -> 5.35 | L25: =IF(N(C25)>0,K25*((ROUND(I25/30,2)*J25)),"") -> 0 | N25: =IF(N(C25)>0,(M25*J25),"") -> 0 | O25: =IF(N(C25)>0,ROUND(L25+N25,2),"") -> 0 | S25: =IF(N(P25)>0,P25*ROUND((J25+($P$4*J25)),2),"") | T25: =IF(N(Q25)>0,Q25*ROUND((J25+($Q$4*J25)),2),"") | U25: =IF(N(R25)>0,R25*ROUND((J25+($R$4*J25)),2),"") | V25: =IF(N(C25)>0,SUM(S25:U25),"") -> 0 | X25: =IF(N(C25)>0,V25+W25,"") -> 0 | Y25: =IF(N(C25)>0,VLOOKUP(C25,' Pessoal'!$A$2:$M$34,10),"") -> 6.41 | Z25: =IF(N(C25)>0,(G25*Y25),"") -> 141.02 | AA25: =IF(N(C25)>0,V25,"") -> 0 | AC25: =IF(N(C25)>0,V25,"") -> 0 | AD25: =IF(N(C25)>0,ROUND(SUM(X25+F25+Z25+AA25+AB25+AC25)-O25,2),"") -> 1068.02 | AE25: =IF(N(C25)>0,(ROUND(IF((Y25)>6.41,((Y25-6.41)*G26+F25+AA25+AB25+AC25-O25),F25+AA25+AB25+AC25-O25),2))," ") -> 927 | AF25: =IF(N(C25)>0,ROUND(AE25*VLOOKUP(C25,' Pessoal'!$A$2:$M$34,9),2),"") -> 86.21 | AG25: 0.08 | AH25: =IF(N(C25)>0,ROUND(AE25*AG25,2),"") -> 74.16 | AI25: 0 | AJ25: =IF(N(C25)>0,SUM(AF25+AH25)+(AD25*AI25),"") -> 160.37 | AK25: =IF(N(C25)>0,(AD25-AJ25),"") -> 907.65 | AL25: =AE25+AL20 -> 4635 | AM25: =AH25+AM20+AH65 -> 444.96 | AN25: =AF25+AN20 -> 431.05 | AO25: =SUM(AH25:AH29) -> 74.16 | AP25: =AE25 -> 927 | AQ25: =AP25*0.2125 -> 196.9875 | AR25: =SUM(AE26:AE29) -> 1035 | AS25: =ROUND(AR25*0.2375,2)-$AE28*0.01 -> 240.96 | AT25: =AK25 -> 907.65 | AU25: =ROUND(SUM(AK26:AK29),2) -> 1203.19 | AV25: =ROUND(AP25*0.3125+AR25*0.3475,2)-$AE28*0.01 -> 644.5 | AW25: =AD25 -> 1068.02 | AX25: =SUM(AD26:AD29) -> 1317.04
A26: 22 | B26: =B25 -> 40694 | C26: 2 | D26: =IF(N(C26)>0,IF(N(C26)<34,VLOOKUP('Tabela Final'!C26,' Pessoal'!$A$2:$B$34,2),""),"") -> Nuno | E26: =IF(N(C26)>0,IF(N(C26)<34,VLOOKUP(C26,' Pessoal'!$A$2:$C$34,3),""),"") -> Ajud. Electricista | F26: =IF(N(C26)>0,IF(N(C26)<34,VLOOKUP(C26,' Pessoal'!$A$2:$M$34,4)),"") -> 0 | G26: 22 | H26: =IF(N(C26)>0,$H$5,"") -> 40 | I26: =IF(N(H26)>0,(H26*52)/12,"") -> 173.33333 | J26: =IF(N(C26)>0,ROUND((F26/I26),2),"") -> 0 | L26: =IF(N(C26)>0,K26*((ROUND(I26/30,2)*J26)),"") -> 0 | N26: =IF(N(C26)>0,(M26*J26),"") -> 0 | O26: =IF(N(C26)>0,ROUND(L26+N26,2),"") -> 0 | S26: =IF(N(P26)>0,P26*ROUND((J26+($P$4*J26)),2),"") | T26: =IF(N(Q26)>0,Q26*ROUND((J26+($Q$4*J26)),2),"") | U26: =IF(N(R26)>0,R26*ROUND((J26+($R$4*J26)),2),"") | V26: =IF(N(C26)>0,SUM(S26:U26),"") -> 0 | X26: =IF(N(C26)>0,V26+W26,"") -> 0 | Y26: =IF(N(C26)>0,VLOOKUP(C26,' Pessoal'!$A$2:$M$34,10),"") -> 0 | Z26: =IF(N(C26)>0,(G26*Y26),"") -> 0 | AA26: =IF(N(C26)>0,V26,"") -> 0 | AC26: =IF(N(C26)>0,V26,"") -> 0 | AD26: =IF(N(C26)>0,ROUND(SUM(X26+F26+Z26+AA26+AB26+AC26)-O26,2),"") -> 0 | AE26: =IF(N(C26)>0,(ROUND(IF((Y26)>6.41,((Y26-6.41)*G27+F26+AA26+AB26+AC26-O26),F26+AA26+AB26+AC26-O26),2))," ") -> 0 | AF26: =IF(N(C26)>0,ROUND(AE26*VLOOKUP(C26,' Pessoal'!$A$2:$M$34,9),2),"") -> 0 | AG26: 0 | AH26: =IF(N(C26)>0,ROUND(AE26*AG26,2),"") -> 0 | AI26: 0 | AJ26: =IF(N(C26)>0,SUM(AF26+AH26)+(AD26*AI26),"") -> 0 | AK26: =IF(N(C26)>0,(AD26-AJ26),"") -> 0 | AL26: =AE26+AL21 -> 0 | AM26: =AH26+AM21 -> 0 | AN26: =AF26+AN21 -> 0
A27: 23 | B27: =B26 -> 40694 | C27: 3 | D27: =IF(N(C27)>0,IF(N(C27)<34,VLOOKUP('Tabela Final'!C27,' Pessoal'!$A$2:$B$34,2),""),"") -> Fábio | E27: =IF(N(C27)>0,IF(N(C27)<34,VLOOKUP(C27,' Pessoal'!$A$2:$C$34,3),""),"") -> Ajud. Electricista | F27: =IF(N(C27)>0,IF(N(C27)<34,VLOOKUP(C27,' Pessoal'!$A$2:$M$34,4)),"") -> 0 | G27: 22 | H27: =IF(N(C27)>0,$H$5,"") -> 40 | I27: =IF(N(H27)>0,(H27*52)/12,"") -> 173.33333 | J27: =IF(N(C27)>0,ROUND((F27/I27),2),"") -> 0 | L27: =IF(N(C27)>0,K27*((ROUND(I27/30,2)*J27)),"") -> 0 | N27: =IF(N(C27)>0,(M27*J27),"") -> 0 | O27: =IF(N(C27)>0,ROUND(L27+N27,2),"") -> 0 | S27: =IF(N(P27)>0,P27*ROUND((J27+($P$4*J27)),2),"") | T27: =IF(N(Q27)>0,Q27*ROUND((J27+($Q$4*J27)),2),"") | U27: =IF(N(R27)>0,R27*ROUND((J27+($R$4*J27)),2),"") | V27: =IF(N(C27)>0,SUM(S27:U27),"") -> 0 | X27: =IF(N(C27)>0,V27+W27,"") -> 0 | Y27: =IF(N(C27)>0,VLOOKUP(C27,' Pessoal'!$A$2:$M$34,10),"") -> 0 | Z27: =IF(N(C27)>0,(G27*Y27),"") -> 0 | AA27: =IF(N(C27)>0,V27,"") -> 0 | AC27: =IF(N(C27)>0,V27,"") -> 0 | AD27: =IF(N(C27)>0,ROUND(SUM(X27+F27+Z27+AA27+AB27+AC27)-O27,2),"") -> 0 | AE27: =IF(N(C27)>0,(ROUND(IF((Y27)>6.41,((Y27-6.41)*G28+F27+AA27+AB27+AC27-O27),F27+AA27+AB27+AC27-O27),2))," ") -> 0 | AF27: =IF(N(C27)>0,ROUND(AE27*VLOOKUP(C27,' Pessoal'!$A$2:$M$34,9),2),"") -> 0 | AG27: 0 | AH27: =IF(N(C27)>0,ROUND(AE27*AG27,2),"") -> 0 | AI27: 0 | AJ27: =IF(N(C27)>0,SUM(AF27+AH27)+(AD27*AI27),"") -> 0 | AK27: =IF(N(C27)>0,(AD27-AJ27),"") -> 0 | AL27: =AE27+AL22 -> 0 | AM27: =AH27+AM22 -> 0 | AN27: =AF27+AN22 -> 0
A28: 24 | B28: =B27 -> 40694 | C28: 4 | D28: =IF(N(C28)>0,IF(N(C28)<34,VLOOKUP('Tabela Final'!C28,' Pessoal'!$A$2:$B$34,2),""),"") -> Carlos | E28: =IF(N(C28)>0,IF(N(C28)<34,VLOOKUP(C28,' Pessoal'!$A$2:$C$34,3),""),"") -> Ajud. Electricista | F28: =IF(N(C28)>0,IF(N(C28)<34,VLOOKUP(C28,' Pessoal'!$A$2:$M$34,4)),"") -> 485 | G28: 22 | H28: =IF(N(C28)>0,$H$5,"") -> 40 | I28: =IF(N(H28)>0,(H28*52)/12,"") -> 173.33333 | J28: =IF(N(C28)>0,ROUND((F28/I28),2),"") -> 2.8 | L28: =IF(N(C28)>0,K28*((ROUND(I28/30,2)*J28)),"") -> 0 | N28: =IF(N(C28)>0,(M28*J28),"") -> 0 | O28: =IF(N(C28)>0,ROUND(L28+N28,2),"") -> 0 | S28: =IF(N(P28)>0,P28*ROUND((J28+($P$4*J28)),2),"") | T28: =IF(N(Q28)>0,Q28*ROUND((J28+($Q$4*J28)),2),"") | U28: =IF(N(R28)>0,R28*ROUND((J28+($R$4*J28)),2),"") | V28: =IF(N(C28)>0,SUM(S28:U28),"") -> 0 | X28: =IF(N(C28)>0,V28+W28,"") -> 0 | Y28: =IF(N(C28)>0,VLOOKUP(C28,' Pessoal'!$A$2:$M$34,10),"") -> 6.41 | Z28: =IF(N(C28)>0,(G28*Y28),"") -> 141.02 | AA28: =IF(N(C28)>0,V28,"") -> 0 | AC28: =IF(N(C28)>0,V28,"") -> 0 | AD28: =IF(N(C28)>0,ROUND(SUM(X28+F28+Z28+AA28+AB28+AC28)-O28,2),"") -> 626.02 | AE28: =IF(N(C28)>0,(ROUND(IF((Y28)>6.41,((Y28-6.41)*G29+F28+AA28+AB28+AC28-O28),F28+AA28+AB28+AC28-O28),2))," ") -> 485 | AF28: =IF(N(C28)>0,ROUND(AE28*VLOOKUP(C28,' Pessoal'!$A$2:$M$34,9),2),"") -> 53.35 | AG28: 0 | AH28: =IF(N(C28)>0,ROUND(AE28*AG28,2),"") -> 0 | AI28: 0 | AJ28: =IF(N(C28)>0,SUM(AF28+AH28)+(AD28*AI28),"") -> 53.35 | AK28: =IF(N(C28)>0,(AD28-AJ28),"") -> 572.67 | AL28: =AE28+AL23 -> 2465 | AM28: =AH28+AM23 -> 0 | AN28: =AF28+AN23 -> 271.15
A29: 25 | B29: =B28 -> 40694 | C29: 5 | D29: =IF(N(C29)>0,IF(N(C29)<34,VLOOKUP('Tabela Final'!C29,' Pessoal'!$A$2:$B$34,2),""),"") -> André | E29: =IF(N(C29)>0,IF(N(C29)<34,VLOOKUP(C29,' Pessoal'!$A$2:$C$34,3),""),"") -> Ajud. Electricista | F29: =IF(N(C29)>0,IF(N(C29)<34,VLOOKUP(C29,' Pessoal'!$A$2:$M$34,4)),"") -> 550 | G29: 22 | H29: =IF(N(C29)>0,$H$5,"") -> 40 | I29: =IF(N(H29)>0,(H29*52)/12,"") -> 173.33333 | J29: =IF(N(C29)>0,ROUND((F29/I29),2),"") -> 3.17 | L29: =IF(N(C29)>0,K29*((ROUND(I29/30,2)*J29)),"") -> 0 | N29: =IF(N(C29)>0,(M29*J29),"") -> 0 | O29: =IF(N(C29)>0,ROUND(L29+N29,2),"") -> 0 | S29: =IF(N(P29)>0,P29*ROUND((J29+($P$4*J29)),2),"") | T29: =IF(N(Q29)>0,Q29*ROUND((J29+($Q$4*J29)),2),"") | U29: =IF(N(R29)>0,R29*ROUND((J29+($R$4*J29)),2),"") | V29: =IF(N(C29)>0,SUM(S29:U29),"") -> 0 | X29: =IF(N(C29)>0,V29+W29,"") -> 0 | Y29: =IF(N(C29)>0,VLOOKUP(C29,' Pessoal'!$A$2:$M$34,10),"") -> 6.41 | Z29: =IF(N(C29)>0,(G29*Y29),"") -> 141.02 | AA29: =IF(N(C29)>0,V29,"") -> 0 | AC29: =IF(N(C29)>0,V29,"") -> 0 | AD29: =IF(N(C29)>0,ROUND(SUM(X29+F29+Z29+AA29+AB29+AC29)-O29,2),"") -> 691.02 | AE29: =IF(N(C29)>0,(ROUND(IF((Y29)>6.41,((Y29-6.41)*G30+F29+AA29+AB29+AC29-O29),F29+AA29+AB29+AC29-O29),2))," ") -> 550 | AF29: =IF(N(C29)>0,ROUND(AE29*VLOOKUP(C29,' Pessoal'!$A$2:$M$34,9),2),"") -> 60.5 | AG29: 0 | AH29: =IF(N(C29)>0,ROUND(AE29*AG29,2),"") -> 0 | AI29: 0 | AJ29: =IF(N(C29)>0,SUM(AF29+AH29)+(AD29*AI29),"") -> 60.5 | AK29: =IF(N(C29)>0,(AD29-AJ29),"") -> 630.52 | AL29: =AE29+AL24 -> 2750 | AM29: =AH29+AM24 -> 0 | AN29: =AF29+AN24 -> 302.5
A30: 26 | B30: 40724 | C30: 1 | D30: =IF(N(C30)>0,IF(N(C30)<34,VLOOKUP('Tabela Final'!C30,' Pessoal'!$A$2:$B$34,2),""),"") -> Susana | E30: =IF(N(C30)>0,IF(N(C30)<34,VLOOKUP(C30,' Pessoal'!$A$2:$C$34,3),""),"") -> Gerente | F30: =IF(N(C30)>0,IF(N(C30)<34,VLOOKUP(C30,' Pessoal'!$A$2:$M$34,4)),"") -> 927 | G30: 22 | H30: =IF(N(C30)>0,$H$5,"") -> 40 | I30: =IF(N(H30)>0,(H30*52)/12,"") -> 173.33333 | J30: =IF(N(C30)>0,ROUND((F30/I30),2),"") -> 5.35 | L30: =IF(N(C30)>0,K30*((ROUND(I30/30,2)*J30)),"") -> 0 | N30: =IF(N(C30)>0,(M30*J30),"") -> 0 | O30: =IF(N(C30)>0,ROUND(L30+N30,2),"") -> 0 | S30: =IF(N(P30)>0,P30*ROUND((J30+($P$4*J30)),2),"") | T30: =IF(N(Q30)>0,Q30*ROUND((J30+($Q$4*J30)),2),"") | U30: =IF(N(R30)>0,R30*ROUND((J30+($R$4*J30)),2),"") | V30: =IF(N(C30)>0,SUM(S30:U30),"") -> 0 | X30: =IF(N(C30)>0,V30+W30,"") -> 0 | Y30: =IF(N(C30)>0,VLOOKUP(C30,' Pessoal'!$A$2:$M$34,10),"") -> 6.41 | Z30: =IF(N(C30)>0,(G30*Y30),"") -> 141.02 | AA30: =IF(N(C30)>0,V30,"") -> 0 | AC30: =IF(N(C30)>0,V30,"") -> 0 | AD30: =IF(N(C30)>0,ROUND(SUM(X30+F30+Z30+AA30+AB30+AC30)-O30,2),"") -> 1068.02 | AE30: =IF(N(C30)>0,(ROUND(IF((Y30)>6.41,((Y30-6.41)*G31+F30+AA30+AB30+AC30-O30),F30+AA30+AB30+AC30-O30),2))," ") -> 927 | AF30: =IF(N(C30)>0,ROUND(AE30*VLOOKUP(C30,' Pessoal'!$A$2:$M$34,9),2),"") -> 86.21 | AG30: 0.08 | AH30: =IF(N(C30)>0,ROUND(AE30*AG30,2),"") -> 74.16 | AI30: 0 | AJ30: =IF(N(C30)>0,SUM(AF30+AH30)+(AD30*AI30),"") -> 160.37 | AK30: =IF(N(C30)>0,(AD30-AJ30),"") -> 907.65 | AL30: =AE30+AL25 -> 5562 | AM30: =AH30+AM25+AH65+AH68 -> 667.44 | AN30: =AF30+AN25 -> 517.26 | AO30: =SUM(AH30:AH34) -> 74.16 | AP30: =AE30 -> 927 | AQ30: =AP30*0.2125 -> 196.9875 | AR30: =SUM(AE31:AE34) -> 1035 | AS30: =ROUND(AR30*0.2375,2)-$AE33*0.01 -> 240.96 | AT30: =AK30 -> 907.65 | AU30: =ROUND(SUM(AK31:AK34),2) -> 1203.19 | AV30: =ROUND(AP30*0.3125+AR30*0.3475,2)-$AE33*0.01 -> 644.5 | AW30: =AD30 -> 1068.02 | AX30: =SUM(AD31:AD34) -> 1317.04
A31: 27 | B31: =B30 -> 40724 | C31: 2 | D31: =IF(N(C31)>0,IF(N(C31)<34,VLOOKUP('Tabela Final'!C31,' Pessoal'!$A$2:$B$34,2),""),"") -> Nuno | E31: =IF(N(C31)>0,IF(N(C31)<34,VLOOKUP(C31,' Pessoal'!$A$2:$C$34,3),""),"") -> Ajud. Electricista | F31: =IF(N(C31)>0,IF(N(C31)<34,VLOOKUP(C31,' Pessoal'!$A$2:$M$34,4)),"") -> 0 | G31: 22 | H31: =IF(N(C31)>0,$H$5,"") -> 40 | I31: =IF(N(H31)>0,(H31*52)/12,"") -> 173.33333 | J31: =IF(N(C31)>0,ROUND((F31/I31),2),"") -> 0 | L31: =IF(N(C31)>0,K31*((ROUND(I31/30,2)*J31)),"") -> 0 | N31: =IF(N(C31)>0,(M31*J31),"") -> 0 | O31: =IF(N(C31)>0,ROUND(L31+N31,2),"") -> 0 | S31: =IF(N(P31)>0,P31*ROUND((J31+($P$4*J31)),2),"") | T31: =IF(N(Q31)>0,Q31*ROUND((J31+($Q$4*J31)),2),"") | U31: =IF(N(R31)>0,R31*ROUND((J31+($R$4*J31)),2),"") | V31: =IF(N(C31)>0,SUM(S31:U31),"") -> 0 | X31: =IF(N(C31)>0,V31+W31,"") -> 0 | Y31: =IF(N(C31)>0,VLOOKUP(C31,' Pessoal'!$A$2:$M$34,10),"") -> 0 | Z31: =IF(N(C31)>0,(G31*Y31),"") -> 0 | AA31: =IF(N(C31)>0,V31,"") -> 0 | AC31: =IF(N(C31)>0,V31,"") -> 0 | AD31: =IF(N(C31)>0,ROUND(SUM(X31+F31+Z31+AA31+AB31+AC31)-O31,2),"") -> 0 | AE31: =IF(N(C31)>0,(ROUND(IF((Y31)>6.41,((Y31-6.41)*G32+F31+AA31+AB31+AC31-O31),F31+AA31+AB31+AC31-O31),2))," ") -> 0 | AF31: =IF(N(C31)>0,ROUND(AE31*VLOOKUP(C31,' Pessoal'!$A$2:$M$34,9),2),"") -> 0 | AG31: 0 | AH31: =IF(N(C31)>0,ROUND(AE31*AG31,2),"") -> 0 | AI31: 0 | AJ31: =IF(N(C31)>0,SUM(AF31+AH31)+(AD31*AI31),"") -> 0 | AK31: =IF(N(C31)>0,(AD31-AJ31),"") -> 0 | AL31: =AE31+AL26 -> 0 | AM31: =AH31+AM26 -> 0 | AN31: =AF31+AN26 -> 0
A32: 28 | B32: =B31 -> 40724 | C32: 3 | D32: =IF(N(C32)>0,IF(N(C32)<34,VLOOKUP('Tabela Final'!C32,' Pessoal'!$A$2:$B$34,2),""),"") -> Fábio | E32: =IF(N(C32)>0,IF(N(C32)<34,VLOOKUP(C32,' Pessoal'!$A$2:$C$34,3),""),"") -> Ajud. Electricista | F32: =IF(N(C32)>0,IF(N(C32)<34,VLOOKUP(C32,' Pessoal'!$A$2:$M$34,4)),"") -> 0 | G32: 22 | H32: =IF(N(C32)>0,$H$5,"") -> 40 | I32: =IF(N(H32)>0,(H32*52)/12,"") -> 173.33333 | J32: =IF(N(C32)>0,ROUND((F32/I32),2),"") -> 0 | L32: =IF(N(C32)>0,K32*((ROUND(I32/30,2)*J32)),"") -> 0 | N32: =IF(N(C32)>0,(M32*J32),"") -> 0 | O32: =IF(N(C32)>0,ROUND(L32+N32,2),"") -> 0 | S32: =IF(N(P32)>0,P32*ROUND((J32+($P$4*J32)),2),"") | T32: =IF(N(Q32)>0,Q32*ROUND((J32+($Q$4*J32)),2),"") | U32: =IF(N(R32)>0,R32*ROUND((J32+($R$4*J32)),2),"") | V32: =IF(N(C32)>0,SUM(S32:U32),"") -> 0 | X32: =IF(N(C32)>0,V32+W32,"") -> 0 | Y32: =IF(N(C32)>0,VLOOKUP(C32,' Pessoal'!$A$2:$M$34,10),"") -> 0 | Z32: =IF(N(C32)>0,(G32*Y32),"") -> 0 | AA32: =IF(N(C32)>0,V32,"") -> 0 | AC32: =IF(N(C32)>0,V32,"") -> 0 | AD32: =IF(N(C32)>0,ROUND(SUM(X32+F32+Z32+AA32+AB32+AC32)-O32,2),"") -> 0 | AE32: =IF(N(C32)>0,(ROUND(IF((Y32)>6.41,((Y32-6.41)*G33+F32+AA32+AB32+AC32-O32),F32+AA32+AB32+AC32-O32),2))," ") -> 0 | AF32: =IF(N(C32)>0,ROUND(AE32*VLOOKUP(C32,' Pessoal'!$A$2:$M$34,9),2),"") -> 0 | AG32: 0 | AH32: =IF(N(C32)>0,ROUND(AE32*AG32,2),"") -> 0 | AI32: 0 | AJ32: =IF(N(C32)>0,SUM(AF32+AH32)+(AD32*AI32),"") -> 0 | AK32: =IF(N(C32)>0,(AD32-AJ32),"") -> 0 | AL32: =AE32+AL27 -> 0 | AM32: =AH32+AM27 -> 0 | AN32: =AF32+AN27 -> 0
A33: 29 | B33: =B32 -> 40724 | C33: 4 | D33: =IF(N(C33)>0,IF(N(C33)<34,VLOOKUP('Tabela Final'!C33,' Pessoal'!$A$2:$B$34,2),""),"") -> Carlos | E33: =IF(N(C33)>0,IF(N(C33)<34,VLOOKUP(C33,' Pessoal'!$A$2:$C$34,3),""),"") -> Ajud. Electricista | F33: =IF(N(C33)>0,IF(N(C33)<34,VLOOKUP(C33,' Pessoal'!$A$2:$M$34,4)),"") -> 485 | G33: 22 | H33: =IF(N(C33)>0,$H$5,"") -> 40 | I33: =IF(N(H33)>0,(H33*52)/12,"") -> 173.33333 | J33: =IF(N(C33)>0,ROUND((F33/I33),2),"") -> 2.8 | L33: =IF(N(C33)>0,K33*((ROUND(I33/30,2)*J33)),"") -> 0 | N33: =IF(N(C33)>0,(M33*J33),"") -> 0 | O33: =IF(N(C33)>0,ROUND(L33+N33,2),"") -> 0 | S33: =IF(N(P33)>0,P33*ROUND((J33+($P$4*J33)),2),"") | T33: =IF(N(Q33)>0,Q33*ROUND((J33+($Q$4*J33)),2),"") | U33: =IF(N(R33)>0,R33*ROUND((J33+($R$4*J33)),2),"") | V33: =IF(N(C33)>0,SUM(S33:U33),"") -> 0 | X33: =IF(N(C33)>0,V33+W33,"") -> 0 | Y33: =IF(N(C33)>0,VLOOKUP(C33,' Pessoal'!$A$2:$M$34,10),"") -> 6.41 | Z33: =IF(N(C33)>0,(G33*Y33),"") -> 141.02 | AA33: =IF(N(C33)>0,V33,"") -> 0 | AC33: =IF(N(C33)>0,V33,"") -> 0 | AD33: =IF(N(C33)>0,ROUND(SUM(X33+F33+Z33+AA33+AB33+AC33)-O33,2),"") -> 626.02 | AE33: =IF(N(C33)>0,(ROUND(IF((Y33)>6.41,((Y33-6.41)*G34+F33+AA33+AB33+AC33-O33),F33+AA33+AB33+AC33-O33),2))," ") -> 485 | AF33: =IF(N(C33)>0,ROUND(AE33*VLOOKUP(C33,' Pessoal'!$A$2:$M$34,9),2),"") -> 53.35 | AG33: 0 | AH33: =IF(N(C33)>0,ROUND(AE33*AG33,2),"") -> 0 | AI33: 0 | AJ33: =IF(N(C33)>0,SUM(AF33+AH33)+(AD33*AI33),"") -> 53.35 | AK33: =IF(N(C33)>0,(AD33-AJ33),"") -> 572.67 | AL33: =AE33+AL28 -> 2950 | AM33: =AH33+AM28 -> 0 | AN33: =AF33+AN28 -> 324.5
A34: 30 | B34: =B33 -> 40724 | C34: 5 | D34: =IF(N(C34)>0,IF(N(C34)<34,VLOOKUP('Tabela Final'!C34,' Pessoal'!$A$2:$B$34,2),""),"") -> André | E34: =IF(N(C34)>0,IF(N(C34)<34,VLOOKUP(C34,' Pessoal'!$A$2:$C$34,3),""),"") -> Ajud. Electricista | F34: =IF(N(C34)>0,IF(N(C34)<34,VLOOKUP(C34,' Pessoal'!$A$2:$M$34,4)),"") -> 550 | G34: 22 | H34: =IF(N(C34)>0,$H$5,"") -> 40 | I34: =IF(N(H34)>0,(H34*52)/12,"") -> 173.33333 | J34: =IF(N(C34)>0,ROUND((F34/I34),2),"") -> 3.17 | L34: =IF(N(C34)>0,K34*((ROUND(I34/30,2)*J34)),"") -> 0 | N34: =IF(N(C34)>0,(M34*J34),"") -> 0 | O34: =IF(N(C34)>0,ROUND(L34+N34,2),"") -> 0 | S34: =IF(N(P34)>0,P34*ROUND((J34+($P$4*J34)),2),"") | T34: =IF(N(Q34)>0,Q34*ROUND((J34+($Q$4*J34)),2),"") | U34: =IF(N(R34)>0,R34*ROUND((J34+($R$4*J34)),2),"") | V34: =IF(N(C34)>0,SUM(S34:U34),"") -> 0 | X34: =IF(N(C34)>0,V34+W34,"") -> 0 | Y34: =IF(N(C34)>0,VLOOKUP(C34,' Pessoal'!$A$2:$M$34,10),"") -> 6.41 | Z34: =IF(N(C34)>0,(G34*Y34),"") -> 141.02 | AA34: =IF(N(C34)>0,V34,"") -> 0 | AC34: =IF(N(C34)>0,V34,"") -> 0 | AD34: =IF(N(C34)>0,ROUND(SUM(X34+F34+Z34+AA34+AB34+AC34)-O34,2),"") -> 691.02 | AE34: =IF(N(C34)>0,(ROUND(IF((Y34)>6.41,((Y34-6.41)*G35+F34+AA34+AB34+AC34-O34),F34+AA34+AB34+AC34-O34),2))," ") -> 550 | AF34: =IF(N(C34)>0,ROUND(AE34*VLOOKUP(C34,' Pessoal'!$A$2:$M$34,9),2),"") -> 60.5 | AG34: 0 | AH34: =IF(N(C34)>0,ROUND(AE34*AG34,2),"") -> 0 | AI34: 0 | AJ34: =IF(N(C34)>0,SUM(AF34+AH34)+(AD34*AI34),"") -> 60.5 | AK34: =IF(N(C34)>0,(AD34-AJ34),"") -> 630.52 | AL34: =AE34+AL29 -> 3300 | AM34: =AH34+AM29 -> 0 | AN34: =AF34+AN29 -> 363
A35: 31 | B35: 40754 | C35: 1 | D35: =IF(N(C35)>0,IF(N(C35)<34,VLOOKUP('Tabela Final'!C35,' Pessoal'!$A$2:$B$34,2),""),"") -> Susana | E35: =IF(N(C35)>0,IF(N(C35)<34,VLOOKUP(C35,' Pessoal'!$A$2:$C$34,3),""),"") -> Gerente | F35: =IF(N(C35)>0,IF(N(C35)<34,VLOOKUP(C35,' Pessoal'!$A$2:$M$34,4)),"") -> 927 | G35: 22 | H35: =IF(N(C35)>0,$H$5,"") -> 40 | I35: =IF(N(H35)>0,(H35*52)/12,"") -> 173.33333 | J35: =IF(N(C35)>0,ROUND((F35/I35),2),"") -> 5.35 | L35: =IF(N(C35)>0,K35*((ROUND(I35/30,2)*J35)),"") -> 0 | N35: =IF(N(C35)>0,(M35*J35),"") -> 0 | O35: =IF(N(C35)>0,ROUND(L35+N35,2),"") -> 0 | S35: =IF(N(P35)>0,P35*ROUND((J35+($P$4*J35)),2),"") | T35: =IF(N(Q35)>0,Q35*ROUND((J35+($Q$4*J35)),2),"") | U35: =IF(N(R35)>0,R35*ROUND((J35+($R$4*J35)),2),"") | V35: =IF(N(C35)>0,SUM(S35:U35),"") -> 0 | X35: =IF(N(C35)>0,V35+W35,"") -> 0 | Y35: =IF(N(C35)>0,VLOOKUP(C35,' Pessoal'!$A$2:$M$34,10),"") -> 6.41 | Z35: =IF(N(C35)>0,(G35*Y35),"") -> 141.02 | AA35: =IF(N(C35)>0,V35,"") -> 0 | AC35: =IF(N(C35)>0,V35,"") -> 0 | AD35: =IF(N(C35)>0,ROUND(SUM(X35+F35+Z35+AA35+AB35+AC35)-O35,2),"") -> 1068.02 | AE35: =IF(N(C35)>0,(ROUND(IF((Y35)>6.41,((Y35-6.41)*G36+F35+AA35+AB35+AC35-O35),F35+AA35+AB35+AC35-O35),2))," ") -> 927 | AF35: =IF(N(C35)>0,ROUND(AE35*VLOOKUP(C35,' Pessoal'!$A$2:$M$34,9),2),"") -> 86.21 | AG35: 0.08 | AH35: =IF(N(C35)>0,ROUND(AE35*AG35,2),"") -> 74.16 | AI35: 0 | AJ35: =IF(N(C35)>0,SUM(AF35+AH35)+(AD35*AI35),"") -> 160.37 | AK35: =IF(N(C35)>0,(AD35-AJ35),"") -> 907.65 | AL35: =AE35+AL30 -> 6489 | AM35: =AH35+AM30 -> 741.6 | AN35: =AF35+AN30 -> 603.47 | AO35: =SUM(AH35:AH39) -> 74.16 | AP35: =AE35 -> 927 | AQ35: =AP35*0.2125 -> 196.9875 | AR35: =SUM(AE36:AE39) -> 1035 | AS35: =ROUND(AR35*0.2375,2)-$AE38*0.01 -> 240.96 | AT35: =AK35 -> 907.65 | AU35: =ROUND(SUM(AK36:AK39),2) -> 1203.19 | AV35: =ROUND(AP35*0.3125+AR35*0.3475,2)-$AE38*0.01 -> 644.5 | AW35: =AD35 -> 1068.02 | AX35: =SUM(AD36:AD39) -> 1317.04
A36: 32 | B36: =B35 -> 40754 | C36: 2 | D36: =IF(N(C36)>0,IF(N(C36)<34,VLOOKUP('Tabela Final'!C36,' Pessoal'!$A$2:$B$34,2),""),"") -> Nuno | E36: =IF(N(C36)>0,IF(N(C36)<34,VLOOKUP(C36,' Pessoal'!$A$2:$C$34,3),""),"") -> Ajud. Electricista | F36: =IF(N(C36)>0,IF(N(C36)<34,VLOOKUP(C36,' Pessoal'!$A$2:$M$34,4)),"") -> 0 | G36: 22 | H36: 40 | I36: =IF(N(H36)>0,(H36*52)/12,"") -> 173.33333 | J36: =IF(N(C36)>0,ROUND((F36/I36),2),"") -> 0 | S36: =IF(N(P36)>0,P36*ROUND((J36+($P$4*J36)),2),"") | T36: =IF(N(Q36)>0,Q36*ROUND((J36+($Q$4*J36)),2),"") | U36: =IF(N(R36)>0,R36*ROUND((J36+($R$4*J36)),2),"") | V36: =IF(N(C36)>0,SUM(S36:U36),"") -> 0 | X36: =IF(N(C36)>0,V36+W36,"") -> 0 | Y36: =IF(N(C36)>0,VLOOKUP(C36,' Pessoal'!$A$2:$M$34,10),"") -> 0 | Z36: =IF(N(C36)>0,(G36*Y36),"") -> 0 | AA36: =IF(N(C36)>0,V36,"") -> 0 | AC36: =IF(N(C36)>0,V36,"") -> 0 | AD36: =IF(N(C36)>0,ROUND(SUM(X36+F36+Z36+AA36+AB36+AC36)-O36,2),"") -> 0 | AE36: =IF(N(C36)>0,(ROUND(IF((Y36)>6.41,((Y36-6.41)*G37+F36+AA36+AB36+AC36-O36),F36+AA36+AB36+AC36-O36),2))," ") -> 0 | AF36: =IF(N(C36)>0,ROUND(AE36*VLOOKUP(C36,' Pessoal'!$A$2:$M$34,9),2),"") -> 0 | AG36: 0 | AH36: =IF(N(C36)>0,ROUND(AE36*AG36,2),"") -> 0 | AI36: 0 | AJ36: =IF(N(C36)>0,SUM(AF36+AH36)+(AD36*AI36),"") -> 0 | AK36: =IF(N(C36)>0,(AD36-AJ36),"") -> 0 | AL36: =AE36+AL31 -> 0 | AM36: =AH36+AM31 -> 0 | AN36: =AF36+AN31 -> 0
A37: 33 | B37: =B36 -> 40754 | C37: 3 | D37: =IF(N(C37)>0,IF(N(C37)<34,VLOOKUP('Tabela Final'!C37,' Pessoal'!$A$2:$B$34,2),""),"") -> Fábio | E37: =IF(N(C37)>0,IF(N(C37)<34,VLOOKUP(C37,' Pessoal'!$A$2:$C$34,3),""),"") -> Ajud. Electricista | F37: =IF(N(C37)>0,IF(N(C37)<34,VLOOKUP(C37,' Pessoal'!$A$2:$M$34,4)),"") -> 0 | G37: 22 | H37: 40 | I37: =IF(N(H37)>0,(H37*52)/12,"") -> 173.33333 | J37: =IF(N(C37)>0,ROUND((F37/I37),2),"") -> 0 | L37: =IF(N(C37)>0,K37*((ROUND(I37/30,2)*J37)),"") -> 0 | N37: =IF(N(C37)>0,(M37*J37),"") -> 0 | O37: =IF(N(C37)>0,ROUND(L37+N37,2),"") -> 0 | S37: =IF(N(P37)>0,P37*ROUND((J37+($P$4*J37)),2),"") | T37: =IF(N(Q37)>0,Q37*ROUND((J37+($Q$4*J37)),2),"") | U37: =IF(N(R37)>0,R37*ROUND((J37+($R$4*J37)),2),"") | V37: =IF(N(C37)>0,SUM(S37:U37),"") -> 0 | X37: =IF(N(C37)>0,V37+W37,"") -> 0 | Y37: =IF(N(C37)>0,VLOOKUP(C37,' Pessoal'!$A$2:$M$34,10),"") -> 0 | Z37: =IF(N(C37)>0,(G37*Y37),"") -> 0 | AA37: =IF(N(C37)>0,V37,"") -> 0 | AC37: =IF(N(C37)>0,V37,"") -> 0 | AD37: =IF(N(C37)>0,ROUND(SUM(X37+F37+Z37+AA37+AB37+AC37)-O37,2),"") -> 0 | AE37: =IF(N(C37)>0,(ROUND(IF((Y37)>6.41,((Y37-6.41)*G38+F37+AA37+AB37+AC37-O37),F37+AA37+AB37+AC37-O37),2))," ") -> 0 | AF37: =IF(N(C37)>0,ROUND(AE37*VLOOKUP(C37,' Pessoal'!$A$2:$M$34,9),2),"") -> 0 | AG37: 0 | AH37: =IF(N(C37)>0,ROUND(AE37*AG37,2),"") -> 0 | AI37: 0 | AJ37: =IF(N(C37)>0,SUM(AF37+AH37)+(AD37*AI37),"") -> 0 | AK37: =IF(N(C37)>0,(AD37-AJ37),"") -> 0 | AL37: =AE37+AL32 -> 0 | AM37: =AH37+AM32 -> 0 | AN37: =AF37+AN32 -> 0
A38: 34 | B38: =B37 -> 40754 | C38: 4 | D38: =IF(N(C38)>0,IF(N(C38)<34,VLOOKUP('Tabela Final'!C38,' Pessoal'!$A$2:$B$34,2),""),"") -> Carlos | E38: =IF(N(C38)>0,IF(N(C38)<34,VLOOKUP(C38,' Pessoal'!$A$2:$C$34,3),""),"") -> Ajud. Electricista | F38: =IF(N(C38)>0,IF(N(C38)<34,VLOOKUP(C38,' Pessoal'!$A$2:$M$34,4)),"") -> 485 | G38: 22 | H38: =IF(N(C38)>0,$H$5,"") -> 40 | I38: =IF(N(H38)>0,(H38*52)/12,"") -> 173.33333 | J38: =IF(N(C38)>0,ROUND((F38/I38),2),"") -> 2.8 | S38: =IF(N(P38)>0,P38*ROUND((J38+($P$4*J38)),2),"") | T38: =IF(N(Q38)>0,Q38*ROUND((J38+($Q$4*J38)),2),"") | U38: =IF(N(R38)>0,R38*ROUND((J38+($R$4*J38)),2),"") | V38: =IF(N(C38)>0,SUM(S38:U38),"") -> 0 | X38: =IF(N(C38)>0,V38+W38,"") -> 0 | Y38: =IF(N(C38)>0,VLOOKUP(C38,' Pessoal'!$A$2:$M$34,10),"") -> 6.41 | Z38: =IF(N(C38)>0,(G38*Y38),"") -> 141.02 | AA38: =IF(N(C38)>0,V38,"") -> 0 | AC38: =IF(N(C38)>0,V38,"") -> 0 | AD38: =IF(N(C38)>0,ROUND(SUM(X38+F38+Z38+AA38+AB38+AC38)-O38,2),"") -> 626.02 | AE38: =IF(N(C38)>0,(ROUND(IF((Y38)>6.41,((Y38-6.41)*G39+F38+AA38+AB38+AC38-O38),F38+AA38+AB38+AC38-O38),2))," ") -> 485 | AF38: =IF(N(C38)>0,ROUND(AE38*VLOOKUP(C38,' Pessoal'!$A$2:$M$34,9),2),"") -> 53.35 | AG38: 0 | AH38: =IF(N(C38)>0,ROUND(AE38*AG38,2),"") -> 0 | AI38: 0 | AJ38: =IF(N(C38)>0,SUM(AF38+AH38)+(AD38*AI38),"") -> 53.35 | AK38: =IF(N(C38)>0,(AD38-AJ38),"") -> 572.67 | AL38: =AE38+AL33 -> 3435 | AM38: =AH38+AM33 -> 0 | AN38: =AF38+AN33 -> 377.85
A39: 35 | B39: =B38 -> 40754 | C39: 5 | D39: =IF(N(C39)>0,IF(N(C39)<34,VLOOKUP('Tabela Final'!C39,' Pessoal'!$A$2:$B$34,2),""),"") -> André | E39: =IF(N(C39)>0,IF(N(C39)<34,VLOOKUP(C39,' Pessoal'!$A$2:$C$34,3),""),"") -> Ajud. Electricista | F39: =IF(N(C39)>0,IF(N(C39)<34,VLOOKUP(C39,' Pessoal'!$A$2:$M$34,4)),"") -> 550 | G39: 22 | H39: =IF(N(C39)>0,$H$5,"") -> 40 | I39: =IF(N(H39)>0,(H39*52)/12,"") -> 173.33333 | J39: =IF(N(C39)>0,ROUND((F39/I39),2),"") -> 3.17 | S39: =IF(N(P39)>0,P39*ROUND((J39+($P$4*J39)),2),"") | T39: =IF(N(Q39)>0,Q39*ROUND((J39+($Q$4*J39)),2),"") | U39: =IF(N(R39)>0,R39*ROUND((J39+($R$4*J39)),2),"") | V39: =IF(N(C39)>0,SUM(S39:U39),"") -> 0 | X39: =IF(N(C39)>0,V39+W39,"") -> 0 | Y39: =IF(N(C39)>0,VLOOKUP(C39,' Pessoal'!$A$2:$M$34,10),"") -> 6.41 | Z39: =IF(N(C39)>0,(G39*Y39),"") -> 141.02 | AA39: =IF(N(C39)>0,V39,"") -> 0 | AC39: =IF(N(C39)>0,V39,"") -> 0 | AD39: =IF(N(C39)>0,ROUND(SUM(X39+F39+Z39+AA39+AB39+AC39)-O39,2),"") -> 691.02 | AE39: =IF(N(C39)>0,(ROUND(IF((Y39)>6.41,((Y39-6.41)*G40+F39+AA39+AB39+AC39-O39),F39+AA39+AB39+AC39-O39),2))," ") -> 550 | AF39: =IF(N(C39)>0,ROUND(AE39*VLOOKUP(C39,' Pessoal'!$A$2:$M$34,9),2),"") -> 60.5 | AG39: 0 | AH39: =IF(N(C39)>0,ROUND(AE39*AG39,2),"") -> 0 | AI39: 0 | AJ39: =IF(N(C39)>0,SUM(AF39+AH39)+(AD39*AI39),"") -> 60.5 | AK39: =IF(N(C39)>0,(AD39-AJ39),"") -> 630.52 | AL39: =AE39+AL34 -> 3850 | AM39: =AH39+AM34 -> 0 | AN39: =AF39+AN34 -> 423.5
A40: 36 | B40: 40786 | C40: 1 | D40: =IF(N(C40)>0,IF(N(C40)<34,VLOOKUP('Tabela Final'!C40,' Pessoal'!$A$2:$B$34,2),""),"") -> Susana | E40: =IF(N(C40)>0,IF(N(C40)<34,VLOOKUP(C40,' Pessoal'!$A$2:$C$34,3),""),"") -> Gerente | F40: =IF(N(C40)>0,IF(N(C40)<34,VLOOKUP(C40,' Pessoal'!$A$2:$M$34,4)),"") -> 927 | G40: 22 | H40: =IF(N(C40)>0,$H$5,"") -> 40 | I40: =IF(N(H40)>0,(H40*52)/12,"") -> 173.33333 | J40: =IF(N(C40)>0,ROUND((F40/I40),2),"") -> 5.35 | L40: =IF(N(C40)>0,K40*((ROUND(I40/30,2)*J40)),"") -> 0 | N40: =IF(N(C40)>0,(M40*J40),"") -> 0 | O40: =IF(N(C40)>0,ROUND(L40+N40,2),"") -> 0 | S40: =IF(N(P40)>0,P40*ROUND((J40+($P$4*J40)),2),"") | T40: =IF(N(Q40)>0,Q40*ROUND((J40+($Q$4*J40)),2),"") | U40: =IF(N(R40)>0,R40*ROUND((J40+($R$4*J40)),2),"") | V40: =IF(N(C40)>0,SUM(S40:U40),"") -> 0 | X40: =IF(N(C40)>0,V40+W40,"") -> 0 | Y40: =IF(N(C40)>0,VLOOKUP(C40,' Pessoal'!$A$2:$M$34,10),"") -> 6.41 | Z40: =IF(N(C40)>0,(G40*Y40),"") -> 141.02 | AA40: =IF(N(C40)>0,V40,"") -> 0 | AC40: =IF(N(C40)>0,V40,"") -> 0 | AD40: =IF(N(C40)>0,ROUND(SUM(X40+F40+Z40+AA40+AB40+AC40)-O40,2),"") -> 1068.02 | AE40: =IF(N(C40)>0,(ROUND(IF((Y40)>6.41,((Y40-6.41)*G41+F40+AA40+AB40+AC40-O40),F40+AA40+AB40+AC40-O40),2))," ") -> 927 | AF40: =IF(N(C40)>0,ROUND(AE40*VLOOKUP(C40,' Pessoal'!$A$2:$M$34,9),2),"") -> 86.21 | AG40: 0.08 | AH40: =IF(N(C40)>0,ROUND(AE40*AG40,2),"") -> 74.16 | AI40: 0 | AJ40: =IF(N(C40)>0,SUM(AF40+AH40)+(AD40*AI40),"") -> 160.37 | AK40: =IF(N(C40)>0,(AD40-AJ40),"") -> 907.65 | AL40: =AE40+AL35 -> 7416 | AM40: =AH40+AM35 -> 815.76 | AN40: =AF40+AN35 -> 689.68 | AO40: =SUM(AH40:AH44) -> 74.16 | AP40: =AE40 -> 927 | AQ40: =AP40*0.2125 -> 196.9875 | AR40: =SUM(AE41:AE44) -> 1035 | AS40: =ROUND(AR40*0.2375,2)-$AE43*0.01 -> 240.96 | AT40: =AK40 -> 907.65 | AU40: =ROUND(SUM(AK41:AK44),2) -> 1203.19 | AV40: =ROUND(AP40*0.3125+AR40*0.3475,2)-$AE43*0.01 -> 644.5 | AW40: =AD40 -> 1068.02 | AX40: =SUM(AD41:AD44) -> 1317.04
A41: 37 | B41: =B40 -> 40786 | C41: 2 | D41: =IF(N(C41)>0,IF(N(C41)<34,VLOOKUP('Tabela Final'!C41,' Pessoal'!$A$2:$B$34,2),""),"") -> Nuno | E41: =IF(N(C41)>0,IF(N(C41)<34,VLOOKUP(C41,' Pessoal'!$A$2:$C$34,3),""),"") -> Ajud. Electricista | F41: =IF(N(C41)>0,IF(N(C41)<34,VLOOKUP(C41,' Pessoal'!$A$2:$M$34,4)),"") -> 0 | G41: 22 | H41: 40 | S41: =IF(N(P41)>0,P41*ROUND((J41+($P$4*J41)),2),"") | T41: =IF(N(Q41)>0,Q41*ROUND((J41+($Q$4*J41)),2),"") | U41: =IF(N(R41)>0,R41*ROUND((J41+($R$4*J41)),2),"") | V41: =IF(N(C41)>0,SUM(S41:U41),"") -> 0 | X41: =IF(N(C41)>0,V41+W41,"") -> 0 | Y41: =IF(N(C41)>0,VLOOKUP(C41,' Pessoal'!$A$2:$M$34,10),"") -> 0 | Z41: =IF(N(C41)>0,(G41*Y41),"") -> 0 | AA41: =IF(N(C41)>0,V41,"") -> 0 | AC41: =IF(N(C41)>0,V41,"") -> 0 | AD41: =IF(N(C41)>0,ROUND(SUM(X41+F41+Z41+AA41+AB41+AC41)-O41,2),"") -> 0 | AE41: =IF(N(C41)>0,(ROUND(IF((Y41)>6.41,((Y41-6.41)*G42+F41+AA41+AB41+AC41-O41),F41+AA41+AB41+AC41-O41),2))," ") -> 0 | AF41: =IF(N(C41)>0,ROUND(AE41*VLOOKUP(C41,' Pessoal'!$A$2:$M$34,9),2),"") -> 0 | AG41: 0 | AH41: =IF(N(C41)>0,ROUND(AE41*AG41,2),"") -> 0 | AI41: 0 | AJ41: =IF(N(C41)>0,SUM(AF41+AH41)+(AD41*AI41),"") -> 0 | AK41: =IF(N(C41)>0,(AD41-AJ41),"") -> 0
A42: 38 | B42: =B41 -> 40786 | C42: 3 | D42: =IF(N(C42)>0,IF(N(C42)<34,VLOOKUP('Tabela Final'!C42,' Pessoal'!$A$2:$B$34,2),""),"") -> Fábio | E42: =IF(N(C42)>0,IF(N(C42)<34,VLOOKUP(C42,' Pessoal'!$A$2:$C$34,3),""),"") -> Ajud. Electricista | F42: =IF(N(C42)>0,IF(N(C42)<34,VLOOKUP(C42,' Pessoal'!$A$2:$M$34,4)),"") -> 0 | G42: 22 | H42: 40 | I42: =IF(N(H42)>0,(H42*52)/12,"") -> 173.33333 | J42: =IF(N(C42)>0,ROUND((F42/I42),2),"") -> 0 | L42: =IF(N(C42)>0,K42*((ROUND(I42/30,2)*J42)),"") -> 0 | N42: =IF(N(C42)>0,(M42*J42),"") -> 0 | O42: =IF(N(C42)>0,ROUND(L42+N42,2),"") -> 0 | S42: =IF(N(P42)>0,P42*ROUND((J42+($P$4*J42)),2),"") | T42: =IF(N(Q42)>0,Q42*ROUND((J42+($Q$4*J42)),2),"") | U42: =IF(N(R42)>0,R42*ROUND((J42+($R$4*J42)),2),"") | V42: =IF(N(C42)>0,SUM(S42:U42),"") -> 0 | X42: =IF(N(C42)>0,V42+W42,"") -> 0 | Y42: =IF(N(C42)>0,VLOOKUP(C42,' Pessoal'!$A$2:$M$34,10),"") -> 0 | Z42: =IF(N(C42)>0,(G42*Y42),"") -> 0 | AA42: =IF(N(C42)>0,V42,"") -> 0 | AC42: =IF(N(C42)>0,V42,"") -> 0 | AD42: =IF(N(C42)>0,ROUND(SUM(X42+F42+Z42+AA42+AB42+AC42)-O42,2),"") -> 0 | AE42: =IF(N(C42)>0,(ROUND(IF((Y42)>6.41,((Y42-6.41)*G43+F42+AA42+AB42+AC42-O42),F42+AA42+AB42+AC42-O42),2))," ") -> 0 | AF42: =IF(N(C42)>0,ROUND(AE42*VLOOKUP(C42,' Pessoal'!$A$2:$M$34,9),2),"") -> 0 | AG42: 0 | AH42: =IF(N(C42)>0,ROUND(AE42*AG42,2),"") -> 0 | AI42: 0 | AJ42: =IF(N(C42)>0,SUM(AF42+AH42)+(AD42*AI42),"") -> 0 | AK42: =IF(N(C42)>0,(AD42-AJ42),"") -> 0 | AL42: =AE42+AL37 -> 0 | AM42: =AH42+AM37 -> 0 | AN42: =AF42+AN37 -> 0
A43: 39 | B43: =B42 -> 40786 | C43: 4 | D43: =IF(N(C43)>0,IF(N(C43)<34,VLOOKUP('Tabela Final'!C43,' Pessoal'!$A$2:$B$34,2),""),"") -> Carlos | E43: =IF(N(C43)>0,IF(N(C43)<34,VLOOKUP(C43,' Pessoal'!$A$2:$C$34,3),""),"") -> Ajud. Electricista | F43: =IF(N(C43)>0,IF(N(C43)<34,VLOOKUP(C43,' Pessoal'!$A$2:$M$34,4)),"") -> 485 | G43: 22 | H43: =IF(N(C43)>0,$H$5,"") -> 40 | I43: =IF(N(H43)>0,(H43*52)/12,"") -> 173.33333 | J43: =IF(N(C43)>0,ROUND((F43/I43),2),"") -> 2.8 | L43: =IF(N(C43)>0,K43*((ROUND(I43/30,2)*J43)),"") -> 0 | N43: =IF(N(C43)>0,(M43*J43),"") -> 0 | O43: =IF(N(C43)>0,ROUND(L43+N43,2),"") -> 0 | S43: =IF(N(P43)>0,P43*ROUND((J43+($P$4*J43)),2),"") | T43: =IF(N(Q43)>0,Q43*ROUND((J43+($Q$4*J43)),2),"") | U43: =IF(N(R43)>0,R43*ROUND((J43+($R$4*J43)),2),"") | V43: =IF(N(C43)>0,SUM(S43:U43),"") -> 0 | X43: =IF(N(C43)>0,V43+W43,"") -> 0 | Y43: =IF(N(C43)>0,VLOOKUP(C43,' Pessoal'!$A$2:$M$34,10),"") -> 6.41 | Z43: =IF(N(C43)>0,(G43*Y43),"") -> 141.02 | AA43: =IF(N(C43)>0,V43,"") -> 0 | AC43: =IF(N(C43)>0,V43,"") -> 0 | AD43: =IF(N(C43)>0,ROUND(SUM(X43+F43+Z43+AA43+AB43+AC43)-O43,2),"") -> 626.02 | AE43: =IF(N(C43)>0,(ROUND(IF((Y43)>6.41,((Y43-6.41)*G44+F43+AA43+AB43+AC43-O43),F43+AA43+AB43+AC43-O43),2))," ") -> 485 | AF43: =IF(N(C43)>0,ROUND(AE43*VLOOKUP(C43,' Pessoal'!$A$2:$M$34,9),2),"") -> 53.35 | AG43: 0 | AH43: =IF(N(C43)>0,ROUND(AE43*AG43,2),"") -> 0 | AI43: 0 | AJ43: =IF(N(C43)>0,SUM(AF43+AH43)+(AD43*AI43),"") -> 53.35 | AK43: =IF(N(C43)>0,(AD43-AJ43),"") -> 572.67 | AL43: =AE43+AL38 -> 3920 | AM43: =AH43+AM38 -> 0 | AN43: =AF43+AN38 -> 431.2
A44: 40 | B44: =B43 -> 40786 | C44: 5 | D44: =IF(N(C44)>0,IF(N(C44)<34,VLOOKUP('Tabela Final'!C44,' Pessoal'!$A$2:$B$34,2),""),"") -> André | E44: =IF(N(C44)>0,IF(N(C44)<34,VLOOKUP(C44,' Pessoal'!$A$2:$C$34,3),""),"") -> Ajud. Electricista | F44: =IF(N(C44)>0,IF(N(C44)<34,VLOOKUP(C44,' Pessoal'!$A$2:$M$34,4)),"") -> 550 | G44: 22 | H44: =IF(N(C44)>0,$H$5,"") -> 40 | I44: =IF(N(H44)>0,(H44*52)/12,"") -> 173.33333 | J44: =IF(N(C44)>0,ROUND((F44/I44),2),"") -> 3.17 | L44: =IF(N(C44)>0,K44*((ROUND(I44/30,2)*J44)),"") -> 0 | N44: =IF(N(C44)>0,(M44*J44),"") -> 0 | O44: =IF(N(C44)>0,ROUND(L44+N44,2),"") -> 0 | S44: =IF(N(P44)>0,P44*ROUND((J44+($P$4*J44)),2),"") | T44: =IF(N(Q44)>0,Q44*ROUND((J44+($Q$4*J44)),2),"") | U44: =IF(N(R44)>0,R44*ROUND((J44+($R$4*J44)),2),"") | V44: =IF(N(C44)>0,SUM(S44:U44),"") -> 0 | X44: =IF(N(C44)>0,V44+W44,"") -> 0 | Y44: =IF(N(C44)>0,VLOOKUP(C44,' Pessoal'!$A$2:$M$34,10),"") -> 6.41 | Z44: =IF(N(C44)>0,(G44*Y44),"") -> 141.02 | AA44: =IF(N(C44)>0,V44,"") -> 0 | AC44: =IF(N(C44)>0,V44,"") -> 0 | AD44: =IF(N(C44)>0,ROUND(SUM(X44+F44+Z44+AA44+AB44+AC44)-O44,2),"") -> 691.02 | AE44: =IF(N(C44)>0,(ROUND(IF((Y44)>6.41,((Y44-6.41)*G45+F44+AA44+AB44+AC44-O44),F44+AA44+AB44+AC44-O44),2))," ") -> 550 | AF44: =IF(N(C44)>0,ROUND(AE44*VLOOKUP(C44,' Pessoal'!$A$2:$M$34,9),2),"") -> 60.5 | AG44: 0 | AH44: =IF(N(C44)>0,ROUND(AE44*AG44,2),"") -> 0 | AI44: 0 | AJ44: =IF(N(C44)>0,SUM(AF44+AH44)+(AD44*AI44),"") -> 60.5 | AK44: =IF(N(C44)>0,(AD44-AJ44),"") -> 630.52 | AL44: =AE44+AL39 -> 4400 | AM44: =AH44+AM39 -> 0 | AN44: =AF44+AN39 -> 484
A45: 41 | B45: 40816 | C45: 1 | D45: =IF(N(C45)>0,IF(N(C45)<34,VLOOKUP('Tabela Final'!C45,' Pessoal'!$A$2:$B$34,2),""),"") -> Susana | E45: =IF(N(C45)>0,IF(N(C45)<34,VLOOKUP(C45,' Pessoal'!$A$2:$C$34,3),""),"") -> Gerente | F45: =IF(N(C45)>0,IF(N(C45)<34,VLOOKUP(C45,' Pessoal'!$A$2:$M$34,4)),"") -> 927 | G45: 22 | H45: =IF(N(C45)>0,$H$5,"") -> 40 | I45: =IF(N(H45)>0,(H45*52)/12,"") -> 173.33333 | J45: =IF(N(C45)>0,ROUND((F45/I45),2),"") -> 5.35 | L45: =IF(N(C45)>0,K45*((ROUND(I45/30,2)*J45)),"") -> 0 | N45: =IF(N(C45)>0,(M45*J45),"") -> 0 | O45: =IF(N(C45)>0,ROUND(L45+N45,2),"") -> 0 | S45: =IF(N(P45)>0,P45*ROUND((J45+($P$4*J45)),2),"") | T45: =IF(N(Q45)>0,Q45*ROUND((J45+($Q$4*J45)),2),"") | U45: =IF(N(R45)>0,R45*ROUND((J45+($R$4*J45)),2),"") | V45: =IF(N(C45)>0,SUM(S45:U45),"") -> 0 | X45: =IF(N(C45)>0,V45+W45,"") -> 0 | Y45: =IF(N(C45)>0,VLOOKUP(C45,' Pessoal'!$A$2:$M$34,10),"") -> 6.41 | Z45: =IF(N(C45)>0,(G45*Y45),"") -> 141.02 | AA45: =IF(N(C45)>0,V45,"") -> 0 | AC45: =IF(N(C45)>0,V45,"") -> 0 | AD45: =IF(N(C45)>0,ROUND(SUM(X45+F45+Z45+AA45+AB45+AC45)-O45,2),"") -> 1068.02 | AE45: =IF(N(C45)>0,(ROUND(IF((Y45)>6.41,((Y45-6.41)*G46+F45+AA45+AB45+AC45-O45),F45+AA45+AB45+AC45-O45),2))," ") -> 927 | AF45: =IF(N(C45)>0,ROUND(AE45*VLOOKUP(C45,' Pessoal'!$A$2:$M$34,9),2),"") -> 86.21 | AG45: 0.08 | AH45: =IF(N(C45)>0,ROUND(AE45*AG45,2),"") -> 74.16 | AI45: 0 | AJ45: =IF(N(C45)>0,SUM(AF45+AH45)+(AD45*AI45),"") -> 160.37 | AK45: =IF(N(C45)>0,(AD45-AJ45),"") -> 907.65 | AL45: =AE45+AL40 -> 8343 | AM45: =AH45+AM40 -> 889.92 | AN45: =AF45+AN40 -> 775.89 | AO45: =SUM(AH45:AH49) -> 74.16 | AP45: =AE45 -> 927 | AQ45: =AP45*0.2125 -> 196.9875 | AR45: =SUM(AE46:AE49) -> 1075 | AS45: =ROUND(AR45*0.2375,2)-$AE48*0.01 -> 250.06 | AT45: =AK45 -> 907.65 | AU45: =ROUND(SUM(AK46:AK49),2) -> 1238.79 | AV45: =ROUND(AP45*0.3125+AR45*0.3475,2)-$AE48*0.01 -> 658 | AW45: =AD45 -> 1068.02 | AX45: =SUM(AD46:AD49) -> 1357.04
A46: 42 | B46: =B45 -> 40816 | C46: 2 | D46: =IF(N(C46)>0,IF(N(C46)<34,VLOOKUP('Tabela Final'!C46,' Pessoal'!$A$2:$B$34,2),""),"") -> Nuno | E46: =IF(N(C46)>0,IF(N(C46)<34,VLOOKUP(C46,' Pessoal'!$A$2:$C$34,3),""),"") -> Ajud. Electricista | F46: =IF(N(C46)>0,IF(N(C46)<34,VLOOKUP(C46,' Pessoal'!$A$2:$M$34,4)),"") -> 0 | G46: 22 | H46: 40 | S46: =IF(N(P46)>0,P46*ROUND((J46+($P$4*J46)),2),"") | T46: =IF(N(Q46)>0,Q46*ROUND((J46+($Q$4*J46)),2),"") | U46: =IF(N(R46)>0,R46*ROUND((J46+($R$4*J46)),2),"") | V46: =IF(N(C46)>0,SUM(S46:U46),"") -> 0 | X46: =IF(N(C46)>0,V46+W46,"") -> 0 | Y46: =IF(N(C46)>0,VLOOKUP(C46,' Pessoal'!$A$2:$M$34,10),"") -> 0 | Z46: =IF(N(C46)>0,(G46*Y46),"") -> 0 | AA46: =IF(N(C46)>0,V46,"") -> 0 | AC46: =IF(N(C46)>0,V46,"") -> 0 | AD46: =IF(N(C46)>0,ROUND(SUM(X46+F46+Z46+AA46+AB46+AC46)-O46,2),"") -> 0 | AE46: =IF(N(C46)>0,(ROUND(IF((Y46)>6.41,((Y46-6.41)*G47+F46+AA46+AB46+AC46-O46),F46+AA46+AB46+AC46-O46),2))," ") -> 0 | AF46: =IF(N(C46)>0,ROUND(AE46*VLOOKUP(C46,' Pessoal'!$A$2:$M$34,9),2),"") -> 0 | AG46: 0 | AH46: =IF(N(C46)>0,ROUND(AE46*AG46,2),"") -> 0 | AI46: 0 | AJ46: =IF(N(C46)>0,SUM(AF46+AH46)+(AD46*AI46),"") -> 0 | AK46: =IF(N(C46)>0,(AD46-AJ46),"") -> 0 | AL46: =AE46+AL41 -> 0 | AM46: =AH46+AM41 -> 0 | AN46: =AF46+AN41 -> 0
A47: 43 | B47: =B46 -> 40816 | C47: 3 | D47: =IF(N(C47)>0,IF(N(C47)<34,VLOOKUP('Tabela Final'!C47,' Pessoal'!$A$2:$B$34,2),""),"") -> Fábio | E47: =IF(N(C47)>0,IF(N(C47)<34,VLOOKUP(C47,' Pessoal'!$A$2:$C$34,3),""),"") -> Ajud. Electricista | F47: =IF(N(C47)>0,IF(N(C47)<34,VLOOKUP(C47,' Pessoal'!$A$2:$M$34,4)),"") -> 0 | G47: 22 | H47: =IF(N(C47)>0,$H$5,"") -> 40 | I47: =IF(N(H47)>0,(H47*52)/12,"") -> 173.33333 | J47: =IF(N(C47)>0,ROUND((F47/I47),2),"") -> 0 | L47: =IF(N(C47)>0,K47*((ROUND(I47/30,2)*J47)),"") -> 0 | N47: =IF(N(C47)>0,(M47*J47),"") -> 0 | O47: =IF(N(C47)>0,ROUND(L47+N47,2),"") -> 0 | S47: =IF(N(P47)>0,P47*ROUND((J47+($P$4*J47)),2),"") | T47: =IF(N(Q47)>0,Q47*ROUND((J47+($Q$4*J47)),2),"") | U47: =IF(N(R47)>0,R47*ROUND((J47+($R$4*J47)),2),"") | V47: =IF(N(C47)>0,SUM(S47:U47),"") -> 0 | X47: =IF(N(C47)>0,V47+W47,"") -> 0 | Y47: =IF(N(C47)>0,VLOOKUP(C47,' Pessoal'!$A$2:$M$34,10),"") -> 0 | Z47: =IF(N(C47)>0,(G47*Y47),"") -> 0 | AA47: =IF(N(C47)>0,V47,"") -> 0 | AC47: =IF(N(C47)>0,V47,"") -> 0 | AD47: =IF(N(C47)>0,ROUND(SUM(X47+F47+Z47+AA47+AB47+AC47)-O47,2),"") -> 0 | AE47: =IF(N(C47)>0,(ROUND(IF((Y47)>6.41,((Y47-6.41)*G48+F47+AA47+AB47+AC47-O47),F47+AA47+AB47+AC47-O47),2))," ") -> 0 | AF47: =IF(N(C47)>0,ROUND(AE47*VLOOKUP(C47,' Pessoal'!$A$2:$M$34,9),2),"") -> 0 | AG47: 0 | AH47: =IF(N(C47)>0,ROUND(AE47*AG47,2),"") -> 0 | AI47: 0 | AJ47: =IF(N(C47)>0,SUM(AF47+AH47)+(AD47*AI47),"") -> 0 | AK47: =IF(N(C47)>0,(AD47-AJ47),"") -> 0 | AL47: =AE47+AL42 -> 0 | AM47: =AH47+AM42 -> 0 | AN47: =AF47+AN42 -> 0
A48: 44 | B48: =B47 -> 40816 | C48: 4 | D48: =IF(N(C48)>0,IF(N(C48)<34,VLOOKUP('Tabela Final'!C48,' Pessoal'!$A$2:$B$34,2),""),"") -> Carlos | E48: =IF(N(C48)>0,IF(N(C48)<34,VLOOKUP(C48,' Pessoal'!$A$2:$C$34,3),""),"") -> Ajud. Electricista | F48: =IF(N(C48)>0,IF(N(C48)<34,VLOOKUP(C48,' Pessoal'!$A$2:$M$34,4)),"") -> 485 | G48: 22 | H48: =IF(N(C48)>0,$H$5,"") -> 40 | I48: =IF(N(H48)>0,(H48*52)/12,"") -> 173.33333 | J48: =IF(N(C48)>0,ROUND((F48/I48),2),"") -> 2.8 | L48: =IF(N(C48)>0,K48*((ROUND(I48/30,2)*J48)),"") -> 0 | N48: =IF(N(C48)>0,(M48*J48),"") -> 0 | O48: =IF(N(C48)>0,ROUND(L48+N48,2),"") -> 0 | S48: =IF(N(P48)>0,P48*ROUND((J48+($P$4*J48)),2),"") | T48: =IF(N(Q48)>0,Q48*ROUND((J48+($Q$4*J48)),2),"") | U48: =IF(N(R48)>0,R48*ROUND((J48+($R$4*J48)),2),"") | V48: =IF(N(C48)>0,SUM(S48:U48),"") -> 0 | X48: =IF(N(C48)>0,V48+W48,"") -> 0 | Y48: =IF(N(C48)>0,VLOOKUP(C48,' Pessoal'!$A$2:$M$34,10),"") -> 6.41 | Z48: =IF(N(C48)>0,(G48*Y48),"") -> 141.02 | AA48: =IF(N(C48)>0,V48,"") -> 0 | AC48: 40 | AD48: =IF(N(C48)>0,ROUND(SUM(X48+F48+Z48+AA48+AB48+AC48)-O48,2),"") -> 666.02 | AE48: =IF(N(C48)>0,(ROUND(IF((Y48)>6.41,((Y48-6.41)*G49+F48+AA48+AB48+AC48-O48),F48+AA48+AB48+AC48-O48),2))," ") -> 525 | AF48: =IF(N(C48)>0,ROUND(AE48*VLOOKUP(C48,' Pessoal'!$A$2:$M$34,9),2),"") -> 57.75 | AG48: 0 | AH48: =IF(N(C48)>0,ROUND(AE48*AG48,2),"") -> 0 | AI48: 0 | AJ48: =IF(N(C48)>0,SUM(AF48+AH48)+(AD48*AI48),"") -> 57.75 | AK48: =IF(N(C48)>0,(AD48-AJ48),"") -> 608.27 | AL48: =AE48+AL43 -> 4445 | AM48: =AH48+AM43 -> 0 | AN48: =AF48+AN43 -> 488.95
A49: 45 | B49: =B48 -> 40816 | C49: 5 | D49: =IF(N(C49)>0,IF(N(C49)<34,VLOOKUP('Tabela Final'!C49,' Pessoal'!$A$2:$B$34,2),""),"") -> André | E49: =IF(N(C49)>0,IF(N(C49)<34,VLOOKUP(C49,' Pessoal'!$A$2:$C$34,3),""),"") -> Ajud. Electricista | F49: =IF(N(C49)>0,IF(N(C49)<34,VLOOKUP(C49,' Pessoal'!$A$2:$M$34,4)),"") -> 550 | G49: 22 | H49: =IF(N(C49)>0,$H$5,"") -> 40 | I49: =IF(N(H49)>0,(H49*52)/12,"") -> 173.33333 | J49: =IF(N(C49)>0,ROUND((F49/I49),2),"") -> 3.17 | L49: =IF(N(C49)>0,K49*((ROUND(I49/30,2)*J49)),"") -> 0 | N49: =IF(N(C49)>0,(M49*J49),"") -> 0 | O49: =IF(N(C49)>0,ROUND(L49+N49,2),"") -> 0 | S49: =IF(N(P49)>0,P49*ROUND((J49+($P$4*J49)),2),"") | T49: =IF(N(Q49)>0,Q49*ROUND((J49+($Q$4*J49)),2),"") | U49: =IF(N(R49)>0,R49*ROUND((J49+($R$4*J49)),2),"") | V49: =IF(N(C49)>0,SUM(S49:U49),"") -> 0 | X49: =IF(N(C49)>0,V49+W49,"") -> 0 | Y49: =IF(N(C49)>0,VLOOKUP(C49,' Pessoal'!$A$2:$M$34,10),"") -> 6.41 | Z49: =IF(N(C49)>0,(G49*Y49),"") -> 141.02 | AA49: =IF(N(C49)>0,V49,"") -> 0 | AC49: =IF(N(C49)>0,V49,"") -> 0 | AD49: =IF(N(C49)>0,ROUND(SUM(X49+F49+Z49+AA49+AB49+AC49)-O49,2),"") -> 691.02 | AE49: =IF(N(C49)>0,(ROUND(IF((Y49)>6.41,((Y49-6.41)*G50+F49+AA49+AB49+AC49-O49),F49+AA49+AB49+AC49-O49),2))," ") -> 550 | AF49: =IF(N(C49)>0,ROUND(AE49*VLOOKUP(C49,' Pessoal'!$A$2:$M$34,9),2),"") -> 60.5 | AG49: 0 | AH49: =IF(N(C49)>0,ROUND(AE49*AG49,2),"") -> 0 | AI49: 0 | AJ49: =IF(N(C49)>0,SUM(AF49+AH49)+(AD49*AI49),"") -> 60.5 | AK49: =IF(N(C49)>0,(AD49-AJ49),"") -> 630.52 | AL49: =AE49+AL44 -> 4950 | AM49: =AH49+AM44 -> 0 | AN49: =AF49+AN44 -> 544.5
A50: 46 | B50: 40847 | C50: 1 | D50: =IF(N(C50)>0,IF(N(C50)<34,VLOOKUP('Tabela Final'!C50,' Pessoal'!$A$2:$B$34,2),""),"") -> Susana | E50: =IF(N(C50)>0,IF(N(C50)<34,VLOOKUP(C50,' Pessoal'!$A$2:$C$34,3),""),"") -> Gerente | F50: =IF(N(C50)>0,IF(N(C50)<34,VLOOKUP(C50,' Pessoal'!$A$2:$M$34,4)),"") -> 927 | G50: 22 | H50: =IF(N(C50)>0,$H$5,"") -> 40 | I50: =IF(N(H50)>0,(H50*52)/12,"") -> 173.33333 | J50: =IF(N(C50)>0,ROUND((F50/I50),2),"") -> 5.35 | L50: =IF(N(C50)>0,K50*((ROUND(I50/30,2)*J50)),"") -> 0 | N50: =IF(N(C50)>0,(M50*J50),"") -> 0 | O50: =IF(N(C50)>0,ROUND(L50+N50,2),"") -> 0 | S50: =IF(N(P50)>0,P50*ROUND((J50+($P$4*J50)),2),"") | T50: =IF(N(Q50)>0,Q50*ROUND((J50+($Q$4*J50)),2),"") | U50: =IF(N(R50)>0,R50*ROUND((J50+($R$4*J50)),2),"") | V50: =IF(N(C50)>0,SUM(S50:U50),"") -> 0 | X50: =IF(N(C50)>0,V50+W50,"") -> 0 | Y50: =IF(N(C50)>0,VLOOKUP(C50,' Pessoal'!$A$2:$M$34,10),"") -> 6.41 | Z50: =IF(N(C50)>0,(G50*Y50),"") -> 141.02 | AA50: =IF(N(C50)>0,V50,"") -> 0 | AC50: =IF(N(C50)>0,V50,"") -> 0 | AD50: =IF(N(C50)>0,ROUND(SUM(X50+F50+Z50+AA50+AB50+AC50)-O50,2),"") -> 1068.02 | AE50: =IF(N(C50)>0,(ROUND(IF((Y50)>6.41,((Y50-6.41)*G51+F50+AA50+AB50+AC50-O50),F50+AA50+AB50+AC50-O50),2))," ") -> 927 | AF50: =IF(N(C50)>0,ROUND(AE50*VLOOKUP(C50,' Pessoal'!$A$2:$M$34,9),2),"") -> 86.21 | AG50: 0.08 | AH50: =IF(N(C50)>0,ROUND(AE50*AG50,2),"") -> 74.16 | AI50: 0 | AJ50: =IF(N(C50)>0,SUM(AF50+AH50)+(AD50*AI50),"") -> 160.37 | AK50: =IF(N(C50)>0,(AD50-AJ50),"") -> 907.65 | AL50: =AE50+AL45 -> 9270 | AM50: =AH50+AM45 -> 964.08 | AN50: =AF50+AN45 -> 862.1 | AO50: =SUM(AH50:AH54) -> 74.16 | AP50: =AE50 -> 927 | AQ50: =AP50*0.2125 -> 196.9875 | AR50: =SUM(AE51:AE54) -> 1035 | AS50: =ROUND(AR50*0.2375,2)-$AE53*0.01 -> 240.96 | AT50: =AK50 -> 907.65 | AU50: =ROUND(SUM(AK51:AK54),2) -> 1203.19 | AV50: =ROUND(AP50*0.3125+AR50*0.3475,2)-$AE53*0.01 -> 644.5 | AW50: =AD50 -> 1068.02 | AX50: =SUM(AD51:AD54) -> 1317.04
A51: 47 | B51: =B50 -> 40847 | C51: 2 | D51: =IF(N(C51)>0,IF(N(C51)<34,VLOOKUP('Tabela Final'!C51,' Pessoal'!$A$2:$B$34,2),""),"") -> Nuno | E51: =IF(N(C51)>0,IF(N(C51)<34,VLOOKUP(C51,' Pessoal'!$A$2:$C$34,3),""),"") -> Ajud. Electricista | F51: =IF(N(C51)>0,IF(N(C51)<34,VLOOKUP(C51,' Pessoal'!$A$2:$M$34,4)),"") -> 0 | G51: 22 | H51: 40 | S51: =IF(N(P51)>0,P51*ROUND((J51+($P$4*J51)),2),"") | T51: =IF(N(Q51)>0,Q51*ROUND((J51+($Q$4*J51)),2),"") | U51: =IF(N(R51)>0,R51*ROUND((J51+($R$4*J51)),2),"") | V51: =IF(N(C51)>0,SUM(S51:U51),"") -> 0 | X51: =IF(N(C51)>0,V51+W51,"") -> 0 | Y51: =IF(N(C51)>0,VLOOKUP(C51,' Pessoal'!$A$2:$M$34,10),"") -> 0 | Z51: =IF(N(C51)>0,(G51*Y51),"") -> 0 | AA51: =IF(N(C51)>0,V51,"") -> 0 | AC51: =IF(N(C51)>0,V51,"") -> 0 | AD51: =IF(N(C51)>0,ROUND(SUM(X51+F51+Z51+AA51+AB51+AC51)-O51,2),"") -> 0 | AE51: =IF(N(C51)>0,(ROUND(IF((Y51)>6.41,((Y51-6.41)*G52+F51+AA51+AB51+AC51-O51),F51+AA51+AB51+AC51-O51),2))," ") -> 0 | AF51: =IF(N(C51)>0,ROUND(AE51*VLOOKUP(C51,' Pessoal'!$A$2:$M$34,9),2),"") -> 0 | AG51: 0 | AH51: =IF(N(C51)>0,ROUND(AE51*AG51,2),"") -> 0 | AI51: 0 | AJ51: =IF(N(C51)>0,SUM(AF51+AH51)+(AD51*AI51),"") -> 0 | AK51: =IF(N(C51)>0,(AD51-AJ51),"") -> 0 | AL51: =AE51+AL46 -> 0 | AM51: =AH51+AM46 -> 0 | AN51: =AF51+AN46 -> 0
A52: 48 | B52: =B51 -> 40847 | C52: 3 | D52: =IF(N(C52)>0,IF(N(C52)<34,VLOOKUP('Tabela Final'!C52,' Pessoal'!$A$2:$B$34,2),""),"") -> Fábio | E52: =IF(N(C52)>0,IF(N(C52)<34,VLOOKUP(C52,' Pessoal'!$A$2:$C$34,3),""),"") -> Ajud. Electricista | F52: =IF(N(C52)>0,IF(N(C52)<34,VLOOKUP(C52,' Pessoal'!$A$2:$M$34,4)),"") -> 0 | G52: 22 | H52: =IF(N(C52)>0,$H$5,"") -> 40 | I52: =IF(N(H52)>0,(H52*52)/12,"") -> 173.33333 | J52: =IF(N(C52)>0,ROUND((F52/I52),2),"") -> 0 | L52: =IF(N(C52)>0,K52*((ROUND(I52/30,2)*J52)),"") -> 0 | N52: =IF(N(C52)>0,(M52*J52),"") -> 0 | O52: =IF(N(C52)>0,ROUND(L52+N52,2),"") -> 0 | S52: =IF(N(P52)>0,P52*ROUND((J52+($P$4*J52)),2),"") | T52: =IF(N(Q52)>0,Q52*ROUND((J52+($Q$4*J52)),2),"") | U52: =IF(N(R52)>0,R52*ROUND((J52+($R$4*J52)),2),"") | V52: =IF(N(C52)>0,SUM(S52:U52),"") -> 0 | X52: =IF(N(C52)>0,V52+W52,"") -> 0 | Y52: =IF(N(C52)>0,VLOOKUP(C52,' Pessoal'!$A$2:$M$34,10),"") -> 0 | Z52: =IF(N(C52)>0,(G52*Y52),"") -> 0 | AA52: =IF(N(C52)>0,V52,"") -> 0 | AC52: =IF(N(C52)>0,V52,"") -> 0 | AD52: =IF(N(C52)>0,ROUND(SUM(X52+F52+Z52+AA52+AB52+AC52)-O52,2),"") -> 0 | AE52: =IF(N(C52)>0,(ROUND(IF((Y52)>6.41,((Y52-6.41)*G53+F52+AA52+AB52+AC52-O52),F52+AA52+AB52+AC52-O52),2))," ") -> 0 | AF52: =IF(N(C52)>0,ROUND(AE52*VLOOKUP(C52,' Pessoal'!$A$2:$M$34,9),2),"") -> 0 | AG52: 0 | AH52: =IF(N(C52)>0,ROUND(AE52*AG52,2),"") -> 0 | AI52: 0 | AJ52: =IF(N(C52)>0,SUM(AF52+AH52)+(AD52*AI52),"") -> 0 | AK52: =IF(N(C52)>0,(AD52-AJ52),"") -> 0 | AL52: =AE52+AL47 -> 0 | AM52: =AH52+AM47 -> 0 | AN52: =AF52+AN47 -> 0
A53: 49 | B53: =B52 -> 40847 | C53: 4 | D53: =IF(N(C53)>0,IF(N(C53)<34,VLOOKUP('Tabela Final'!C53,' Pessoal'!$A$2:$B$34,2),""),"") -> Carlos | E53: =IF(N(C53)>0,IF(N(C53)<34,VLOOKUP(C53,' Pessoal'!$A$2:$C$34,3),""),"") -> Ajud. Electricista | F53: =IF(N(C53)>0,IF(N(C53)<34,VLOOKUP(C53,' Pessoal'!$A$2:$M$34,4)),"") -> 485 | G53: 22 | H53: =IF(N(C53)>0,$H$5,"") -> 40 | I53: =IF(N(H53)>0,(H53*52)/12,"") -> 173.33333 | J53: =IF(N(C53)>0,ROUND((F53/I53),2),"") -> 2.8 | L53: =IF(N(C53)>0,K53*((ROUND(I53/30,2)*J53)),"") -> 0 | N53: =IF(N(C53)>0,(M53*J53),"") -> 0 | O53: =IF(N(C53)>0,ROUND(L53+N53,2),"") -> 0 | S53: =IF(N(P53)>0,P53*ROUND((J53+($P$4*J53)),2),"") | T53: =IF(N(Q53)>0,Q53*ROUND((J53+($Q$4*J53)),2),"") | U53: =IF(N(R53)>0,R53*ROUND((J53+($R$4*J53)),2),"") | V53: =IF(N(C53)>0,SUM(S53:U53),"") -> 0 | X53: =IF(N(C53)>0,V53+W53,"") -> 0 | Y53: =IF(N(C53)>0,VLOOKUP(C53,' Pessoal'!$A$2:$M$34,10),"") -> 6.41 | Z53: =IF(N(C53)>0,(G53*Y53),"") -> 141.02 | AA53: =IF(N(C53)>0,V53,"") -> 0 | AC53: =IF(N(C53)>0,V53,"") -> 0 | AD53: =IF(N(C53)>0,ROUND(SUM(X53+F53+Z53+AA53+AB53+AC53)-O53,2),"") -> 626.02 | AE53: =IF(N(C53)>0,(ROUND(IF((Y53)>6.41,((Y53-6.41)*G54+F53+AA53+AB53+AC53-O53),F53+AA53+AB53+AC53-O53),2))," ") -> 485 | AF53: =IF(N(C53)>0,ROUND(AE53*VLOOKUP(C53,' Pessoal'!$A$2:$M$34,9),2),"") -> 53.35 | AG53: 0 | AH53: =IF(N(C53)>0,ROUND(AE53*AG53,2),"") -> 0 | AI53: 0 | AJ53: =IF(N(C53)>0,SUM(AF53+AH53)+(AD53*AI53),"") -> 53.35 | AK53: =IF(N(C53)>0,(AD53-AJ53),"") -> 572.67 | AL53: =AE53+AL48 -> 4930 | AM53: =AH53+AM48 -> 0 | AN53: =AF53+AN48 -> 542.3
A54: 50 | B54: =B53 -> 40847 | C54: 5 | D54: =IF(N(C54)>0,IF(N(C54)<34,VLOOKUP('Tabela Final'!C54,' Pessoal'!$A$2:$B$34,2),""),"") -> André | E54: =IF(N(C54)>0,IF(N(C54)<34,VLOOKUP(C54,' Pessoal'!$A$2:$C$34,3),""),"") -> Ajud. Electricista | F54: =IF(N(C54)>0,IF(N(C54)<34,VLOOKUP(C54,' Pessoal'!$A$2:$M$34,4)),"") -> 550 | G54: 22 | H54: =IF(N(C54)>0,$H$5,"") -> 40 | I54: =IF(N(H54)>0,(H54*52)/12,"") -> 173.33333 | J54: =IF(N(C54)>0,ROUND((F54/I54),2),"") -> 3.17 | L54: =IF(N(C54)>0,K54*((ROUND(I54/30,2)*J54)),"") -> 0 | N54: =IF(N(C54)>0,(M54*J54),"") -> 0 | O54: =IF(N(C54)>0,ROUND(L54+N54,2),"") -> 0 | S54: =IF(N(P54)>0,P54*ROUND((J54+($P$4*J54)),2),"") | T54: =IF(N(Q54)>0,Q54*ROUND((J54+($Q$4*J54)),2),"") | U54: =IF(N(R54)>0,R54*ROUND((J54+($R$4*J54)),2),"") | V54: =IF(N(C54)>0,SUM(S54:U54),"") -> 0 | X54: =IF(N(C54)>0,V54+W54,"") -> 0 | Y54: =IF(N(C54)>0,VLOOKUP(C54,' Pessoal'!$A$2:$M$34,10),"") -> 6.41 | Z54: =IF(N(C54)>0,(G54*Y54),"") -> 141.02 | AA54: =IF(N(C54)>0,V54,"") -> 0 | AC54: =IF(N(C54)>0,V54,"") -> 0 | AD54: =IF(N(C54)>0,ROUND(SUM(X54+F54+Z54+AA54+AB54+AC54)-O54,2),"") -> 691.02 | AE54: =IF(N(C54)>0,(ROUND(IF((Y54)>6.41,((Y54-6.41)*G55+F54+AA54+AB54+AC54-O54),F54+AA54+AB54+AC54-O54),2))," ") -> 550 | AF54: =IF(N(C54)>0,ROUND(AE54*VLOOKUP(C54,' Pessoal'!$A$2:$M$34,9),2),"") -> 60.5 | AG54: 0 | AH54: =IF(N(C54)>0,ROUND(AE54*AG54,2),"") -> 0 | AI54: 0 | AJ54: =IF(N(C54)>0,SUM(AF54+AH54)+(AD54*AI54),"") -> 60.5 | AK54: =IF(N(C54)>0,(AD54-AJ54),"") -> 630.52 | AL54: =AE54+AL49 -> 5500 | AM54: =AH54+AM49 -> 0 | AN54: =AF54+AN49 -> 605
A55: 51 | B55: 40877 | C55: 1 | D55: =IF(N(C55)>0,IF(N(C55)<34,VLOOKUP('Tabela Final'!C55,' Pessoal'!$A$2:$B$34,2),""),"") -> Susana | E55: =IF(N(C55)>0,IF(N(C55)<34,VLOOKUP(C55,' Pessoal'!$A$2:$C$34,3),""),"") -> Gerente | F55: =IF(N(C55)>0,IF(N(C55)<34,VLOOKUP(C55,' Pessoal'!$A$2:$M$34,4)),"") -> 927 | G55: 22 | H55: =IF(N(C55)>0,$H$5,"") -> 40 | I55: =IF(N(H55)>0,(H55*52)/12,"") -> 173.33333 | J55: =IF(N(C55)>0,ROUND((F55/I55),2),"") -> 5.35 | L55: =IF(N(C55)>0,K55*((ROUND(I55/30,2)*J55)),"") -> 0 | N55: =IF(N(C55)>0,(M55*J55),"") -> 0 | O55: =IF(N(C55)>0,ROUND(L55+N55,2),"") -> 0 | S55: =IF(N(P55)>0,P55*ROUND((J55+($P$4*J55)),2),"") | T55: =IF(N(Q55)>0,Q55*ROUND((J55+($Q$4*J55)),2),"") | U55: =IF(N(R55)>0,R55*ROUND((J55+($R$4*J55)),2),"") | V55: =IF(N(C55)>0,SUM(S55:U55),"") -> 0 | X55: =IF(N(C55)>0,V55+W55,"") -> 0 | Y55: =IF(N(C55)>0,VLOOKUP(C55,' Pessoal'!$A$2:$M$34,10),"") -> 6.41 | Z55: =IF(N(C55)>0,(G55*Y55),"") -> 141.02 | AA55: =IF(N(C55)>0,V55,"") -> 0 | AC55: =IF(N(C55)>0,V55,"") -> 0 | AD55: =IF(N(C55)>0,ROUND(SUM(X55+F55+Z55+AA55+AB55+AC55)-O55,2),"") -> 1068.02 | AE55: =IF(N(C55)>0,(ROUND(IF((Y55)>6.41,((Y55-6.41)*G56+F55+AA55+AB55+AC55-O55),F55+AA55+AB55+AC55-O55),2))," ") -> 927 | AF55: =IF(N(C55)>0,ROUND(AE55*VLOOKUP(C55,' Pessoal'!$A$2:$M$34,9),2),"") -> 86.21 | AG55: 0.08 | AH55: =IF(N(C55)>0,ROUND(AE55*AG55,2),"") -> 74.16 | AI55: 0 | AJ55: =IF(N(C55)>0,SUM(AF55+AH55)+(AD55*AI55),"") -> 160.37 | AK55: =IF(N(C55)>0,(AD55-AJ55),"") -> 907.65 | AL55: =AE55+AL50 -> 10197 | AM55: =AH55+AM50 -> 1038.24 | AN55: =AF55+AN50 -> 948.31 | AO55: =SUM(AH55:AH59) -> 74.16 | AP55: =AE55 -> 927 | AQ55: =AP55*0.2125 -> 196.9875 | AR55: =SUM(AE56:AE59) -> 1035 | AS55: =ROUND(AR55*0.2375,2)-$AE58*0.01 -> 240.96 | AT55: =AK55 -> 907.65 | AU55: =ROUND(SUM(AK56:AK59),2) -> 1203.19 | AV55: =ROUND(AP55*0.3125+AR55*0.3475,2)-$AE58*0.01 -> 644.5 | AW55: =AD55 -> 1068.02 | AX55: =SUM(AD56:AD59) -> 1317.04
A56: 52 | B56: =B55 -> 40877 | C56: 2 | D56: =IF(N(C56)>0,IF(N(C56)<34,VLOOKUP('Tabela Final'!C56,' Pessoal'!$A$2:$B$34,2),""),"") -> Nuno | E56: =IF(N(C56)>0,IF(N(C56)<34,VLOOKUP(C56,' Pessoal'!$A$2:$C$34,3),""),"") -> Ajud. Electricista | F56: =IF(N(C56)>0,IF(N(C56)<34,VLOOKUP(C56,' Pessoal'!$A$2:$M$34,4)),"") -> 0 | G56: 22 | H56: =IF(N(C56)>0,$H$5,"") -> 40 | I56: =IF(N(H56)>0,(H56*52)/12,"") -> 173.33333 | J56: =IF(N(C56)>0,ROUND((F56/I56),2),"") -> 0 | L56: =IF(N(C56)>0,K56*((ROUND(I56/30,2)*J56)),"") -> 0 | N56: =IF(N(C56)>0,(M56*J56),"") -> 0 | O56: =IF(N(C56)>0,ROUND(L56+N56,2),"") -> 0 | S56: =IF(N(P56)>0,P56*ROUND((J56+($P$4*J56)),2),"") | T56: =IF(N(Q56)>0,Q56*ROUND((J56+($Q$4*J56)),2),"") | U56: =IF(N(R56)>0,R56*ROUND((J56+($R$4*J56)),2),"") | V56: =IF(N(C56)>0,SUM(S56:U56),"") -> 0 | X56: =IF(N(C56)>0,V56+W56,"") -> 0 | Y56: =IF(N(C56)>0,VLOOKUP(C56,' Pessoal'!$A$2:$M$34,10),"") -> 0 | Z56: =IF(N(C56)>0,(G56*Y56),"") -> 0 | AA56: =IF(N(C56)>0,V56,"") -> 0 | AC56: =IF(N(C56)>0,V56,"") -> 0 | AD56: =IF(N(C56)>0,ROUND(SUM(X56+F56+Z56+AA56+AB56+AC56)-O56,2),"") -> 0 | AE56: =IF(N(C56)>0,(ROUND(IF((Y56)>6.41,((Y56-6.41)*G57+F56+AA56+AB56+AC56-O56),F56+AA56+AB56+AC56-O56),2))," ") -> 0 | AF56: =IF(N(C56)>0,ROUND(AE56*VLOOKUP(C56,' Pessoal'!$A$2:$M$34,9),2),"") -> 0 | AG56: 0 | AH56: =IF(N(C56)>0,ROUND(AE56*AG56,2),"") -> 0 | AI56: 0 | AJ56: =IF(N(C56)>0,SUM(AF56+AH56)+(AD56*AI56),"") -> 0 | AK56: =IF(N(C56)>0,(AD56-AJ56),"") -> 0 | AL56: =AE56+AL51 -> 0 | AM56: =AM55+AH56 -> 1038.24 | AN56: =AN55+AF56 -> 948.31
A57: 53 | B57: =B56 -> 40877 | C57: 3 | D57: =IF(N(C57)>0,IF(N(C57)<34,VLOOKUP('Tabela Final'!C57,' Pessoal'!$A$2:$B$34,2),""),"") -> Fábio | E57: =IF(N(C57)>0,IF(N(C57)<34,VLOOKUP(C57,' Pessoal'!$A$2:$C$34,3),""),"") -> Ajud. Electricista | F57: =IF(N(C57)>0,IF(N(C57)<34,VLOOKUP(C57,' Pessoal'!$A$2:$M$34,4)),"") -> 0 | G57: 22 | H57: =IF(N(C57)>0,$H$5,"") -> 40 | I57: =IF(N(H57)>0,(H57*52)/12,"") -> 173.33333 | J57: =IF(N(C57)>0,ROUND((F57/I57),2),"") -> 0 | L57: =IF(N(C57)>0,K57*((ROUND(I57/30,2)*J57)),"") -> 0 | N57: =IF(N(C57)>0,(M57*J57),"") -> 0 | O57: =IF(N(C57)>0,ROUND(L57+N57,2),"") -> 0 | S57: =IF(N(P57)>0,P57*ROUND((J57+($P$4*J57)),2),"") | T57: =IF(N(Q57)>0,Q57*ROUND((J57+($Q$4*J57)),2),"") | U57: =IF(N(R57)>0,R57*ROUND((J57+($R$4*J57)),2),"") | V57: =IF(N(C57)>0,SUM(S57:U57),"") -> 0 | X57: =IF(N(C57)>0,V57+W57,"") -> 0 | Y57: =IF(N(C57)>0,VLOOKUP(C57,' Pessoal'!$A$2:$M$34,10),"") -> 0 | Z57: =IF(N(C57)>0,(G57*Y57),"") -> 0 | AA57: =IF(N(C57)>0,V57,"") -> 0 | AC57: =IF(N(C57)>0,V57,"") -> 0 | AD57: =IF(N(C57)>0,ROUND(SUM(X57+F57+Z57+AA57+AB57+AC57)-O57,2),"") -> 0 | AE57: =IF(N(C57)>0,(ROUND(IF((Y57)>6.41,((Y57-6.41)*G58+F57+AA57+AB57+AC57-O57),F57+AA57+AB57+AC57-O57),2))," ") -> 0 | AF57: =IF(N(C57)>0,ROUND(AE57*VLOOKUP(C57,' Pessoal'!$A$2:$M$34,9),2),"") -> 0 | AG57: 0 | AH57: =IF(N(C57)>0,ROUND(AE57*AG57,2),"") -> 0 | AI57: 0 | AJ57: =IF(N(C57)>0,SUM(AF57+AH57)+(AD57*AI57),"") -> 0 | AK57: =IF(N(C57)>0,(AD57-AJ57),"") -> 0 | AL57: =AE57+AL52 -> 0 | AM57: =AM56+AH57 -> 1038.24 | AN57: =AN56+AF57 -> 948.31
A58: 54 | B58: =B57 -> 40877 | C58: 4 | D58: =IF(N(C58)>0,IF(N(C58)<34,VLOOKUP('Tabela Final'!C58,' Pessoal'!$A$2:$B$34,2),""),"") -> Carlos | E58: =IF(N(C58)>0,IF(N(C58)<34,VLOOKUP(C58,' Pessoal'!$A$2:$C$34,3),""),"") -> Ajud. Electricista | F58: =IF(N(C58)>0,IF(N(C58)<34,VLOOKUP(C58,' Pessoal'!$A$2:$M$34,4)),"") -> 485 | G58: 22 | H58: =IF(N(C58)>0,$H$5,"") -> 40 | I58: =IF(N(H58)>0,(H58*52)/12,"") -> 173.33333 | J58: =IF(N(C58)>0,ROUND((F58/I58),2),"") -> 2.8 | L58: =IF(N(C58)>0,K58*((ROUND(I58/30,2)*J58)),"") -> 0 | N58: =IF(N(C58)>0,(M58*J58),"") -> 0 | O58: =IF(N(C58)>0,ROUND(L58+N58,2),"") -> 0 | S58: =IF(N(P58)>0,P58*ROUND((J58+($P$4*J58)),2),"") | T58: =IF(N(Q58)>0,Q58*ROUND((J58+($Q$4*J58)),2),"") | U58: =IF(N(R58)>0,R58*ROUND((J58+($R$4*J58)),2),"") | V58: =IF(N(C58)>0,SUM(S58:U58),"") -> 0 | X58: =IF(N(C58)>0,V58+W58,"") -> 0 | Y58: =IF(N(C58)>0,VLOOKUP(C58,' Pessoal'!$A$2:$M$34,10),"") -> 6.41 | Z58: =IF(N(C58)>0,(G58*Y58),"") -> 141.02 | AA58: =IF(N(C58)>0,V58,"") -> 0 | AC58: 0 | AD58: =IF(N(C58)>0,ROUND(SUM(X58+F58+Z58+AA58+AB58+AC58)-O58,2),"") -> 626.02 | AE58: =IF(N(C58)>0,(ROUND(IF((Y58)>6.41,((Y58-6.41)*G59+F58+AA58+AB58+AC58-O58),F58+AA58+AB58+AC58-O58),2))," ") -> 485 | AF58: =IF(N(C58)>0,ROUND(AE58*VLOOKUP(C58,' Pessoal'!$A$2:$M$34,9),2),"") -> 53.35 | AG58: 0 | AH58: =IF(N(C58)>0,ROUND(AE58*AG58,2),"") -> 0 | AI58: 0 | AJ58: =IF(N(C58)>0,SUM(AF58+AH58)+(AD58*AI58),"") -> 53.35 | AK58: =IF(N(C58)>0,(AD58-AJ58),"") -> 572.67 | AL58: =AE58+AL53 -> 5415 | AM58: =AH58+AM53 -> 0 | AN58: =AF58+AN53 -> 595.65
A59: 55 | B59: =B58 -> 40877 | C59: 5 | D59: =IF(N(C59)>0,IF(N(C59)<34,VLOOKUP('Tabela Final'!C59,' Pessoal'!$A$2:$B$34,2),""),"") -> André | E59: =IF(N(C59)>0,IF(N(C59)<34,VLOOKUP(C59,' Pessoal'!$A$2:$C$34,3),""),"") -> Ajud. Electricista | F59: =IF(N(C59)>0,IF(N(C59)<34,VLOOKUP(C59,' Pessoal'!$A$2:$M$34,4)),"") -> 550 | G59: 22 | H59: =IF(N(C59)>0,$H$5,"") -> 40 | I59: =IF(N(H59)>0,(H59*52)/12,"") -> 173.33333 | J59: =IF(N(C59)>0,ROUND((F59/I59),2),"") -> 3.17 | L59: =IF(N(C59)>0,K59*((ROUND(I59/30,2)*J59)),"") -> 0 | N59: =IF(N(C59)>0,(M59*J59),"") -> 0 | O59: =IF(N(C59)>0,ROUND(L59+N59,2),"") -> 0 | S59: =IF(N(P59)>0,P59*ROUND((J59+($P$4*J59)),2),"") | T59: =IF(N(Q59)>0,Q59*ROUND((J59+($Q$4*J59)),2),"") | U59: =IF(N(R59)>0,R59*ROUND((J59+($R$4*J59)),2),"") | V59: =IF(N(C59)>0,SUM(S59:U59),"") -> 0 | X59: =IF(N(C59)>0,V59+W59,"") -> 0 | Y59: =IF(N(C59)>0,VLOOKUP(C59,' Pessoal'!$A$2:$M$34,10),"") -> 6.41 | Z59: =IF(N(C59)>0,(G59*Y59),"") -> 141.02 | AA59: =IF(N(C59)>0,V59,"") -> 0 | AC59: 0 | AD59: =IF(N(C59)>0,ROUND(SUM(X59+F59+Z59+AA59+AB59+AC59)-O59,2),"") -> 691.02 | AE59: =IF(N(C59)>0,(ROUND(IF((Y59)>6.41,((Y59-6.41)*G60+F59+AA59+AB59+AC59-O59),F59+AA59+AB59+AC59-O59),2))," ") -> 550 | AF59: =IF(N(C59)>0,ROUND(AE59*VLOOKUP(C59,' Pessoal'!$A$2:$M$34,9),2),"") -> 60.5 | AG59: 0 | AH59: =IF(N(C59)>0,ROUND(AE59*AG59,2),"") -> 0 | AI59: 0 | AJ59: =IF(N(C59)>0,SUM(AF59+AH59)+(AD59*AI59),"") -> 60.5 | AK59: =IF(N(C59)>0,(AD59-AJ59),"") -> 630.52 | AL59: =AE59+AL54 -> 6050 | AM59: =AH59+AM54 -> 0 | AN59: =AF59+AN54 -> 665.5
A60: 56 | B60: 40908 | C60: 1 | D60: =IF(N(C60)>0,IF(N(C60)<34,VLOOKUP('Tabela Final'!C60,' Pessoal'!$A$2:$B$34,2),""),"") -> Susana | E60: =IF(N(C60)>0,IF(N(C60)<34,VLOOKUP(C60,' Pessoal'!$A$2:$C$34,3),""),"") -> Gerente | F60: =IF(N(C60)>0,IF(N(C60)<34,VLOOKUP(C60,' Pessoal'!$A$2:$M$34,4)),"") -> 927 | G60: 22 | H60: =IF(N(C60)>0,$H$5,"") -> 40 | I60: =IF(N(H60)>0,(H60*52)/12,"") -> 173.33333 | J60: =IF(N(C60)>0,ROUND((F60/I60),2),"") -> 5.35 | L60: =IF(N(C60)>0,K60*((ROUND(I60/30,2)*J60)),"") -> 0 | N60: =IF(N(C60)>0,(M60*J60),"") -> 0 | O60: =IF(N(C60)>0,ROUND(L60+N60,2),"") -> 0 | S60: =IF(N(P60)>0,P60*ROUND((J60+($P$4*J60)),2),"") | T60: =IF(N(Q60)>0,Q60*ROUND((J60+($Q$4*J60)),2),"") | U60: =IF(N(R60)>0,R60*ROUND((J60+($R$4*J60)),2),"") | V60: =IF(N(C60)>0,SUM(S60:U60),"") -> 0 | X60: =IF(N(C60)>0,V60+W60,"") -> 0 | Y60: =IF(N(C60)>0,VLOOKUP(C60,' Pessoal'!$A$2:$M$34,10),"") -> 6.41 | Z60: =IF(N(C60)>0,(G60*Y60),"") -> 141.02 | AA60: =IF(N(C60)>0,V60,"") -> 0 | AC60: =IF(N(C60)>0,V60,"") -> 0 | AD60: =IF(N(C60)>0,ROUND(SUM(X60+F60+Z60+AA60+AB60+AC60)-O60,2),"") -> 1068.02 | AE60: =IF(N(C60)>0,(ROUND(IF((Y60)>6.41,((Y60-6.41)*G61+F60+AA60+AB60+AC60-O60),F60+AA60+AB60+AC60-O60),2))," ") -> 927 | AF60: =IF(N(C60)>0,ROUND(AE60*VLOOKUP(C60,' Pessoal'!$A$2:$M$34,9),2),"") -> 86.21 | AG60: 0.08 | AH60: =IF(N(C60)>0,ROUND(AE60*AG60,2),"") -> 74.16 | AI60: 0 | AJ60: =IF(N(C60)>0,SUM(AF60+AH60)+(AD60*AI60),"") -> 160.37 | AK60: =IF(N(C60)>0,(AD60-AJ60),"") -> 907.65 | AL60: =AE60+AL71 -> 12051 | AM60: =AH60+AM71 -> 1186.56 | AN60: =AF60+AN56 -> 1034.52 | AO60: =SUM(AH60:AH64) -> 74.16 | AP60: =AE60 -> 927 | AQ60: =AP60*0.2125 -> 196.9875 | AR60: =SUM(AE61:AE64) -> 1035 | AS60: =ROUND(AR60*0.2375,2)-$AE63*0.01 -> 240.96 | AT60: =AK60 -> 907.65 | AU60: =ROUND(SUM(AK61:AK64),2) -> 1203.19 | AV60: =ROUND(AP60*0.3125+AR60*0.3475,2)-$AE63*0.01 -> 644.5 | AW60: =AD60 -> 1068.02 | AX60: =SUM(AD61:AD64) -> 1317.04
A61: 57 | B61: =B60 -> 40908 | C61: 2 | D61: =IF(N(C61)>0,IF(N(C61)<34,VLOOKUP('Tabela Final'!C61,' Pessoal'!$A$2:$B$34,2),""),"") -> Nuno | E61: =IF(N(C61)>0,IF(N(C61)<34,VLOOKUP(C61,' Pessoal'!$A$2:$C$34,3),""),"") -> Ajud. Electricista | F61: =IF(N(C61)>0,IF(N(C61)<34,VLOOKUP(C61,' Pessoal'!$A$2:$M$34,4)),"") -> 0 | G61: 22 | H61: =IF(N(C61)>0,$H$5,"") -> 40 | I61: =IF(N(H61)>0,(H61*52)/12,"") -> 173.33333 | J61: =IF(N(C61)>0,ROUND((F61/I61),2),"") -> 0 | L61: =IF(N(C61)>0,K61*((ROUND(I61/30,2)*J61)),"") -> 0 | N61: =IF(N(C61)>0,(M61*J61),"") -> 0 | O61: =IF(N(C61)>0,ROUND(L61+N61,2),"") -> 0 | S61: =IF(N(P61)>0,P61*ROUND((J61+($P$4*J61)),2),"") | T61: =IF(N(Q61)>0,Q61*ROUND((J61+($Q$4*J61)),2),"") | U61: =IF(N(R61)>0,R61*ROUND((J61+($R$4*J61)),2),"") | V61: =IF(N(C61)>0,SUM(S61:U61),"") -> 0 | X61: =IF(N(C61)>0,V61+W61,"") -> 0 | Y61: =IF(N(C61)>0,VLOOKUP(C61,' Pessoal'!$A$2:$M$34,10),"") -> 0 | Z61: =IF(N(C61)>0,(G61*Y61),"") -> 0 | AA61: =IF(N(C61)>0,V61,"") -> 0 | AC61: =IF(N(C61)>0,V61,"") -> 0 | AD61: =IF(N(C61)>0,ROUND(SUM(X61+F61+Z61+AA61+AB61+AC61)-O61,2),"") -> 0 | AE61: =IF(N(C61)>0,(ROUND(IF((Y61)>6.41,((Y61-6.41)*G62+F61+AA61+AB61+AC61-O61),F61+AA61+AB61+AC61-O61),2))," ") -> 0 | AF61: =IF(N(C61)>0,ROUND(AE61*VLOOKUP(C61,' Pessoal'!$A$2:$M$34,9),2),"") -> 0 | AG61: 0.07 | AH61: =IF(N(C61)>0,ROUND(AE61*AG61,2),"") -> 0 | AI61: 0 | AJ61: =IF(N(C61)>0,SUM(AF61+AH61)+(AD61*AI61),"") -> 0 | AK61: =IF(N(C61)>0,(AD61-AJ61),"") -> 0 | AL61: =AE61+AL56 -> 0 | AM61: =AM60+AH61 -> 1186.56 | AN61: =AN60+AF61 -> 1034.52
A62: 58 | B62: =B61 -> 40908 | C62: 3 | D62: =IF(N(C62)>0,IF(N(C62)<34,VLOOKUP('Tabela Final'!C62,' Pessoal'!$A$2:$B$34,2),""),"") -> Fábio | E62: =IF(N(C62)>0,IF(N(C62)<34,VLOOKUP(C62,' Pessoal'!$A$2:$C$34,3),""),"") -> Ajud. Electricista | F62: =IF(N(C62)>0,IF(N(C62)<34,VLOOKUP(C62,' Pessoal'!$A$2:$M$34,4)),"") -> 0 | G62: 22 | H62: =IF(N(C62)>0,$H$5,"") -> 40 | I62: =IF(N(H62)>0,(H62*52)/12,"") -> 173.33333 | J62: =IF(N(C62)>0,ROUND((F62/I62),2),"") -> 0 | L62: =IF(N(C62)>0,K62*((ROUND(I62/30,2)*J62)),"") -> 0 | N62: =IF(N(C62)>0,(M62*J62),"") -> 0 | O62: =IF(N(C62)>0,ROUND(L62+N62,2),"") -> 0 | S62: =IF(N(P62)>0,P62*ROUND((J62+($P$4*J62)),2),"") | T62: =IF(N(Q62)>0,Q62*ROUND((J62+($Q$4*J62)),2),"") | U62: =IF(N(R62)>0,R62*ROUND((J62+($R$4*J62)),2),"") | V62: =IF(N(C62)>0,SUM(S62:U62),"") -> 0 | X62: =IF(N(C62)>0,V62+W62,"") -> 0 | Y62: =IF(N(C62)>0,VLOOKUP(C62,' Pessoal'!$A$2:$M$34,10),"") -> 0 | Z62: =IF(N(C62)>0,(G62*Y62),"") -> 0 | AA62: =IF(N(C62)>0,V62,"") -> 0 | AC62: =IF(N(C62)>0,V62,"") -> 0 | AD62: =IF(N(C62)>0,ROUND(SUM(X62+F62+Z62+AA62+AB62+AC62)-O62,2),"") -> 0 | AE62: =IF(N(C62)>0,(ROUND(IF((Y62)>6.41,((Y62-6.41)*G63+F62+AA62+AB62+AC62-O62),F62+AA62+AB62+AC62-O62),2))," ") -> 0 | AF62: =IF(N(C62)>0,ROUND(AE62*VLOOKUP(C62,' Pessoal'!$A$2:$M$34,9),2),"") -> 0 | AG62: 0 | AH62: =IF(N(C62)>0,ROUND(AE62*AG62,2),"") -> 0 | AI62: 0 | AJ62: =IF(N(C62)>0,SUM(AF62+AH62)+(AD62*AI62),"") -> 0 | AK62: =IF(N(C62)>0,(AD62-AJ62),"") -> 0 | AL62: =AE62+AL57 -> 0 | AM62: =AM61+AH62 -> 1186.56 | AN62: =AN61+AF62 -> 1034.52
A63: 59 | B63: =B62 -> 40908 | C63: 4 | D63: =IF(N(C63)>0,IF(N(C63)<34,VLOOKUP('Tabela Final'!C63,' Pessoal'!$A$2:$B$34,2),""),"") -> Carlos | E63: =IF(N(C63)>0,IF(N(C63)<34,VLOOKUP(C63,' Pessoal'!$A$2:$C$34,3),""),"") -> Ajud. Electricista | F63: =IF(N(C63)>0,IF(N(C63)<34,VLOOKUP(C63,' Pessoal'!$A$2:$M$34,4)),"") -> 485 | G63: 22 | H63: =IF(N(C63)>0,$H$5,"") -> 40 | I63: =IF(N(H63)>0,(H63*52)/12,"") -> 173.33333 | J63: =IF(N(C63)>0,ROUND((F63/I63),2),"") -> 2.8 | L63: =IF(N(C63)>0,K63*((ROUND(I63/30,2)*J63)),"") -> 0 | N63: =IF(N(C63)>0,(M63*J63),"") -> 0 | O63: =IF(N(C63)>0,ROUND(L63+N63,2),"") -> 0 | S63: =IF(N(P63)>0,P63*ROUND((J63+($P$4*J63)),2),"") | T63: =IF(N(Q63)>0,Q63*ROUND((J63+($Q$4*J63)),2),"") | U63: =IF(N(R63)>0,R63*ROUND((J63+($R$4*J63)),2),"") | V63: =IF(N(C63)>0,SUM(S63:U63),"") -> 0 | X63: =IF(N(C63)>0,V63+W63,"") -> 0 | Y63: =IF(N(C63)>0,VLOOKUP(C63,' Pessoal'!$A$2:$M$34,10),"") -> 6.41 | Z63: =IF(N(C63)>0,(G63*Y63),"") -> 141.02 | AA63: =IF(N(C63)>0,V63,"") -> 0 | AC63: =IF(N(C63)>0,V63,"") -> 0 | AD63: =IF(N(C63)>0,ROUND(SUM(X63+F63+Z63+AA63+AB63+AC63)-O63,2),"") -> 626.02 | AE63: =IF(N(C63)>0,(ROUND(IF((Y63)>6.41,((Y63-6.41)*G64+F63+AA63+AB63+AC63-O63),F63+AA63+AB63+AC63-O63),2))," ") -> 485 | AF63: =IF(N(C63)>0,ROUND(AE63*VLOOKUP(C63,' Pessoal'!$A$2:$M$34,9),2),"") -> 53.35 | AG63: 0 | AH63: =IF(N(C63)>0,ROUND(AE63*AG63,2),"") -> 0 | AI63: 0 | AJ63: =IF(N(C63)>0,SUM(AF63+AH63)+(AD63*AI63),"") -> 53.35 | AK63: =IF(N(C63)>0,(AD63-AJ63),"") -> 572.67 | AL63: =AE63+AL72 -> 6385 | AM63: =AH63+AM72 -> 0 | AN63: =AF63+AN58 -> 649
A64: 60 | B64: =B63 -> 40908 | C64: 5 | D64: =IF(N(C64)>0,IF(N(C64)<34,VLOOKUP('Tabela Final'!C64,' Pessoal'!$A$2:$B$34,2),""),"") -> André | E64: =IF(N(C64)>0,IF(N(C64)<34,VLOOKUP(C64,' Pessoal'!$A$2:$C$34,3),""),"") -> Ajud. Electricista | F64: =IF(N(C64)>0,IF(N(C64)<34,VLOOKUP(C64,' Pessoal'!$A$2:$M$34,4)),"") -> 550 | G64: 22 | H64: =IF(N(C64)>0,$H$5,"") -> 40 | I64: =IF(N(H64)>0,(H64*52)/12,"") -> 173.33333 | J64: =IF(N(C64)>0,ROUND((F64/I64),2),"") -> 3.17 | L64: =IF(N(C64)>0,K64*((ROUND(I64/30,2)*J64)),"") -> 0 | N64: =IF(N(C64)>0,(M64*J64),"") -> 0 | O64: =IF(N(C64)>0,ROUND(L64+N64,2),"") -> 0 | S64: =IF(N(P64)>0,P64*ROUND((J64+($P$4*J64)),2),"") | T64: =IF(N(Q64)>0,Q64*ROUND((J64+($Q$4*J64)),2),"") | U64: =IF(N(R64)>0,R64*ROUND((J64+($R$4*J64)),2),"") | V64: =IF(N(C64)>0,SUM(S64:U64),"") -> 0 | X64: =IF(N(C64)>0,V64+W64,"") -> 0 | Y64: =IF(N(C64)>0,VLOOKUP(C64,' Pessoal'!$A$2:$M$34,10),"") -> 6.41 | Z64: =IF(N(C64)>0,(G64*Y64),"") -> 141.02 | AA64: =IF(N(C64)>0,V64,"") -> 0 | AC64: =IF(N(C64)>0,V64,"") -> 0 | AD64: =IF(N(C64)>0,ROUND(SUM(X64+F64+Z64+AA64+AB64+AC64)-O64,2),"") -> 691.02 | AE64: =IF(N(C64)>0,(ROUND(IF((Y64)>6.41,((Y64-6.41)*G65+F64+AA64+AB64+AC64-O64),F64+AA64+AB64+AC64-O64),2))," ") -> 550 | AF64: =IF(N(C64)>0,ROUND(AE64*VLOOKUP(C64,' Pessoal'!$A$2:$M$34,9),2),"") -> 60.5 | AG64: 0 | AH64: =IF(N(C64)>0,ROUND(AE64*AG64,2),"") -> 0 | AI64: 0 | AJ64: =IF(N(C64)>0,SUM(AF64+AH64)+(AD64*AI64),"") -> 60.5 | AK64: =IF(N(C64)>0,(AD64-AJ64),"") -> 630.52 | AL64: =AE64+AL73 -> 7150 | AM64: =AH64+AM73 -> 0 | AN64: =AF64+AN59 -> 726
A65: 61 | B65: 40693 | C65: 1 | D65: =IF(N(C65)>0,IF(N(C65)<34,VLOOKUP('Tabela Final'!C65,' Pessoal'!$A$2:$B$34,2),""),"") -> Susana | E65: =IF(N(C65)>0,IF(N(C65)<34,VLOOKUP(C65,' Pessoal'!$A$2:$C$34,3),""),"") -> Gerente | F65: =IF(N(C65)>0,IF(N(C65)<34,VLOOKUP(C65,' Pessoal'!$A$2:$M$34,4)),"") -> 927 | H65: =IF(N(C65)>0,$H$5,"") -> 40 | I65: =IF(N(H65)>0,(H65*52)/12,"") -> 173.33333 | J65: =IF(N(C65)>0,ROUND((F65/I65),2),"") -> 5.35 | L65: =IF(N(C65)>0,K65*((ROUND(I65/30,2)*J65)),"") -> 0 | N65: =IF(N(C65)>0,(M65*J65),"") -> 0 | O65: =IF(N(C65)>0,ROUND(L65+N65,2),"") -> 0 | S65: =IF(N(P65)>0,P65*ROUND((J65+($P$4*J65)),2),"") | T65: =IF(N(Q65)>0,Q65*ROUND((J65+($Q$4*J65)),2),"") | U65: =IF(N(R65)>0,R65*ROUND((J65+($R$4*J65)),2),"") | V65: =IF(N(C65)>0,SUM(S65:U65),"") -> 0 | X65: =IF(N(C65)>0,V65+W65,"") -> 0 | Y65: =IF(N(C65)>0,VLOOKUP(C65,' Pessoal'!$A$2:$M$34,10),"") -> 6.41 | Z65: =IF(N(C65)>0,(G65*Y65),"") -> 0 | AA65: =IF(N(C65)>0,V65,"") -> 0 | AC65: =IF(N(C65)>0,V65,"") -> 0 | AD65: =IF(N(C65)>0,ROUND(SUM(X65+F65+Z65+AA65+AB65+AC65)-O65,2),"") -> 927 | AE65: =IF(N(C65)>0,(ROUND(IF((Y65)>6.41,((Y65-6.41)*G66+F65+AA65+AB65+AC65-O65),F65+AA65+AB65+AC65-O65),2))," ") -> 927 | AF65: =IF(N(C65)>0,ROUND(AE65*VLOOKUP(C65,' Pessoal'!$A$2:$M$34,9),2),"") -> 86.21 | AG65: 0.08 | AH65: =IF(N(C65)>0,ROUND(AE65*AG65,2),"") -> 74.16 | AI65: 0 | AJ65: =IF(N(C65)>0,SUM(AF65+AH65)+(AD65*AI65),"") -> 160.37 | AK65: =IF(N(C65)>0,(AD65-AJ65),"") -> 766.63 | AL65: =AE65+AL25 -> 5562 | AM65: =AH65+AM25 -> 519.12 | AN65: =AF65+AN60 -> 1120.73 | AO65: =SUM(AH65:AH67) -> 74.16 | AP65: =AE65 -> 927 | AQ65: =AP65*0.2125 -> 196.9875 | AR65: =SUM(AE66:AE67) -> 1035 | AS65: =ROUND(AR65*0.2375,2)-$AE66*0.01 -> 240.96 | AT65: =AK65 -> 766.63 | AU65: =ROUND(SUM(AK66:AK67),2) -> 921.15 | AV65: =ROUND(AP65*0.3125+AR65*0.3475,2)-$AE66*0.01 -> 644.5 | AW65: =AD65 -> 927 | AX65: =SUM(AD66:AD67) -> 1035
A66: 62 | B66: 40693 | C66: 4 | D66: =IF(N(C66)>0,IF(N(C66)<34,VLOOKUP('Tabela Final'!C66,' Pessoal'!$A$2:$B$34,2),""),"") -> Carlos | E66: =IF(N(C66)>0,IF(N(C66)<34,VLOOKUP(C66,' Pessoal'!$A$2:$C$34,3),""),"") -> Ajud. Electricista | F66: =IF(N(C66)>0,IF(N(C66)<34,VLOOKUP(C66,' Pessoal'!$A$2:$M$34,4)),"") -> 485 | H66: =IF(N(C66)>0,$H$5,"") -> 40 | I66: =IF(N(H66)>0,(H66*52)/12,"") -> 173.33333 | J66: =IF(N(C66)>0,ROUND((F66/I66),2),"") -> 2.8 | L66: =IF(N(C66)>0,K66*((ROUND(I66/30,2)*J66)),"") -> 0 | N66: =IF(N(C66)>0,(M66*J66),"") -> 0 | O66: =IF(N(C66)>0,ROUND(L66+N66,2),"") -> 0 | S66: =IF(N(P66)>0,P66*ROUND((J66+($P$4*J66)),2),"") | T66: =IF(N(Q66)>0,Q66*ROUND((J66+($Q$4*J66)),2),"") | U66: =IF(N(R66)>0,R66*ROUND((J66+($R$4*J66)),2),"") | V66: =IF(N(C66)>0,SUM(S66:U66),"") -> 0 | X66: =IF(N(C66)>0,V66+W66,"") -> 0 | Y66: =IF(N(C66)>0,VLOOKUP(C66,' Pessoal'!$A$2:$M$34,10),"") -> 6.41 | Z66: =IF(N(C66)>0,(G66*Y66),"") -> 0 | AA66: =IF(N(C66)>0,V66,"") -> 0 | AC66: =IF(N(C66)>0,V66,"") -> 0 | AD66: =IF(N(C66)>0,ROUND(SUM(X66+F66+Z66+AA66+AB66+AC66)-O66,2),"") -> 485 | AE66: =IF(N(C66)>0,(ROUND(IF((Y66)>6.41,((Y66-6.41)*G67+F66+AA66+AB66+AC66-O66),F66+AA66+AB66+AC66-O66),2))," ") -> 485 | AF66: =IF(N(C66)>0,ROUND(AE66*VLOOKUP(C66,' Pessoal'!$A$2:$M$34,9),2),"") -> 53.35 | AG66: 0 | AH66: =IF(N(C66)>0,ROUND(AE66*AG66,2),"") -> 0 | AI66: 0 | AJ66: =IF(N(C66)>0,SUM(AF66+AH66)+(AD66*AI66),"") -> 53.35 | AK66: =IF(N(C66)>0,(AD66-AJ66),"") -> 431.65 | AL66: =AE66+AL28 -> 2950 | AM66: =AH66+AM28 -> 0 | AN66: =AF66+AN63 -> 702.35
A67: 63 | B67: 40693 | C67: 5 | D67: =IF(N(C67)>0,IF(N(C67)<34,VLOOKUP('Tabela Final'!C67,' Pessoal'!$A$2:$B$34,2),""),"") -> André | E67: =IF(N(C67)>0,IF(N(C67)<34,VLOOKUP(C67,' Pessoal'!$A$2:$C$34,3),""),"") -> Ajud. Electricista | F67: =IF(N(C67)>0,IF(N(C67)<34,VLOOKUP(C67,' Pessoal'!$A$2:$M$34,4)),"") -> 550 | H67: =IF(N(C67)>0,$H$5,"") -> 40 | I67: =IF(N(H67)>0,(H67*52)/12,"") -> 173.33333 | J67: =IF(N(C67)>0,ROUND((F67/I67),2),"") -> 3.17 | L67: =IF(N(C67)>0,K67*((ROUND(I67/30,2)*J67)),"") -> 0 | N67: =IF(N(C67)>0,(M67*J67),"") -> 0 | O67: =IF(N(C67)>0,ROUND(L67+N67,2),"") -> 0 | S67: =IF(N(P67)>0,P67*ROUND((J67+($P$4*J67)),2),"") | T67: =IF(N(Q67)>0,Q67*ROUND((J67+($Q$4*J67)),2),"") | U67: =IF(N(R67)>0,R67*ROUND((J67+($R$4*J67)),2),"") | V67: =IF(N(C67)>0,SUM(S67:U67),"") -> 0 | X67: =IF(N(C67)>0,V67+W67,"") -> 0 | Y67: =IF(N(C67)>0,VLOOKUP(C67,' Pessoal'!$A$2:$M$34,10),"") -> 6.41 | Z67: =IF(N(C67)>0,(G67*Y67),"") -> 0 | AA67: =IF(N(C67)>0,V67,"") -> 0 | AC67: =IF(N(C67)>0,V67,"") -> 0 | AD67: =IF(N(C67)>0,ROUND(SUM(X67+F67+Z67+AA67+AB67+AC67)-O67,2),"") -> 550 | AE67: =IF(N(C67)>0,(ROUND(IF((Y67)>6.41,((Y67-6.41)*G68+F67+AA67+AB67+AC67-O67),F67+AA67+AB67+AC67-O67),2))," ") -> 550 | AF67: =IF(N(C67)>0,ROUND(AE67*VLOOKUP(C67,' Pessoal'!$A$2:$M$34,9),2),"") -> 60.5 | AG67: 0 | AH67: =IF(N(C67)>0,ROUND(AE67*AG67,2),"") -> 0 | AI67: 0 | AJ67: =IF(N(C67)>0,SUM(AF67+AH67)+(AD67*AI67),"") -> 60.5 | AK67: =IF(N(C67)>0,(AD67-AJ67),"") -> 489.5 | AL67: =AE67+AL29 -> 3300 | AM67: =AH67+AM29 -> 0 | AN67: =AF67+AN64 -> 786.5
A68: 64 | B68: 40724 | C68: 1 | D68: =IF(N(C68)>0,IF(N(C68)<34,VLOOKUP('Tabela Final'!C68,' Pessoal'!$A$2:$B$34,2),""),"") -> Susana | E68: =IF(N(C68)>0,IF(N(C68)<34,VLOOKUP(C68,' Pessoal'!$A$2:$C$34,3),""),"") -> Gerente | F68: =IF(N(C68)>0,IF(N(C68)<34,VLOOKUP(C68,' Pessoal'!$A$2:$M$34,4)),"") -> 927 | H68: =IF(N(C68)>0,$H$5,"") -> 40 | I68: =IF(N(H68)>0,(H68*52)/12,"") -> 173.33333 | J68: =IF(N(C68)>0,ROUND((F68/I68),2),"") -> 5.35 | L68: =IF(N(C68)>0,K68*((ROUND(I68/30,2)*J68)),"") -> 0 | N68: =IF(N(C68)>0,(M68*J68),"") -> 0 | O68: =IF(N(C68)>0,ROUND(L68+N68,2),"") -> 0 | S68: =IF(N(P68)>0,P68*ROUND((J68+($P$4*J68)),2),"") | T68: =IF(N(Q68)>0,Q68*ROUND((J68+($Q$4*J68)),2),"") | U68: =IF(N(R68)>0,R68*ROUND((J68+($R$4*J68)),2),"") | V68: =IF(N(C68)>0,SUM(S68:U68),"") -> 0 | X68: =IF(N(C68)>0,V68+W68,"") -> 0 | Y68: =IF(N(C68)>0,VLOOKUP(C68,' Pessoal'!$A$2:$M$34,10),"") -> 6.41 | Z68: =IF(N(C68)>0,(G68*Y68),"") -> 0 | AA68: =IF(N(C68)>0,V68,"") -> 0 | AC68: =IF(N(C68)>0,V68,"") -> 0 | AD68: =IF(N(C68)>0,ROUND(SUM(X68+F68+Z68+AA68+AB68+AC68)-O68,2),"") -> 927 | AE68: =IF(N(C68)>0,(ROUND(IF((Y68)>6.41,((Y68-6.41)*G69+F68+AA68+AB68+AC68-O68),F68+AA68+AB68+AC68-O68),2))," ") -> 927 | AF68: =IF(N(C68)>0,ROUND(AE68*VLOOKUP(C68,' Pessoal'!$A$2:$M$34,9),2),"") -> 86.21 | AG68: 0.08 | AH68: =IF(N(C68)>0,ROUND(AE68*AG68,2),"") -> 74.16 | AI68: 0 | AJ68: =IF(N(C68)>0,SUM(AF68+AH68)+(AD68*AI68),"") -> 160.37 | AK68: =IF(N(C68)>0,(AD68-AJ68),"") -> 766.63 | AL68: =AE68+AL65 -> 6489 | AM68: =AH68+AM30 -> 741.6 | AN68: =AF68+AN63 -> 735.21 | AO68: =SUM(AH68:AH70) -> 74.16 | AP68: =AE68 -> 927 | AQ68: =AP68*0.2125 -> 196.9875 | AR68: =SUM(AE69:AE70) -> 1035 | AS68: =ROUND(AR68*0.2375,2)-$AE69*0.01 -> 240.96 | AT68: =AK68 -> 766.63 | AU68: =ROUND(SUM(AK69:AK70),2) -> 921.15 | AV68: =ROUND(AP68*0.3125+AR68*0.3475,2)-$AE69*0.01 -> 644.5 | AW68: =AD68 -> 927 | AX68: =SUM(AD69:AD70) -> 1035
A69: 65 | B69: 40724 | C69: 4 | D69: =IF(N(C69)>0,IF(N(C69)<34,VLOOKUP('Tabela Final'!C69,' Pessoal'!$A$2:$B$34,2),""),"") -> Carlos | E69: =IF(N(C69)>0,IF(N(C69)<34,VLOOKUP(C69,' Pessoal'!$A$2:$C$34,3),""),"") -> Ajud. Electricista | F69: =IF(N(C69)>0,IF(N(C69)<34,VLOOKUP(C69,' Pessoal'!$A$2:$M$34,4)),"") -> 485 | H69: =IF(N(C69)>0,$H$5,"") -> 40 | I69: =IF(N(H69)>0,(H69*52)/12,"") -> 173.33333 | J69: =IF(N(C69)>0,ROUND((F69/I69),2),"") -> 2.8 | L69: =IF(N(C69)>0,K69*((ROUND(I69/30,2)*J69)),"") -> 0 | N69: =IF(N(C69)>0,(M69*J69),"") -> 0 | O69: =IF(N(C69)>0,ROUND(L69+N69,2),"") -> 0 | S69: =IF(N(P69)>0,P69*ROUND((J69+($P$4*J69)),2),"") | T69: =IF(N(Q69)>0,Q69*ROUND((J69+($Q$4*J69)),2),"") | U69: =IF(N(R69)>0,R69*ROUND((J69+($R$4*J69)),2),"") | V69: =IF(N(C69)>0,SUM(S69:U69),"") -> 0 | X69: =IF(N(C69)>0,V69+W69,"") -> 0 | Y69: =IF(N(C69)>0,VLOOKUP(C69,' Pessoal'!$A$2:$M$34,10),"") -> 6.41 | Z69: =IF(N(C69)>0,(G69*Y69),"") -> 0 | AA69: =IF(N(C69)>0,V69,"") -> 0 | AC69: =IF(N(C69)>0,V69,"") -> 0 | AD69: =IF(N(C69)>0,ROUND(SUM(X69+F69+Z69+AA69+AB69+AC69)-O69,2),"") -> 485 | AE69: =IF(N(C69)>0,(ROUND(IF((Y69)>6.41,((Y69-6.41)*G70+F69+AA69+AB69+AC69-O69),F69+AA69+AB69+AC69-O69),2))," ") -> 485 | AF69: =IF(N(C69)>0,ROUND(AE69*VLOOKUP(C69,' Pessoal'!$A$2:$M$34,9),2),"") -> 53.35 | AG69: 0 | AH69: =IF(N(C69)>0,ROUND(AE69*AG69,2),"") -> 0 | AI69: 0 | AJ69: =IF(N(C69)>0,SUM(AF69+AH69)+(AD69*AI69),"") -> 53.35 | AK69: =IF(N(C69)>0,(AD69-AJ69),"") -> 431.65 | AL69: =AE69+AL66 -> 3435 | AM69: =AH69+AM33 -> 0 | AN69: =AF69+AN64 -> 779.35
A70: 66 | B70: 40724 | C70: 5 | D70: =IF(N(C70)>0,IF(N(C70)<34,VLOOKUP('Tabela Final'!C70,' Pessoal'!$A$2:$B$34,2),""),"") -> André | E70: =IF(N(C70)>0,IF(N(C70)<34,VLOOKUP(C70,' Pessoal'!$A$2:$C$34,3),""),"") -> Ajud. Electricista | F70: =IF(N(C70)>0,IF(N(C70)<34,VLOOKUP(C70,' Pessoal'!$A$2:$M$34,4)),"") -> 550 | H70: =IF(N(C70)>0,$H$5,"") -> 40 | I70: =IF(N(H70)>0,(H70*52)/12,"") -> 173.33333 | J70: =IF(N(C70)>0,ROUND((F70/I70),2),"") -> 3.17 | L70: =IF(N(C70)>0,K70*((ROUND(I70/30,2)*J70)),"") -> 0 | N70: =IF(N(C70)>0,(M70*J70),"") -> 0 | O70: =IF(N(C70)>0,ROUND(L70+N70,2),"") -> 0 | S70: =IF(N(P70)>0,P70*ROUND((J70+($P$4*J70)),2),"") | T70: =IF(N(Q70)>0,Q70*ROUND((J70+($Q$4*J70)),2),"") | U70: =IF(N(R70)>0,R70*ROUND((J70+($R$4*J70)),2),"") | V70: =IF(N(C70)>0,SUM(S70:U70),"") -> 0 | X70: =IF(N(C70)>0,V70+W70,"") -> 0 | Y70: =IF(N(C70)>0,VLOOKUP(C70,' Pessoal'!$A$2:$M$34,10),"") -> 6.41 | Z70: =IF(N(C70)>0,(G70*Y70),"") -> 0 | AA70: =IF(N(C70)>0,V70,"") -> 0 | AC70: =IF(N(C70)>0,V70,"") -> 0 | AD70: =IF(N(C70)>0,ROUND(SUM(X70+F70+Z70+AA70+AB70+AC70)-O70,2),"") -> 550 | AE70: =IF(N(C70)>0,(ROUND(IF((Y70)>6.41,((Y70-6.41)*G70+F70+AA70+AB70+AC70-O70),F70+AA70+AB70+AC70-O70),2))," ") -> 550 | AF70: =IF(N(C70)>0,ROUND(AE70*VLOOKUP(C70,' Pessoal'!$A$2:$M$34,9),2),"") -> 60.5 | AG70: 0 | AH70: =IF(N(C70)>0,ROUND(AE70*AG70,2),"") -> 0 | AI70: 0 | AJ70: =IF(N(C70)>0,SUM(AF70+AH70)+(AD70*AI70),"") -> 60.5 | AK70: =IF(N(C70)>0,(AD70-AJ70),"") -> 489.5 | AL70: =AE70+AL67 -> 3850 | AM70: =AH70+AM34 -> 0 | AN70: =AF70+AN65 -> 1181.23
A71: 67 | B71: 40877 | C71: 1 | D71: =IF(N(C71)>0,IF(N(C71)<34,VLOOKUP('Tabela Final'!C71,' Pessoal'!$A$2:$B$34,2),""),"") -> Susana | E71: =IF(N(C71)>0,IF(N(C71)<34,VLOOKUP(C71,' Pessoal'!$A$2:$C$34,3),""),"") -> Gerente | F71: =IF(N(C71)>0,IF(N(C71)<34,VLOOKUP(C71,' Pessoal'!$A$2:$M$34,4)),"") -> 927 | H71: =IF(N(C71)>0,$H$5,"") -> 40 | I71: =IF(N(H71)>0,(H71*52)/12,"") -> 173.33333 | J71: =IF(N(C71)>0,ROUND((F71/I71),2),"") -> 5.35 | L71: =IF(N(C71)>0,K71*((ROUND(I71/30,2)*J71)),"") -> 0 | N71: =IF(N(C71)>0,(M71*J71),"") -> 0 | O71: =IF(N(C71)>0,ROUND(L71+N71,2),"") -> 0 | S71: =IF(N(P71)>0,P71*ROUND((J71+($P$4*J71)),2),"") | T71: =IF(N(Q71)>0,Q71*ROUND((J71+($Q$4*J71)),2),"") | U71: =IF(N(R71)>0,R71*ROUND((J71+($R$4*J71)),2),"") | V71: =IF(N(C71)>0,SUM(S71:U71),"") -> 0 | X71: =IF(N(C71)>0,V71+W71,"") -> 0 | Y71: =IF(N(C71)>0,VLOOKUP(C71,' Pessoal'!$A$2:$M$34,10),"") -> 6.41 | Z71: =IF(N(C71)>0,(G71*Y71),"") -> 0 | AA71: =IF(N(C71)>0,V71,"") -> 0 | AC71: =IF(N(C71)>0,V71,"") -> 0 | AD71: =IF(N(C71)>0,ROUND(SUM(X71+F71+Z71+AA71+AB71+AC71)-O71,2),"") -> 927 | AE71: =IF(N(C71)>0,(ROUND(IF((Y71)>5.37,((Y71-5.37)*G71+F71+AA71+AB71+AC71-O71),F71+AA71+AB71+AC71-O71),2))," ") -> 927 | AF71: =IF(N(C71)>0,ROUND(AE71*VLOOKUP(C71,' Pessoal'!$A$2:$M$34,9),2),"") -> 86.21 | AG71: 0.08 | AH71: =IF(N(C71)>0,ROUND(AE71*AG71,2),"") -> 74.16 | AI71: 0 | AJ71: =IF(N(C71)>0,SUM(AF71+AH71)+(AD71*AI71),"") -> 160.37 | AK71: =IF(N(C71)>0,(AD71-AJ71),"") -> 766.63 | AL71: =AE71+AL55 -> 11124 | AM71: =AH71+AM55 -> 1112.4 | AN71: =AF71+AN66 -> 788.56
A72: 68 | B72: 40877 | C72: 4 | D72: =IF(N(C72)>0,IF(N(C72)<34,VLOOKUP('Tabela Final'!C72,' Pessoal'!$A$2:$B$34,2),""),"") -> Carlos | E72: =IF(N(C72)>0,IF(N(C72)<34,VLOOKUP(C72,' Pessoal'!$A$2:$C$34,3),""),"") -> Ajud. Electricista | F72: =IF(N(C72)>0,IF(N(C72)<34,VLOOKUP(C72,' Pessoal'!$A$2:$M$34,4)),"") -> 485 | H72: =IF(N(C72)>0,$H$5,"") -> 40 | I72: =IF(N(H72)>0,(H72*52)/12,"") -> 173.33333 | J72: =IF(N(C72)>0,ROUND((F72/I72),2),"") -> 2.8 | L72: =IF(N(C72)>0,K72*((ROUND(I72/30,2)*J72)),"") -> 0 | N72: =IF(N(C72)>0,(M72*J72),"") -> 0 | O72: =IF(N(C72)>0,ROUND(L72+N72,2),"") -> 0 | S72: =IF(N(P72)>0,P72*ROUND((J72+($P$4*J72)),2),"") | T72: =IF(N(Q72)>0,Q72*ROUND((J72+($Q$4*J72)),2),"") | U72: =IF(N(R72)>0,R72*ROUND((J72+($R$4*J72)),2),"") | V72: =IF(N(C72)>0,SUM(S72:U72),"") -> 0 | X72: =IF(N(C72)>0,V72+W72,"") -> 0 | Y72: =IF(N(C72)>0,VLOOKUP(C72,' Pessoal'!$A$2:$M$34,10),"") -> 6.41 | Z72: =IF(N(C72)>0,(G72*Y72),"") -> 0 | AA72: =IF(N(C72)>0,V72,"") -> 0 | AC72: =IF(N(C72)>0,V72,"") -> 0 | AD72: =IF(N(C72)>0,ROUND(SUM(X72+F72+Z72+AA72+AB72+AC72)-O72,2),"") -> 485 | AE72: =IF(N(C72)>0,(ROUND(IF((Y72)>5.37,((Y72-5.37)*G72+F72+AA72+AB72+AC72-O72),F72+AA72+AB72+AC72-O72),2))," ") -> 485 | AF72: =IF(N(C72)>0,ROUND(AE72*VLOOKUP(C72,' Pessoal'!$A$2:$M$34,9),2),"") -> 53.35 | AG72: 0 | AH72: =IF(N(C72)>0,ROUND(AE72*AG72,2),"") -> 0 | AI72: 0 | AJ72: =IF(N(C72)>0,SUM(AF72+AH72)+(AD72*AI72),"") -> 53.35 | AK72: =IF(N(C72)>0,(AD72-AJ72),"") -> 431.65 | AL72: =AE72+AL58 -> 5900 | AM72: =AH72+AM58 -> 0 | AN72: =AF72+AN67 -> 839.85
A73: 69 | B73: 40877 | C73: 5 | D73: =IF(N(C73)>0,IF(N(C73)<34,VLOOKUP('Tabela Final'!C73,' Pessoal'!$A$2:$B$34,2),""),"") -> André | E73: =IF(N(C73)>0,IF(N(C73)<34,VLOOKUP(C73,' Pessoal'!$A$2:$C$34,3),""),"") -> Ajud. Electricista | F73: =IF(N(C73)>0,IF(N(C73)<34,VLOOKUP(C73,' Pessoal'!$A$2:$M$34,4)),"") -> 550 | H73: =IF(N(C73)>0,$H$5,"") -> 40 | I73: =IF(N(H73)>0,(H73*52)/12,"") -> 173.33333 | J73: =IF(N(C73)>0,ROUND((F73/I73),2),"") -> 3.17 | L73: =IF(N(C73)>0,K73*((ROUND(I73/30,2)*J73)),"") -> 0 | N73: =IF(N(C73)>0,(M73*J73),"") -> 0 | O73: =IF(N(C73)>0,ROUND(L73+N73,2),"") -> 0 | S73: =IF(N(P73)>0,P73*ROUND((J73+($P$4*J73)),2),"") | T73: =IF(N(Q73)>0,Q73*ROUND((J73+($Q$4*J73)),2),"") | U73: =IF(N(R73)>0,R73*ROUND((J73+($R$4*J73)),2),"") | V73: =IF(N(C73)>0,SUM(S73:U73),"") -> 0 | X73: =IF(N(C73)>0,V73+W73,"") -> 0 | Y73: =IF(N(C73)>0,VLOOKUP(C73,' Pessoal'!$A$2:$M$34,10),"") -> 6.41 | Z73: =IF(N(C73)>0,(G73*Y73),"") -> 0 | AA73: =IF(N(C73)>0,V73,"") -> 0 | AC73: =IF(N(C73)>0,V73,"") -> 0 | AD73: =IF(N(C73)>0,ROUND(SUM(X73+F73+Z73+AA73+AB73+AC73)-O73,2),"") -> 550 | AE73: =IF(N(C73)>0,(ROUND(IF((Y73)>5.37,((Y73-5.37)*G73+F73+AA73+AB73+AC73-O73),F73+AA73+AB73+AC73-O73),2))," ") -> 550 | AF73: =IF(N(C73)>0,ROUND(AE73*VLOOKUP(C73,' Pessoal'!$A$2:$M$34,9),2),"") -> 60.5 | AG73: 0 | AH73: =IF(N(C73)>0,ROUND(AE73*AG73,2),"") -> 0 | AI73: 0 | AJ73: =IF(N(C73)>0,SUM(AF73+AH73)+(AD73*AI73),"") -> 60.5 | AK73: =IF(N(C73)>0,(AD73-AJ73),"") -> 489.5 | AL73: =AE73+AL59 -> 6600 | AM73: =AH73+AM59 -> 0 | AN73: =AF73+AN68 -> 795.71
D74: TOTAIS | F74: =SUM(F5:F73) -> 29430 | G74: =SUM(G5:G73) -> 1300 | H74: =SUM(H5:H73) -> 2760 | I74: =SUM(I5:I73) -> 11440 | J74: =SUM(J5:J73) -> 169.8 | K74: =SUM(K5:K73) -> 0 | L74: =SUM(L5:L73) -> 0 | M74: =SUM(M5:M73) -> 0 | ... AM74: =SUM(AM5:AM73) -> 14312.88
AI77: José Carvalho ®

Sheet  Pessoal
A1: N.º Empregado | B1: Nome | C1: Categoria | D1: Vencimento | E1: N.º Dependentes | F1: Titular Rendimentos | G1: Departamento | H1: Sindicato | I1: Taxa S. Social | J1: Valor Sub. Alimentação | K1: Estado Civil | L1: N.º de Contribuinte | M1: Beneficiário | N1: Início
A2: 1 | B2: Susana | C2: Gerente | D2: 927 | E2: 0 | F2: 1 | G2: Gerência | H2: Não | I2: 0.093 | J2: 6.41 | K2: Divorciado | L2: 215600000 | M2: 11075114000 | N2: 39142 | O2: 0.02
A3: 2 | B3: Nuno | C3: Ajud. Electricista | D3: 0 | E3: 0 | F3: 1 | H3: Não | I3: 0.11 | J3: 0 | K3: Solteiro | L3: 239 403 000 | M3: 12035110000 | N3: 39937 | O3: 0.02
A4: 3 | B4: Fábio | C4: Ajud. Electricista | D4: 0 | E4: 0 | F4: 1 | H4: Não | I4: 0.11 | J4: 0 | K4: Solteiro | L4: 245 076 000 | M4: 12036432000 | N4: 40000
A5: 4 | B5: Carlos | C5: Ajud. Electricista | D5: 485 | E5: 0 | F5: 1 | H5: Não | I5: 0.11 | J5: 6.41 | K5: Solteiro | L5: 254727000 | M5: 11921094000 | N5: 40057
A6: 5 | B6: André | C6: Ajud. Electricista | D6: 550 | E6: 0 | F6: 1 | H6: Não | I6: 0.11 | J6: 6.41 | K6: Solteiro | L6: 243 438 000 | M6: 11920341800 | N6: 40198
K36: José Carvalho ®

Sheet Recibo
A1: 15 | H1: RECIBO DE VENCIMENTO | M1: 1 | N1: 1
I2: Retribuição referente a | M2: 2
I3: =VLOOKUP(Recibo!$A$1,'Tabela Final'!$A$5:$AU$155,2) -> 40633 | M3: 3
M4: 4
M5: 5
J6: ORIGINAL | M6: 6
B7: EMPRESA ,Lda | M7: 7
G8: Func. N.º | H8: =VLOOKUP(Recibo!$A$1,'Tabela Final'!$A$5:$AU$155,3) -> 5 | I8: =VLOOKUP(Recibo!$A$1,'Tabela Final'!$A$5:$AU$155,4) -> André | M8: 8
M9: 9
B10: Categoria: | D10: =VLOOKUP(H8,' Pessoal'!A1:L33,3) -> Ajud. Electricista | M10: 10
B11: Nº Fiscal Contribuinte: | D11: =VLOOKUP(H8,' Pessoal'!A2:L34,12) -> 243 438 000 | M11: 11
B12: Nº S. Social: | D12: =VLOOKUP(H8,' Pessoal'!A2:M34,13) -> 11920341800 | M12: 12
M13: 13
M14: 14
B15: Data | E15: Taxa | F15: Incidência | M15: 15
B16: Efeitos | C16: Designação | E16: Unidade | F16: Quantidade | H16: Abonos | J16: Descontos | M16: 16
B17: =$I$3 -> 40633 | C17: Vencimento Base | E17: =ROUND(H17/F17,2) -> 3.17 | F17: =VLOOKUP($A$1,'Tabela Final'!$A$5:$AU$155,9) -> 173.33333 | H17: =VLOOKUP($A$1,'Tabela Final'!$A$5:$AU$155,31)-H23+J19 -> 550 | M17: 17
B18: =$I$3 -> 40633 | C18: Sub. Refeição | E18: =VLOOKUP(H8,' Pessoal'!A2:M34,10) -> 6.41 | F18: =VLOOKUP($A$1,'Tabela Final'!$A$5:$AU$155,7) -> 22 | H18: =E18*F18 -> 141.02 | M18: 18
B19: =$I$3 -> 40633 | C19: Faltas | E19: =IF(N(J19)>0,J19/F19,"") | F19: =IF(N(J19)>0,J19/E17,"") | J19: =VLOOKUP($A$1,'Tabela Final'!$A$5:$AU$155,15) -> 0 | M19: 19
B20: =$I$3 -> 40633 | C20: Horas Extra 50% | E20: =IF(N(H20)>0,H20/F20,"") | F20: =IF(N(H20)>0,VLOOKUP(Recibo!H8,'Tabela Final'!C5:AP94,14),"") | H20: =VLOOKUP(H8,'Tabela Final'!C5:BK757,17) | M20: 20
B21: =$I$3 -> 40633 | C21: Horas Extra 75% | E21: =IF(N(H21)>0,H21/F21,"") | F21: =IF(N(H21)>0,VLOOKUP(Recibo!H9,'Tabela Final'!C5:AP94,15),"") | H21: =VLOOKUP(H8,'Tabela Final'!C5:BK757,18) | M21: 21
B22: =$I$3 -> 40633 | C22: Horas Extra 100% | E22: =IF(N(H22)>0,H22/F22,"") | F22: =IF(N(H22)>0,VLOOKUP(Recibo!H10,'Tabela Final'!C5:AP94,16),"") | H22: =VLOOKUP(H8,'Tabela Final'!C5:BK757,19) | M22: 22
B23: =$I$3 -> 40633 | C23: Comissões / Complementos | H23: 0 | M23: 23
B24: =$I$3 -> 40633 | C24: IRS | E24: =VLOOKUP(Recibo!$A$1,'Tabela Final'!$A$5:$AU$155,33) -> 0 | F24: =VLOOKUP($A$1,'Tabela Final'!$A$5:$AU$155,31) -> 550 | J24: =VLOOKUP($A$1,'Tabela Final'!$A$5:$AU$155,34) -> 0 | M24: 24
B25: =$I$3 -> 40633 | C25: T.S.U. | E25: =VLOOKUP(H8,' Pessoal'!A2:BJ177,9) -> 0.11 | F25: =VLOOKUP($A$1,'Tabela Final'!$A$5:$AU$155,31) -> 550 | J25: =VLOOKUP($A$1,'Tabela Final'!$A$5:$AU$155,32) -> 60.5 | M25: 25
B26: =$I$3 -> 40633 | M26: 26
M27: 27
H28: Total de Abonos | J28: Total de Descontos | M28: 28
C29: Acumulados | H29: =SUM(H17:I26) -> 691.02 | J29: =SUM(J17:K26) -> 60.5 | M29: 29
B30: Sujeito IRS | D30: IRS Retido | M30: 30
B31: =VLOOKUP($A$1,'Tabela Final'!$A$5:$AU$155,38) -> 1650 | D31: =VLOOKUP($A$1,'Tabela Final'!$A$5:$AU$155,39) -> 0 | F31: Líquido a Receber em EUROS | J31: =H29-J29 -> 630.52 | M31: 31
M32: 32
M33: 33
F34: Declaro que recebi a quantia constante neste recibo | M34: 34
M35: 35
F36: ASS. | M36: 36
K37: Processado por computador | M37: 37
B38: EMPRESA,Lda, Rua XPTO XXXX-XXX CIDADE Contribuinte n.º 123 456 789 | M38: 38
M39: 1
M40: 2
M41: 5
M42: 6
M43: 7
M44: 8
M45: 9
M46: 10
M47: 11
H48: RECIBO DE VENCIMENTO | M48: 12
I49: Retribuição referente a | M49: 13
I50: =I3 -> 40633 | M50: 14
M51: 15
M52: 16
J53: DUPLICADO | M53: 17
B54: EMPRESA ,Lda | M54: 18
G55: Func. N.º | H55: =H8 -> 5 | I55: =I8 -> André | M55: 19
M56: 20
B57: Categoria: | D57: =D10 -> Ajud. Electricista | M57: 21
B58: Nº Fiscal Contribuinte: | D58: =D11 -> 243 438 000 | M58: 22
B59: Nº S. Social: | D59: =D12 -> 11920341800 | M59: 23
M60: 24
M61: 25
B62: Data | E62: Taxa | F62: Incidência | M62: 26
B63: Efeitos | C63: Designação | E63: Unidade | F63: Quantidade | H63: Abonos | J63: Descontos | M63: 27
B64: =$I$3 -> 40633 | C64: =C17 -> Vencimento Base | E64: =E17 -> 3.17 | F64: =F17 -> 173.33333 | H64: =H17 -> 550 | M64: 28
B65: =$I$3 -> 40633 | C65: =C18 -> Sub. Refeição | E65: =E18 -> 6.41 | F65: =F18 -> 22 | H65: =H18 -> 141.02 | M65: 29
B66: =$I$3 -> 40633 | C66: =C19 -> Faltas | E66: =E19 | F66: =F19 | J66: =J19 -> 0 | M66: 30
B67: =$I$3 -> 40633 | C67: =C20 -> Horas Extra 50% | E67: =E20 | F67: =F20 | H67: =H20 | M67: 31
B68: =$I$3 -> 40633 | C68: =C21 -> Horas Extra 75% | E68: =E21 | F68: =F21 | H68: =H21 | M68: 32
B69: =$I$3 -> 40633 | C69: =C22 -> Horas Extra 100% | E69: =E22 | F69: =F22 | H69: =H22 | M69: 33
B70: =$I$3 -> 40633 | C70: =C23 -> Comissões / Complementos | H70: =H23 -> 0 | M70: 34
B71: =$I$3 -> 40633 | C71: =C24 -> IRS | E71: =E24 -> 0 | F71: =F24 -> 550 | J71: =J24 -> 0 | M71: 35
B72: =$I$3 -> 40633 | C72: =C25 -> T.S.U. | E72: =E25 -> 0.11 | F72: =F25 -> 550 | J72: =J25 -> 60.5 | M72: 36
M73: 37
M74: 38
H75: Total de Abonos | J75: Total de Descontos | M75: 39
H76: =SUM(H64:I73) -> 691.02 | J76: =SUM(J64:K73) -> 60.5 | M76: 40
C77: Acumulados | M77: 41
B78: Sujeito IRS | D78: IRS Retido | M78: 42
B79: =B31 -> 1650 | D79: =D31 -> 0 | F79: Líquido a Receber em EUROS | J79: =H76-J76 -> 630.52 | M79: 43
M80: 44
M81: 45
B82: Observações: | M82: 46
M83: 47
K84: Processado por computador | M84: 48
B85: EMPRESA,Lda, Rua XPTO XXXX-XXX CIDADE Contribuinte n.º 123 456 789 | M85: 49
J87: José Carvalho ®

Sheet Recibo Férias-Natal
A1: 69 | H1: RECIBO DE VENCIMENTO
I2: Retribuição referente a
I3: =VLOOKUP('Recibo Férias-Natal'!$A$1,'Tabela Final'!$A$5:$AU$155,2) -> 40877
J6: ORIGINAL
B7: EMPRESA ,Lda
G8: Func. N.º | H8: =VLOOKUP('Recibo Férias-Natal'!$A$1,'Tabela Final'!$A$5:$AU$155,3) -> 5 | I8: =VLOOKUP('Recibo Férias-Natal'!$A$1,'Tabela Final'!$A$5:$AU$155,4) -> André
B10: Categoria: | D10: =VLOOKUP(H8,'Tabela Final'!C5:E44,3) -> Ajud. Electricista
B11: Nº Fiscal Contribuinte: | D11: =VLOOKUP(H8,' Pessoal'!A2:L34,12) -> 243 438 000
B12: Nº S. Social: | D12: =VLOOKUP(H8,' Pessoal'!A2:M34,13) -> 11920341800
B15: Data | E15: Taxa | F15: Incidência
B16: Efeitos | C16: Designação | E16: Unidade | F16: Quantidade | H16: Abonos | J16: Descontos
B17: =$I$3 -> 40877 | C17: Sub. Férias/Natal | E17: =ROUND(H17/F17,2) -> 18.33 | F17: 30 | H17: =VLOOKUP($A$1,'Tabela Final'!$A$5:$AU$155,30)-VLOOKUP($A$1,'Tabela Final'!$A$5:$AU$155,23)-VLOOKUP($A$1,'Tabela Final'!$A$5:$AU$155,28) -> 550
B18: =$I$3 -> 40877 | H18: =VLOOKUP($A$1,'Tabela Final'!$A$5:$AU$155,23) -> 0
B19: =$I$3 -> 40877 | H19: =VLOOKUP($A$1,'Tabela Final'!$A$5:$AU$155,28) -> 0 | J19: =IF(N(VLOOKUP(H8,'Tabela Final'!C5:N44,12))>0,VLOOKUP(H8,'Tabela Final'!C5:N44,12),"")
B20: =$I$3 -> 40877 | C20: Horas Extra 50% | E20: =IF(N(H20)>0,H20/F20,"") | F20: =IF(N(H20)>0,VLOOKUP('Recibo Férias-Natal'!H8,'Tabela Final'!C5:AP94,14),"") | H20: =VLOOKUP(H8,'Tabela Final'!C5:BK757,17)
B21: =$I$3 -> 40877 | C21: Horas Extra 75% | E21: =IF(N(H21)>0,H21/F21,"") | F21: =IF(N(H21)>0,VLOOKUP('Recibo Férias-Natal'!H9,'Tabela Final'!C5:AP94,15),"") | H21: =VLOOKUP(H8,'Tabela Final'!C5:BK757,18)
B22: =$I$3 -> 40877 | C22: Horas Extra 100% | E22: =IF(N(H22)>0,H22/F22,"") | F22: =IF(N(H22)>0,VLOOKUP('Recibo Férias-Natal'!H10,'Tabela Final'!C5:AP94,16),"") | H22: =VLOOKUP(H8,'Tabela Final'!C5:BK757,19)
B23: =$I$3 -> 40877 | C23: Comissões / Complementos | H23: =IF(N(VLOOKUP(H8,'Tabela Final'!C5:AK44,9)+VLOOKUP(H8,'Tabela Final'!C5:O44,12))>0,VLOOKUP(H8,'Tabela Final'!C5:AK44,9)+VLOOKUP(H8,'Tabela Final'!C5:O44,12),"")
B24: =$I$3 -> 40877 | C24: IRS | E24: =VLOOKUP('Recibo Férias-Natal'!$A$1,'Tabela Final'!$A$5:$AU$155,33) -> 0 | F24: =H17 -> 550 | J24: =VLOOKUP($A$1,'Tabela Final'!$A$5:$AU$155,34) -> 0
B25: =$I$3 -> 40877 | C25: T.S.U. | E25: =VLOOKUP(H8,' Pessoal'!A2:BJ177,9) -> 0.11 | F25: =H17 -> 550 | J25: =VLOOKUP($A$1,'Tabela Final'!$A$5:$AU$155,32) -> 60.5
H28: Total de Abonos | J28: Total de Descontos
C29: Acumulados | H29: =SUM(H17:I26) -> 550 | J29: =SUM(J17:K26) -> 60.5
B30: Sujeito IRS | D30: Retido IRS
B31: =VLOOKUP($A$1,'Tabela Final'!$A$5:$AU$155,38) -> 6600 | D31: =VLOOKUP($A$1,'Tabela Final'!$A$5:$AU$155,39) -> 0 | F31: Líquido a Receber em EUROS | J31: =H29-J29 -> 489.5
F34: Declaro que recebi a quantia constante neste recibo
F36: ASS.
K37: Processado por computador
B38: EMPRESA,Lda, Rua XPTO XXXX-XXX CIDADE Contribuinte n.º 123 456 789
H44: RECIBO DE VENCIMENTO
I45: Retribuição referente a
I46: =I3 -> 40877
J49: DUPLICADO
B50: EMPRESA ,Lda
G51: Func. N.º | H51: =H8 -> 5 | I51: =I8 -> André
B53: Categoria: | D53: =D10 -> Ajud. Electricista
B54: Nº Fiscal Contribuinte: | D54: =D11 -> 243 438 000
B55: Nº S. Social: | D55: =D12 -> 11920341800
B58: Data | E58: Taxa | F58: Incidência
B59: Efeitos | C59: Designação | E59: Unidade | F59: Quantidade | H59: Abonos | J59: Descontos
B60: =$I$3 -> 40877 | C60: =C17 -> Sub. Férias/Natal | E60: =E17 -> 18.33 | F60: =F17 -> 30 | H60: =H17 -> 550
B61: =$I$3 -> 40877 | E61: =E18 -> 0 | F61: =F18 -> 0 | H61: =H18 -> 0
B62: =$I$3 -> 40877 | C62: =C19 -> 0 | E62: =E19 -> 0 | F62: =F19 -> 0 | H62: =H19 -> 0 | J62: =J19
B63: =$I$3 -> 40877 | C63: =C20 -> Horas Extra 50% | E63: =E20 | F63: =F20 | H63: =H20
B64: =$I$3 -> 40877 | C64: =C21 -> Horas Extra 75% | E64: =E21 | F64: =F21 | H64: =H21
B65: =$I$3 -> 40877 | C65: =C22 -> Horas Extra 100% | E65: =E22 | F65: =F22 | H65: =H22
B66: =$I$3 -> 40877 | C66: =C23 -> Comissões / Complementos | E66: =E23 -> 0 | F66: =F23 -> 0 | H66: =H23
B67: =$I$3 -> 40877 | C67: =C24 -> IRS | E67: =E24 -> 0 | F67: =F24 -> 550 | J67: =J24 -> 0
B68: =$I$3 -> 40877 | C68: =C25 -> T.S.U. | E68: =E25 -> 0.11 | F68: =F25 -> 550 | J68: =J25 -> 60.5
H71: Total de Abonos | J71: Total de Descontos
H72: =SUM(H60:I69) -> 550 | J72: =SUM(J60:K69) -> 60.5
B73: Acumulados
B74: Sujeito IRS | D74: Retido IRS
B75: =B31 -> 6600 | D75: =D31 -> 0 | F75: Líquido a Receber em EUROS | J75: =H72-J72 -> 489.5
B78: Observações:
K80: Processado por computador
B81: EMPRESA,Lda, Rua XPTO XXXX-XXX CIDADE Contribuinte n.º 123 456 789
J83: José Carvalho ®

Sheet Declaração IRS
A1: 57 | H1: RETENÇÃO NA FONTE
A2: 1
H3: Nota dos Rendimentos devidos do imposto retido, alinea b) do nº.1 do artigo 119º do Código do IRS
B6: IDENTIFICAÇÃO DE ENTIDADE PAGADORA | J6: ANO 2011
B7: EMPRESA ,Lda
B8: Rua XPTO XXXX-XXX CIDADE
B9: Contribuinte n.º 123 456 789
B15: IDENTIFICAÇÃO DO TITULAR DOS RENDIMENTOS
B16: Nome: | D16: =VLOOKUP($A$1,'Tabela Final'!$A$5:$AU$155,4) -> Nuno
B18: Categoria: | D18: =VLOOKUP(A2,' Pessoal'!A1:L38,3) -> Gerente | E18: =VLOOKUP(I13,' Pessoal'!B6:M38,12) -> #N/A
B19: Nº Fiscal Contribuinte: | D19: =VLOOKUP(A2,' Pessoal'!A2:L39,12) -> 215600000 | E19: =VLOOKUP(I14,' Pessoal'!B7:M39,12) -> #N/A
B20: Nº Seg. Social: | D20: =VLOOKUP(A2,' Pessoal'!A2:M39,13) -> 11075114000
B28: IMPORTANCIAS DEVIDAS E IMPOSTO RETIDO
B31: Tipos de Rendimentos | G31: Total Imposto Retido | I31: Sujeito a Retenção | K31: Disp. Retenção
B33: A - Trabalho Dependente | G33: =VLOOKUP($A$1,'Tabela Final'!$A$5:$AU$155,39) -> 1186.56 | I33: =VLOOKUP($A$1,'Tabela Final'!$A$5:$AU$155,38) -> 0
B39: DEDUÇÕES
B42: Contribuições Obrigatórias para a Segurança Social | H42: =VLOOKUP($A$1,'Tabela Final'!$A$5:$AU$155,40) -> 1034.52
C47: CIDADE
C48: 31 de Janeiro de 2010
H58: RETENÇÃO NA FONTE
H60: Nota dos Rendimentos devidos do imposto retido, alinea b) do nº.1 do artigo 119º do Código do IRS
B63: IDENTIFICAÇÃO DE ENTIDADE PAGADORA | J63: =J6 -> ANO 2011
B64: EMPRESA ,Lda
B65: Rua XPTO XXXX-XXX CIDADE
B66: Contribuinte n.º 123 456 789
B72: IDENTIFICAÇÃO DO TITULAR DOS RENDIMENTOS
B73: Nome: | D73: =D16 -> Nuno
B75: Categoria: | D75: =D18 -> Gerente
B76: Nº Fiscal Contribuinte: | D76: =D19 -> 215600000
B77: Nº Seg. Social: | D77: =D20 -> 11075114000
B85: IMPORTANCIAS DEVIDAS E IMPOSTO RETIDO
B88: Tipos de Rendimentos | G88: Total Imposto Retido | I88: Sujeito a Retenção | K88: Disp. Retenção
B90: A - Trabalho Dependente | G90: =G33 -> 1186.56 | I90: =I33 -> 0
B96: DEDUÇÕES
B99: Contribuições Obrigatórias para a Segurança Social | H99: =H42 -> 1034.52
C104: CIDADE
C105: 31 de Janeiro de 2010

Sheet Segurança Social
A1: 1 | C1: =VLOOKUP($A$1,B13:G155,2) -> Janeiro | F1: 2011
B3: Débito | E3: Crédito
B4: 631 | C4: Remuneração Org.Sociais | D4: =VLOOKUP($A$1,'Tabela Final'!$A$5:$BW$193,49) -> 1068.02 | E4: 245 | F4: S. Social | G4: =VLOOKUP($A$1,'Tabela Final'!$A$5:$BW$193,48) -> 663.25
B5: 632 | C5: Remuneração Pessoal | D5: =VLOOKUP($A$1,'Tabela Final'!$A$5:$BW$193,50) -> 1357.04 | E5: 2421 | F5: Ret. IRS | G5: =VLOOKUP($A$1,'Tabela Final'!$A$5:$BW$193,41) -> 74.16
E6: 2311 | F6: Rem. A Pag. Org Sociais | G6: =VLOOKUP($A$1,'Tabela Final'!$A$5:$BW$193,46) -> 907.65
E7: 2312 | F7: Rem. A Pag. Pessoal | G7: =VLOOKUP($A$1,'Tabela Final'!$A$5:$BW$193,47) -> 1238.79
B8: 6351 | C8: S.Social Org. Sociais | D8: =VLOOKUP($A$1,'Tabela Final'!$A$5:$BW$193,43) -> 196.9875
B9: 6352 | C9: S.Social Pessoal | D9: =VLOOKUP($A$1,'Tabela Final'!$A$5:$BW$193,45) -> 255.31
D10: =SUM(D4:D9) -> 2877.3575 | G10: =SUM(G4:G9) -> 2883.85
B13: 1 | C13: Janeiro
B14: 6 | C14: Fevereiro
B15: 11 | C15: Março
B16: 16 | C16: Abril
B17: 21 | C17: Maio
B18: 26 | C18: Junho
B19: 31 | C19: Julho
B20: 36 | C20: Agosto
B21: 41 | C21: Setembro
B22: 46 | C22: Outubro
B23: 51 | C23: Novembro
B24: 56 | C24: Dezembro
... B26: 64 | C26: Junho-Sub.Férias 2
