Workbook
Name Bu: [1]INPUT!$B$10
Name DC: [1]INPUT!$B$8
Name EXHIBIT_01: #REF!
Name EXHIBIT_02: #REF!
Name EXHIBIT_02: #REF!
Name EXHIBIT_02: #REF!
Name EXHIBIT_05: #REF!
Name EXHIBIT_05: #REF!
Name EXHIBIT_05: #REF!
Name EXHIBIT_06: #REF!
Name EXHIBIT_06: #REF!
Name EXHIBIT_06: #REF!
Name EXHIBIT_07: #REF!
Name EXHIBIT_07: #REF!
Name EXHIBIT_07: #REF!
Name EXHIBIT_08: #REF!
Name EXHIBIT_08: #REF!
Name EXHIBIT_08: #REF!
Name new_proj: '[2]Novos Projectos'!$A$3:$A$57
Name Pm: [1]INPUT!$B$6
Name Rd: [1]INPUT!$B$4
Name t: [1]INPUT!$B$7
Name TD: [1]INPUT!$B$9
Name VARa: [1]INPUT!$B$12

Sheet Regras de Utilização
B4: Regras de utilização
B7: Para a melhor utilização do presente modelo o empreendedor deverá dominar conceitos básicos de análise económica e financeira ou, não sendo esse o caso, deve explorar as potencialidades do presente modelo acompanhado por alguém conhecedor desses conceitos. Por outro lado, este modelo Económico Financeiro deve ser acompanhado de informação qualitativa detalhada sobre o projecto e de explicação dos pressupostos de cálculos efectuados.
B11: Principais regras de utilização:
B13: Ü Só devem ser inseridos valores nas células com fundo branco;
B14: Ü Os valores que se encontrem a azul, poderão ser alterados, mas dentro dos mesmos parâmetros;
B15: Ü A utilização deste modelo tem por base um trabalho prévio por parte do utilizador no que diz respeito à previsão de proveitos e de custos;
B16: Ü No caso de pretender efectuar uma análise de sensibilidade, utilize este mesmo modelo, mas com diferentes valores.
B19: Passos para preenchimento:
B21: 1 | C21: Para que o possa tirar partido de todas as funcionalidades do modelo, deverá confirmar se o nível de segurança das Macros esta em Médio. Para isso basta ir às Ferramentas - Macro - Segurança e no Nível de Segurança escolher / confirmar se está no Médio. Caso não esteja coloque a opção já indicada e feche o ficheiro. Quando reabrir , seleccione Aceitar Macro.
B23: 2 | C23: Colocar o nome da empresa na célula E1 na sheet de "Pressupostos";
B25: 3 | C25: Estimar o volume de negócios da empresa, através das quantidades vendidas, preço de venda dos produtos e de prestação de serviços. Caso pretenda utilize folha de cálculo anexa e faça apenas as respectivas ligações de acordo com a classificação contabilística do seu volume de negócios;
B27: 4 | C27: Colocar na sheet CMVMC na célula correspondente, as margens brutas de negócio para cada um dos produtos vendidos;
B29: 5 | C29: Na sheet FSE, estimar um valor médio mensal para cada umas das rubricas que se adaptem à empresa / negócio;
B31: 6 | C31: Na sheet Gastos com Pessoal, definir os colaboradores (Gerência e Pessoal) da empresa e respectivas remunerações brutas mensais. Para além disto, definir, caso se aplique um valor para a formação e outros custos com pessoal;
B33: 7 | C33: Posteriormente, definir o quadro de investimento da empresa / projecto na sheet de Investimentos, repartida pelas diferentes rubricas de investimento em activo fixo;
B35: 8 | C35: Na sheet de Fundo Maneio, definir a Reserva de Segurança de Tesouraria. Esta rubrica representa um valor mínimo de disponibilidades a manter ao longo do projecto;
B37: 9 | C37: Após a definição de todos estes pressupostos tem que definir a forma de financiamento do projecto na sheet Financiamento. Deverá indicar o valor de capital social inicial e eventuais aumentos, bem como o nível de suprimentos da empresa e / ou o valor dos empréstimos bancários;
B39: 10 | C39: Os inputs do modelo estão inseridos, sendo necessário apenas fazer o acerto de disponibilidades. Assim sendo, na sheet de Plano Financeiro carregar no rectângulo que indica "Acerto do modelo"
B41: NOTA | C41: No caso de empresas industriais é aconselhado o uso da sheet Calculos Auxiliares. Esta sheet constitui uma base de cálculo indispensável ao suporte previsional do modelo de projecções.

Sheet Pressupostos
D1: Empresa: | E1: ALI,Conserva&Limpa, Lda
A4: Pressupostos Gerais
A6: Valide os pressupostos aqui indicados e ajuste-os de acordo com o seu projecto
A9: Unidade monetária | B9: Euros
A11: 1º Ano actividade | B11: 2011
A13: Prazo médio de Recebimento (dias) / (meses) | B13: 90 | C13: =+B13/30 -> 3
A14: Prazo médio de Pagamento (dias) / (meses) | B14: 90 | C14: =+B14/30 -> 3
A15: Prazo médio de Stockagem (dias) / (meses) | B15: 15 | C15: =+B15/30 -> 0.5
A17: Taxa de IVA - Vendas | B17: 0.06
A18: Taxa de IVA - Prestação Serviços
A19: Taxa de IVA - CMVMC | B19: 0.06
A20: Taxa de IVA - FSE | B20: 0.23
A21: Taxa de IVA - Investimento | B21: 0.23
A23: Taxa de Segurança Social - entidade - órgãos sociais | B23: 0.203
A24: Taxa de Segurança Social - entidade - colaboradores | B24: 0.2375
A25: Taxa de Segurança Social - pessoal - órgãos sociais | B25: 0.093
A26: Taxa de Segurança Social - pessoal - colaboradores | B26: 0.11
A27: Taxa média de IRS | B27: 0.06
A28: Taxa de IRC | B28: 0.25
A30: Taxa de Aplicações Financeiras Curto Prazo | B30: 0.022
A31: Taxa de juro de empréstimo Curto Prazo | B31: 0.068
A32: Taxa de juro de empréstimo ML Prazo | B32: 0.072
A34: Taxa de juro de activos sem risco - Rf | B34: 0.0375 | C34: NOTA: Quando não se aplica Beta, colocar:
A35: Prémio de risco de mercado - (Rm-Rf)* ou pº | B35: 0.1 | C35: - O prémio de risco (pº) adequado ao projecto
A36: Beta empresas equivalentes | B36: 1 | C36: - Beta = 100%
A37: Taxa de crescimento dos cash flows na perpetuidade | B37: 0.05 | C37: ==> R(Tx actualização) = Rf + pº
A38: * Rendimento esperado de mercado
A40: Métodos de avaliação considerados:
A42: Free Cash Flow to Firm
A43: Em linhas gerais, o método dos fluxos de caixa descontados consiste em estimar-se os fluxos de caixa futuros da empresa e trazê-los a valor presente por uma determinada taxa de desconto (WACC). Em outras palavras, o valor de uma empresa pode ser expresso como o valor presente do fluxo FCFF (fluxo de caixa líquido para a firma, do inglês Free Cash Flow to Firm).
A47: Free Cash Flow to Equity
A48: No método de avaliação pelo desconto de fluxos de caixa líquido do acionista (FCFE – do inglês Free Cashflow to Equity), o objetivo é avaliar directamente o património líquido da empresa.

Sheet VN
G1: Empresa: | H1: =+Pressupostos!E1 -> ALI,Conserva&Limpa, Lda
A2: s | H2: =+Pressupostos!B9 -> Euros
A4: Vendas + Prestações de Serviços
C8: =+Pressupostos!B11 -> 2011 | D8: =+C8+1 -> 2012 | E8: =+D8+1 -> 2013 | F8: =+E8+1 -> 2014 | G8: =+F8+1 -> 2015 | H8: =+G8+1 -> 2016
A9: Taxa de variação dos preços | D9: 0.03 | E9: 0.03 | F9: 0.03 | G9: 0.03 | H9: 0.03
A12: VENDAS - MERCADO NACIONAL | C12: =+C8 -> 2011 | D12: =+D8 -> 2012 | E12: =+E8 -> 2013 | F12: =+F8 -> 2014 | G12: =+G8 -> 2015 | H12: =+H8 -> 2016
A13: Alimentação | C13: =+C16*C14 -> 545919 | D13: =+D16*D14 -> 730985.54 | E13: =+E16*E14 -> 941143.88 | F13: =+F16*F14 -> 1153560.1 | G13: =+G16*G14 -> 1378273.6 | H13: =+H16*H14 -> 1490602.9
A14: Quantidades vendidas | C14: 234300 | D14: =+C14*(1+D15) -> 304590 | E14: =+D14*(1+E15) -> 380737.5 | F14: =+E14*(1+F15) -> 453077.62 | G14: =+F14*(1+G15) -> 525570.04 | H14: =+G14*(1+H15) -> 551848.55
A15: Taxa de crescimento das unidades vendidas | D15: 0.3 | E15: 0.25 | F15: 0.19 | G15: 0.16 | H15: 0.05
A16: Preço Unitário | C16: 2.33 | D16: =+C16*(1+D9) -> 2.3999 | E16: =+D16*(1+E9) -> 2.471897 | F16: =+E16*(1+F9) -> 2.5460539 | G16: =+F16*(1+G9) -> 2.6224355 | H16: =+G16*(1+H9) -> 2.7011086
A17: Conservação e Limpeza | C17: =+C20*C18 -> 2041.7 | D17: =+D20*D18 -> 2313.2461 | E17: =+E20*E18 -> 2549.4285 | F17: =+F20*F18 -> 2757.207 | G17: =+G20*G18 -> 3038.7178 | H17: =+H20*H18 -> 3312.2024
A18: Quantidades vendidas | C18: 2402 | D18: =+C18*(1+D19) -> 2642.2 | E18: =+D18*(1+E19) -> 2827.154 | F18: =+E18*(1+F19) -> 2968.5117 | G18: =+F18*(1+G19) -> 3176.3075 | H18: =+G18*(1+H19) -> 3462.1752
A19: Taxa de crescimento das unidades vendidas | D19: 0.1 | E19: 0.07 | F19: 0.05 | G19: 0.07 | H19: 0.09
A20: Preço Unitário | C20: 0.85 | D20: =+C20*(1+E9) -> 0.8755 | E20: =+D20*(1+F9) -> 0.901765 | F20: =+E20*(1+G9) -> 0.92881795 | G20: =+F20*(1+H9) -> 0.95668249 | H20: =+G20*(1+I9) -> 0.95668249
A21: Bolo de aniversário com massa de manteiga | C21: =+C24*C22 -> 24826.5 | D21: =+D24*D22 -> 28128.425 | E21: =+E24*E22 -> 31000.337 | F21: =+F24*F22 -> 34165.471 | G21: =+G24*G22 -> 37653.766 | H21: =+H24*H22 -> 40722.547
A22: Quantidades vendidas | C22: 1839 | D22: =+C22*(1+D23) -> 2022.9 | E22: =+D22*(1+E23) -> 2164.503 | F22: =+E22*(1+F23) -> 2316.0182 | G22: =+F22*(1+G23) -> 2478.1395 | H22: =+G22*(1+H23) -> 2602.0465
A23: Taxa de crescimento das unidades vendidas | D23: 0.1 | E23: 0.07 | F23: 0.07 | G23: 0.07 | H23: 0.05
A24: Preço Unitário | C24: 13.5 | D24: =+C24*(1+D9) -> 13.905 | E24: =+D24*(1+E9) -> 14.32215 | F24: =+E24*(1+F9) -> 14.751815 | G24: =+F24*(1+G9) -> 15.194369 | H24: =+G24*(1+H9) -> 15.6502
A25: Bolo de aniversário com massa pão-de-ló | C25: =+C28*C26 -> 9990.68 | D25: =+D28*D26 -> 11319.44 | E25: =+E28*E26 -> 12241.975 | F25: =+F28*F26 -> 13744.065 | G25: =+G28*G26 -> 15713.59 | H25: =+H28*H26 -> 16994.247
A26: Quantidades vendidas | C26: 868 | D26: =+C26*(1+D27) -> 954.8 | E26: =+D26*(1+E27) -> 1002.54 | F26: =+E26*(1+F27) -> 1092.7686 | G26: =+F26*(1+G27) -> 1212.9731 | H26: =+G26*(1+H27) -> 1273.6218
A27: Taxa de crescimento das unidades vendidas | D27: 0.1 | E27: 0.05 | F27: 0.09 | G27: 0.11 | H27: 0.05
A28: Preço Unitário | C28: 11.51 | D28: =+C28*(1+D9) -> 11.8553 | E28: =+D28*(1+E9) -> 12.210959 | F28: =+E28*(1+F9) -> 12.577288 | G28: =+F28*(1+G9) -> 12.954606 | H28: =+G28*(1+H9) -> 13.343245
A29: TOTAL | C29: =+C13+C17+C21+C25 -> 582777.88 | D29: =+D13+D17+D21+D25 -> 772746.65 | E29: =+E13+E17+E21+E25 -> 986935.62 | F29: =+F13+F17+F21+F25 -> 1204226.8 | G29: =+G13+G17+G21+G25 -> 1434679.6 | H29: =+H13+H17+H21+H25 -> 1551631.9
A32: VENDAS - EXPORTAÇÃO | C32: =+C8 -> 2011 | D32: =+D8 -> 2012 | E32: =+E8 -> 2013 | F32: =+F8 -> 2014 | G32: =+G8 -> 2015 | H32: =+H8 -> 2016
A33: Alimentação | C33: =+C36*C34 -> 0 | D33: =+D36*D34 -> 0 | E33: =+E36*E34 -> 0 | F33: =+F36*F34 -> 14321.553 | G33: =+G36*G34 -> 16226.32 | H33: =+H36*H34 -> 17548.765
A34: Quantidades vendidas | D34: =+C34*(1+D35) -> 0 | E34: =+D34*(1+E35) -> 0 | F34: 5625 | G34: =+F34*(1+G35) -> 6187.5 | H34: =+G34*(1+H35) -> 6496.875
A35: Taxa de crescimento das unidades vendidas | G35: 0.1 | H35: 0.05
A36: Preço Unitário | D36: =+C36*(1+D9) -> 0 | E36: =+D36*(1+E9) -> 0 | F36: =F16 -> 2.5460539 | G36: =+F36*(1+G9) -> 2.6224355 | H36: =+G36*(1+H9) -> 2.7011086
A37: Produto B * | C37: =+C40*C38 -> 0 | D37: =+D40*D38 -> 0 | E37: =+E40*E38 -> 0 | F37: =+F40*F38 -> 0 | G37: =+G40*G38 -> 0 | H37: =+H40*H38 -> 0
A38: Quantidades vendidas | D38: =+C38*(1+D39) -> 0 | E38: =+D38*(1+E39) -> 0 | F38: =+E38*(1+F39) -> 0 | G38: =+F38*(1+G39) -> 0 | H38: =+G38*(1+H39) -> 0
A39: Taxa de crescimento das unidades vendidas
A40: Preço Unitário | D40: =+C40*(1+D9) -> 0 | E40: =+D40*(1+E9) -> 0 | F40: =+E40*(1+F9) -> 0 | G40: =+F40*(1+G9) -> 0 | H40: =+G40*(1+H9) -> 0
A41: TOTAL | C41: =+C33+C37 -> 0 | D41: =+D33+D37 -> 0 | E41: =+E33+E37 -> 0 | F41: =+F33+F37 -> 14321.553 | G41: =+G33+G37 -> 16226.32 | H41: =+H33+H37 -> 17548.765
A42: * Produtos / Familias de Produtos / Mercadorias
A43: NOTA: Caso não tenha conhecimento das quantidades, colocar o valor das vendas na linha das "Quantidades Vendidas" e o valor 1 na linha do "Preço Unitário".
A45: PRESTAÇÕES DE SERVIÇOS - MERCADO NACIONAL | C45: =+C8 -> 2011 | D45: =+D8 -> 2012 | E45: =+E8 -> 2013 | F45: =+F8 -> 2014 | G45: =+G8 -> 2015 | H45: =+H8 -> 2016
A46: Serviço A | D46: =+C46*(1+D47) -> 0 | E46: =+D46*(1+E47) -> 0 | F46: =+E46*(1+F47) -> 0 | G46: =+F46*(1+G47) -> 0 | H46: =+G46*(1+H47) -> 0
A47: Taxa de crescimento
A48: Serviço B | D48: =+C48*(1+D49) -> 0 | E48: =+D48*(1+E49) -> 0 | F48: =+E48*(1+F49) -> 0 | G48: =+F48*(1+G49) -> 0 | H48: =+G48*(1+H49) -> 0
A49: Taxa de crescimento
...

Sheet CMVMC
G1: EMPRESA: | H1: =+Pressupostos!E1 -> ALI,Conserva&Limpa, Lda
H2: =+Pressupostos!B9 -> Euros
A4: CMVMC - Custo das Mercadorias Vendidas e Matérias Consumidas
A7: CMVMC | B7: Margem Bruta | C7: =+VN!C8 -> 2011 | D7: =+VN!D8 -> 2012 | E7: =+VN!E8 -> 2013 | F7: =+VN!F8 -> 2014 | G7: =+VN!G8 -> 2015 | H7: =+VN!H8 -> 2016
A8: MERCADO NACIONAL | C8: =+SUM(C9:C12) -> 335943.84 | D8: =+SUM(D9:D12) -> 448100.17 | E8: =+SUM(E9:E12) -> 575119.39 | F8: =+SUM(F9:F12) -> 703647.99 | G8: =+SUM(G9:G12) -> 839764.71 | H8: =+SUM(H9:H12) -> 908223.61
A9: =+VN!A13 -> Alimentação | B9: 0.4 | C9: =VN!C13*(1-CMVMC!$B$9) -> 327551.4 | D9: =VN!D13*(1-CMVMC!$B$9) -> 438591.32 | E9: =VN!E13*(1-CMVMC!$B$9) -> 564686.33 | F9: =VN!F13*(1-CMVMC!$B$9) -> 692136.04 | G9: =VN!G13*(1-CMVMC!$B$9) -> 826964.13 | H9: =VN!H13*(1-CMVMC!$B$9) -> 894361.71
A10: =+VN!A17 -> Conservação e Limpeza | B10: 0.3 | C10: 1429 | D10: =VN!D17*(1-CMVMC!$B$10) -> 1619.2723 | E10: =VN!E17*(1-CMVMC!$B$10) -> 1784.6 | F10: =VN!F17*(1-CMVMC!$B$10) -> 1930.0449 | G10: =VN!G17*(1-CMVMC!$B$10) -> 2127.1024 | H10: =VN!H17*(1-CMVMC!$B$10) -> 2318.5417
A11: =+VN!A21 -> Bolo de aniversário com massa de manteiga | B11: 0.8 | C11: =VN!C21*(1-CMVMC!$B$11) -> 4965.3 | D11: =VN!D21*(1-CMVMC!$B$11) -> 5625.6849 | E11: =VN!E21*(1-CMVMC!$B$11) -> 6200.0673 | F11: =VN!F21*(1-CMVMC!$B$11) -> 6833.0942 | G11: =VN!G21*(1-CMVMC!$B$11) -> 7530.7531 | H11: =VN!H21*(1-CMVMC!$B$11) -> 8144.5095
A12: =+VN!A25 -> Bolo de aniversário com massa pão-de-ló | B12: 0.8 | C12: =VN!C25*(1-CMVMC!$B$12) -> 1998.136 | D12: =VN!D25*(1-CMVMC!$B$12) -> 2263.8881 | E12: =VN!E25*(1-CMVMC!$B$12) -> 2448.395 | F12: =VN!F25*(1-CMVMC!$B$12) -> 2748.813 | G12: =VN!G25*(1-CMVMC!$B$12) -> 3142.7179 | H12: =VN!H25*(1-CMVMC!$B$12) -> 3398.8494
A13: MERCADO EXTERNO | C13: =+C15+C14 -> 0 | D13: =+D15+D14 -> 0 | E13: =+E15+E14 -> 0 | F13: =+F15+F14 -> 14321.553 | G13: =+G15+G14 -> 16226.32 | H13: =+H15+H14 -> 17548.765
A14: =+VN!A33 -> Alimentação | C14: =VN!C33*(1-CMVMC!$B$14) -> 0 | D14: =VN!D33*(1-CMVMC!$B$14) -> 0 | E14: =VN!E33*(1-CMVMC!$B$14) -> 0 | F14: =VN!F33*(1-CMVMC!$B$14) -> 14321.553 | G14: =VN!G33*(1-CMVMC!$B$14) -> 16226.32 | H14: =VN!H33*(1-CMVMC!$B$14) -> 17548.765
A15: =+VN!A37 -> Produto B * | C15: =VN!C37*(1-CMVMC!$B$15) -> 0 | D15: =VN!D37*(1-CMVMC!$B$15) -> 0 | E15: =VN!E37*(1-CMVMC!$B$15) -> 0 | F15: =VN!F37*(1-CMVMC!$B$15) -> 0 | G15: =VN!G37*(1-CMVMC!$B$15) -> 0 | H15: =VN!H37*(1-CMVMC!$B$15) -> 0
A16: TOTAL CMVMC | C16: =+C8+C13 -> 335943.84 | D16: =+D8+D13 -> 448100.17 | E16: =+E8+E13 -> 575119.39 | F16: =+F8+F13 -> 717969.54 | G16: =+G8+G13 -> 855991.03 | H16: =+H8+H13 -> 925772.38
A18: IVA | B18: =+Pressupostos!B19 -> 0.06 | C18: =+C8*$B$18 -> 20156.63 | D18: =+D8*$B$18 -> 26886.01 | E18: =+E8*$B$18 -> 34507.164 | F18: =+F8*$B$18 -> 42218.879 | G18: =+G8*$B$18 -> 50385.883 | H18: =+H8*$B$18 -> 54493.417
A20: TOTAL CMVMC + IVA | C20: =+C16+C18 -> 356100.47 | D20: =+D16+D18 -> 474986.18 | E20: =+E16+E18 -> 609626.56 | F20: =+F16+F18 -> 760188.42 | G20: =+G16+G18 -> 906376.91 | H20: =+H16+H18 -> 980265.79
A23: NOTA: Mapa construído caso a caso:
A24: a) Introduzir a Margem Bruta directamente, quando conhecida e passível de ser utilizada, ou efectuar a respectiva fórmula de cálculo;
A25: b) Efectuar os cálculos auxiliares considerados necessários para alcançar a o nível de matéria-prima por unidade produzida e introduzir manualmente os valores;
A26: c) Caso não seja possível alcançar o nível do consumo de matéria-prima por produto, introduzir o valor do custo total, após a realização dos respectivos cálculos auxiliares.
A28: NOTA 2: Está disponível uma folha para cálculos auxiliares. Contém mapas para cálculo do CMVMC de projectos industriais.

Sheet FSE
J1: =+VN!G1 -> Empresa: | K1: =+Pressupostos!E1 -> ALI,Conserva&Limpa, Lda
K2: =+Pressupostos!B9 -> Euros
A4: FSE - Fornecimentos e Serviços Externos
F7: =+VN!C8 -> 2011 | G7: =+VN!D8 -> 2012 | H7: =+VN!E8 -> 2013 | I7: =+VN!F8 -> 2014 | J7: =+VN!G8 -> 2015 | K7: =+VN!H8 -> 2016
A8: Nº Meses | F8: 12 | G8: 12 | H8: 12 | I8: 12 | J8: 12 | K8: 12
A9: Taxa de crescimento | F9: 0 | G9: 0.02 | H9: 0.02 | I9: 0.02 | J9: 0.02 | K9: 0.02
B12: Tx IVA | C12: CF | D12: CV | E12: Valor Mensal | F12: =+VN!C8 -> 2011 | G12: =+VN!D8 -> 2012 | H12: =+VN!E8 -> 2013 | I12: =+VN!F8 -> 2014 | J12: =+VN!G8 -> 2015 | K12: =+VN!H8 -> 2016
A13: Subcontratos | B13: 0.23 | C13: =100%-D13 -> 1 | F13: =E13*$F$8 -> 0 | G13: =+E13*$G$8*(1+$G$9) -> 0 | H13: =+G13*(1+$H$9) -> 0 | I13: =+H13*(1+$I$9) -> 0 | J13: =+I13*(1+$J$9) -> 0 | K13: =+J13*(1+$K$9) -> 0
A14: Serviços especializados
A15: Trabalhos especializados | B15: 0.23 | C15: =100%-D15 -> 1 | E15: 100 | F15: =E15*$F$8 -> 1200 | G15: =+E15*$G$8*(1+$G$9) -> 1224 | H15: =+G15*(1+$H$9) -> 1248.48 | I15: =+H15*(1+$I$9) -> 1273.4496 | J15: =+I15*(1+$J$9) -> 1298.9186 | K15: =+J15*(1+$K$9) -> 1324.897
A16: Publicidade e propaganda | B16: 0.23 | C16: =100%-D16 -> 0 | D16: 1 | E16: 67 | F16: =E16*$F$8 -> 804 | G16: =+E16*$G$8*(1+$G$9) -> 820.08 | H16: =+G16*(1+$H$9) -> 836.4816 | I16: =+H16*(1+$I$9) -> 853.21123 | J16: =+I16*(1+$J$9) -> 870.27546 | K16: =+J16*(1+$K$9) -> 887.68097
A17: Vigilância e segurança | B17: 0.23 | C17: =100%-D17 -> 1 | F17: =E17*$F$8 -> 0 | G17: =+E17*$G$8*(1+$G$9) -> 0 | H17: =+G17*(1+$H$9) -> 0 | I17: =+H17*(1+$I$9) -> 0 | J17: =+I17*(1+$J$9) -> 0 | K17: =+J17*(1+$K$9) -> 0
A18: Honorários | B18: 0.23 | C18: =100%-D18 -> 1 | E18: 400 | F18: =E18*$F$8 -> 4800 | G18: =+E18*$G$8*(1+$G$9) -> 4896 | H18: =+G18*(1+$H$9) -> 4993.92 | I18: =+H18*(1+$I$9) -> 5093.7984 | J18: =+I18*(1+$J$9) -> 5195.6744 | K18: =+J18*(1+$K$9) -> 5299.5879
A19: Comissões | B19: 0.23 | C19: =100%-D19 -> 1 | F19: =E19*$F$8 -> 0 | G19: =+E19*$G$8*(1+$G$9) -> 0 | H19: =+G19*(1+$H$9) -> 0 | I19: =+H19*(1+$I$9) -> 0 | J19: =+I19*(1+$J$9) -> 0 | K19: =+J19*(1+$K$9) -> 0
A20: Conservação e reparação | B20: 0.23 | C20: =100%-D20 -> 1 | E20: 76 | F20: =E20*$F$8 -> 912 | G20: =+E20*$G$8*(1+$G$9) -> 930.24 | H20: =+G20*(1+$H$9) -> 948.8448 | I20: =+H20*(1+$I$9) -> 967.8217 | J20: =+I20*(1+$J$9) -> 987.17813 | K20: =+J20*(1+$K$9) -> 1006.9217
A21: Materiais
A22: Ferramentas e utensilios de desgaste rápido | B22: 0.23 | C22: =100%-D22 -> 0 | D22: 1 | E22: 8.3 | F22: =E22*$F$8 -> 99.6 | G22: =+E22*$G$8*(1+$G$9) -> 101.592 | H22: =+G22*(1+$H$9) -> 103.62384 | I22: =+H22*(1+$I$9) -> 105.69632 | J22: =+I22*(1+$J$9) -> 107.81024 | K22: =+J22*(1+$K$9) -> 109.96645
A23: Livros e documentação técnica | B23: 0.23 | C23: =100%-D23 -> 1 | E23: 7.5 | F23: =E23*$F$8 -> 90 | G23: =+E23*$G$8*(1+$G$9) -> 91.8 | H23: =+G23*(1+$H$9) -> 93.636 | I23: =+H23*(1+$I$9) -> 95.50872 | J23: =+I23*(1+$J$9) -> 97.418894 | K23: =+J23*(1+$K$9) -> 99.367272
A24: Material de escritório | B24: 0.23 | C24: =100%-D24 -> 0.2 | D24: 0.8 | E24: 34 | F24: =E24*$F$8 -> 408 | G24: =+E24*$G$8*(1+$G$9) -> 416.16 | H24: =+G24*(1+$H$9) -> 424.4832 | I24: =+H24*(1+$I$9) -> 432.97286 | J24: =+I24*(1+$J$9) -> 441.63232 | K24: =+J24*(1+$K$9) -> 450.46497
A25: Artigos para oferta | B25: 0.23 | C25: =100%-D25 -> 1 | F25: =E25*$F$8 -> 0 | G25: =+E25*$G$8*(1+$G$9) -> 0 | H25: =+G25*(1+$H$9) -> 0 | I25: =+H25*(1+$I$9) -> 0 | J25: =+I25*(1+$J$9) -> 0 | K25: =+J25*(1+$K$9) -> 0
A26: Energia e fluidos
A27: Electricidade | B27: 0.06 | C27: =100%-D27 -> 0.1 | D27: 0.9 | E27: 276.92 | F27: =E27*$F$8 -> 3323.04 | G27: =+E27*$G$8*(1+$G$9) -> 3389.5008 | H27: =+G27*(1+$H$9) -> 3457.2908 | I27: =+H27*(1+$I$9) -> 3526.4366 | J27: =+I27*(1+$J$9) -> 3596.9654 | K27: =+J27*(1+$K$9) -> 3668.9047
A28: Combustíveis | B28: 0.23 | C28: =100%-D28 -> 0 | D28: 1 | E28: 1450.84 | F28: =E28*$F$8 -> 17410.08 | G28: =+E28*$G$8*(1+$G$9) -> 17758.282 | H28: =+G28*(1+$H$9) -> 18113.447 | I28: =+H28*(1+$I$9) -> 18475.716 | J28: =+I28*(1+$J$9) -> 18845.231 | K28: =+J28*(1+$K$9) -> 19222.135
A29: Água | B29: 0.06 | C29: =100%-D29 -> 0.1 | D29: 0.9 | E29: 101.56 | F29: =E29*$F$8 -> 1218.72 | G29: =+E29*$G$8*(1+$G$9) -> 1243.0944 | H29: =+G29*(1+$H$9) -> 1267.9563 | I29: =+H29*(1+$I$9) -> 1293.3154 | J29: =+I29*(1+$J$9) -> 1319.1817 | K29: =+J29*(1+$K$9) -> 1345.5654
A30: Deslocações, estadas e transportes
A31: Deslocações e Estadas | B31: 0.23 | C31: =100%-D31 -> 1 | F31: =E31*$F$8 -> 0 | G31: =+E31*$G$8*(1+$G$9) -> 0 | H31: =+G31*(1+$H$9) -> 0 | I31: =+H31*(1+$I$9) -> 0 | J31: =+I31*(1+$J$9) -> 0 | K31: =+J31*(1+$K$9) -> 0
A32: Transportes de pessoal | B32: 0.23 | C32: =100%-D32 -> 1 | F32: =E32*$F$8 -> 0 | G32: =+E32*$G$8*(1+$G$9) -> 0 | H32: =+G32*(1+$H$9) -> 0 | I32: =+H32*(1+$I$9) -> 0 | J32: =+I32*(1+$J$9) -> 0 | K32: =+J32*(1+$K$9) -> 0
A33: Transportes de mercadorias | B33: 0.23 | C33: =100%-D33 -> 1 | F33: =E33*$F$8 -> 0 | G33: =+E33*$G$8*(1+$G$9) -> 0 | H33: =+G33*(1+$H$9) -> 0 | I33: =+H33*(1+$I$9) -> 0 | J33: =+I33*(1+$J$9) -> 0 | K33: =+J33*(1+$K$9) -> 0
A34: Serviços diversos
A35: Rendas e alugueres | B35: 0.23 | C35: =100%-D35 -> 1 | E35: 6350 | F35: =E35*$F$8 -> 76200 | G35: =+E35*$G$8*(1+$G$9) -> 77724 | H35: =+G35*(1+$H$9) -> 79278.48 | I35: =+H35*(1+$I$9) -> 80864.05 | J35: =+I35*(1+$J$9) -> 82481.331 | K35: =+J35*(1+$K$9) -> 84130.957
A36: Comunicação | B36: 0.23 | C36: =100%-D36 -> 0.1 | D36: 0.9 | E36: 86.77 | F36: =E36*$F$8 -> 1041.24 | G36: =+E36*$G$8*(1+$G$9) -> 1062.0648 | H36: =+G36*(1+$H$9) -> 1083.3061 | I36: =+H36*(1+$I$9) -> 1104.9722 | J36: =+I36*(1+$J$9) -> 1127.0717 | K36: =+J36*(1+$K$9) -> 1149.6131
A37: Seguros | B37: 0 | C37: =100%-D37 -> 1 | E37: 71.5 | F37: =E37*$F$8 -> 858 | G37: =+E37*$G$8*(1+$G$9) -> 875.16 | H37: =+G37*(1+$H$9) -> 892.6632 | I37: =+H37*(1+$I$9) -> 910.51646 | J37: =+I37*(1+$J$9) -> 928.72679 | K37: =+J37*(1+$K$9) -> 947.30133
A38: Royalties | B38: 0.23 | C38: =100%-D38 -> 1 | F38: =E38*$F$8 -> 0 | G38: =+E38*$G$8*(1+$G$9) -> 0 | H38: =+G38*(1+$H$9) -> 0 | I38: =+H38*(1+$I$9) -> 0 | J38: =+I38*(1+$J$9) -> 0 | K38: =+J38*(1+$K$9) -> 0
A39: Contencioso e notariado | B39: 0.23 | C39: =100%-D39 -> 0 | D39: 1 | E39: 85 | F39: =E39*$F$8 -> 1020 | G39: =+E39*$G$8*(1+$G$9) -> 1040.4 | H39: =+G39*(1+$H$9) -> 1061.208 | I39: =+H39*(1+$I$9) -> 1082.4322 | J39: =+I39*(1+$J$9) -> 1104.0808 | K39: =+J39*(1+$K$9) -> 1126.1624
A40: Despesas de representação | B40: 0.23 | C40: =100%-D40 -> 1 | F40: =E40*$F$8 -> 0 | G40: =+E40*$G$8*(1+$G$9) -> 0 | H40: =+G40*(1+$H$9) -> 0 | I40: =+H40*(1+$I$9) -> 0 | J40: =+I40*(1+$J$9) -> 0 | K40: =+J40*(1+$K$9) -> 0
A41: Limpeza, higiene e conforto | B41: 0.23 | C41: =100%-D41 -> 0 | D41: 1 | E41: 67 | F41: =E41*$F$8 -> 804 | G41: =+E41*$G$8*(1+$G$9) -> 820.08 | H41: =+G41*(1+$H$9) -> 836.4816 | I41: =+H41*(1+$I$9) -> 853.21123 | J41: =+I41*(1+$J$9) -> 870.27546 | K41: =+J41*(1+$K$9) -> 887.68097
A42: Outros serviços | B42: 0.23 | C42: =100%-D42 -> 1 | F42: =E42*$F$8 -> 0 | G42: =+E42*$G$8*(1+$G$9) -> 0 | H42: =+G42*(1+$H$9) -> 0 | I42: =+H42*(1+$I$9) -> 0 | J42: =+I42*(1+$J$9) -> 0 | K42: =+J42*(1+$K$9) -> 0
A43: TOTAL FSE | F43: =SUM(F13:F42) -> 110188.68 | G43: =SUM(G13:G42) -> 112392.45 | H43: =SUM(H13:H42) -> 114640.3 | I43: =SUM(I13:I42) -> 116933.11 | J43: =SUM(J13:J42) -> 119271.77 | K43: =SUM(K13:K42) -> 121657.21
A45: FSE - Custos Fixos | F45: =(F13*$C$13)+(F15*$C$15)+(F16*$C$16)+(F17*$C$17)+(F18*$C$18)+(F19*$C$19)+(F20*$C$20)+(F22*$C$22)+(F23*$C$23)+(F24*$C$24)+(F25*$C$25)+(F27*$C$27)+(F28*$C$28)+(F29*$C$29)+(F31*$C$31)+(F32*$C$32)+(F33*$C$33)+(F35*$C$35)+(F36*$C$36)+(F37*$C$37)+(F38*$C$38)+(F39*$C$39)+(F40*$C$40)+(F41*$C$41)+(F42*$C$42) -> 84699.9 | G45: =(G13*$C$13)+(G15*$C$15)+(G16*$C$16)+(G17*$C$17)+(G18*$C$18)+(G19*$C$19)+(G20*$C$20)+(G22*$C$22)+(G23*$C$23)+(G24*$C$24)+(G25*$C$25)+(G27*$C$27)+(G28*$C$28)+(G29*$C$29)+(G31*$C$31)+(G32*$C$32)+(G33*$C$33)+(G35*$C$35)+(G36*$C$36)+(G37*$C$37)+(G38*$C$38)+(G39*$C$39)+(G40*$C$40)+(G41*$C$41)+(G42*$C$42) -> 86393.898 | H45: =(H13*$C$13)+(H15*$C$15)+(H16*$C$16)+(H17*$C$17)+(H18*$C$18)+(H19*$C$19)+(H20*$C$20)+(H22*$C$22)+(H23*$C$23)+(H24*$C$24)+(H25*$C$25)+(H27*$C$27)+(H28*$C$28)+(H29*$C$29)+(H31*$C$31)+(H32*$C$32)+(H33*$C$33)+(H35*$C$35)+(H36*$C$36)+(H37*$C$37)+(H38*$C$38)+(H39*$C$39)+(H40*$C$40)+(H41*$C$41)+(H42*$C$42) -> 88121.776 | I45: =(I13*$C$13)+(I15*$C$15)+(I16*$C$16)+(I17*$C$17)+(I18*$C$18)+(I19*$C$19)+(I20*$C$20)+(I22*$C$22)+(I23*$C$23)+(I24*$C$24)+(I25*$C$25)+(I27*$C$27)+(I28*$C$28)+(I29*$C$29)+(I31*$C$31)+(I32*$C$32)+(I33*$C$33)+(I35*$C$35)+(I36*$C$36)+(I37*$C$37)+(I38*$C$38)+(I39*$C$39)+(I40*$C$40)+(I41*$C$41)+(I42*$C$42) -> 89884.211 | J45: =(J13*$C$13)+(J15*$C$15)+(J16*$C$16)+(J17*$C$17)+(J18*$C$18)+(J19*$C$19)+(J20*$C$20)+(J22*$C$22)+(J23*$C$23)+(J24*$C$24)+(J25*$C$25)+(J27*$C$27)+(J28*$C$28)+(J29*$C$29)+(J31*$C$31)+(J32*$C$32)+(J33*$C$33)+(J35*$C$35)+(J36*$C$36)+(J37*$C$37)+(J38*$C$38)+(J39*$C$39)+(J40*$C$40)+(J41*$C$41)+(J42*$C$42) -> 91681.896 | K45: =(K13*$C$13)+(K15*$C$15)+(K16*$C$16)+(K17*$C$17)+(K18*$C$18)+(K19*$C$19)+(K20*$C$20)+(K22*$C$22)+(K23*$C$23)+(K24*$C$24)+(K25*$C$25)+(K27*$C$27)+(K28*$C$28)+(K29*$C$29)+(K31*$C$31)+(K32*$C$32)+(K33*$C$33)+(K35*$C$35)+(K36*$C$36)+(K37*$C$37)+(K38*$C$38)+(K39*$C$39)+(K40*$C$40)+(K41*$C$41)+(K42*$C$42) -> 93515.534
A47: FSE - Custos Variáveis | F47: =(F13*$D$13)+(F15*$D$15)+(F16*$D$16)+(F17*$D$17)+(F18*$D$18)+(F19*$D$19)+(F20*$D$20)+(F22*$D$22)+(F23*$D$23)+(F24*$D$24)+(F25*$D$25)+(F27*$D$27)+(F28*$D$28)+(F29*$D$29)+(F31*$D$31)+(F32*$D$32)+(F33*$D$33)+(F35*$D$35)+(F36*$D$36)+(F37*$D$37)+(F38*$D$38)+(F39*$D$39)+(F40*$D$40)+(F41*$D$41)+(F42*$D$42) -> 25488.78 | G47: =(G13*$D$13)+(G15*$D$15)+(G16*$D$16)+(G17*$D$17)+(G18*$D$18)+(G19*$D$19)+(G20*$D$20)+(G22*$D$22)+(G23*$D$23)+(G24*$D$24)+(G25*$D$25)+(G27*$D$27)+(G28*$D$28)+(G29*$D$29)+(G31*$D$31)+(G32*$D$32)+(G33*$D$33)+(G35*$D$35)+(G36*$D$36)+(G37*$D$37)+(G38*$D$38)+(G39*$D$39)+(G40*$D$40)+(G41*$D$41)+(G42*$D$42) -> 25998.556 | H47: =(H13*$D$13)+(H15*$D$15)+(H16*$D$16)+(H17*$D$17)+(H18*$D$18)+(H19*$D$19)+(H20*$D$20)+(H22*$D$22)+(H23*$D$23)+(H24*$D$24)+(H25*$D$25)+(H27*$D$27)+(H28*$D$28)+(H29*$D$29)+(H31*$D$31)+(H32*$D$32)+(H33*$D$33)+(H35*$D$35)+(H36*$D$36)+(H37*$D$37)+(H38*$D$38)+(H39*$D$39)+(H40*$D$40)+(H41*$D$41)+(H42*$D$42) -> 26518.527 | I47: =(I13*$D$13)+(I15*$D$15)+(I16*$D$16)+(I17*$D$17)+(I18*$D$18)+(I19*$D$19)+(I20*$D$20)+(I22*$D$22)+(I23*$D$23)+(I24*$D$24)+(I25*$D$25)+(I27*$D$27)+(I28*$D$28)+(I29*$D$29)+(I31*$D$31)+(I32*$D$32)+(I33*$D$33)+(I35*$D$35)+(I36*$D$36)+(I37*$D$37)+(I38*$D$38)+(I39*$D$39)+(I40*$D$40)+(I41*$D$41)+(I42*$D$42) -> 27048.897 | J47: =(J13*$D$13)+(J15*$D$15)+(J16*$D$16)+(J17*$D$17)+(J18*$D$18)+(J19*$D$19)+(J20*$D$20)+(J22*$D$22)+(J23*$D$23)+(J24*$D$24)+(J25*$D$25)+(J27*$D$27)+(J28*$D$28)+(J29*$D$29)+(J31*$D$31)+(J32*$D$32)+(J33*$D$33)+(J35*$D$35)+(J36*$D$36)+(J37*$D$37)+(J38*$D$38)+(J39*$D$39)+(J40*$D$40)+(J41*$D$41)+(J42*$D$42) -> 27589.875 | K47: =(K13*$D$13)+(K15*$D$15)+(K16*$D$16)+(K17*$D$17)+(K18*$D$18)+(K19*$D$19)+(K20*$D$20)+(K22*$D$22)+(K23*$D$23)+(K24*$D$24)+(K25*$D$25)+(K27*$D$27)+(K28*$D$28)+(K29*$D$29)+(K31*$D$31)+(K32*$D$32)+(K33*$D$33)+(K35*$D$35)+(K36*$D$36)+(K37*$D$37)+(K38*$D$38)+(K39*$D$39)+(K40*$D$40)+(K41*$D$41)+(K42*$D$42) -> 28141.673
...

Sheet Gastos com Pessoal
H1: =+VN!G1 -> Empresa: | I1: =+Pressupostos!E1 -> ALI,Conserva&Limpa, Lda
I2: =+Pressupostos!B9 -> Euros
A4: Gastos com o Pessoal
D6: =+VN!C8 -> 2011 | E6: =+VN!D8 -> 2012 | F6: =+VN!E8 -> 2013 | G6: =+VN!F8 -> 2014 | H6: =+VN!G8 -> 2015 | I6: =+VN!H8 -> 2016
A7: Nº Meses | D7: 14 | E7: 14 | F7: 14 | G7: =+F7 -> 14 | H7: =+G7 -> 14 | I7: =+H7 -> 14
A8: Incremento Anual (Vencimentos + Sub. Almoço) | D8: 0 | E8: 0.02 | F8: 0.02 | G8: 0.025 | H8: 0.025 | I8: 0.025
A11: Quadro de Pessoal | D11: =+D6 -> 2011 | E11: =+E6 -> 2012 | F11: =+F6 -> 2013 | G11: =+G6 -> 2014 | H11: =+H6 -> 2015 | I11: =+I6 -> 2016
A12: Administração / Direcção | D12: 2 | E12: 2 | F12: 2 | G12: =F12*(1+G8) -> 2.05 | H12: =G12*(1+H8) -> 2.10125 | I12: =H12*(1+I8) -> 2.1537812
A13: Administrativa Financeira | D13: 2 | E13: 2 | F13: 2 | G13: 2 | H13: 2 | I13: 2
A14: Comercial / Marketing | D14: 2 | E14: 4 | F14: 5 | G14: 5 | H14: 5 | I14: 5
A15: Produção / Operacional | D15: 1 | E15: 2 | F15: 2 | G15: 3 | H15: 3 | I15: 3
A16: Qualidade | D16: 1 | E16: 1 | F16: 1 | G16: 1 | H16: 1 | I16: 1
A17: Manutenção
A18: Aprovisionamento | D18: 2 | E18: 2 | F18: 2 | G18: 2 | H18: 2 | I18: 2
A19: Investigação & Desenvolvimento
A20: Outros | D20: 1 | E20: 1 | F20: 1 | G20: 1 | H20: 1 | I20: 1
A21: Distribuição | D21: 1 | E21: 1 | F21: 1 | G21: 2 | H21: 2 | I21: 2
A22: Informática | D22: 1 | E22: 0 | F22: 0 | G22: 0 | H22: 0 | I22: 0
A23: TOTAL | D23: =+SUM(D12:D22) -> 13 | E23: =+SUM(E12:E22) -> 15 | F23: =+SUM(F12:F22) -> 16 | G23: =+SUM(G12:G22) -> 18.05 | H23: =+SUM(H12:H22) -> 18.10125 | I23: =+SUM(I12:I22) -> 18.153781
A26: Remuneração base mensal | D26: =+D11 -> 2011 | E26: =+E11 -> 2012 | F26: =+F11 -> 2013 | G26: =+G11 -> 2014 | H26: =+H11 -> 2015 | I26: =+I11 -> 2016
A27: =+A12 -> Administração / Direcção | D27: 1656 | E27: =+ROUND(D27*(1+$E$8),2) -> 1689.12 | F27: =+ROUND(E27*(1+F8),2) -> 1722.9 | G27: =+ROUND(F27*(1+G8),2) -> 1765.97 | H27: =+ROUND(G27*(1+H8),2) -> 1810.12 | I27: =+ROUND(H27*(1+I8),2) -> 1855.37
A28: =+A13 -> Administrativa Financeira | D28: 982.67 | E28: =+ROUND(D28*(1+E8),2) -> 1002.32 | F28: =+ROUND(E28*(1+F8),2) -> 1022.37 | G28: =+ROUND(F28*(1+G8),2) -> 1047.93 | H28: =+ROUND(G28*(1+H8),2) -> 1074.13 | I28: =+ROUND(H28*(1+I8),2) -> 1100.98
A29: =+A14 -> Comercial / Marketing | D29: 803.47 | E29: =+ROUND(D29*(1+E8),2) -> 819.54 | F29: =+ROUND(E29*(1+F8),2) -> 835.93 | G29: =+ROUND(F29*(1+G8),2) -> 856.83 | H29: =+ROUND(G29*(1+H8),2) -> 878.25 | I29: =+ROUND(H29*(1+I8),2) -> 900.21
A30: =+A15 -> Produção / Operacional | D30: 515.15 | E30: =+ROUND(D30*(1+E8),2) -> 525.45 | F30: =+ROUND(E30*(1+F8),2) -> 535.96 | G30: =+ROUND(F30*(1+G8),2) -> 549.36 | H30: =+ROUND(G30*(1+H8),2) -> 563.09 | I30: =+ROUND(H30*(1+I8),2) -> 577.17
A31: =+A16 -> Qualidade | D31: 750.98 | E31: =+ROUND(D31*(1+E8),2) -> 766 | F31: =+ROUND(E31*(1+F8),2) -> 781.32 | G31: =+ROUND(F31*(1+G8),2) -> 800.85 | H31: =+ROUND(G31*(1+H8),2) -> 820.87 | I31: =+ROUND(H31*(1+I8),2) -> 841.39
A32: =+A17 -> Manutenção | E32: =+ROUND(D32*(1+E8),2) -> 0 | F32: =+ROUND(E32*(1+F8),2) -> 0 | G32: =+ROUND(F32*(1+G8),2) -> 0 | H32: =+ROUND(G32*(1+H8),2) -> 0 | I32: =+ROUND(H32*(1+I8),2) -> 0
A33: =+A18 -> Aprovisionamento | D33: 950.54 | E33: =+ROUND(D33*(1+E8),2) -> 969.55 | F33: =+ROUND(E33*(1+F8),2) -> 988.94 | G33: =+ROUND(F33*(1+G8),2) -> 1013.66 | H33: =+ROUND(G33*(1+H8),2) -> 1039 | I33: =+ROUND(H33*(1+I8),2) -> 1064.98
A34: =+A19 -> Investigação & Desenvolvimento | E34: =+ROUND(D34*(1+E8),2) -> 0 | F34: =+ROUND(E34*(1+F8),2) -> 0 | G34: =+ROUND(F34*(1+G8),2) -> 0 | H34: =+ROUND(G34*(1+H8),2) -> 0 | I34: =+ROUND(H34*(1+I8),2) -> 0
A35: =+A20 -> Outros | D35: 485 | E35: =+ROUND(D35*(1+E8),2) -> 494.7 | F35: =+ROUND(E35*(1+F8),2) -> 504.59 | G35: =+ROUND(F35*(1+G8),2) -> 517.2 | H35: =+ROUND(G35*(1+H8),2) -> 530.13 | I35: =+ROUND(H35*(1+I8),2) -> 543.38
A36: =+A21 -> Distribuição | D36: 1000 | E36: =+ROUND(D36*(1+E8),2) -> 1020 | F36: =+ROUND(E36*(1+F8),2) -> 1040.4 | G36: =+ROUND(F36*(1+G8),2) -> 1066.41 | H36: =+ROUND(G36*(1+H8),2) -> 1093.07 | I36: =+ROUND(H36*(1+I8),2) -> 1120.4
A37: =+A22 -> Informática | D37: 725.75 | E37: =+ROUND(D37*(1+E8),2) -> 740.27 | F37: =+ROUND(E37*(1+F8),2) -> 755.08 | G37: =+ROUND(F37*(1+G8),2) -> 773.96 | H37: =+ROUND(G37*(1+H8),2) -> 793.31 | I37: =+ROUND(H37*(1+I8),2) -> 813.14
A40: Remuneração base anual - TOTAL Colaboradores | D40: =+D26 -> 2011 | E40: =+E26 -> 2012 | F40: =+F26 -> 2013 | G40: =+G26 -> 2014 | H40: =+H26 -> 2015 | I40: =+I26 -> 2016
A41: =+A27 -> Administração / Direcção | D41: =+D12*D27*D7 -> 46368 | E41: =+E12*E27*E7 -> 47295.36 | F41: =+F12*F27*F7 -> 48241.2 | G41: =+G12*G27*G7 -> 50683.339 | H41: =+H12*H27*H7 -> 53249.205 | I41: =+I12*I27*I7 -> 55944.856
A42: =+A28 -> Administrativa Financeira | D42: =+D13*D28*D7 -> 27514.76 | E42: =+E13*E28*E7 -> 28064.96 | F42: =+F13*F28*F7 -> 28626.36 | G42: =+G13*G28*G7 -> 29342.04 | H42: =+H13*H28*H7 -> 30075.64 | I42: =+I13*I28*I7 -> 30827.44
A43: =+A29 -> Comercial / Marketing | D43: =+D14*D29*D7 -> 22497.16 | E43: =+E14*E29*E7 -> 45894.24 | F43: =+F14*F29*F7 -> 58515.1 | G43: =+G14*G29*G7 -> 59978.1 | H43: =+H14*H29*H7 -> 61477.5 | I43: =+I14*I29*I7 -> 63014.7
A44: =+A30 -> Produção / Operacional | D44: =+D15*D30*D7 -> 7212.1 | E44: =+E15*E30*E7 -> 14712.6 | F44: =+F15*F30*F7 -> 15006.88 | G44: =+G15*G30*G7 -> 23073.12 | H44: =+H15*H30*H7 -> 23649.78 | I44: =+I15*I30*I7 -> 24241.14
A45: =+A31 -> Qualidade | D45: =+D16*D31*D7 -> 10513.72 | E45: =+E16*E31*E7 -> 10724 | F45: =+F16*F31*F7 -> 10938.48 | G45: =+G16*G31*G7 -> 11211.9 | H45: =+H16*H31*H7 -> 11492.18 | I45: =+I16*I31*I7 -> 11779.46
A46: =+A32 -> Manutenção | D46: =+D17*D32*D7 -> 0 | E46: =+E17*E32*E7 -> 0 | F46: =+F17*F32*F7 -> 0 | G46: =+G17*G32*G7 -> 0 | H46: =+H17*H32*H7 -> 0 | I46: =+I17*I32*I7 -> 0
A47: =+A33 -> Aprovisionamento | D47: =+D18*D33*D7 -> 26615.12 | E47: =+E18*E33*E7 -> 27147.4 | F47: =+F18*F33*F7 -> 27690.32 | G47: =+G18*G33*G7 -> 28382.48 | H47: =+H18*H33*H7 -> 29092 | I47: =+I18*I33*I7 -> 29819.44
A48: =+A34 -> Investigação & Desenvolvimento | D48: =+D19*D34*D7 -> 0 | E48: =+E19*E34*E7 -> 0 | F48: =+F19*F34*F7 -> 0 | G48: =+G19*G34*G7 -> 0 | H48: =+H19*H34*H7 -> 0 | I48: =+I19*I34*I7 -> 0
...

Sheet FundoManeio
G1: Empresa: | H1: =+Pressupostos!E1 -> ALI,Conserva&Limpa, Lda
H2: =+Pressupostos!B9 -> Euros
A4: Investimento em Fundo Maneio Necessário
C7: =+VN!C8 -> 2011 | D7: =+VN!D8 -> 2012 | E7: =+VN!E8 -> 2013 | F7: =+VN!F8 -> 2014 | G7: =+VN!G8 -> 2015 | H7: =+VN!H8 -> 2016
A8: Necessidades Fundo Maneio
A9: Reserva Segurança Tesouraria | C9: =(CMVMC!C20+FSE!F53+'Gastos com Pessoal'!D68)/(360/(Pressupostos!B13+Pressupostos!B15-Pressupostos!B14)) -> 28972.531 | D9: =+C9 -> 28972.531 | E9: =+D9 -> 28972.531 | F9: =+E9 -> 28972.531 | G9: =+F9 -> 28972.531 | H9: =+G9 -> 28972.531
A10: Clientes | C10: =VN!C84*Pressupostos!$C$13/12 -> 154436.14 | D10: =VN!D84*Pressupostos!$C$13/12 -> 204777.86 | E10: =VN!E84*Pressupostos!$C$13/12 -> 261537.94 | F10: =VN!F84*Pressupostos!$C$13/12 -> 322700.49 | G10: =VN!G84*Pressupostos!$C$13/12 -> 384246.68 | H10: =VN!H84*Pressupostos!$C$13/12 -> 415569.63
A11: Inventários | C11: =CMVMC!C16*Pressupostos!$C$15/12 -> 13997.66 | D11: =CMVMC!D16*Pressupostos!$C$15/12 -> 18670.84 | E11: =CMVMC!E16*Pressupostos!$C$15/12 -> 23963.308 | F11: =CMVMC!F16*Pressupostos!$C$15/12 -> 29915.398 | G11: =CMVMC!G16*Pressupostos!$C$15/12 -> 35666.293 | H11: =CMVMC!H16*Pressupostos!$C$15/12 -> 38573.849
A12: Estado | C12: =IF(C29<0,-C29,0) -> 0 | D12: =IF(D29<0,-D29,0) -> 0 | E12: =IF(E29<0,-E29,0) -> 0 | F12: =IF(F29<0,-F29,0) -> 0 | G12: =IF(G29<0,-G29,0) -> 0 | H12: =IF(H29<0,-H29,0) -> 0
A15: TOTAL | C15: =SUM(C9:C14) -> 197406.33 | D15: =SUM(D9:D14) -> 252421.23 | E15: =SUM(E9:E14) -> 314473.78 | F15: =SUM(F9:F14) -> 381588.42 | G15: =SUM(G9:G14) -> 448885.51 | H15: =SUM(H9:H14) -> 483116.01
A16: Recursos Fundo Maneio
A17: Fornecedores | C17: =(CMVMC!C20+FSE!F53)*Pressupostos!$C$14/12 -> 117224.55 | D17: =(CMVMC!D20+FSE!G53)*Pressupostos!$C$14/12 -> 147509.96 | E17: =(CMVMC!E20+FSE!H53)*Pressupostos!$C$14/12 -> 181745.33 | F17: =(CMVMC!F20+FSE!I53)*Pressupostos!$C$14/12 -> 219972.57 | G17: =(CMVMC!G20+FSE!J53)*Pressupostos!$C$14/12 -> 257118.2 | H17: =(CMVMC!H20+FSE!K53)*Pressupostos!$C$14/12 -> 276200.9
A18: Estado | C18: =IF(C29>0,C29,0) -> 6113.8045 | D18: =IF(D29>0,D29,0) -> 10551.37 | E18: =IF(E29>0,E29,0) -> 12444.859 | F18: =IF(F29>0,F29,0) -> 14741.215 | G18: =IF(G29>0,G29,0) -> 16379.054 | H18: =IF(H29>0,H29,0) -> 17336.86
A20: TOTAL | C20: =+SUM(C17:C19) -> 123338.35 | D20: =+SUM(D17:D19) -> 158061.33 | E20: =+SUM(E17:E19) -> 194190.18 | F20: =+SUM(F17:F19) -> 234713.78 | G20: =+SUM(G17:G19) -> 273497.25 | H20: =+SUM(H17:H19) -> 293537.76
A22: Fundo Maneio Necessário | C22: =+C15-C20 -> 74067.979 | D22: =+D15-D20 -> 94359.901 | E22: =+E15-E20 -> 120283.59 | F22: =+F15-F20 -> 146874.64 | G22: =+G15-G20 -> 175388.26 | H22: =+H15-H20 -> 189578.25
A24: Investimento em Fundo de Maneio | C24: =+C22 -> 74067.979 | D24: =+D22-C22 -> 20291.922 | E24: =+E22-D22 -> 25923.694 | F24: =+F22-E22 -> 26591.044 | G24: =+G22-F22 -> 28513.616 | H24: =+H22-G22 -> 14189.999
A26: * A considerar caso seja necessário
A29: ESTADO | C29: =+SUM(C30:C32) -> 6113.8045 | D29: =+SUM(D30:D32) -> 10551.37 | E29: =+SUM(E30:E32) -> 12444.859 | F29: =+SUM(F30:F32) -> 14741.215 | G29: =+SUM(G30:G32) -> 16379.054 | H29: =+SUM(H30:H32) -> 17336.86
A30: SS | C30: =('Gastos com Pessoal'!D84+'Gastos com Pessoal'!D85+'Gastos com Pessoal'!D57+'Gastos com Pessoal'!D58)/FSE!F8 -> 4772.3205 | D30: =('Gastos com Pessoal'!E84+'Gastos com Pessoal'!E85+'Gastos com Pessoal'!E57+'Gastos com Pessoal'!E58)/FSE!G8 -> 5445.1837 | E30: =('Gastos com Pessoal'!F84+'Gastos com Pessoal'!F85+'Gastos com Pessoal'!F57+'Gastos com Pessoal'!F58)/FSE!H8 -> 5892.9856 | F30: =('Gastos com Pessoal'!G84+'Gastos com Pessoal'!G85+'Gastos com Pessoal'!G57+'Gastos com Pessoal'!G58)/FSE!I8 -> 6725.86 | G30: =('Gastos com Pessoal'!H84+'Gastos com Pessoal'!H85+'Gastos com Pessoal'!H57+'Gastos com Pessoal'!H58)/FSE!J8 -> 6926.0363 | H30: =('Gastos com Pessoal'!I84+'Gastos com Pessoal'!I85+'Gastos com Pessoal'!I57+'Gastos com Pessoal'!I58)/FSE!K8 -> 7132.8559
A31: IRS | C31: ='Gastos com Pessoal'!D86/FSE!F8 -> 858.3568 | D31: ='Gastos com Pessoal'!E86/FSE!G8 -> 975.2218 | E31: ='Gastos com Pessoal'!F86/FSE!H8 -> 1053.241 | F31: ='Gastos com Pessoal'!G86/FSE!I8 -> 1198.8563 | G31: ='Gastos com Pessoal'!H86/FSE!J8 -> 1235.3204 | H31: ='Gastos com Pessoal'!I86/FSE!K8 -> 1273.0278
A32: IVA | C32: =(VN!C82-CMVMC!C18-FSE!F51-Investimento!C31)/4 -> 483.12724 | D32: =(VN!D82-CMVMC!D18-FSE!G51-Investimento!D31)/4 -> 4130.9648 | E32: =(VN!E82-CMVMC!E18-FSE!H51-Investimento!E31)/4 -> 5498.6325 | F32: =(VN!F82-CMVMC!F18-FSE!I51-Investimento!F31)/4 -> 6816.499 | G32: =(VN!G82-CMVMC!G18-FSE!J51-Investimento!G31)/4 -> 8217.697 | H32: =(VN!H82-CMVMC!H18-FSE!K51-Investimento!H31)/4 -> 8930.9762

Sheet Investimento
G1: Empresa: | H1: =+Pressupostos!E1 -> ALI,Conserva&Limpa, Lda
H2: =+Pressupostos!B9 -> Euros
A4: Investimento
A7: Investimento por ano | C7: =+VN!C8 -> 2011 | D7: =+VN!D8 -> 2012 | E7: =+VN!E8 -> 2013 | F7: =+VN!F8 -> 2014 | G7: =+VN!G8 -> 2015 | H7: =+VN!H8 -> 2016
A8: Propriedades de investimento
A9: Terrenos e recursos naturais
A10: Edificios e Outras construções
A11: Outras propriedades de investimento
A12: Total propriedades de investimento | C12: =+SUM(C9:C11) -> 0 | D12: =+SUM(D9:D11) -> 0 | E12: =+SUM(E9:E11) -> 0 | F12: =+SUM(F9:F11) -> 0 | G12: =+SUM(G9:G11) -> 0 | H12: =+SUM(H9:H11) -> 0
A13: Activos fixos tangíveis
A14: Terrenos e Recursos Naturais
A15: Edificios e Outras Construções
A16: Equipamento Básico | C16: 41518 | D16: 1277
A17: Equipamento de Transporte | C17: 16178.86 | F17: 21951
A18: Equipamento Administrativo | C18: 3127.63
A19: Equipamentos biológicos
A20: Outros activos fixos tangiveis
A21: Total Activos Fixos Tangíveis | C21: =+SUM(C14:C20) -> 60824.49 | D21: =+SUM(D14:D20) -> 1277 | E21: =+SUM(E14:E20) -> 0 | F21: =+SUM(F14:F20) -> 21951 | G21: =+SUM(G14:G20) -> 0 | H21: =+SUM(H14:H20) -> 0
A22: Activos Intangíveis
A23: Goodwill
A24: Projectos de desenvolvimento
A25: Programas de computador | C25: 5452.47
A26: Propriedade industrial | C26: 1900
A27: Outros activos intangíveis
A28: Total Activos Intangíveis | C28: =+SUM(C23:C27) -> 7352.47 | D28: =+SUM(D23:D27) -> 0 | E28: =+SUM(E23:E27) -> 0 | F28: =+SUM(F23:F27) -> 0 | G28: =+SUM(G23:G27) -> 0 | H28: =+SUM(H23:H27) -> 0
A29: Total Investimento | C29: =+C12+C21+C28 -> 68176.96 | D29: =+D12+D21+D28 -> 1277 | E29: =+E12+E21+E28 -> 0 | F29: =+F12+F21+F28 -> 21951 | G29: =+G12+G21+G28 -> 0 | H29: =+H12+H21+H28 -> 0
A31: IVA | B31: =+Pressupostos!B21 -> 0.23 | C31: =+$B$31*(C16+C18+C20) -> 10268.495 | D31: =+$B$31*(D16+D18+D20) -> 293.71 | E31: =+$B$31*(E16+E18+E20) -> 0 | F31: =+$B$31*(F16+F18+F20) -> 0 | G31: =+$B$31*(G16+G18+G20) -> 0 | H31: =+$B$31*(H16+H18+H20) -> 0
A33: Valores Acumulados | C33: =+C7 -> 2011 | D33: =+D7 -> 2012 | E33: =+E7 -> 2013 | F33: =+F7 -> 2014 | G33: =+G7 -> 2015 | H33: =+H7 -> 2016
A34: Propriedades de investimento
A35: Terrenos e recursos naturais | C35: =+C9 -> 0 | D35: =+C35+D9 -> 0 | E35: =+D35+E9 -> 0 | F35: =+E35+F9 -> 0 | G35: =+F35+G9 -> 0 | H35: =+G35+H9 -> 0
A36: Edificios e Outras construções | C36: =+C10 -> 0 | D36: =+C36+D10 -> 0 | E36: =+D36+E10 -> 0 | F36: =+E36+F10 -> 0 | G36: =+F36+G10 -> 0 | H36: =+G36+H10 -> 0
A37: Outras propriedades de investimento | C37: =+C11 -> 0 | D37: =+C37+D11 -> 0 | E37: =+D37+E11 -> 0 | F37: =+E37+F11 -> 0 | G37: =+F37+G11 -> 0 | H37: =+G37+H11 -> 0
A38: Total propriedades de investimento | C38: =+SUM(C35:C37) -> 0 | D38: =+SUM(D35:D37) -> 0 | E38: =+SUM(E35:E37) -> 0 | F38: =+SUM(F35:F37) -> 0 | G38: =+SUM(G35:G37) -> 0 | H38: =+SUM(H35:H37) -> 0
A39: Activos fixos tangíveis
A40: Terrenos e Recursos Naturais | C40: =+C14 -> 0 | D40: =+C40+D14 -> 0 | E40: =+D40+E14 -> 0 | F40: =+E40+F14 -> 0 | G40: =+F40+G14 -> 0 | H40: =+G40+H14 -> 0
A41: Edificios e Outras Construções | C41: =+C15 -> 0 | D41: =+C41+D15 -> 0 | E41: =+D41+E15 -> 0 | F41: =+E41+F15 -> 0 | G41: =+F41+G15 -> 0 | H41: =+G41+H15 -> 0
A42: Equipamento Básico | C42: =+C16 -> 41518 | D42: =+C42+D16 -> 42795 | E42: =+D42+E16 -> 42795 | F42: =+E42+F16 -> 42795 | G42: =+F42+G16 -> 42795 | H42: =+G42+H16 -> 42795
A43: Equipamento de Transporte | C43: =+C17 -> 16178.86 | D43: =+C43+D17 -> 16178.86 | E43: =+D43+E17 -> 16178.86 | F43: =+E43+F17 -> 38129.86 | G43: =+F43+G17 -> 38129.86 | H43: =+G43+H17 -> 38129.86
A44: Equipamento Administrativo | C44: =+C18 -> 3127.63 | D44: =+C44+D18 -> 3127.63 | E44: =+D44+E18 -> 3127.63 | F44: =+E44+F18 -> 3127.63 | G44: =+F44+G18 -> 3127.63 | H44: =+G44+H18 -> 3127.63
A45: Equipamentos biológicos | C45: =+C19 -> 0 | D45: =+C45+D19 -> 0 | E45: =+D45+E19 -> 0 | F45: =+E45+F19 -> 0 | G45: =+F45+G19 -> 0 | H45: =+G45+H19 -> 0
...

Sheet Financiamento
G1: Empresa: | H1: =+Pressupostos!E1 -> ALI,Conserva&Limpa, Lda
H2: =+Pressupostos!B9 -> Euros
A4: Financiamento
C7: =+VN!C8 -> 2011 | D7: =+VN!D8 -> 2012 | E7: =+VN!E8 -> 2013 | F7: =+VN!F8 -> 2014 | G7: =+VN!G8 -> 2015 | H7: =+VN!H8 -> 2016
A8: Investimento | C8: =Investimento!C29+FundoManeio!C24 -> 142244.94 | D8: =Investimento!D29+FundoManeio!D24 -> 21568.922 | E8: =Investimento!E29+FundoManeio!E24 -> 25923.694 | F8: =Investimento!F29+FundoManeio!F24 -> 48542.044 | G8: =Investimento!G29+FundoManeio!G24 -> 28513.616 | H8: =Investimento!H29+FundoManeio!H24 -> 14189.999
A9: Margem de segurança | C9: 0.02 | D9: 0.02 | E9: 0.02 | F9: 0.02 | G9: 0.02 | H9: 0.02
A10: Necessidades de financiamento | C10: =+ROUND(C8*(1+C9),-2) -> 145100 | D10: =+ROUND(D8*(1+D9),-2) -> 22000 | E10: =+ROUND(E8*(1+E9),-2) -> 26400 | F10: =+ROUND(F8*(1+F9),-2) -> 49500 | G10: =+ROUND(G8*(1+G9),-2) -> 29100 | H10: =+ROUND(H8*(1+H9),-2) -> 14500
A13: Fontes de Financiamento | C13: =+C7 -> 2011 | D13: =+D7 -> 2012 | E13: =+E7 -> 2013 | F13: =+F7 -> 2014 | G13: =+G7 -> 2015 | H13: =+H7 -> 2016
A14: Meios Libertos | C14: =IF(+'Cash Flow'!C12>0,'Cash Flow'!C12,0) -> 0 | D14: =IF(+'Cash Flow'!D12>0,'Cash Flow'!D12,0) -> 0 | E14: =IF(+'Cash Flow'!E12>0,'Cash Flow'!E12,0) -> 18093.863 | F14: =IF(+'Cash Flow'!F12>0,'Cash Flow'!F12,0) -> 54276.084 | G14: =IF(+'Cash Flow'!G12>0,'Cash Flow'!G12,0) -> 113316.32 | H14: =IF(+'Cash Flow'!H12>0,'Cash Flow'!H12,0) -> 139599.41
A15: Capital | C15: 100000
A16: Outros instrumentos de capital | D16: 90000
A17: Empréstimos de Sócios | D17: =C10-C20 -> 0
A18: Financiamento bancário e outras Inst. Crédito | C18: 25200 | E18: 8306
A19: Subsidios | C19: 19900
A20: TOTAL | C20: =SUM(C14:C19) -> 145100 | D20: =SUM(D14:D19) -> 90000 | E20: =SUM(E14:E19) -> 26399.863 | F20: =SUM(F14:F19) -> 54276.084 | G20: =SUM(G14:G19) -> 113316.32 | H20: =SUM(H14:H19) -> 139599.41
A22: N.º de anos reembolso | B22: 6
A23: Taxa de juro associada | B23: 0.057
A25: =+C13 -> 2011
A26: Capital em dívida (início período) | C26: =+C18 -> 25200 | D26: =+C32 -> 25200 | E26: =+D32 -> 21000 | F26: =+E32 -> 16800 | G26: =+F32 -> 12600 | H26: =+G32 -> 8400
A27: Taxa de Juro | C27: =$B$23 -> 0.057 | D27: =$B$23 -> 0.057 | E27: =$B$23 -> 0.057 | F27: =$B$23 -> 0.057 | G27: =$B$23 -> 0.057 | H27: =$B$23 -> 0.057
A28: Juro Anual | C28: =+C26*C27*FSE!F8/12 -> 1436.4 | D28: =+D26*D27 -> 1436.4 | E28: =+E26*E27 -> 1197 | F28: =+F26*F27 -> 957.6 | G28: =+G26*G27 -> 718.2 | H28: =+H26*H27 -> 478.8
A29: Reembolso Anual | D29: =IF(C26=0,0,+$C$26/$B$22) -> 4200 | E29: =IF(D32<=0,0,+$C$26/$B$22) -> 4200 | F29: =IF(E32<=0,0,+$C$26/$B$22) -> 4200 | G29: =IF(F32<=0,0,+$C$26/$B$22) -> 4200 | H29: =IF(G32<=0,0,+$C$26/$B$22) -> 4200
A30: Imposto Selo (0,4%) | C30: =+C28*0.004 -> 5.7456 | D30: =+D28*0.004 -> 5.7456 | E30: =+E28*0.004 -> 4.788 | F30: =+F28*0.004 -> 3.8304 | G30: =+G28*0.004 -> 2.8728 | H30: =+H28*0.004 -> 1.9152
A31: Serviço da dívida | C31: =+C28+C29+C30 -> 1442.1456 | D31: =+D28+D29+D30 -> 5642.1456 | E31: =+E28+E29+E30 -> 5401.788 | F31: =+F28+F29+F30 -> 5161.4304 | G31: =+G28+G29+G30 -> 4921.0728 | H31: =+H28+H29+H30 -> 4680.7152
A32: Valor em dívida | C32: =+C26-C29 -> 25200 | D32: =+D26-D29 -> 21000 | E32: =+E26-E29 -> 16800 | F32: =+F26-F29 -> 12600 | G32: =+G26-G29 -> 8400 | H32: =+H26-H29 -> 4200
A34: N.º de anos reembolso | B34: 1
A35: Taxa de juro associada | B35: =Pressupostos!$B$32 -> 0.072
A37: =+D13 -> 2012
A38: Capital em dívida (início período) | C38: =+C28 -> 1436.4 | D38: =+D18 -> 0 | E38: =+D44 -> 0 | F38: =+E44 -> 0 | G38: =+F44 -> 0 | H38: =+G44 -> 0
A39: Taxa de Juro | D39: =$B$35 -> 0.072 | E39: =$B$35 -> 0.072 | F39: =$B$35 -> 0.072 | G39: =$B$35 -> 0.072 | H39: =$B$35 -> 0.072
A40: Juro Anual | D40: =+D38*D39 -> 0 | E40: =+E38*E39 -> 0 | F40: =+F38*F39 -> 0 | G40: =+G38*G39 -> 0 | H40: =+H38*H39 -> 0
A41: Reembolso Anual | D41: =IF(D38=0,0,+$D$38/B34) -> 0 | E41: =IF(D44<=0,0,+$D$38/$B$34) -> 0 | F41: =IF(E44<=0,0,+$D$38/$B$34) -> 0 | G41: =IF(F44<=0,0,+$D$38/$B$34) -> 0 | H41: =IF(G44<=0,0,+$D$38/$B$34) -> 0
A42: Imposto Selo (0,4%) | D42: =0.004*D40 -> 0 | E42: =0.004*E40 -> 0 | F42: =0.004*F40 -> 0 | G42: =0.004*G40 -> 0 | H42: =0.004*H40 -> 0
A43: Serviço da dívida | D43: =+D40+D41+D42 -> 0 | E43: =+E40+E41+E42 -> 0 | F43: =+F40+F41+F42 -> 0 | G43: =+G40+G41+G42 -> 0 | H43: =+H40+H41+H42 -> 0
A44: Valor em dívida | D44: =+D38-D41 -> 0 | E44: =+E38-E41 -> 0 | F44: =+F38-F41 -> 0 | G44: =+G38-G41 -> 0 | H44: =+H38-H41 -> 0
A46: N.º de anos reembolso | B46: 1
A47: Taxa de juro associada | B47: =Pressupostos!$B$32 -> 0.072
A49: =+E13 -> 2013
A50: Capital em dívida (início período) | C50: =+C40 -> 0 | E50: =+E18 -> 8306 | F50: =+E56 -> 0 | G50: =+F56 -> 0 | H50: =+G56 -> 0
A51: Taxa de Juro | E51: =$B$47 -> 0.072 | F51: =$B$47 -> 0.072 | G51: =$B$47 -> 0.072 | H51: =$B$47 -> 0.072
...

Sheet Ponto Crítico
F1: Empresa: | G1: =+Pressupostos!E1 -> ALI,Conserva&Limpa, Lda
G2: =+Pressupostos!B9 -> Euros
A4: Ponto Crítico Operacional Previsional
B7: =+VN!C8 -> 2011 | C7: =+VN!D8 -> 2012 | D7: =+VN!E8 -> 2013 | E7: =+VN!F8 -> 2014 | F7: =+VN!G8 -> 2015 | G7: =+VN!H8 -> 2016
A8: =DR!A8 -> Vendas e serviços prestados | B8: =DR!B8 -> 582777.88 | C8: =DR!C8 -> 772746.65 | D8: =DR!D8 -> 986935.62 | E8: =DR!E8 -> 1218548.4 | F8: =DR!F8 -> 1450906 | G8: =DR!G8 -> 1569180.6
A9: =DR!A11 -> Variação nos inventários da produção | B9: =DR!B11 -> 0 | C9: =DR!C11 -> 0 | D9: =DR!D11 -> 0 | E9: =DR!E11 -> 0 | F9: =DR!F11 -> 0 | G9: =DR!G11 -> 0
A10: CMVMC | B10: =DR!B13 -> 335943.84 | C10: =DR!C13 -> 448100.17 | D10: =DR!D13 -> 575119.39 | E10: =DR!E13 -> 717969.54 | F10: =DR!F13 -> 855991.03 | G10: =DR!G13 -> 925772.38
A11: FSE Variáveis | B11: =FSE!F47 -> 25488.78 | C11: =FSE!G47 -> 25998.556 | D11: =FSE!H47 -> 26518.527 | E11: =FSE!I47 -> 27048.897 | F11: =FSE!J47 -> 27589.875 | G11: =FSE!K47 -> 28141.673
A12: Margem Bruta de Contribuição | B12: =B8+B9-B10-B11 -> 221345.26 | C12: =C8+C9-C10-C11 -> 298647.93 | D12: =D8+D9-D10-D11 -> 385297.7 | E12: =E8+E9-E10-E11 -> 473529.92 | F12: =F8+F9-F10-F11 -> 567325.05 | G12: =G8+G9-G10-G11 -> 615266.57
A13: Ponto Crítico | B13: =(FSE!F45+DR!B15+DR!B24+DR!B25+DR!B18)/(B12/'Ponto Crítico'!B8) -> 863563.05 | C13: =(FSE!G45+DR!C15+DR!C24+DR!C25+DR!C18)/(C12/'Ponto Crítico'!C8) -> 935475.9 | D13: =(FSE!H45+DR!D15+DR!D24+DR!D25+DR!D18)/(D12/'Ponto Crítico'!D8) -> 983770.96 | E13: =(FSE!I45+DR!E15+DR!E24+DR!E25+DR!E18)/(E12/'Ponto Crítico'!E8) -> 1097878.2 | F13: =(FSE!J45+DR!F15+DR!F24+DR!F25+DR!F18)/(F12/'Ponto Crítico'!F8) -> 1091597.4 | G13: =(FSE!K45+DR!G15+DR!G24+DR!G25+DR!G18)/(G12/'Ponto Crítico'!G8) -> 1109395.8

Sheet DR
F1: Empresa: | G1: =+Pressupostos!E1 -> ALI,Conserva&Limpa, Lda
G2: =+Pressupostos!B9 -> Euros
A4: Demonstração de Resultados Previsional
B7: =+VN!C8 -> 2011 | C7: =+VN!D8 -> 2012 | D7: =+VN!E8 -> 2013 | E7: =+VN!F8 -> 2014 | F7: =+VN!G8 -> 2015 | G7: =+VN!H8 -> 2016
A8: Vendas e serviços prestados | B8: =+VN!C80 -> 582777.88 | C8: =+VN!D80 -> 772746.65 | D8: =+VN!E80 -> 986935.62 | E8: =+VN!F80 -> 1218548.4 | F8: =+VN!G80 -> 1450906 | G8: =+VN!H80 -> 1569180.6
A9: Subsídios à Exploração | B9: 2000
A10: Ganhos/perdas imputados de subsidiárias, associadas e empreendimentos conjuntos
A11: Variação nos inventários da produção
A12: Trabalhos para a própria entidade
A13: CMVMC | B13: =+CMVMC!C16 -> 335943.84 | C13: =+CMVMC!D16 -> 448100.17 | D13: =+CMVMC!E16 -> 575119.39 | E13: =+CMVMC!F16 -> 717969.54 | F13: =+CMVMC!G16 -> 855991.03 | G13: =+CMVMC!H16 -> 925772.38
A14: Fornecimento e serviços externos | B14: =+FSE!F43 -> 110188.68 | C14: =+FSE!G43 -> 112392.45 | D14: =+FSE!H43 -> 114640.3 | E14: =+FSE!I43 -> 116933.11 | F14: =+FSE!J43 -> 119271.77 | G14: =+FSE!K43 -> 121657.21
A15: Gastos com o pessoal | B15: =+'Gastos com Pessoal'!D79 -> 226442.57 | C15: =+'Gastos com Pessoal'!E79 -> 257977.7 | D15: =+'Gastos com Pessoal'!F79 -> 278773.2 | E15: =+'Gastos com Pessoal'!G79 -> 317646.47 | F15: =+'Gastos com Pessoal'!H79 -> 327203.13 | G15: =+'Gastos com Pessoal'!I79 -> 337081.89
A16: Imparidade de inventários (perdas/reversões)
A17: Imparidade de dívidas a receber (perdas/reversões) | B17: =+VN!C87 -> 0 | C17: =+VN!D87 -> 0 | D17: =+VN!E87 -> 0 | E17: =+VN!F87 -> 0 | F17: =+VN!G87 -> 0 | G17: =+VN!H87 -> 0
A18: Provisões (aumentos/reduções)
A19: Imparidade de investimentos não depreciáveis/amortizáveis (perdas/reversões)
A20: Aumentos/reduções de justo valor
A21: Outros rendimentos e ganhos
A22: Outros gastos e perdas
A23: EBITDA (Resultado antes de depreciações, gastos de financiamento e impostos) | B23: =+B8+B9+B10+B11+B12-B13-B14-B15-B16-B17-B18-B19-B20+B21-B22 -> -87797.203 | C23: =+C8+C9+C10+C11+C12-C13-C14-C15-C16-C17-C18-C19-C20+C21-C22 -> -45723.672 | D23: =+D8+D9+D10+D11+D12-D13-D14-D15-D16-D17-D18-D19-D20+D21-D22 -> 18402.733 | E23: =+E8+E9+E10+E11+E12-E13-E14-E15-E16-E17-E18-E19-E20+E21-E22 -> 65999.236 | F23: =+F8+F9+F10+F11+F12-F13-F14-F15-F16-F17-F18-F19-F20+F21-F22 -> 148440.02 | G23: =+G8+G9+G10+G11+G12-G13-G14-G15-G16-G17-G18-G19-G20+G21-G22 -> 184669.14
A24: Gastos/reversões de depreciação e amortização | B24: =+Investimento!C166 -> 16848.003 | C24: =+Investimento!D166 -> 17167.253 | D24: =+Investimento!E166 -> 17167.253 | E24: =+Investimento!F166 -> 19106.63 | F24: =+Investimento!G166 -> 7945.222 | G24: =+Investimento!H166 -> 4390.2
A25: Imparidade de activos depreciáveis/amortizáveis (perdas/reversões)
A26: EBIT (Resultado Operacional) | B26: =+B23-B24-B25 -> -104645.21 | C26: =+C23-C24-C25 -> -62890.925 | D26: =+D23-D24-D25 -> 1235.4801 | E26: =+E23-E24-E25 -> 46892.606 | F26: =+F23-F24-F25 -> 140494.8 | G26: =+G23-G24-G25 -> 180278.94
A27: Juros e rendimentos similares obtidos | B27: =+IF(PlanoFinanceiro!C29>0,PlanoFinanceiro!C29*Pressupostos!$B$30,0) -> 0 | C27: =+IF(PlanoFinanceiro!D29>0,PlanoFinanceiro!D29*Pressupostos!$B$30,0) -> 0 | D27: =+IF(PlanoFinanceiro!E29>0,PlanoFinanceiro!E29*Pressupostos!$B$30,0) -> 0 | E27: =+IF(PlanoFinanceiro!F29>0,PlanoFinanceiro!F29*Pressupostos!$B$30,0) -> 0 | F27: =+IF(PlanoFinanceiro!G29>0,PlanoFinanceiro!G29*Pressupostos!$B$30,0) -> 392.03171 | G27: =+IF(PlanoFinanceiro!H29>0,PlanoFinanceiro!H29*Pressupostos!$B$30,0) -> 4130.4674
A28: Juros e gastos similares suportados | B28: =Financiamento!C97+IF(PlanoFinanceiro!C29<0,-PlanoFinanceiro!C29*Pressupostos!$B$32,0) -> 8144.3871 | C28: =Financiamento!D97+IF(PlanoFinanceiro!D29<0,-PlanoFinanceiro!D29*Pressupostos!$B$32,0) -> 7340.3629 | D28: =Financiamento!E97+IF(PlanoFinanceiro!E29<0,-PlanoFinanceiro!E29*Pressupostos!$B$32,0) -> 9207.2614 | E28: =Financiamento!F97+IF(PlanoFinanceiro!F29<0,-PlanoFinanceiro!F29*Pressupostos!$B$32,0) -> 7987.0279 | F28: =Financiamento!G97+IF(PlanoFinanceiro!G29<0,-PlanoFinanceiro!G29*Pressupostos!$B$32,0) -> 721.0728 | G28: =Financiamento!H97+IF(PlanoFinanceiro!H29<0,-PlanoFinanceiro!H29*Pressupostos!$B$32,0) -> 480.7152
A29: RESULTADO ANTES DE IMPOSTOS | B29: =+B26+B27-B28 -> -112789.59 | C29: =+C26+C27-C28 -> -70231.287 | D29: =+D26+D27-D28 -> -7971.7813 | E29: =+E26+E27-E28 -> 38905.578 | F29: =+F26+F27-F28 -> 140165.76 | G29: =+G26+G27-G28 -> 183928.69
A30: Imposto sobre o rendimento do período | B30: =IF(B29>0,B29*Pressupostos!$B$28,0) -> 0 | C30: =IF(C29+C32<0,0,(C29+C32)*Pressupostos!$B$28) -> 0 | D30: =IF(D29+D32<0,0,(D29+D32)*Pressupostos!$B$28) -> 0 | E30: =IF(E29+E32<0,0,(E29+E32)*Pressupostos!$B$28) -> 0 | F30: =IF(F29+F32<0,0,(F29+F32)*Pressupostos!$B$28) -> 0 | G30: =IF(G29+G32<0,0,(G29+G32)*Pressupostos!$B$28) -> 43001.843
A31: RESULTADO LÍQUIDO DO PERÍODO | B31: =+B29-B30 -> -112789.59 | C31: =+C29-C30 -> -70231.287 | D31: =+D29-D30 -> -7971.7813 | E31: =+E29-E30 -> 38905.578 | F31: =+F29-F30 -> 140165.76 | G31: =+G29-G30 -> 140926.85
C32: =IF(B31<0,B31,0) -> -112789.59 | D32: =IF(C31+C32<0,C31+C32,0) -> -183020.88 | E32: =IF(D31+D32<0,D31+D32,0) -> -190992.66 | F32: =IF(E31+E32<0,E31+E32,0) -> -152087.08 | G32: =IF(F31+F32<0,F31+F32,0) -> -11921.323

Sheet Cash Flow
G1: Empresa: | H1: =+Pressupostos!E1 -> ALI,Conserva&Limpa, Lda
H2: =+Pressupostos!B9 -> Euros
A4: Mapa de Cash Flows Operacionais
C7: =+VN!C8 -> 2011 | D7: =+VN!D8 -> 2012 | E7: =+VN!E8 -> 2013 | F7: =+VN!F8 -> 2014 | G7: =+VN!G8 -> 2015 | H7: =+VN!H8 -> 2016
A8: Meios Libertos do Projecto
A9: Resultados Operacionais (EBIT) x (1-IRC) | C9: =+DR!B26*(1-Pressupostos!$B$28) -> -78483.905 | D9: =+DR!C26*(1-Pressupostos!$B$28) -> -47168.193 | E9: =+DR!D26*(1-Pressupostos!$B$28) -> 926.61006 | F9: =+DR!E26*(1-Pressupostos!$B$28) -> 35169.455 | G9: =+DR!F26*(1-Pressupostos!$B$28) -> 105371.1 | H9: =+DR!G26*(1-Pressupostos!$B$28) -> 135209.21
A10: Depreciações e amortizações | C10: =+DR!B24 -> 16848.003 | D10: =+DR!C24 -> 17167.253 | E10: =+DR!D24 -> 17167.253 | F10: =+DR!E24 -> 19106.63 | G10: =+DR!F24 -> 7945.222 | H10: =+DR!G24 -> 4390.2
A11: Provisões do exercício | C11: =+DR!B25 -> 0 | D11: =+DR!C25 -> 0 | E11: =+DR!D25 -> 0 | F11: =+DR!E25 -> 0 | G11: =+DR!F25 -> 0 | H11: =+DR!G25 -> 0
C12: =SUM(C9:C11) -> -61635.902 | D12: =SUM(D9:D11) -> -30000.941 | E12: =SUM(E9:E11) -> 18093.863 | F12: =SUM(F9:F11) -> 54276.084 | G12: =SUM(G9:G11) -> 113316.32 | H12: =SUM(H9:H11) -> 139599.41
A13: Investim./Desinvest. em Fundo Maneio
A14: Fundo de Maneio | C14: =-FundoManeio!C24 -> -74067.979 | D14: =-FundoManeio!D24 -> -20291.922 | E14: =-FundoManeio!E24 -> -25923.694 | F14: =-FundoManeio!F24 -> -26591.044 | G14: =-FundoManeio!G24 -> -28513.616 | H14: =-FundoManeio!H24 -> -14189.999
A16: CASH FLOW de Exploração | C16: =+SUM(C12:C14) -> -135703.88 | D16: =+SUM(D12:D14) -> -50292.863 | E16: =+SUM(E12:E14) -> -7829.8311 | F16: =+SUM(F12:F14) -> 27685.04 | G16: =+SUM(G12:G14) -> 84802.707 | H16: =+SUM(H12:H14) -> 125409.41
A18: Investim./Desinvest. em Capital Fixo
A19: Capital Fixo | C19: =-Investimento!C29 -> -68176.96 | D19: =-Investimento!D29 -> -1277 | E19: =-Investimento!E29 -> 0 | F19: =-Investimento!F29 -> -21951 | G19: =-Investimento!G29 -> 0 | H19: =-Investimento!H29 -> 0
A21: Free cash-flow | C21: =+C12+C14+C19 -> -203880.84 | D21: =+D12+D14+D19 -> -51569.863 | E21: =+E12+E14+E19 -> -7829.8311 | F21: =+F12+F14+F19 -> 5734.0401 | G21: =+G12+G14+G19 -> 84802.707 | H21: =+H12+H14+H19 -> 125409.41
A23: CASH FLOW acumulado | C23: =+SUM(C21) -> -203880.84 | D23: =+SUM($C$21:D21) -> -255450.7 | E23: =+SUM($C$21:E21) -> -263280.53 | F23: =+SUM($C$21:F21) -> -257546.49 | G23: =+SUM($C$21:G21) -> -172743.79 | H23: =+SUM($C$21:H21) -> -47334.381

Sheet PlanoFinanceiro
G1: Empresa: | H1: =+Pressupostos!E1 -> ALI,Conserva&Limpa, Lda
H2: =+Pressupostos!B9 -> Euros
A4: Plano de Financiamento
C7: =+VN!C8 -> 2011 | D7: =+VN!D8 -> 2012 | E7: =+VN!E8 -> 2013 | F7: =+VN!F8 -> 2014 | G7: =+VN!G8 -> 2015 | H7: =+VN!H8 -> 2016
A8: ORIGENS DE FUNDOS
A9: Meios Libertos Brutos | C9: =+DR!B26+DR!B24+DR!B25 -> -87797.203 | D9: =+DR!C26+DR!C24+DR!C25 -> -45723.672 | E9: =+DR!D26+DR!D24+DR!D25 -> 18402.733 | F9: =+DR!E26+DR!E24+DR!E25 -> 65999.236 | G9: =+DR!F26+DR!F24+DR!F25 -> 148440.02 | H9: =+DR!G26+DR!G24+DR!G25 -> 184669.14
A10: Capital Social (entrada de fundos) | C10: =+Financiamento!C15 -> 100000 | D10: =+Financiamento!D15 -> 0 | E10: =+Financiamento!E15 -> 0 | F10: =+Financiamento!F15 -> 0 | G10: =+Financiamento!G15 -> 0 | H10: =+Financiamento!H15 -> 0
A11: Outros instrumentos de capital | C11: =+Financiamento!C16+Financiamento!C17+Financiamento!C19 -> 19900 | D11: =+Financiamento!D16+Financiamento!D17+Financiamento!D19 -> 90000 | E11: =+Financiamento!E16+Financiamento!E17+Financiamento!E19 -> 0 | F11: =+Financiamento!F16+Financiamento!F17+Financiamento!F19 -> 0 | G11: =+Financiamento!G16+Financiamento!G17+Financiamento!G19 -> 0 | H11: =+Financiamento!H16+Financiamento!H17+Financiamento!H19 -> 0
A12: Empréstimos Obtidos | C12: =+Financiamento!C18 -> 25200 | D12: =+Financiamento!D18 -> 0 | E12: =+Financiamento!E18 -> 8306 | F12: =+Financiamento!F18 -> 0 | G12: =+Financiamento!G18 -> 0 | H12: =+Financiamento!H18 -> 0
A13: Desinvest. em Capital Fixo
A14: Desinvest. em FMN | C14: =+IF(FundoManeio!C24<0,-FundoManeio!C24,0) -> 0 | D14: =+IF(FundoManeio!D24<0,-FundoManeio!D24,0) -> 0 | E14: =+IF(FundoManeio!E24<0,-FundoManeio!E24,0) -> 0 | F14: =+IF(FundoManeio!F24<0,-FundoManeio!F24,0) -> 0 | G14: =+IF(FundoManeio!G24<0,-FundoManeio!G24,0) -> 0 | H14: =+IF(FundoManeio!H24<0,-FundoManeio!H24,0) -> 0
A15: Proveitos Financeiros | C15: =+DR!B27 -> 0 | D15: =+DR!C27 -> 0 | E15: =+DR!D27 -> 0 | F15: =+DR!E27 -> 0 | G15: =+DR!F27 -> 392.03171 | H15: =+DR!G27 -> 4130.4674
A17: Total das Origens | C17: =+SUM(C9:C16) -> 57302.797 | D17: =+SUM(D9:D16) -> 44276.328 | E17: =+SUM(E9:E16) -> 26708.733 | F17: =+SUM(F9:F16) -> 65999.236 | G17: =+SUM(G9:G16) -> 148832.06 | H17: =+SUM(H9:H16) -> 188799.61
A18: APLICAÇÕES DE FUNDOS
A19: Inv. Capital Fixo | C19: =+Investimento!C29 -> 68176.96 | D19: =+Investimento!D29 -> 1277 | E19: =+Investimento!E29 -> 0 | F19: =+Investimento!F29 -> 21951 | G19: =+Investimento!G29 -> 0 | H19: =+Investimento!H29 -> 0
A20: Inv Fundo de Maneio | C20: =+IF(FundoManeio!C24>0,FundoManeio!C24,0) -> 74067.979 | D20: =+IF(FundoManeio!D24>0,FundoManeio!D24,0) -> 20291.922 | E20: =+IF(FundoManeio!E24>0,FundoManeio!E24,0) -> 25923.694 | F20: =+IF(FundoManeio!F24>0,FundoManeio!F24,0) -> 26591.044 | G20: =+IF(FundoManeio!G24>0,FundoManeio!G24,0) -> 28513.616 | H20: =+IF(FundoManeio!H24>0,FundoManeio!H24,0) -> 14189.999
A21: Imposto sobre os Lucros | D21: =+DR!B30 -> 0 | E21: =+DR!C30 -> 0 | F21: =+DR!D30 -> 0 | G21: =+DR!E30 -> 0 | H21: =+DR!F30 -> 0
A22: Pagamento de Dividendos
A23: Reembolso de Empréstimos | C23: =+Financiamento!C98 -> 0 | D23: =+Financiamento!D98 -> 4200 | E23: =+Financiamento!E98 -> 12506 | F23: =+Financiamento!F98 -> 4200 | G23: =+Financiamento!G98 -> 4200 | H23: =+Financiamento!H98 -> 4200
A24: Encargos Financeiros | C24: =+DR!B28 -> 8144.3871 | D24: =+DR!C28 -> 7340.3629 | E24: =+DR!D28 -> 9207.2614 | F24: =+DR!E28 -> 7987.0279 | G24: =+DR!F28 -> 721.0728 | H24: =+DR!G28 -> 480.7152
