Workbook

Sheet Diário de Compras-Vendas
B2: DIÁRIO DE COMPRA E VENDA
B4: Data | C4: Nr. | D4: Descrição | E4: Débito | F4: Crédito | G4: Valor
B6: 30-12-N-1 | D6: Aquisição de Mercadorias | E6: - | F6: 12 | G6: =G7+G8 -> 66420
E7: 2432 | F7: - | G7: =G8*0.23 -> 12420
E8: 311 | F8: - | G8: =18000*3 -> 54000
B9: 30-12-N-1 | D9: Entrada em armazém | E9: 321 | F9: 311 | G9: =G8 -> 54000
B11: 12-03-N | C11: C-1 | D11: Aquisição de mercadorias A Pronto Pagamento (10% de desconto financ.) | E11: - | F11: 12 | G11: =G14+G13-G12 -> 110700
E12: - | F12: 782 | G12: =G14*0.1 -> 10000
E13: 2432.1 | F13: - | G13: =(G14-G12)*0.23 -> 20700 | H13: Tenho dúvidas em relação a este movimento.
E14: 311 | F14: - | G14: =25000*4 -> 100000 | H14: Julgo que os descontos financeiros se aplicam diretamente ao total da fatura, não mexendo no valor do iva
B15: 12-03-N | C15: C-1 | D15: Entrada em armazém | E15: 321 | F15: 311 | G15: =G14 -> 100000
B17: 21-03-N | C17: V-1 | D17: Venda de Mercadorias A Pronto Pagamento (10% de desconto financ.) | E17: 12 | F17: - | G17: =+G19+G20-G18 -> 247968
E18: 682 | F18: - | G18: =0.1*G20 -> 22400
E19: - | F19: 2433.1 | G19: =(G20-G18)*0.23 -> 46368
E20: - | F20: 711 | G20: =28000*8 -> 224000
B21: 21-03-N | C21: V-1 | D21: Saída de armazém | E21: 611 | F21: 321 | G21: ='Ficha de Valorimetria'!H8 -> 100240
B23: 15-09-N | C23: C-1 | D23: Aquisição de Mercadorias A Crédito | E23: - | F23: 2211 | G23: =+G24+G25 -> 44280
E24: 2432.1 | F24: - | G24: =G25*0.23 -> 8280
E25: 311 | F25: - | G25: =12000*3 -> 36000
B26: 15-09-N | C26: C-1 | D26: Entrada em armazém | E26: 321 | F26: 311 | G26: =G25 -> 36000
B28: 20-09-N | C28: C-3 | D28: Oferta de 25 unidades | E28: 6884 | F28: - | G28: =+G29+G30 -> 102.18225
E29: - | F29: 382 | G29: =3.323*25 -> 83.075
E30: - | F30: 2433.2 | G30: =G29*0.23 -> 19.10725
B31: 20-09-N | C31: C-3 | D31: Saída de armazém | E31: 382 | F31: 321 | G31: =G29 -> 83.075
B33: 03-10-N | C33: V-1 | D33: Venda de Mercadorias A Crédito | E33: 2111 | F33: - | G33: =+G34+G35 -> 166050
E34: - | F34: 2433.1 | G34: =0.23*G35 -> 31050
E35: - | F35: 711 | G35: =15000*9 -> 135000
B36: 03-10-N | C36: V-1 | D36: Saída de armazém | E36: 611 | F36: 321 | G36: ='Ficha de Valorimetria'!H11 -> 49844.961
B37: 03-10-N | C37: V-2 | D37: Devolução de 1000 unidades | E37: - | F37: 2111 | G37: =+G38+G39 -> 11070
E38: 2434.1 | F38: - | G38: =G39*0.23 -> 2070
E39: 717 | F39: - | G39: =1000*9 -> 9000
B40: 03-10-N | C40: V-2 | D40: Entrada em armazém | E40: 321 | F40: 611 | G40: ='Ficha de Valorimetria'!E12 -> 3323
B42: 15-12-N | C42: C-1 | D42: Aquisição de Mercadorias A Crédito | E42: - | F42: 2211 | G42: =+G43+G44 -> 180810
E43: 2432.1 | F43: - | G43: =G44*0.23 -> 33810
E44: 311 | F44: - | G44: =42000*3.5 -> 147000 | H44: o desconto comercial não se aplica ao valor das mercadorias?
B45: 15-12-N | C45: C-1 | D45: Desconto comercial de 30% | E45: 2211 | F45: - | G45: =G42*0.3 -> 54243
E46: - | F46: 2434.1 | G46: =G43*0.3 -> 10143
E47: - | F47: 318 | G47: =G44*0.3 -> 44100
B48: 15-12-N | C48: C-1 | D48: Entrada de armazém | E48: 321 | F48: 311 | G48: =G44-G47 -> 102900 | H48: Dividir em 311 e 318, as 31 têm que estar saldadas
B49: N+1 | C49: C-2 | D49: Devolução de 600 unidades | E49: 2211 | F49: - | G49: =+G50+G51 -> 2583
...

Sheet Ficha de Valorimetria
C2: FICHA DE VALORIMETRIA
C4: Entrada | F4: Saídas | I4: Armazém
C5: Quantidade | D5: Preço Unit. | E5: Valor | F5: Quantidade | G5: Preço Unit. | H5: Valor | I5: Quantidade | J5: Preço Unit. | K5: Valor
B6: Situação Inicial | I6: 18000 | J6: 3 | K6: =J6*I6 -> 54000
B7: 12-03-N | C7: 25000 | D7: 4 | E7: =D7*C7 -> 100000 | I7: =I6+C7 -> 43000 | J7: =(K6+E7)/I7 -> 3.5813953 | K7: =J7*I7 -> 154000
B8: 21-03-N | E8: =D8*C8 -> 0 | F8: 28000 | G8: 3.58 | H8: =G8*F8 -> 100240 | I8: =I7-F8 -> 15000 | J8: =J7 -> 3.5813953 | K8: =J8*I8 -> 53720.93
B9: 15-09-N | C9: 12000 | D9: 3 | E9: =D9*C9 -> 36000 | H9: =G9*F9 -> 0 | I9: =I8+C9 -> 27000 | J9: =(K8+E9)/I9 -> 3.3229974 | K9: =J9*I9 -> 89720.93
B10: 20-09-N | E10: =D10*C10 -> 0 | F10: 25 | G10: =J9 -> 3.3229974 | H10: =G10*F10 -> 83.074935 | I10: =I9-F10 -> 26975 | J10: =J9 -> 3.3229974 | K10: =J10*I10 -> 89637.855
B11: 03-10-N | E11: =D11*C11 -> 0 | F11: 15000 | G11: =G10 -> 3.3229974 | H11: =G11*F11 -> 49844.961 | I11: =I10-F11 -> 11975 | J11: =J10 -> 3.3229974 | K11: =J11*I11 -> 39792.894
B12: 03-10-N | C12: 1000 | D12: 3.323 | E12: =D12*C12 -> 3323 | H12: =G12*F12 -> 0 | I12: =I11+C12 -> 12975 | J12: =J11 -> 3.3229974 | K12: =J12*I12 -> 43115.891
B13: 15-12-N | C13: 42000 | D13: 3.5 | E13: =D13*C13 -> 147000 | H13: =G13*F13 -> 0 | I13: =I12+C13 -> 54975 | J13: =(K12+E13)/I13 -> 3.4582245 | K13: =J13*I13 -> 190115.89
B14: 15-12-N (Desconto Comercial) | E14: =D14*C14 -> 0 | G14: 0 | H14: =0.3*E13 -> 44100 | I14: =I13+C14 -> 54975 | J14: =(K13-H14)/I14 -> 2.6560417 | K14: =J14*I14 -> 146015.89 | L14: Descontos não são saídas, mas reduz ao valor das entradas
B15: 15-12-N (Devolução) | E15: =D15*C15 -> 0 | F15: 600 | G15: 3.5 | H15: =G15*F15 -> 2100 | I15: =I14-F15 -> 54375 | J15: =J14 -> 2.6560417 | K15: =J15*I15 -> 144422.27
B16: 18-12-N | E16: =D16*C16 -> 0 | F16: 38000 | G16: =J15 -> 2.6560417 | H16: =G16*F16 -> 100929.58 | I16: =I15-F16 -> 16375 | J16: =J15 -> 2.6560417 | K16: =J16*I16 -> 43492.683
H20: =+H8+H11+H16 -> 251014.55

Sheet Diário de Gastos e Diversos
B2: DIÁRIO DE GASTOS E RESTANTES OPERAÇÕES
B4: Data | C4: Nr. | D4: Descrição | E4: Débito | F4: Crédito | G4: Valor
B6: N | C6: G-1 | D6: Salários (Orgãos Sociais e Pessoal) | E6: 631 | F6: - | G6: 15000
E7: 632 | F7: - | G7: 45000
E8: - | F8: 242.1 | G8: =G6*0.18 -> 2700
E9: - | F9: 242.2 | G9: =G7*0.2 -> 9000
E10: - | F10: 245.1 | G10: =G6*0.1 -> 1500
E11: - | F11: 245.2 | G11: =G7*0.11 -> 4950
E12: - | F12: 231.1 | G12: =G6-G8-G10 -> 10800
E13: - | F13: 231.2 | G13: =G7-G9-G11 -> 31050
B15: N | C15: G-1 | D15: Encargos sobre a remuneração (patronais) | E15: 635.1 | F15: 245.1 | G15: =G6*0.2325 -> 3487.5
E16: 635.2 | F16: 245.2 | G16: =G7*0.2375 -> 10687.5
B18: N | C18: G-2 | D18: Juros (Empréstimo em N-1) | E18: 69.1 | F18: 12.1 | G18: =80000*0.12 -> 9600
B20: N | C20: G-3 | D20: Gasto com comunicação | E20: - | F20: 12 | G20: =250*12 -> 3000
E21: 2432.2 | F21: - | G21: =G22*0.23 -> 560.97561 | H21: A fórmula de cálculo está incorrecta. O valor já tem IVA, logo para calcular a base será (Valor Total / 1,23)= Valor base - erro no cálculo da base
E22: 6262 | F22: - | G22: =G20/1.23 -> 2439.0244
B24: N | C24: G-3 | D24: Gasto com gasolina | E24: 6242 | F24: 12 | G24: =120*12 -> 1440 | H24: iva incluido
B26: N | C26: G-3 | D26: Gasto com material de escritório | E26: - | F26: 12 | G26: =130*12 -> 1560
E27: 2432.2 | F27: - | G27: =G28*0.23 -> 291.70732 | H27: A fórmula de cálculo está incorrecta. O valor já tem IVA, logo para calcular a base será (Valor Total / 1,23)= Valor base - erro no cálculo da base
E28: 6233 | F28: - | G28: =G26/1.23 -> 1268.2927
B30: N | C30: G-3 | D30: Gasto com deslocações e estadias | E30: 6252 | F30: 12 | G30: =160*12 -> 1920
H31: iva incluido
B33: N-1 | D33: Resultados líquido (N-1) | E33: 81 | G33: ='Balanço e Demons. Resultados'!K38 -> 38000
B34: 1-1-N | D34: Resultados transitados | F34: 56 | G34: 38000
B36: 31-3-N | C36: OI-5 | D36: Distribuição de resultados líquidos (38.000€ de N-1) | E36: 56 | F36: - | G36: 38000
E37: - | F37: 551 | G37: =G36*0.05 -> 1900
E38: - | F38: 552 | G38: =G36*0.45 -> 17100
E39: - | F39: 264 | G39: =G36*0.5 -> 19000
B40: 31-3-N | C40: OI-5 | D40: Pagamento de dividendos | E40: 264 | F40: - | G40: =G39 -> 19000
E41: - | F41: 12 | G41: =G40-G42 -> 14915
E42: - | F42: 242 | G42: =G40*0.215 -> 4085
B43: 31-4-N | C43: OI-5 | D43: Entrega de IRS ao Estado | E43: 242 | F43: 12 | G43: =G42 -> 4085
B45: 1-12-N | C45: OP-3 | D45: Subsídio | E45: 12.1 | F45: 28.2 | G45: 5000 | H45: ???subsídio ao investimento? Se sim pelo SNC vai a capital, pelo IFRS vai a diferimento! Não sei qual o normativo que seguem
B47: 31-08-N | C47: OP-1 | D47: Contrato de Leasing | E47: 434 | F47: 25 | G47: =28200*1.23 -> 34686 | H47: EMPRESTIMO
B48: 31-11-N | C48: OP-1 | D48: Pagamento 1ª Renda (Leasing) | E48: - | F48: 12 | G48: =+G49+G50 -> 2950 | H48: Rendas de automóveis o IVA não é dedutível
E49: 25 | F49: - | G49: 1830
E50: 69 | F50: - | G50: 1120
B51: 31-11-N | C51: OP-1 | D51: Pagamento 2ª Renda Antecipada (Leasing) | E51: - | F51: 12 | G51: =(G52+G53+G54) -> 2950
E52: 25 | F52: - | G52: 1830
E53: 6918 | F53: - | G53: =1120/3 -> 373.33333
...

Sheet Diário Op. de Fim de Exercício
B2: DIÁRIO DE FIM DE EXERCÍCIO
B4: Data | C4: Nr. | D4: Descrição | E4: Débito | F4: Crédito | G4: Valor
B6: 31-12-N | C6: OP-1 | D6: Amortização Leasing + ALD | E6: 642 | F6: 438 | G6: =(Operações!AZ26+Operações!AZ25)*0.25 -> 16359
B8: 31-12-N | C8: OP-3 | D8: Subsídios compra viatura comercial (Ganhos deferidos) | E8: 28.2 | F8: 78.83 | G8: =5000/4 -> 1250
B10: 31-12-N | D10: Depreciação Edifício | E10: 642 | F10: 438 | G10: =INFORMAÇÃO!K15*0.05 -> 14250
B11: 31-12-N | D11: Depreciação de Transporte | E11: 642 | F11: 438 | G11: =INFORMAÇÃO!K16*0.25 -> 9375
B12: 31-12-N | D12: Depreciação de Eq. Básico | E12: 642 | F12: 438 | G12: =INFORMAÇÃO!K17*0.1428 -> 8568
B14: 31-12-N | D14: Amortização Patente | E14: 643 | F14: 448 | G14: =INFORMAÇÃO!K21/2 -> 5000
B16: 31-12-N | C16: V-3 | D16: Processo Judicial | E16: 65 | F16: 21.9 | G16: 7000 | H16: PERDA POR IMPARIDADE
B18: 31-12-N | C18: OP-5 | D18: Pagamento da renda do periodo (1/N+1) | E18: - | F18: 12.1 | G18: =G20-G19 -> 835
E19: - | F19: 24.2 | G19: =G20*0.165 -> 165 | H19: em "Diários de gastos e diversos"
E20: 28.1 | F20: - | G20: 1000

Sheet INFORMAÇÃO
A3: 1 | B3: N-1: Ano de constiuição
A5: 2 | B5: Investimentos Financeiros
B7: Participação de 30% na empresa O NAVIO
B8: Adquirida em Janeiro N-1 ao valor nominal
C10: VC Aq.: | D10: 900000 | F10: =+D10*0.3 -> 270000
C11: RLE N-1 | D11: 45000
H13: Amortizações N-1
A14: 3 | B14: Ativo Tangivel | J14: Amortização | K14: VL
C15: Edificio | D15: 300000 | E15: VU: 25ANOS | H15: Código 2020 | J15: =D15*0.05 -> 15000 | K15: =+D15-J15 -> 285000
C16: Eq. Transporte | D16: 50000 | E16: VU: 4 ANOS | H16: Código 2375 | J16: =D16*0.25 -> 12500 | K16: =+D16-J16 -> 37500
C17: Eq. Básico | D17: 70000 | E17: VU: 3 ANOS | H17: Código | J17: 10000 | K17: =+D17-J17 -> 60000
A20: 4 | B20: ATIVO INTANGÍVEL
C21: PATENTE AMORTIZADA EM 3 ANOS | J21: =15000/3 -> 5000 | K21: =15000-J21 -> 10000
J22: =+J15+J16+J17+J21 -> 42500
A23: 5 | B23: Mercadorias
C24: Lote 18000 unidadeas adquiridas em 30/12/N-1 por 3€ | I24: =3*18000 -> 54000

Sheet Apuramento do IVA
B2: APURAMENTO DO IVA
B4: Descrição | C4: Débito | D4: Crédito | E4: Valor
B5: Saldar conta do IVA | C5: - | D5: 2432.1 | E5: ='Diário de Compras-Vendas'!G13+'Diário de Compras-Vendas'!G24+'Diário de Compras-Vendas'!G43 -> 62790
C6: - | D6: 2432.2 | E6: ='Diário de Gastos e Diversos'!G21+'Diário de Gastos e Diversos'!G27 -> 852.68293
C7: - | D7: 2432.3 | E7: =+'Diário de Gastos e Diversos'!G50+'Diário de Gastos e Diversos'!G63 -> 1120
C8: - | D8: 2434.1 | E8: =+'Diário de Compras-Vendas'!G38 -> 2070
C9: - | D9: 2434.2 | E9: =+'Diário de Compras-Vendas'!G58 -> 7429
C10: 2433.1 | D10: - | E10: =+'Diário de Compras-Vendas'!G19+'Diário de Compras-Vendas'!G34+'Diário de Compras-Vendas'!G55 -> 151708
C11: 2433.2 | D11: - | E11: =+'Diário de Compras-Vendas'!G30 -> 19.10725
C12: 2434.1 | D12: - | E12: =+'Diário de Compras-Vendas'!G46 -> 10143
C13: 2434.2 | D13: - | E13: =+'Diário de Compras-Vendas'!G50 -> 483
B14: Apuramento do IVA | C14: 2435 | D14: - | E14: =SUM(E5:E9) -> 74261.683
C15: - | D15: 2435 | E15: =SUM(E10:E13) -> 162353.11
B16: Pagamento a pagar | C16: 2436 | D16: 12.1 | E16: =E15-E14 -> 88091.424

Sheet Operações
C3: 11 | G3: SI | H3: 26000 | I3: 12 | P3: 243 IVA DEDUTIVEL | V3: 31 | W3: COMPRAS | AC3: 318 | AD3: DESC. E DEVOLUÇÕES | AL3: 62 | AS3: 63 | AZ3: 23
G4: =+AE25-AK25+D25 -> 253120 | I4: 21-03-N | J4: 12-03-N | L4: =+P4+W4-X25 -> 113000 | N4: 12-03-N | P4: =+W4*0.23 -> 23000 | Q4: 23000 | U4: 12-03-N | V4: 25000 | W4: =25000*4 -> 100000 | AE4: =+W6*0.3 -> 44100 | AG4: 15-12-N | AL4: ='Diário de Gastos e Diversos'!G22 -> 2439.0244 | AS4: ='Diário de Gastos e Diversos'!G6+'Diário de Gastos e Diversos'!G7+'Diário de Gastos e Diversos'!G15+'Diário de Gastos e Diversos'!G16 -> 74175 | BA4: =+'Diário de Gastos e Diversos'!G12+'Diário de Gastos e Diversos'!G13 -> 41850
G5: 5000 | I5: 1-12-N | J5: 1ªcomercial | L5: ='Diário de Gastos e Diversos'!G48 -> 2950 | N5: 15-09-N | P5: =+W5*0.23 -> 8280 | Q5: 8280 | U5: 15-09-N | V5: 12000 | W5: =3*12000 -> 36000 | AE5: =25*'Ficha de Valorimetria'!J9 -> 83.074935 | AG5: 20-09-N | AL5: ='Diário de Gastos e Diversos'!G24 -> 1440 | AS5: =C57+C58 -> 8571.4286
G6: ='Balanço e Demons. Resultados'!K16 -> 72000 | J6: juros | L6: ='Diário de Gastos e Diversos'!G18 -> 9600 | N6: 15-12-N | P6: =+W6*0.23 -> 33810 | U6: 15-12-N | V6: 42000 | W6: =3.5*42000 -> 147000 | AE6: =600*3.5 -> 2100 | AF6: devolução | AL6: ='Diário de Gastos e Diversos'!G28 -> 1268.2927
G7: 1000 | I7: JUROS | J7: comunicação | L7: ='Diário de Gastos e Diversos'!G20 -> 3000 | N7: Comunicação | P7: =L7/1.23*0.23 -> 560.97561 | Q7: =P7/12*3 -> 140.2439 | AL7: 1920
J8: gasolina | L8: ='Diário de Gastos e Diversos'!G24 -> 1440 | N8: mat. Escritório | P8: =+L9/1.23*0.23 -> 291.70732 | Q8: =+P8/12*3 -> 72.926829 | AL8: ='Diário de Gastos e Diversos'!G62 -> 2980
J9: mat. Escritório | L9: ='Diário de Gastos e Diversos'!G26 -> 1560 | AJ9: SEGUROS | AL9: ='Diário de Gastos e Diversos'!G57 -> 2130.411
J10: deslocaçãoes | L10: 1920 | R10: =+P4+P5+P6+P7+P8-Q4-Q5-Q7-Q8 -> 34449.512 | AS10: 635 | AY10: 79
J11: 2ºprestação | L11: ='Diário de Gastos e Diversos'!G51 -> 2950 | AT11: ='Diário de Gastos e Diversos'!G15+'Diário de Gastos e Diversos'!G16 -> 14175 | AZ11: 1273.88
J12: 1ºald | L12: ='Diário de Gastos e Diversos'!G61 -> 2980
J14: seguros | L14: ='Diário de Gastos e Diversos'!G56 -> 3200
J15: rendas | L15: ='Diário de Gastos e Diversos'!G69 -> 1000
L16: ='Balanço e Demons. Resultados'!K47 -> 62500
L17: ='Balanço e Demons. Resultados'!K50 -> 15000
J18: pessoal | L18: ='Diário de Gastos e Diversos'!G13+'Diário de Gastos e Diversos'!G12-C57-C58 -> 33278.571
J19: SS | L19: =I51 -> 14732.141
J20: IRS | L20: =I42-J43 -> 10500.06
J21: iva pago | L21: =+E29+J26-I26-I27-R10 -> 61410.595
C24: 243 IVA liquidado | H24: 243 IVA REGULARIZAÇÕES | P24: 22 | R24: SI | S24: 62500 | W24: 78 desc. Fin | AD24: vendas | AK24: 68 | AR24: 69 | AZ24: 434
C25: 51520 | D25: =AE25*0.23 -> 51520 | F25: 21-03-N | J25: =+AE4*0.23 -> 10143 | L25: 15-12-N | Q25: =+P5+W5 -> 44280 | S25: 15-09-N | X25: =W4*0.1 -> 10000 | Z25: 12-03-N | AE25: =28000*8 -> 224000 | AG25: 21-03-N | AI25: 21-03-N | AK25: =AE25*0.1 -> 22400 | AR25: ='Diário de Gastos e Diversos'!G18 -> 9600 | AZ25: =S46 -> 34686
D26: =AE26*0.23 -> 31050 | F26: 3-10-N | G26: 3-10-N | I26: =AD38*0.23 -> 2070 | J26: =AE5*0.23 -> 19.107235 | L26: 20-09-N | N26: 15-12-N | P26: =+J25+AE4 -> 54243 | Q26: =+W6+P6-J25-AE4 -> 126567 | S26: 15-12-N | AE26: =15000*9 -> 135000 | AG26: 3-10-N | AI26: 20-09-N | AK26: =+AE5+J26 -> 102.18217 | AP26: 1ºprestação | AR26: ='Diário de Gastos e Diversos'!G50 -> 1120 | AZ26: ='Diário de Gastos e Diversos'!G60 -> 30750
D27: =AE27*0.23 -> 74290 | F27: 18-12-N | G27: 18-12-N | I27: =AL38*0.23 -> 7429 | P27: 62500 | AE27: =38000*8.5 -> 323000 | AG27: 18-12-N | AP27: 2ºPRESTAÇÃO | AR27: ='Diário de Gastos e Diversos'!G53 -> 373.33333
E29: =+D25+D26+D27-C25 -> 105340 | I29: 19.1
I30: 10143 | J30: 2070
K31: =J25 -> 10143
N37: SI | O37: 72000 | P37: 21 | W37: 219 | AD37: 717 | AL37: 718DESCONTOS
I38: 242 | N38: 3-10-N | P38: =+D26+AE26 -> 166050 | Q38: =I26+AD38 -> 11070 | S38: 3-10-N | W38: 7000 | X38: 7000 | AB38: 3-10-N | AD38: =1000*9 -> 9000 | AJ38: 18-12-N | AL38: =AE27*0.1 -> 32300
J39: =AZ11*0.215 -> 273.8842 | N39: 18-12-N | P39: =+AE27+D41 -> 323000 | Q39: =+I27+AL38 -> 39729 | S39: 18-12-N
J40: ='Diário de Gastos e Diversos'!G71 -> 197.604 | Q40: 7000
J41: ='Diário de Gastos e Diversos'!G8+'Diário de Gastos e Diversos'!G9 -> 11700 | Q41: 72000
I42: =+J39+J40+J41 -> 12171.488
J43: =+C61+C62 -> 1671.4286
W44: 65
P45: 25 | W45: 7000
N46: ='Diário de Gastos e Diversos'!G49 -> 1830 | P46: 1ªrenda | Q46: 31/08/N | S46: ='Diário de Gastos e Diversos'!G47 -> 34686
N47: ='Diário de Gastos e Diversos'!G52 -> 1830 | P47: 2ºrenda
I50: 245 | AL50: 61
I51: =17678.57-D57-D58 -> 14732.141 | J51: ='Diário de Gastos e Diversos'!G10+'Diário de Gastos e Diversos'!G11+'Diário de Gastos e Diversos'!G15+'Diário de Gastos e Diversos'!G16-D57-D58 -> 17678.571
P52: 281 | R52: GASTOS | W52: 282 | Y52: PROVEITOS
N53: 2ºrenda | P53: ='Diário de Gastos e Diversos'!G54 -> 746.66667 | X53: 5000 | Z53: 1-12-N
...

Sheet Balanço e Demons. Resultados
H2: BALANÇO EM 31 DE DEZEMBRO DE N
B3: Conta | D3: Rendimentos e Gastos | E3: Notas | F3: ANO N | H3: RUBRICAS | I3: NOTAS | J3: PERIODO
B4: Pos | C4: Neg | J4: N | K4: N-1
B5: 71/72 | D5: Vendas e serviços prestados | F5: =224000+135000+323000-32300-9000 -> 640700 | H5: ACTIVO
B6: 75 | D6: Subsídios à exploração | F6: 0
B7: 73 | D7: Variação de Inventários na produção | F7: 0 | H7: Activo não corrente
B8: 74 | D8: Trabalhos para a própria entidade | F8: 0 | H8: Investimento Financeiro | J8: =270000+F17 -> 284773.88 | K8: 270000
C9: 61 | D9: Custo das mercadorias vendidas e das matérias consumidas | F9: =-'Ficha de Valorimetria'!H8-'Ficha de Valorimetria'!H11-'Ficha de Valorimetria'!H16 -> -251014.55 | H9: Activos fixos tangíveis | J9: =420000+Operações!AZ25+Operações!AZ26 -> 485436 | K9: 420000
C10: 62 | D10: Fornecimentos e serviços externos | F10: =-2439.02-1440-1268.29-1920-2980-2130.41 -> -12177.72 | H10: Activos intangíveis | J10: 15000 | K10: 15000
C11: 63 | D11: Gastos com pessoal | F11: =-74175-8571-14175-713-2234 -> -99868 | H11: Amortizações Acumuladas | J11: =K11-'Diário Op. de Fim de Exercício'!G10-'Diário Op. de Fim de Exercício'!G11-'Diário Op. de Fim de Exercício'!G12-'Diário Op. de Fim de Exercício'!G14-'Diário Op. de Fim de Exercício'!G6 -> -96052 | K11: =-42500 -> -42500
B12: 7622 | C12: 652 | D12: Ajustamentos de inventários (perdas/reversões) | F12: 0 | J12: =SUM(J8:J11) -> 689157.88 | K12: =SUM(K8:K11) -> 662500
B13: 7621 | C13: 651 | D13: Imparidade de dívidas a receber (perdas/reversões) | F13: =-Operações!W45 -> -7000
B14: 763 | C14: 67 | D14: Provisões (aumentos/reduções) | F14: 0 | H14: Activo Corrente
B15: 7623/8 | C15: 653/8 | D15: Imparidade de activos não depreciáveis / amortizáveis (perdas/reversões) | F15: 0 | H15: Inventários | J15: ='Ficha de Valorimetria'!K16 -> 43492.683 | K15: 54000
B16: 77 | C16: 66 | D16: Aumentos / Reduções de justo valor | F16: 0 | H16: Clientes | J16: =Operações!O37+Operações!P38+Operações!P39-Operações!Q38-Operações!Q39-Operações!Q41 -> 438251 | K16: 72000
B17: 78 | D17: Outros rendimentos e ganhos | F17: =45000*0.3+1273.88 -> 14773.88 | H17: Estados e outros entes públicos
C18: 68 | D18: Outros gastos e perdas | F18: =-22400-102.18 -> -22502.18 | H18: Accionistas/sócios
D19: Resultado antes de depreciações, gastos de financiamento e impostos | F19: =SUM(F$5:F$18) -> 262911.43 | H19: Outras contas a receber
H20: Diferimentos | J20: =Operações!P53+Operações!P54+Operações!P55 -> 3013.8557
B21: 761 | C21: 64 | D21: Gastos / reversões de depreciação e de amortização | F21: =-'Diário Op. de Fim de Exercício'!G6-'Diário Op. de Fim de Exercício'!G10-'Diário Op. de Fim de Exercício'!G11-'Diário Op. de Fim de Exercício'!G12-'Diário Op. de Fim de Exercício'!G14 -> -53552 | H21: Imparidades Acumuladas | J21: =-2000-Operações!Q40-5500 -> -14500 | K21: =-5500-2000 -> -7500
D22: Resultado operacional (antes de gastos de financiamento e impostos) | F22: =SUM(F$19:F$21) -> 209359.43 | H22: Caixa e depósitos bancários | J22: =Operações!H3+Operações!G4+Operações!G5+Operações!G6+Operações!G7-Operações!L4-Operações!L5-Operações!L6-Operações!L7-Operações!L8-Operações!L9-Operações!L10-Operações!L11-Operações!L12-Operações!L14-Operações!L15-Operações!L16-Operações!L17-Operações!L18-Operações!L19-Operações!L20-Operações!L21 -> 16098.632 | K22: 26000
B24: 79 | D24: Juros e rendimentos similares obtidos | F24: 10000 | H24: Total do activo | J24: =SUM(J12:J23) -> 1175514.1 | K24: =SUM(K12:K23) -> 807000
C25: 69 | D25: Juros e gastos similares suportados | F25: =-9600-1120-373.33 -> -11093.33
D26: Resultado antes de impostos | F26: =SUM(F$22:F$25) -> 208266.1 | H26: CAPITAL PRÓPRIO E PASSIVO
C28: 812 | D28: Impostos sobre o rendimento do periodo | F28: =(F26*-0.25) -> -52066.526 | H28: Capital próprio
D29: Resultado liquido do periodo | F29: =SUM(F$26:F$28) -> 156199.58
H30: Capital realizado | J30: 600000 | K30: 600000
H31: Prémios de emissão
H32: Reservas legais | J32: =10000+38000*0.05 -> 11900 | K32: 10000
H33: Outras reservas | J33: =38000*0.45 -> 17100
H34: Resultados transitados
H35: Excedentes de revalorização
H36: Outras variações no capital próprio
H38: Resultado líquido do período | J38: =F29 -> 156199.58 | K38: 38000
H39: Total do capital próprio | J39: =SUM(J30:J38) -> 785199.58 | K39: =SUM(K30:K38) -> 648000
H40: PASSIVO
H41: Passivo não corrente
H42: Accionistas
H43: Financiamentos obtidos | J43: =80000+Operações!S46-Operações!N46-Operações!N47 -> 111026 | K43: 80000
H44: Outras contas a pagar
...
