Workbook

Sheet Diário de Compras-Vendas
B2: DIÁRIO DE COMPRA E VENDA
B4: Data | C4: Nr. | D4: Descrição | E4: Débito | F4: Crédito | G4: Valor
B6: 30-12-N-1 | D6: Aquisição de Mercadorias | E6: - | F6: 12.1 | G6: =G7+G8 -> 66420
E7: 24.32 | F7: - | G7: =G8*0.23 -> 12420
E8: 31.1 | F8: - | G8: =18000*3 -> 54000
B9: 30-12-N-1 | D9: Entrada em armazém | E9: 32.1 | F9: 31.1 | G9: =G8 -> 54000
B11: 12-03-N | C11: C-1 | D11: Aquisição de mercadorias A Pronto Pagamento (10% de desconto financ.) | E11: - | F11: 12.1 | G11: =G14+G13-G12 -> 110700
E12: - | F12: 78.2 | G12: =G14*0.1 -> 10000
E13: 24.32.1 | F13: - | G13: =(G14-G12)*0.23 -> 20700
E14: 31.1 | F14: - | G14: =25000*4 -> 100000
B15: 12-03-N | C15: C-1 | D15: Entrada em armazém | E15: 32.1 | F15: 31.1 | G15: =G14 -> 100000
B17: 21-03-N | C17: V-1 | D17: Venda de Mercadorias A Pronto Pagamento (10% de desconto financ.) | E17: 12.1 | F17: - | G17: =+G19+G20-G18 -> 247968
E18: 68.2 | F18: - | G18: =0.1*G20 -> 22400
E19: - | F19: 24.33.1 | G19: =(G20-G18)*0.23 -> 46368
E20: - | F20: 71.1 | G20: =28000*8 -> 224000
B21: 21-03-N | C21: V-1 | D21: Saída de armazém | E21: 61.1 | F21: 32.1 | G21: ='Ficha de Valorimetria'!H8 -> 100279.07
B23: 15-09-N | C23: C-1 | D23: Aquisição de Mercadorias A Crédito | E23: - | F23: 22.11 | G23: =+G24+G25 -> 44280
E24: 24.32.1 | F24: - | G24: =G25*0.23 -> 8280
E25: 31.1 | F25: - | G25: =12000*3 -> 36000
B26: 15-09-N | C26: C-1 | D26: Entrada em armazém | E26: 32.1 | F26: 31.1 | G26: =G25 -> 36000
B28: 20-09-N | C28: C-3 | D28: Oferta de 25 unidades | E28: 68.84 | F28: - | G28: =+G29+G30 -> 102.18225
E29: - | F29: 38.2 | G29: =3.323*25 -> 83.075
E30: - | F30: 24.33.2 | G30: =G29*0.23 -> 19.10725
B31: 20-09-N | C31: C-3 | D31: Saída de armazém | E31: 38.2 | F31: 32.1 | G31: =G29 -> 83.075
B33: 03-10-N | C33: V-1 | D33: Venda de Mercadorias A Crédito | E33: 21.11 | F33: - | G33: =+G34+G35 -> 166050
E34: - | F34: 24.33.1 | G34: =0.23*G35 -> 31050
E35: - | F35: 71.1 | G35: =15000*9 -> 135000
B36: 03-10-N | C36: V-1 | D36: Saída de armazém | E36: 61.1 | F36: 32.1 | G36: ='Ficha de Valorimetria'!H11 -> 49844.961
B37: 03-10-N | C37: V-2 | D37: Devolução de 1000 unidades | E37: - | F37: 21.11 | G37: =+G38+G39 -> 11070
E38: 24.34.1 | F38: - | G38: =G39*0.23 -> 2070
E39: 71.7 | F39: - | G39: =1000*9 -> 9000
B40: 03-10-N | C40: V-2 | D40: Entrada em armazém | E40: 32.1 | F40: 61.1 | G40: ='Ficha de Valorimetria'!E12 -> 3323
B42: 15-12-N | C42: C-1 | D42: Aquisição de Mercadorias A Crédito | E42: - | F42: 22.11 | G42: =+G43+G44 -> 180810
E43: 24.32.1 | F43: - | G43: =G44*0.23 -> 33810
E44: 31.1 | F44: - | G44: =42000*3.5 -> 147000
B45: 15-12-N | C45: C-1 | D45: Desconto comercial de 30% | E45: 22.11 | F45: - | G45: =G42*0.3 -> 54243
E46: - | F46: 24.34.1 | G46: =G43*0.3 -> 10143
E47: - | F47: 31.8 | G47: =G44*0.3 -> 44100
B48: 15-12-N | C48: C-1 | D48: Entrada de armazém | E48: 32.1 | F48: 31.1 | G48: =G44-G47 -> 102900
B49: N+1 | C49: C-2 | D49: Devolução de 600 unidades | E49: 22.11 | F49: - | G49: =+G50+G51 -> 2583
...

Sheet Diário de Gastos e Diversos
B2: DIÁRIO DE GASTOS E RESTANTES OPERAÇÕES
B4: Data | C4: Nr. | D4: Descrição | E4: Débito | F4: Crédito | G4: Valor
B6: N | C6: G-1 | D6: Salários (Orgãos Sociais e Pessoal) | E6: 63.1 | F6: - | G6: 15000
E7: 63.2 | F7: - | G7: 45000
E8: - | F8: 24.21 | G8: =G6*0.18 -> 2700
E9: - | F9: 24.22 | G9: =G7*0.2 -> 9000
E10: - | F10: 24.51 | G10: =G6*0.1 -> 1500
E11: - | F11: 24.52 | G11: =G7*0.11 -> 4950
E12: - | F12: 23.11 | G12: =G6-G8-G10 -> 10800
E13: - | F13: 23.12 | G13: =G7-G9-G11 -> 31050
B15: N | C15: G-1 | D15: Encargos sobre a remuneração (patronais) | E15: 63.51 | F15: 24.51 | G15: =G6*0.2325 -> 3487.5
E16: 63.52 | F16: 24.52 | G16: =G7*0.2375 -> 10687.5
B18: N | C18: G-2 | D18: Juros (Empréstimo em N-1) | E18: 69.1 | F18: 12.1 | G18: 9600
B20: N | C20: G-3 | D20: Gasto com comunicação | E20: - | F20: 12.1 | G20: =250*12 -> 3000
E21: 24.32.2 | F21: - | G21: =G20-G22 -> 560.97561
E22: 62.62 | F22: - | G22: =G20/1.23 -> 2439.0244
B24: N | C24: G-3 | D24: Gasto com gasolina | E24: 62.42 | F24: 12.1 | G24: =120*12*1.23 -> 1771.2
B26: N | C26: G-3 | D26: Gasto com material de escritório | E26: - | F26: 12.1 | G26: =130*12 -> 1560
E27: 24.32.2 | F27: - | G27: =G26-G28 -> 291.70732
E28: 62.33 | F28: - | G28: =G26/1.23 -> 1268.2927
B30: N | C30: G-3 | D30: Gasto com deslocações e estadias | E30: 62.52 | F30: 12.1 | G30: =160*12*1.23 -> 2361.6
B33: N-1 | D33: Resultados líquido (N-1) | E33: - | F33: 81 | G33: 38000
B34: 1-1-N | D34: Resultados transitados | E34: 81 | F34: 56 | G34: 38000
B36: 31-3-N | C36: OI-5 | D36: Distribuição de resultados líquidos (38.000€ de N-1) | E36: 56 | F36: - | G36: 38000
E37: - | F37: 55.1 | G37: =G36*0.05 -> 1900
E38: - | F38: 55.2 | G38: =G36*0.45 -> 17100
E39: - | F39: 26.4 | G39: =G36*0.5 -> 19000
B40: 31-3-N | C40: OI-5 | D40: Pagamento de dividendos | E40: 26.4 | F40: - | G40: =G39 -> 19000
E41: - | F41: 12.1 | G41: =G40-G42 -> 14915
E42: - | F42: 24.2 | G42: =G40*0.215 -> 4085
B43: 31-4-N | C43: OI-5 | D43: Entrega de IRS ao Estado | E43: 24.2 | F43: 12.1 | G43: =G42 -> 4085
B45: 1-12-N | C45: OP-3 | D45: Subsídio | E45: 12.1 | F45: 75.1 | G45: 5000
B47: 31-08-N | C47: OP-1 | D47: Contrato de Leasing | E47: 43.4 | F47: 27.1 | G47: =28200 -> 28200
B48: 31-11-N | C48: OP-1 | D48: Pagamento 1ª Renda (Leasing) | E48: - | F48: 12.1 | G48: =+G49+G50 -> 3628.5
E49: 27.1 | F49: - | G49: 2950
E50: 24.32.3 | F50: - | G50: =G49*0.23 -> 678.5
B52: 31-08-N | C52: G-4 | D52: Pagamento Seguro | E52: 62.63 | F52: 12.1 | G52: 3200
B54: 01-12-N | C54: OP-2 | D54: Pagamento de Rendas (ALD) | E54: - | F54: 12.1 | G54: =+G55+G56 -> 3665.4
E55: 62.61 | F55: - | G55: 2980
E56: 24.32.3 | F56: - | G56: =G55*0.23 -> 685.4
...

Sheet Diário Op. de Fim de Exercício
B2: DIÁRIO DE FIM DE EXERCÍCIO
B4: Data | C4: Nr. | D4: Descrição | E4: Débito | F4: Crédito | G4: Valor
B6: 31-12-N | C6: OP-1 | D6: Amortização Leasing | E6: 64.2 | F6: 43.8 | G6: =(28200-1410)/4 -> 6697.5
B8: 31-12-N | C8: OP-3 | D8: Subsídios compra viatura comercial (Ganhos deferidos) | E8: 28.2 | F8: 78.83 | G8: =5000/4 -> 1250
B10: 31-12-N | D10: Depreciação Edifício | E10: 64.2 | F10: 43.8 | G10: =300000/25 -> 12000
B11: 31-12-N | D11: Depreciação de Transporte | E11: 64.2 | F11: 43.8 | G11: =50000/4 -> 12500
B12: 31-12-N | D12: Depreciação de Eq. Básico | E12: 64.2 | F12: 43.8 | G12: =70000/3 -> 23333.333
B14: 31-12-N | D14: Amortização Patente | E14: 64.3 | F14: 44.8 | G14: =15000/3 -> 5000
B16: 31-12-N | C16: V-3 | D16: Processo Judicial | E16: 65.1 | F16: 21.9 | G16: 7000
B18: 31-12-N | C18: OP-5 | D18: Pagamento da renda do periodo (1/N+1) | E18: - | F18: 12.1 | G18: =G20-G19 -> 835
E19: - | F19: 24.2 | G19: =G20*0.165 -> 165
E20: 28.1 | F20: - | G20: 1000
B22: 31-12-N | D22: Reversão de imparidade | E22: 32.9 | F22: 76.22 | G22: 5500
B24: 31-12-N | D24: Seguro | E24: 28.1 | F24: 62.63 | G24: =(3200*8)/12 -> 2133.3333
B26: 31-12-N | C26: OP-1 | D26: Pagamento 2ª Renda antecipada (Leasing) | E26: - | F26: 12.1 | G26: =(G27+G28+G29)*1.23 -> 3628.5
E27: 27.1 | F27: - | G27: 1830
E28: 69.18 | F28: - | G28: =1120/3 -> 373.33333
E29: 28.1 | F29: - | G29: =1120-G28 -> 746.66667
B31: 31-12-N | C31: OP-2 | D31: Renda antecipada (ALD) | E31: - | F31: 12.1 | G31: 2980
E32: 28.1 | F32: - | G32: =G31*(2/3) -> 1986.6667
E33: 27.1 | F33: - | G33: =(G31)*(1/3) -> 993.33333
B35: 31-12-N | D35: Resultado líquidos da empresa "O Navio" | E35: 41.21 | F35: 78.71 | G35: =45000*0.3 -> 13500

Sheet Balanço e Demons. Resultados
B2: DEMONSTRAÇÃO DE RESULTADOS | H2: BALANÇO
B4: Conta | D4: Rendimentos e Gastos | E4: Notas | F4: ANO N | H4: RUBRICAS | I4: NOTAS | J4: PERIODO
B5: Pos | C5: Neg | J5: N | K5: N-1
B6: 71/72 | D6: Vendas e serviços prestados | F6: =('Diário de Compras-Vendas'!G20+'Diário de Compras-Vendas'!G35-'Diário de Compras-Vendas'!G39+'Diário de Compras-Vendas'!G56-'Diário de Compras-Vendas'!G59) -> 640700 | H6: ACTIVO
B7: 75 | D7: Subsídios à exploração | F7: 5000
B8: 73 | D8: Variação de Inventários na produção | F8: 0 | H8: Activo não corrente
B9: 74 | D9: Trabalhos para a própria entidade | F9: 0 | H9: Investimento Financeiro | J9: =270000+45000*0.3 -> 283500 | K9: 270000
C10: 61 | D10: Custo das mercadorias vendidas e das matérias consumidas | F10: =-'Ficha de Valorimetria'!H8-'Ficha de Valorimetria'!H11-'Ficha de Valorimetria'!H16 -> -251053.61 | H10: Activos fixos tangíveis | J10: =420000+28000 -> 448000 | K10: 420000 | N10: Cliente | O10: D | P10: C
C11: 62 | D11: Fornecimentos e serviços externos | F11: =('Diário de Gastos e Diversos'!G22+'Diário de Gastos e Diversos'!G24+'Diário de Gastos e Diversos'!G28+'Diário de Gastos e Diversos'!G30+'Diário de Gastos e Diversos'!G52+'Diário de Gastos e Diversos'!G55)*-1 -> -14020.117 | H11: Activos intangíveis | J11: 15000 | K11: 15000 | O11: =+'Diário de Compras-Vendas'!G33-'Diário de Compras-Vendas'!G37+'Diário de Compras-Vendas'!G54-'Diário de Compras-Vendas'!G57 -> 512541 | P11: =('Diário de Compras-Vendas'!G23+'Diário de Compras-Vendas'!G42-'Diário de Compras-Vendas'!G45-'Diário de Compras-Vendas'!G49) -> 168264
C12: 63 | D12: Gastos com pessoal | F12: =(60000+'Diário de Gastos e Diversos'!G15+'Diário de Gastos e Diversos'!G16)*-1 -> -74175 | H12: Amortizações Acumuladas | J12: =(-42500+F22) -> -102030.83 | K12: =-42500 -> -42500
B13: 7622 | C13: 652 | D13: Ajustamentos de inventários (perdas/reversões) | F13: 5500 | J13: =SUM(J9:J12) -> 644469.17 | K13: =SUM(K9:K12) -> 662500 | O13: =O11-P11 -> 344277
B14: 7621 | C14: 651 | D14: Imparidade de dívidas a receber (perdas/reversões) | F14: 7000
B15: 763 | C15: 67 | D15: Provisões (aumentos/reduções) | F15: 0 | H15: Activo Corrente
B16: 7623/8 | C16: 653/8 | D16: Imparidade de activos não depreciáveis / amortizáveis (perdas/reversões) | F16: 0 | H16: Inventários | J16: ='Ficha de Valorimetria'!K16 -> 43492.683 | K16: 54000
B17: 77 | C17: 66 | D17: Aumentos / Reduções de justo valor | F17: 0 | H17: Clientes | J17: =O13 -> 344277 | K17: 72000
B18: 78 | D18: Outros rendimentos e ganhos | F18: =45000*0.3 -> 13500 | H18: Estados e outros entes públicos
C19: 68 | D19: Outros gastos e perdas | F19: ='Diário de Compras-Vendas'!G28*-1 -> -102.18225 | H19: Accionistas/sócios | J19: =38000*0.5*-1 -> -19000
D20: Resultado antes de depreciações, gastos de financiamento e impostos | F20: =SUM(F$6:F$19) -> 332349.09 | H20: Outras contas a receber | J20: ='Diário de Gastos e Diversos'!G47-'Diário de Gastos e Diversos'!G49-'Diário Op. de Fim de Exercício'!G27*-1 -> 27080
H21: Diferimentos | J21: =(+'Diário Op. de Fim de Exercício'!G32+'Diário Op. de Fim de Exercício'!G29+'Diário Op. de Fim de Exercício'!G24+'Diário Op. de Fim de Exercício'!G20)-'Diário Op. de Fim de Exercício'!G8 -> 4616.6667 | O21: D | P21: C
B22: 761 | C22: 64 | D22: Gastos / reversões de depreciação e de amortização | F22: =('Diário Op. de Fim de Exercício'!G6+'Diário Op. de Fim de Exercício'!G10+'Diário Op. de Fim de Exercício'!G11+'Diário Op. de Fim de Exercício'!G12+'Diário Op. de Fim de Exercício'!G14)*-1 -> -59530.833 | H22: Imparidades Acumuladas | J22: =(7000)*-1-2000 -> -9000 | K22: =-7500 -> -7500 | O22: 12.1 | P22: 12.1
D23: Resultado operacional (antes de gastos de financiamento e impostos) | F23: =SUM(F$20:F$22) -> 272818.25 | H23: Caixa e depósitos bancários | J23: =26000+P28 -> 117011 | K23: 26000 | N23: Mercadorias | O23: =+'Diário de Compras-Vendas'!G17 -> 247968 | P23: ='Diário de Compras-Vendas'!G11 -> 110700
N24: Gastos | O24: =('Diário de Gastos e Diversos'!G62+'Diário de Gastos e Diversos'!G58+'Diário de Gastos e Diversos'!G45) -> 78000 | P24: ='Diário de Gastos e Diversos'!G18+'Diário de Gastos e Diversos'!G20+'Diário de Gastos e Diversos'!G24+'Diário de Gastos e Diversos'!G26+'Diário de Gastos e Diversos'!G30+'Diário de Gastos e Diversos'!G48+'Diário de Gastos e Diversos'!G54+'Diário de Gastos e Diversos'!G65+'Diário de Gastos e Diversos'!G68 -> 103086.7
B25: 79 | D25: Juros e rendimentos similares obtidos | F25: 1000 | H25: Total do activo | J25: =SUM(J13:J24) -> 1152946.5 | K25: =SUM(K13:K24) -> 807000 | N25: OP | P25: ='Diário Op. de Fim de Exercício'!G18+'Diário Op. de Fim de Exercício'!G26+'Diário Op. de Fim de Exercício'!G31 -> 7443.5
C26: 69 | D26: Juros e gastos similares suportados | F26: =('Diário de Gastos e Diversos'!G18+'Diário Op. de Fim de Exercício'!G28)*-1-'Diário Op. de Fim de Exercício'!G28 -> -10346.667
D27: Resultado antes de impostos | F27: =SUM(F$23:F$26) -> 263471.59 | H27: CAPITAL PRÓPRIO E PASSIVO | O27: =+O23*(0.9)+O24 -> 301171.2 | P27: =+P23*0.9+P24+P25 -> 210160.2
P28: =O27-P27 -> 91011
C29: 812 | D29: Impostos sobre o rendimento do periodo (IRC 25%) | F29: =(F27*-0.25) -> -65867.896 | H29: Capital próprio
D30: Resultado liquido do periodo | F30: =SUM(F$27:F$29) -> 197603.69
H31: Capital realizado | J31: 600000 | K31: 600000
H32: Prémios de emissão
H33: Reservas legais | J33: =10000+38000*0.05 -> 11900 | K33: 10000
F34: =J55-J25 -> -54502.406 | H34: Outras reservas | J34: =38000*0.45 -> 17100
H35: Resultados transitados
H36: Excedentes de revalorização
H37: Outras variações no capital próprio
K38: 38000
H39: Resultado líquido do período | J39: =F30 -> 197603.69
H40: Total do capital próprio | J40: =SUM(J31:J39) -> 826603.69 | K40: =SUM(K31:K39) -> 648000
H41: PASSIVO
H42: Passivo não corrente
...

Sheet Apuramento do IVA
B2: APURAMENTO DO IVA
B4: Descrição | C4: Débito | D4: Crédito | E4: Valor
B5: Saldar conta do IVA | C5: - | D5: 24.32.1 | E5: ='Diário de Compras-Vendas'!G13+'Diário de Compras-Vendas'!G24+'Diário de Compras-Vendas'!G43 -> 62790
C6: - | D6: 24.32.2 | E6: ='Diário de Gastos e Diversos'!G21+'Diário de Gastos e Diversos'!G27 -> 852.68293
C7: - | D7: 24.32.3 | E7: =+'Diário de Gastos e Diversos'!G50+'Diário de Gastos e Diversos'!G56 -> 1363.9
C8: - | D8: 24.34.1 | E8: =+'Diário de Compras-Vendas'!G38 -> 2070
C9: - | D9: 24.34.2 | E9: =+'Diário de Compras-Vendas'!G58 -> 7429
C10: 24.33.1 | D10: - | E10: =+'Diário de Compras-Vendas'!G19+'Diário de Compras-Vendas'!G34+'Diário de Compras-Vendas'!G55 -> 151708
C11: 24.33.2 | D11: - | E11: =+'Diário de Compras-Vendas'!G30 -> 19.10725
C12: 24.34.1 | D12: - | E12: =+'Diário de Compras-Vendas'!G46 -> 10143
C13: 24.34.2 | D13: - | E13: =+'Diário de Compras-Vendas'!G50 -> 483
B14: Apuramento do IVA | C14: 24.35 | D14: - | E14: =SUM(E5:E9) -> 74505.583
C15: - | D15: 24.35 | E15: =SUM(E10:E13) -> 162353.11
B16: Pagamento a realizar | C16: 24.36 | D16: 12.1 | E16: =E15-E14 -> 87847.524

Sheet Ficha de Valorimetria
C2: FICHA DE VALORIMETRIA
C4: Entrada | F4: Saídas | I4: Armazém
C5: Quantidade | D5: Preço Unit. | E5: Valor | F5: Quantidade | G5: Preço Unit. | H5: Valor | I5: Quantidade | J5: Preço Unit. | K5: Valor
B6: Situação Inicial | I6: 18000 | J6: 3 | K6: =J6*I6 -> 54000
B7: 12-03-N | C7: 25000 | D7: 4 | E7: =D7*C7 -> 100000 | I7: =I6+C7 -> 43000 | J7: =(K6+E7)/I7 -> 3.5813953 | K7: =J7*I7 -> 154000
B8: 21-03-N | E8: =D8*C8 -> 0 | F8: 28000 | G8: =J7 -> 3.5813953 | H8: =G8*F8 -> 100279.07 | I8: =I7-F8 -> 15000 | J8: =J7 -> 3.5813953 | K8: =J8*I8 -> 53720.93
B9: 15-09-N | C9: 12000 | D9: 3 | E9: =D9*C9 -> 36000 | H9: =G9*F9 -> 0 | I9: =I8+C9 -> 27000 | J9: =(K8+E9)/I9 -> 3.3229974 | K9: =J9*I9 -> 89720.93
B10: 20-09-N | E10: =D10*C10 -> 0 | F10: 25 | G10: =J9 -> 3.3229974 | H10: =G10*F10 -> 83.074935 | I10: =I9-F10 -> 26975 | J10: =J9 -> 3.3229974 | K10: =J10*I10 -> 89637.855
B11: 03-10-N | E11: =D11*C11 -> 0 | F11: 15000 | G11: =G10 -> 3.3229974 | H11: =G11*F11 -> 49844.961 | I11: =I10-F11 -> 11975 | J11: =J10 -> 3.3229974 | K11: =J11*I11 -> 39792.894
B12: 03-10-N | C12: 1000 | D12: 3.323 | E12: =D12*C12 -> 3323 | H12: =G12*F12 -> 0 | I12: =I11+C12 -> 12975 | J12: =J11 -> 3.3229974 | K12: =J12*I12 -> 43115.891
B13: 15-12-N | C13: 42000 | D13: 3.5 | E13: =D13*C13 -> 147000 | H13: =G13*F13 -> 0 | I13: =I12+C13 -> 54975 | J13: =(K12+E13)/I13 -> 3.4582245 | K13: =J13*I13 -> 190115.89
B14: 15-12-N (Desconto Comercial) | E14: =D14*C14 -> 0 | G14: 0 | H14: =0.3*E13 -> 44100 | I14: =I13+C14 -> 54975 | J14: =(K13-H14)/I14 -> 2.6560417 | K14: =J14*I14 -> 146015.89
B15: 15-12-N (Devolução) | E15: =D15*C15 -> 0 | F15: 600 | G15: =J13 -> 3.4582245 | H15: =G15*F15 -> 2074.9347 | I15: =I14-F15 -> 54375 | J15: =J14 -> 2.6560417 | K15: =J15*I15 -> 144422.27
B16: 18-12-N | E16: =D16*C16 -> 0 | F16: 38000 | G16: =J14 -> 2.6560417 | H16: =G16*F16 -> 100929.58 | I16: =I15-F16 -> 16375 | J16: =J15 -> 2.6560417 | K16: =J16*I16 -> 43492.683
