Workbook

Sheet 1
O1: www.xpto.cv
P2: =TODAY() -> 41228
B4: OBJETIVO ESTRATÉGICO | F4: COMPETÊNCIAS E DESENVOLVIMENTO DOS R.H | L4: PERSPECTIVA DO BSC | O4: APREND. E CRESC.
B5: NÚMERO DO INDICADOR | F5: 1 | L5: TIPO DO INDICADOR | O5: EFICÁCIA
B6: NOME DO INDICADOR | F6: COMPETÊNCIA DOS FUNCIONÁRIOS | L6: REPRESENTAÇÃO | O6: CF
B7: SPONSOR DO OBJETIVO | F7: EUNICE PINA (DIR. DE RECURSOS HUMANOS) | L7: QUEM MEDE | O7: SARA CORREIA
B8: PERIODICIDADE DA MEDIÇÃO | F8: TRIMESTRAL | L8: INÍCIO DA MEDIÇÃO | O8: 01.03.2013
B10: EQUAÇÃO | J10: Faixa | K10: Mín | L10: Máx | M10: Cor
J11: Ruim | K11: 0 | L11: 50 | M11: Red
J12: Regular | K12: > 50 | L12: 70 | M12: Yellow
J13: Bom | K13: > 70 | L13: 90 | M13: Blue
J14: Ótimo | K14: > 90 | L14: 100 | M14: Green
B16: OBSERVAÇÕES
B17: Este indicador mede a competência dos funcionários conforme
B18: adequação a matriz de competência desenvolvida para cada fun-
B19: ção.
B20: Quanto maior o valor da medida, melhor.
B24: NÚMERO DA MEDIÇÃO | I24: 2013 | J24: =I24+1 -> 2014 | K24: =J24+1 -> 2015 | L24: =K24+1 -> 2016 | M24: =L24+1 -> 2017 | N24: =M24+1 -> 2018 | O24: =N24+1 -> 2019 | P24: =O24+1 -> 2020 | Q24: ÚLTIMA MED.
B25: DATA DA MEDIÇÃO | I25: 41364 | J25: 41455 | K25: 41182 | L25: 41639 | M25: 41729 | N25: 41820 | O25: 41912 | P25: 42004
B26: SIMB. | C26: SIGNIFICADO | I26: MEDIÇÕES
B27: SCFn | C27: SOMAT. DAS COMPETÊNCIAS DOS FUNCIONÁRIOS | I27: 170 | J27: 175 | K27: 183 | L27: 196 | Q27: =IF(P27<>"",P27,IF(O27<>"",O27,IF(N27<>"",N27,IF(M27<>"",M27,IF(L27<>"",L27,IF(K27<>"",K27,IF(J27<>"",J27,IF(I27<>"",I27,"")))))))) -> 196
B28: TF | C28: TOTAL DE FUNCIONÁRIOS ENVOLVIDOS | I28: 250 | J28: 250 | K28: 250 | L28: 250 | Q28: =IF(P28<>"",P28,IF(O28<>"",O28,IF(N28<>"",N28,IF(M28<>"",M28,IF(L28<>"",L28,IF(K28<>"",K28,IF(J28<>"",J28,IF(I28<>"",I28,"")))))))) -> 250
B29: - | C29: - | Q29: =IF(P29<>"",P29,IF(O29<>"",O29,IF(N29<>"",N29,IF(M29<>"",M29,IF(L29<>"",L29,IF(K29<>"",K29,IF(J29<>"",J29,IF(I29<>"",I29,""))))))))
B30: - | C30: - | Q30: =IF(P30<>"",P30,IF(O30<>"",O30,IF(N30<>"",N30,IF(M30<>"",M30,IF(L30<>"",L30,IF(K30<>"",K30,IF(J30<>"",J30,IF(I30<>"",I30,""))))))))
B31: CF | C31: COMPETÊNCIA DOS FUNCIONÁRIOS | I31: =(I27/I28)*100 -> 68 | J31: =(J27/J28)*100 -> 70 | K31: =(K27/K28)*100 -> 73.2 | L31: =(L27/L28)*100 -> 78.4 | Q31: =IF(P31<>"",P31,IF(O31<>"",O31,IF(N31<>"",N31,IF(M31<>"",M31,IF(L31<>"",L31,IF(K31<>"",K31,IF(J31<>"",J31,IF(I31<>"",I31,"")))))))) -> 78.4
B32: OAC | C32: OBJETIVOS (METAS) A CUMPRIR | I32: 80 | J32: 80 | K32: 85 | L32: 85 | M32: 85 | N32: 87 | O32: 87 | P32: 90 | Q32: -
B34: ITEM | C34: PROJECTOS ESTRUTURADORES E INICIATIVAS | L34: PRAZO | M34: RESPONSÁVEL | P34: SITUAÇÃO

Sheet 2
O1: www.xpto.cv
P2: =TODAY() -> 41228
B4: OBJETIVO ESTRATÉGICO | F4: CERTIFICAR E MAXIMIZAR A QUALIDADE | L4: PERSPECTIVA DO BSC | O4: PROCESSOS INTERNOS
B5: NÚMERO DO INDICADOR | F5: 2 | L5: TIPO DO INDICADOR | O5: EFICÁCIA
B6: NOME DO INDICADOR | F6: PROCESSOS APRIMORADOS | L6: REPRESENTAÇÃO | O6: CQ
B7: SPONSOR DO OBJETIVO | F7: ANDREIA OLIVEIRA (GERENDE DE PROCESSOS) | L7: QUEM MEDE | O7: SARA CORREIA
B8: PERIODICIDADE DA MEDIÇÃO | F8: TRIMESTRAL | L8: INÍCIO DA MEDIÇÃO | O8: 01.03.2013
B10: EQUAÇÃO | J10: Faixa | K10: Mín | L10: Máx | M10: Cor
J11: Ruim | K11: 0 | L11: 55 | M11: Red
J12: Regular | K12: > 50 | L12: 70 | M12: Yellow
J13: Bom | K13: > 70 | L13: 90 | M13: Blue
J14: Ótimo | K14: > 90 | L14: 100 | M14: Green
B16: OBSERVAÇÕES
B17: Este indicador mede a quantidade dos produtos
B19: Processos alcançar o ISSO 2000
B21: Quanto maior o valor da medida, melhor.
B24: NÚMERO DA MEDIÇÃO | I24: 1 | J24: 2 | K24: 3 | L24: 4 | M24: 5 | N24: 6 | O24: 7 | P24: 8 | Q24: ÚLTIMA MED.
B25: DATA DA MEDIÇÃO | I25: 41364 | J25: 41455 | K25: 41182 | L25: 41639 | M25: 41729 | N25: 41820 | O25: 41912 | P25: 42004
B26: SIMB. | C26: SIGNIFICADO | I26: MEDIÇÕES
B27: NPA | C27: NÚMERO DE PROCESSOS APRIMORADOS | I27: 15 | J27: 20 | K27: 25 | L27: 30 | Q27: =IF(P27<>"",P27,IF(O27<>"",O27,IF(N27<>"",N27,IF(M27<>"",M27,IF(L27<>"",L27,IF(K27<>"",K27,IF(J27<>"",J27,IF(I27<>"",I27,"")))))))) -> 30
B28: NPC | C28: NÚMERO DE PROCESSOS CRÍTICOS | I28: 5 | J28: 3 | K28: 2.9 | L28: 1 | Q28: =IF(P28<>"",P28,IF(O28<>"",O28,IF(N28<>"",N28,IF(M28<>"",M28,IF(L28<>"",L28,IF(K28<>"",K28,IF(J28<>"",J28,IF(I28<>"",I28,"")))))))) -> 1
B29: - | C29: - | Q29: =IF(P29<>"",P29,IF(O29<>"",O29,IF(N29<>"",N29,IF(M29<>"",M29,IF(L29<>"",L29,IF(K29<>"",K29,IF(J29<>"",J29,IF(I29<>"",I29,""))))))))
B30: - | C30: - | Q30: =IF(P30<>"",P30,IF(O30<>"",O30,IF(N30<>"",N30,IF(M30<>"",M30,IF(L30<>"",L30,IF(K30<>"",K30,IF(J30<>"",J30,IF(I30<>"",I30,""))))))))
B31: PA | C31: AUMENTO DA QUALIDADE DOS PRODUTOS | I31: 95 | J31: 96 | K31: 97 | L31: 100 | Q31: =IF(P31<>"",P31,IF(O31<>"",O31,IF(N31<>"",N31,IF(M31<>"",M31,IF(L31<>"",L31,IF(K31<>"",K31,IF(J31<>"",J31,IF(I31<>"",I31,"")))))))) -> 100
B32: OAC | C32: OBJETIVOS (METAS) A CUMPRIR | I32: 80 | J32: 85 | K32: 86 | L32: 100 | Q32: -
B34: ITEM | C34: PROJECTOS ESTRUTURADORES E INICIATIVAS | L34: PRAZO | M34: RESPONSÁVEL | P34: SITUAÇÃO

Sheet 3
O1: www.xpto.cv
P2: =TODAY() -> 41228
B4: OBJETIVO ESTRATÉGICO | F4: SATISFAZER OS CLIENTES | L4: PERSPECTIVA DO BSC | O4: CLIENTES
B5: NÚMERO DO INDICADOR | F5: 3 | L5: TIPO DO INDICADOR | O5: EFETIVIDADE
B6: NOME DO INDICADOR | F6: SATISFAÇÃO DOS CLIENTES | L6: REPRESENTAÇÃO | O6: SC
B7: SPONSOR DO OBJETIVO | F7: JACQUELINE MORREIRA | L7: QUEM MEDE | O7: IVÂNIO RODRIGUES
B8: PERIODICIDADE DA MEDIÇÃO | F8: TRIMESTRAL | L8: INÍCIO DA MEDIÇÃO | O8: 01.03.2013
B10: EQUAÇÃO | J10: Faixa | K10: Mín | L10: Máx | M10: Cor
J11: Ruim | K11: 0 | L11: 65 | M11: Red
J12: Regular | K12: > 50 | L12: 80 | M12: Yellow
J13: Bom | K13: > 70 | L13: 90 | M13: Blue
J14: Ótimo | K14: > 90 | L14: 100 | M14: Green
B16: OBSERVAÇÕES
B17: Este indicador refere-se a média das respostas da pesquisa de
B18: satisfação realizada com uma amostra de clientes.
B19: Quanto maior o valor da medida, melhor.
B24: NÚMERO DA MEDIÇÃO | I24: 2013 | J24: =I24+1 -> 2014 | K24: =J24+1 -> 2015 | L24: =K24+1 -> 2016 | M24: =L24+1 -> 2017 | N24: =M24+1 -> 2018 | O24: =N24+1 -> 2019 | P24: =O24+1 -> 2020 | Q24: ÚLTIMA MED.
B25: DATA DA MEDIÇÃO | I25: 41364 | J25: 41455 | K25: 41182 | L25: 41639 | M25: 41729 | N25: 41820 | O25: 41912 | P25: 42004
B26: SIMB. | C26: SIGNIFICADO | I26: MEDIÇÕES
B27: SRPS | C27: SOMAT. DAS RESP. DA PESQUISA DE SATISFAÇÃO | I27: 3620 | J27: 3830 | K27: 4100 | L27: 4150 | Q27: =IF(P27<>"",P27,IF(O27<>"",O27,IF(N27<>"",N27,IF(M27<>"",M27,IF(L27<>"",L27,IF(K27<>"",K27,IF(J27<>"",J27,IF(I27<>"",I27,"")))))))) -> 4150
B28: NCP | C28: NÚMERO DE CLIENTES PESQUISADOS | I28: 50 | J28: 50 | K28: 50 | L28: 50 | Q28: =IF(P28<>"",P28,IF(O28<>"",O28,IF(N28<>"",N28,IF(M28<>"",M28,IF(L28<>"",L28,IF(K28<>"",K28,IF(J28<>"",J28,IF(I28<>"",I28,"")))))))) -> 50
B29: - | C29: - | Q29: =IF(P29<>"",P29,IF(O29<>"",O29,IF(N29<>"",N29,IF(M29<>"",M29,IF(L29<>"",L29,IF(K29<>"",K29,IF(J29<>"",J29,IF(I29<>"",I29,""))))))))
B30: - | C30: - | Q30: =IF(P30<>"",P30,IF(O30<>"",O30,IF(N30<>"",N30,IF(M30<>"",M30,IF(L30<>"",L30,IF(K30<>"",K30,IF(J30<>"",J30,IF(I30<>"",I30,""))))))))
B31: SC | C31: SATIFAÇÃO DOS CLIENTES | I31: 90 | J31: 95 | K31: 97 | L31: 98 | M31: 100 | N31: 100 | O31: 100 | P31: 100 | Q31: =IF(P31<>"",P31,IF(O31<>"",O31,IF(N31<>"",N31,IF(M31<>"",M31,IF(L31<>"",L31,IF(K31<>"",K31,IF(J31<>"",J31,IF(I31<>"",I31,"")))))))) -> 100
B32: OAC | C32: OBJETIVOS (METAS) A CUMPRIR | I32: 81 | J32: 82 | K32: 85 | L32: 98 | M32: 98 | N32: 98 | O32: 98 | P32: 98 | Q32: -
B34: ITEM | C34: PROJETOS ESTRUTURADORES E INICIATIVAS | L34: PRAZO | M34: RESPONSÁVEL | P34: SITUAÇÃO

Sheet 4
O1: www.xpto.cv
P2: =TODAY() -> 41228
B4: OBJETIVO ESTRATÉGICO | F4: AUMENTAR O LUCRO LÍQUIDO | L4: PERSPECTIVA DO BSC | O4: FINANCEIRA
B5: NÚMERO DO INDICADOR | F5: 4 | L5: TIPO DO INDICADOR | O5: EFICÁCIA
B6: NOME DO INDICADOR | F6: LUCRO LÍQUIDO/ CRESCIMENTO DOS PROVEITOS | L6: REPRESENTAÇÃO | O6: LL
B7: SPONSOR DO OBJETIVO | F7: ANDREIA OLIVEIRA | L7: QUEM MEDE | O7: EUNICE PINA
B8: PERIODICIDADE DA MEDIÇÃO | F8: TRIMESTRAL | L8: INÍCIO DA MEDIÇÃO | O8: 01.03.2013
B10: EQUAÇÃO | J10: Faixa | K10: Mín | L10: Máx | M10: Cor
J11: Ruim | K11: 0 | L11: 15 | M11: Red
J12: Regular | K12: > 50 | L12: 20 | M12: Yellow
J13: Bom | K13: > 70 | L13: 25 | M13: Blue
J14: Ótimo | K14: > 90 | L14: 30 | M14: Green
B16: OBSERVAÇÕES
B17: Este indicador mede o aumento do lúcro líquido em relação ao lu-
B18: cro líquido do período anterior.
B19: Quanto maior o valor da medida, melhor.
B24: NÚMERO DA MEDIÇÃO | I24: 2013 | J24: =I24+1 -> 2014 | K24: =J24+1 -> 2015 | L24: =K24+1 -> 2016 | M24: =L24+1 -> 2017 | N24: =M24+1 -> 2018 | O24: =N24+1 -> 2019 | P24: =O24+1 -> 2020 | Q24: ÚLTIMA MED.
B25: DATA DA MEDIÇÃO | I25: 41364 | J25: 41455 | K25: 41182 | L25: 41639 | M25: 41729 | N25: 41820 | O25: 41912 | P25: 42004
B26: SIMB. | C26: SIGNIFICADO | I26: MEDIÇÕES
B27: LLAT | C27: LUCRO LÍQUIDO ATUAL (X 1.000) | I27: 1070 | J27: 1242 | K27: 1477 | L27: 1780 | Q27: =IF(P27<>"",P27,IF(O27<>"",O27,IF(N27<>"",N27,IF(M27<>"",M27,IF(L27<>"",L27,IF(K27<>"",K27,IF(J27<>"",J27,IF(I27<>"",I27,"")))))))) -> 1780
B28: LLAN | C28: LUCRO LÍQUIDO ANTERIOR (X 1.000) | I28: 930 | J28: 1070 | K28: 1242 | L28: 1477 | Q28: =IF(P28<>"",P28,IF(O28<>"",O28,IF(N28<>"",N28,IF(M28<>"",M28,IF(L28<>"",L28,IF(K28<>"",K28,IF(J28<>"",J28,IF(I28<>"",I28,"")))))))) -> 1477
B29: - | C29: - | Q29: =IF(P29<>"",P29,IF(O29<>"",O29,IF(N29<>"",N29,IF(M29<>"",M29,IF(L29<>"",L29,IF(K29<>"",K29,IF(J29<>"",J29,IF(I29<>"",I29,""))))))))
B30: - | C30: - | Q30: =IF(P30<>"",P30,IF(O30<>"",O30,IF(N30<>"",N30,IF(M30<>"",M30,IF(L30<>"",L30,IF(K30<>"",K30,IF(J30<>"",J30,IF(I30<>"",I30,""))))))))
B31: LL | C31: AUMENTO DO LUCRO LÍQUIDO( EM CONTOS) | I31: =((I27-I28)/I28)*100 -> 15.053763 | J31: =((J27-J28)/J28)*100 -> 16.074766 | K31: =((K27-K28)/K28)*100 -> 18.921095 | L31: =((L27-L28)/L28)*100 -> 20.514557 | Q31: =IF(P31<>"",P31,IF(O31<>"",O31,IF(N31<>"",N31,IF(M31<>"",M31,IF(L31<>"",L31,IF(K31<>"",K31,IF(J31<>"",J31,IF(I31<>"",I31,"")))))))) -> 20.514557
B32: OAC | C32: OBJETIVOS (METAS) A CUMPRIR | I32: 5 | J32: 10 | K32: 12 | L32: 12 | M32: 15 | N32: 18 | O32: 20 | P32: 25 | Q32: -
B34: ITEM | C34: PROJETOS ESTRUTURADORES E INICIATIVAS | L34: PRAZO | M34: RESPONSÁVEL | P34: SITUAÇÃO

Sheet Parâmetros Gráficos
A1: YOUR LOGO
B2: YOUR LOGO
A4: INDICADOR | B4: 1 | C4: 2 | D4: =C4+1 -> 3 | E4: 4
A6: MÁXIMOS DA CATEGORIA
A7: Ruim | B7: ='1'!$L$11 -> 50 | C7: ='2'!$L$11 -> 55 | D7: ='3'!$L$11 -> 65 | E7: ='4'!$L$11 -> 15
A8: Regular | B8: ='1'!$L$12 -> 70 | C8: ='2'!$L$12 -> 70 | D8: ='3'!$L$12 -> 80 | E8: ='4'!$L$12 -> 20
A9: Bom | B9: ='1'!$L$13 -> 90 | C9: ='2'!$L$13 -> 90 | D9: ='3'!$L$13 -> 90 | E9: ='4'!$L$13 -> 25
A10: Ótimo | B10: ='1'!$L$14 -> 100 | C10: ='2'!$L$14 -> 100 | D10: ='3'!$L$14 -> 100 | E10: ='4'!$L$14 -> 30
A11: Última Medição | B11: ='1'!$Q$31 -> 78.4 | C11: ='2'!$Q$31 -> 100 | D11: ='3'!$Q$31 -> 100 | E11: ='4'!$Q$31 -> 20.514557
A12: AMPLITUDE DO MOSTRADOR
A13: Oculto (ΣAMP) | B13: =SUM(B14:B17) -> 100 | C13: =SUM(C14:C17) -> 100 | D13: =SUM(D14:D17) -> 100 | E13: =SUM(E14:E17) -> 30
A14: Ruim | B14: =ABS(B7) -> 50 | C14: =ABS(C7) -> 55 | D14: =ABS(D7) -> 65 | E14: =ABS(E7) -> 15
A15: Regular | B15: =ABS(B8 - B7) -> 20 | C15: =ABS(C8 - C7) -> 15 | D15: =ABS(D8 - D7) -> 15 | E15: =ABS(E8 - E7) -> 5
A16: Bom | B16: =ABS(B9 - B8) -> 20 | C16: =ABS(C9 - C8) -> 20 | D16: =ABS(D9 - D8) -> 10 | E16: =ABS(E9 - E8) -> 5
A17: Ótimo | B17: =ABS(B10 - B9) -> 10 | C17: =ABS(C10 - C9) -> 10 | D17: =ABS(D10 - D9) -> 10 | E17: =ABS(E10 - E9) -> 5
A18: PONTEIRO
A19: Ponteiro Base X | B19: 0 | C19: 0 | D19: 0 | E19: 0
A20: Ponteiro Base Y | B20: =- COS(PI() * ABS(B11 / B13)) -> 0.7784623 | C20: =- COS(PI() * ABS(C11 / C13)) -> 1 | D20: =- COS(PI() * ABS(D11 / D13)) -> 1 | E20: =- COS(PI() * ABS(E11 / E13)) -> 0.54591683
A21: Ponteiro Extremidade X | B21: 0 | C21: 0 | D21: 0 | E21: 0
A22: Ponteiro Extremidade Y | B22: =SIN(PI() * ABS(B11 / B13)) -> 0.62769136 | C22: =SIN(PI() * ABS(C11 / C13)) -> 1.2251485e-16 | D22: =SIN(PI() * ABS(D11 / D13)) -> 1.2251485e-16 | E22: =SIN(PI() * ABS(E11 / E13)) -> 0.83783937

Sheet Cockpit
AS1: www.xpto.cv
AW2: =TODAY() -> 41228
