Workbook

Sheet Privado
I2: 2012 | J2: 2013 | K2: Diferença
G3: Salário Base | I3: =+D9 -> 0 | J3: =+E9 -> 0 | K3: =+J3-I3 -> 0
G4: Segurança Social | I4: =+Calculos_prv!B14 -> 0 | J4: =+Calculos_prv!C14 -> 0 | K4: =+J4-I4 -> 0
G5: IRS | H5: Taxa | I5: =+Calculos_prv!B15 -> 0 | J5: =+Calculos_prv!C15 -> 0 | K5: =+J5-I5 -> 0
G6: IRS | H6: Valor | I6: =+Calculos_prv!B16 -> 0 | J6: =+Calculos_prv!C16 -> 0 | K6: =+J6-I6 -> 0
G7: Sobretaxa IRS | I7: =+Calculos_prv!B18 -> 0 | J7: =+Calculos_prv!C18 -> 0 | K7: =+J7-I7 -> 0
D8: 2012 | E8: 2013 | G8: Total de descontos | I8: =+I4+I6+I7 -> 0 | J8: =+J4+J6+J7 -> 0 | K8: =+J8-I8 -> 0
B9: Salário Base | D9: 0 | E9: 0 | G9: Valor a receber | I9: =+Calculos_prv!B19 -> 0 | J9: =+Calculos_prv!C19 -> 0 | K9: =+J9-I9 -> 0
B10: Subsídio alimentação | D10: 0 | E10: 0
B11: Cartão Refeição | D11: 0 | E11: 0 | G11: Duodécimo do subsídio | I11: =+Calculos_prv!B22 -> 0 | J11: =+Calculos_prv!C22 -> 0 | K11: =+J11-I11 -> 0
B12: subsídio por duodécimos | D12: 0 | E12: 0 | G12: Segurança Social | I12: =+Calculos_prv!B23 -> 0 | J12: =+Calculos_prv!C23 -> 0 | K12: =+J12-I12 -> 0
B13: Estado Civil | D13: 0 | E13: 0 | G13: IRS | H13: Taxa | I13: =+Calculos_prv!B24 -> 0 | J13: =+Calculos_prv!C24 -> 0
B14: Nº de filhos | D14: 0 | E14: 0 | G14: IRS | H14: Valor | I14: =+Calculos_prv!B25 -> 0 | J14: =+Calculos_prv!C25 -> 0 | K14: =+J14-I14 -> 0
G15: Sobretaxa IRS | I15: =+Calculos_prv!B27 -> 0 | J15: =+Calculos_prv!C27 -> 0 | K15: =+J15-I15 -> 0
G16: Total de descontos | I16: =+I12+I14+I15 -> 0 | J16: =+J12+J14+J15 -> 0 | K16: =+J16-I16 -> 0
G17: Valor a receber | I17: =+Calculos_prv!B28 -> 0 | J17: =+Calculos_prv!C28 -> 0 | K17: =+J17-I17 -> 0
G19: Remuneração Mensal | I19: =+I3+I11 -> 0 | J19: =+J3+J11 -> 0 | K19: =+J19-I19 -> 0
G20: Segurança Social | I20: =+I4+I12 -> 0 | J20: =+J4+J12 -> 0 | K20: =+J20-I20 -> 0
G21: IRS | I21: =+I6+I14 -> 0 | J21: =+J6+J14 -> 0 | K21: =+J21-I21 -> 0
G22: Sobretaxa IRS | I22: =+I7+I15 -> 0 | J22: =+J7+J15 -> 0 | K22: =+J22-I22 -> 0
G23: Total de descontos | I23: =+I8+I16 -> 0 | J23: =+J8+J16 -> 0 | K23: =+J23-I23 -> 0
G24: Valor a receber | I24: =+I9+I17 -> 0 | J24: =+J9+J17 -> 0 | K24: =+J24-I24 -> 0

Sheet Calculos_prv
B1: 2012 | C1: 2013
A2: Salario Minimo | B2: 485 | C2: 485
A3: TSU | B3: 0.11 | C3: 0.11
A4: Sobretaxa | C4: 0.035
A5: Subsídio Alimentação | B5: =ROUND(4.27*1.2,2)*22 -> 112.64 | C5: =4.27*22 -> 93.94
A6: Subsídio Alimentação ticket | B6: =ROUND(4.27*1.6,2)*22 -> 150.26 | C6: =ROUND(4.27*1.6,2)*22 -> 150.26
A9: Subsídio de alimentação | B9: =+Privado!D10 -> 0 | C9: =+Privado!E10 -> 0
A10: Subsidio de alimentacao limite | B10: =IF(Privado!D11=0,Calculos_prv!B5,Calculos_prv!B6) -> 112.64 | C10: =IF(Privado!E11=0,Calculos_prv!C5,Calculos_prv!C6) -> 93.94
A11: Subsidio Alimentação sujeito | B11: =IF(+B9-B10>0,B9-B10,0) -> 0 | C11: =IF(+C9-C10>0,B9-C10,0) -> 0
A12: Salario Sujeito | B12: =+Privado!D9+Calculos_prv!B11 -> 0 | C12: =+Privado!E9+Calculos_prv!C11 -> 0
A13: Salario Isento | B13: =+B9-B11 -> 0 | C13: =+C9-C11 -> 0
A14: TSU | B14: =ROUND(B12*B3,2) -> 0 | C14: =ROUND(C12*C3,2) -> 0
A15: IRS taxa | B15: =VLOOKUP(B12,IF(Privado!D13=0,'2012'!B10:H47,IF(Privado!D13=1,'2012'!B58:H93,'2012'!B105:H142)),IF(Privado!D14<5,Privado!D14+2,7)) -> 0 | C15: =VLOOKUP(C12,IF(Privado!E13=0,'2013'!B10:H47,IF(Privado!E13=1,'2013'!B58:H94,'2013'!B106:H143)),IF(Privado!E14<5,Privado!E14+2,7)) -> 0
A16: IRS Valor | B16: =FLOOR(B12*B15,1) -> 0 | C16: =FLOOR(C12*C15,1) -> 0
A17: Salario antes sobretaxa | B17: =+B12-B14-B16 -> 0 | C17: =+C12-C14-C16 -> 0
A18: Sobretaxa | C18: =ROUND(IF(C17>C2,(C17-C2)*C4,0),2) -> 0
A19: Valor Líquido | B19: =+B12+B13-B14-B16-B18 -> 0 | C19: =+C12+C13-C14-C16-C18 -> 0
A22: Salario Sujeito | B22: =IF(Privado!D12=0,0,ROUND(Privado!D9/12,2)) -> 0 | C22: =IF(Privado!E12=0,0,ROUND(Privado!E9/12,2)) -> 0
A23: TSU | B23: =ROUND(B22*B3,2) -> 0 | C23: =ROUND(C22*C3,2) -> 0
A24: IRS taxa | B24: =VLOOKUP(Privado!D12,IF(Privado!D13=0,'2012'!B10:H47,IF(Privado!D13=1,'2012'!B58:H93,'2012'!B105:H142)),IF(Privado!D14<5,Privado!D14+2,7)) -> 0 | C24: =VLOOKUP(Privado!E12,IF(Privado!E13=0,'2013'!B10:H47,IF(Privado!E13=1,'2013'!B58:H94,'2013'!B106:H143)),IF(Privado!E14<5,Privado!E14+2,7)) -> 0
A25: IRS Valor | B25: =FLOOR(B22*B24,1) -> 0 | C25: =FLOOR(C22*C24,1) -> 0
A26: Salario antes sobretaxa | B26: =+B22-B23-B25 -> 0 | C26: =+C22-C23-C25 -> 0
A27: Sobretaxa | C27: =ROUND(IF(C26>C2/12,(C26-C2/12)*C4),2) -> 0
A28: Valor Líquido | B28: =+B22-B23-B25-B27 -> 0 | C28: =+C22-C23-C25-C27 -> 0

Sheet Publico
I2: 2012 | J2: 2013 | K2: Diferença | O2: 2012 | P2: 2013 | Q2: Diferença
G3: Salário Base | I3: =+Calculos_pub!B9 -> 0 | J3: =+Calculos_pub!C9 -> 0 | K3: =+J3-I3 -> 0 | M3: Subsídio de férias | O3: =+Calculos_pub!B28 -> 0 | P3: =+Calculos_pub!C28 -> 0 | Q3: =+P3-O3 -> 0
G4: Segurança Social | I4: =+Calculos_pub!B11 -> 0 | J4: =+Calculos_pub!C11 -> 0 | K4: =+J4-I4 -> 0 | M4: Segurança Social | O4: =+Calculos_pub!B29 -> 0 | P4: =+Calculos_pub!C29 -> 0 | Q4: =+P4-O4 -> 0
G5: IRS | H5: Taxa | I5: =+Calculos_pub!B12 -> 0 | J5: =+Calculos_pub!C12 -> 0 | K5: =+J5-I5 -> 0 | M5: IRS | N5: Taxa | O5: =+Calculos_pub!B30 -> 0 | P5: =+Calculos_pub!C30 -> 0 | Q5: =+P5-O5 -> 0
G6: IRS | H6: Valor | I6: =+Calculos_pub!B13 -> 0 | J6: =+Calculos_pub!C13 -> 0 | K6: =+J6-I6 -> 0 | M6: IRS | N6: Valor | O6: =+Calculos_pub!B31 -> 0 | P6: =+Calculos_pub!C31 -> 0 | Q6: =+P6-O6 -> 0
G7: Sobretaxa IRS | I7: =+Calculos_pub!B15 -> 0 | J7: =+Calculos_pub!C15 -> 0 | K7: =+J7-I7 -> 0 | M7: Sobretaxa IRS | O7: =+Calculos_pub!B33 -> 0 | P7: =+Calculos_pub!C33 -> 0 | Q7: =+P7-O7 -> 0
D8: 2012 | E8: 2013 | G8: Total de descontos | I8: =+I4+I6+I7 -> 0 | J8: =+J4+J6+J7 -> 0 | K8: =+J8-I8 -> 0 | M8: Total de descontos | O8: =+O4+O6+O7 -> 0 | P8: =+P4+P6+P7 -> 0 | Q8: =+P8-O8 -> 0
B9: Salário Base | D9: 0 | E9: 0 | G9: Valor a receber | I9: =+Calculos_pub!B16 -> 93.94 | J9: =+Calculos_pub!C16 -> 93.94 | K9: =+J9-I9 -> 0 | M9: Valor a receber | O9: =+Calculos_pub!B34 -> 0 | P9: =+Calculos_pub!C34 -> 0 | Q9: =+P9-O9 -> 0
B10: Estado Civil | D10: 0 | E10: 0
B11: Nº de filhos | D11: 0 | E11: 0 | G11: Duodécimo do subsídio | I11: =+Calculos_pub!B19 -> 0 | J11: =+Calculos_pub!C19 -> 0 | K11: =+J11-I11 -> 0
G12: Segurança Social | I12: =+Calculos_pub!B20 -> 0 | J12: =+Calculos_pub!C20 -> 0 | K12: =+J12-I12 -> 0
G13: IRS | H13: Taxa | I13: =+Calculos_pub!B21 -> 0 | J13: =+Calculos_pub!C21 -> 0
G14: IRS | H14: Valor | I14: =+Calculos_pub!B22 -> 0 | J14: =+Calculos_pub!C22 -> 0 | K14: =+J14-I14 -> 0
G15: Sobretaxa IRS | I15: =+Calculos_pub!B24 -> 0 | J15: =+Calculos_pub!C24 -> 0 | K15: =+J15-I15 -> 0
G16: Total de descontos | I16: =+I12+I14+I15 -> 0 | J16: =+J12+J14+J15 -> 0 | K16: =+J16-I16 -> 0
G17: Valor a receber | I17: =+Calculos_pub!B25 -> 0 | J17: =+Calculos_pub!C25 -> 0 | K17: =+J17-I17 -> 0
G19: Remuneração Mensal | I19: =+I3+I11 -> 0 | J19: =+J3+J11 -> 0 | K19: =+J19-I19 -> 0
G20: Segurança Social | I20: =+I4+I12 -> 0 | J20: =+J4+J12 -> 0 | K20: =+J20-I20 -> 0
G21: IRS | I21: =+I6+I14 -> 0 | J21: =+J6+J14 -> 0 | K21: =+J21-I21 -> 0
G22: Sobretaxa IRS | I22: =+I7+I15 -> 0 | J22: =+J7+J15 -> 0 | K22: =+J22-I22 -> 0
G23: Total de descontos | I23: =+I8+I16 -> 0 | J23: =+J8+J16 -> 0 | K23: =+J23-I23 -> 0
G24: Valor a receber | I24: =+I9+I17 -> 93.94 | J24: =+J9+J17 -> 93.94 | K24: =+J24-I24 -> 0

Sheet Calculos_pub
B1: 2012 | C1: 2013
A2: Salario Minimo | B2: 485 | C2: 485
A3: TSU | B3: =11%+0.015 -> 0.125 | C3: =11%+0.015 -> 0.125
A4: Sobretaxa | C4: 0.035
A5: Subsídio Alimentação | B5: =ROUND(4.27*1.2,2)*22 -> 112.64 | C5: =4.27*22 -> 93.94
A6: Subsídio Alimentação ticket | B6: =ROUND(4.27*1.6,2)*22 -> 150.26 | C6: =ROUND(4.27*1.6,2)*22 -> 150.26
A9: Salario Sujeito | B9: =+Publico!D9 -> 0 | C9: =+Publico!E9 -> 0
A10: Salario Isento | B10: 93.94 | C10: 93.94
A11: TSU | B11: =ROUND(B9*B3,2) -> 0 | C11: =ROUND(C9*C3,2) -> 0
A12: IRS taxa | B12: =VLOOKUP(B9,IF(Publico!D10=0,'2012'!B156:H193,IF(Publico!D10=1,'2012'!B204:H239,'2012'!B251:H288)),IF(Publico!D11<5,Publico!D11+2,7)) -> 0 | C12: =VLOOKUP(C9,IF(Publico!E10=0,'2013'!B156:H193,IF(Publico!E10=1,'2013'!B204:H240,'2013'!B252:H289)),IF(Publico!E11<5,Publico!E11+2,7)) -> 0
A13: IRS Valor | B13: =FLOOR(B9*B12,1) -> 0 | C13: =FLOOR(C9*C12,1) -> 0
A14: Salario antes sobretaxa | B14: =+B9-B11-B13 -> 0 | C14: =+C9-C11-C13 -> 0
A15: Sobretaxa | C15: =ROUND(IF(C14>C2,(C14-C2)*C4,0),2) -> 0
A16: Valor Líquido | B16: =+B9+B10-B11-B13-B15 -> 93.94 | C16: =+C9+C10-C11-C13-C15 -> 93.94
A19: Salario Sujeito | C19: =ROUND(+Publico!E9/12,2) -> 0
A20: TSU | C20: =ROUND(C19*C3,2) -> 0
A21: IRS taxa | C21: =VLOOKUP(C9,IF(Publico!E10=0,'2013'!B156:H193,IF(Publico!E10=1,'2013'!B204:H240,'2013'!B252:H289)),IF(Publico!E11<5,Publico!E11+2,7)) -> 0
A22: IRS Valor | C22: =FLOOR(C19*C21,1) -> 0
A23: Salario antes sobretaxa | C23: =+C19-C20-C22 -> 0
A24: Sobretaxa | C24: =ROUND(IF(C23>C2/12,(C23-C2/12)*C4),2) -> 0
A25: Valor Líquido | C25: =+C19-C20-C22-C24 -> 0
A28: Salario Sujeito | B28: =ROUND(IF(B9<600,B9,IF(B9<1100,1320-1.2*B9,0)),2) -> 0 | C28: =ROUND(IF(C9<600,C9,IF(C9<1100,1320-1.2*C9,0)),2) -> 0
A29: TSU | B29: =ROUND(B28*B3,2) -> 0 | C29: =ROUND(C28*C3,2) -> 0
A30: IRS taxa | B30: =VLOOKUP(B28,IF(Publico!D10=0,'2012'!B156:H193,IF(Publico!D10=1,'2012'!B204:H239,'2012'!B251:H288)),IF(Publico!D11<5,Publico!D11+2,7)) -> 0 | C30: =VLOOKUP(C28,IF(Publico!E10=0,'2013'!B156:H193,IF(Publico!E10=1,'2013'!B204:H240,'2013'!B252:H289)),IF(Publico!E11<5,Publico!E11+2,7)) -> 0
A31: IRS Valor | B31: =FLOOR(B28*B30,1) -> 0 | C31: =FLOOR(C28*C30,1) -> 0
A32: Salario antes sobretaxa | B32: =+B28-B29-B31 -> 0 | C32: =+C28-C29-C31 -> 0
A33: Sobretaxa | C33: =ROUND(IF(C32>C2,(C32-C2)*C4,0),2) -> 0
A34: Valor Líquido | B34: =+B32-B33 -> 0 | C34: =+C32-C33 -> 0

Sheet Pensoes
I2: 2012 | J2: 2013 | K2: Diferença
G3: Salário Base | I3: =+Calculos_pns!B11 -> 0 | J3: =+Calculos_pns!C11 -> 0 | K3: =+J3-I3 -> 0
G4: CES | I4: =+Calculos_pns!B12 -> 0 | J4: =+Calculos_pns!C15-Calculos_pns!C17 -> 0 | K4: =+J4-I4 -> 0
G5: IRS | H5: Taxa | I5: =+Calculos_pns!B13 -> 0 | J5: =+Calculos_pns!C13 -> 0 | K5: =+J5-I5 -> 0
G6: IRS | H6: Valor | I6: =+Calculos_pns!B14 -> 0 | J6: =+Calculos_pns!C14 -> 0 | K6: =+J6-I6 -> 0
G7: Sobretaxa IRS | I7: =+Calculos_pns!B19 -> 0 | J7: =+Calculos_pns!C19 -> 0 | K7: =+J7-I7 -> 0
D8: 2012 | E8: 2013 | G8: Total de descontos | I8: =+I4+I6+I7 -> 0 | J8: =+J4+J6+J7 -> 0 | K8: =+J8-I8 -> 0
B9: Salário Base | D9: 0 | E9: 0 | G9: Valor a receber | I9: =+Calculos_pns!B20 -> 0 | J9: =+Calculos_pns!C20 -> 0 | K9: =+J9-I9 -> 0
B10: Estado Civil | D10: 0 | E10: 0
G11: Subsídio de férias | I11: =+Calculos_pns!B23 -> 0 | J11: =+Calculos_pns!C35 -> 0 | K11: =+J11-I11 -> 0
G12: CES | I12: =+Calculos_pns!B24 -> 0 | J12: =+Calculos_pns!C39 -> 0 | K12: =+J12-I12 -> 0
G13: IRS | H13: Taxa | I13: =+Calculos_pns!B25 -> 0 | J13: =+Calculos_pns!C36 -> 0
G14: IRS | H14: Valor | I14: =+Calculos_pns!B26 -> 0 | J14: =+Calculos_pns!C37 -> 0 | K14: =+J14-I14 -> 0
G15: Sobretaxa IRS | I15: =+Calculos_pns!B28 -> 0 | J15: =+Calculos_pns!C42 -> 0 | K15: =+J15-I15 -> 0
G16: Total de descontos | I16: =+I12+I14+I15 -> 0 | J16: =+J12+J14+J15 -> 0 | K16: =+J16-I16 -> 0
G17: Valor a receber | I17: =+Calculos_pns!B29 -> 0 | J17: =+Calculos_pns!C43 -> 0 | K17: =+J17-I17 -> 0

Sheet Calculos_pns
B1: 2012 | C1: 2013
A2: Salario Minimo | B2: 485 | C2: 485
A3: CES | C3: 0.035 | D3: 1350 | E3: 1800
C4: 0.16 | D4: 1800.01 | E4: 3750
C5: 0.1 | D5: 3750.01
A6: Sobretaxa | C6: 0.035
A7: Subsídio Alimentação | B7: =ROUND(4.27*1.2,2)*22 -> 112.64 | C7: =4.27*22 -> 93.94
A8: Subsídio Alimentação ticket | B8: =ROUND(4.27*1.6,2)*22 -> 150.26 | C8: =ROUND(4.27*1.6,2)*22 -> 150.26
A11: Salario Sujeito | B11: =+Pensoes!D9 -> 0 | C11: =+Pensoes!E9 -> 0
A13: IRS taxa | B13: =VLOOKUP(B11,'2012'!B302:D339,IF(Pensoes!D10=1,3,2)) -> 0 | C13: =VLOOKUP(C11,'2013'!B302:D339,IF(Pensoes!D10=1,3,2)) -> 0
A14: IRS Valor | B14: =FLOOR(B11*B13,1) -> 0 | C14: =FLOOR(C11*C13,1) -> 0
A15: Salário após IRS | B15: =+B11-B14 -> 0 | C15: =+C11-C14 -> 0
A16: CES | C16: =IF(C15<D3,0,IF(C15<E3,C15*C3,IF(C15<E4,(C15-D4)*C4+E3*C3,C15*C5))) -> 0
A17: Salário após CES | C17: =IF(C16>0,IF(C15-C16<1350,1350,C15-C16),C15) -> 0
A18: Salario antes sobretaxa | B18: =+B11-B12-B14 -> 0 | C18: =+C17 -> 0
A19: Sobretaxa | C19: =ROUND(IF(C18>C2,(C18-C2)*C6,0),2) -> 0
A20: Valor Líquido | B20: =+B11-B12-B14-B19 -> 0 | C20: =+C11-C12-C14-C19 -> 0
A23: Salario Sujeito | C23: =ROUND(+Pensoes!E9/12,2) -> 0
A24: TSU | C24: =ROUND(C23*#REF!,2) -> #REF!
A25: IRS taxa | C25: =VLOOKUP(C11,'2013'!B302:D339,IF(Pensoes!D10=1,3,2)) -> 0
A26: IRS Valor | C26: =FLOOR(C23*C25,1) -> 0
A27: Salario antes sobretaxa | C27: =+C23-C24-C26 -> #REF!
A28: Sobretaxa | C28: =ROUND(IF(C27>C2/12,(C27-C2/12)*C6),2) -> #REF!
A29: Valor Líquido | C29: =+C23-C24-C26-C28 -> #REF!
A32: Subsidio ferias | C32: 1 | D32: 600
D33: 1100
C34: 0.1
A35: Subsídio ferias | C35: =IF(C11<D32,C23,IF(C11<D33,ROUND(1188-0.98*C11,2),ROUND(C11*0.1,C232))) -> 0
A36: IRS taxa | C36: =VLOOKUP(C35,'2013'!B302:D339,IF(Pensoes!D33=1,3,2)) -> 0
A37: IRS Valor | C37: =FLOOR(C34*C36,1) -> 0
A38: Salário após IRS | C38: =+C35-C37 -> 0
C39: =IF(C38<D3,0,IF(C38<E3,C38*C3,IF(C38<E4,(C38-D4)*C27+E3*C3,C38*C5))) -> 0
A40: Salário após CES | C40: =IF(C39>0,IF(C38-C39<1350,1350,C38-C39),C38) -> 0
A41: Salario antes sobretaxa | C41: =+C40 -> 0
A42: Sobretaxa | C42: =ROUND(IF(C41>C2,(C41-C2)*C6,0),2) -> 0
A43: Valor Líquido | C43: =+C41-C42 -> 0

Sheet 2012
A1: TABELAS DE RETENÇÃO NA FONTE PARA O CONTINENTE - 2012
A4: TABELA I - TRABALHO DEPENDENTE
A5: NÃO CASADO
A8: Remuneração Mensal Euros | C8: Número de dependentes
C9: 0 | D9: 1 | E9: 2 | F9: 3 | G9: 4 | H9: 5 ou mais
A10: Até | B10: 0 | C10: 0 | D10: 0 | E10: 0 | F10: 0 | G10: 0 | H10: 0
A11: Até | B11: 585 | C11: 0.01 | D11: 0 | E11: 0 | F11: 0 | G11: 0 | H11: 0
A12: Até | B12: 590 | C12: 0.02 | D12: 0 | E12: 0 | F12: 0 | G12: 0 | H12: 0
A13: Até | B13: 595 | C13: 0.03 | D13: 0.01 | E13: 0 | F13: 0 | G13: 0 | H13: 0
A14: Até | B14: 633 | C14: 0.04 | D14: 0.02 | E14: 0.01 | F14: 0 | G14: 0 | H14: 0
A15: Até | B15: 675 | C15: 0.055 | D15: 0.035 | E15: 0.025 | F15: 0.01 | G15: 0 | H15: 0
A16: Até | B16: 726 | C16: 0.065 | D16: 0.055 | E16: 0.035 | F16: 0.02 | G16: 0.01 | H16: 0
A17: Até | B17: 801 | C17: 0.075 | D17: 0.065 | E17: 0.045 | F17: 0.03 | G17: 0.02 | H17: 0.01
A18: Até | B18: 907 | C18: 0.09 | D18: 0.08 | E18: 0.07 | F18: 0.045 | G18: 0.035 | H18: 0.025
A19: Até | B19: 988 | C19: 0.1 | D19: 0.09 | E19: 0.08 | F19: 0.065 | G19: 0.045 | H19: 0.035
A20: Até | B20: 1048 | C20: 0.11 | D20: 0.1 | E20: 0.09 | F20: 0.075 | G20: 0.065 | H20: 0.055
A21: Até | B21: 1124 | C21: 0.12 | D21: 0.11 | E21: 0.1 | F21: 0.085 | G21: 0.075 | H21: 0.065
... A47: Superior a | B47: 25000 | C47: 0.4 | D47: 0.4 | E47: 0.4 | F47: 0.4 | G47: 0.4 | H47: 0.39
A49: TABELAS DE RETENÇÃO NA FONTE PARA O CONTINENTE - 2012
A52: T A B E L A II - TRABALHO DEPENDENTE
A53: CASADO UNICO TITULAR
A56: Remuneração Mensal Euros | C56: Número de dependentes
C57: 0 | D57: 1 | E57: 2 | F57: 3 | G57: 4 | H57: 5 ou mais
A58: Até | B58: 0 | C58: 0 | D58: 0 | E58: 0 | F58: 0 | G58: 0 | H58: 0
A59: Até | B59: 675 | C59: 0.015 | D59: 0 | E59: 0 | F59: 0 | G59: 0 | H59: 0
A60: Até | B60: 696 | C60: 0.025 | D60: 0 | E60: 0 | F60: 0 | G60: 0 | H60: 0
A61: Até | B61: 741 | C61: 0.035 | D61: 0.015 | E61: 0 | F61: 0 | G61: 0 | H61: 0
A62: Até | B62: 781 | C62: 0.045 | D62: 0.025 | E62: 0.015 | F62: 0 | G62: 0 | H62: 0
A63: Até | B63: 822 | C63: 0.055 | D63: 0.045 | E63: 0.025 | F63: 0.01 | G63: 0 | H63: 0
A64: Até | B64: 872 | C64: 0.065 | D64: 0.055 | E64: 0.045 | F64: 0.02 | G64: 0.01 | H64: 0
A65: Até | B65: 958 | C65: 0.075 | D65: 0.065 | E65: 0.055 | F65: 0.04 | G65: 0.02 | H65: 0.01
A66: Até | B66: 1063 | C66: 0.085 | D66: 0.075 | E66: 0.065 | F66: 0.05 | G66: 0.04 | H66: 0.03
A67: Até | B67: 1205 | C67: 0.095 | D67: 0.085 | E67: 0.075 | F67: 0.06 | G67: 0.05 | H67: 0.05
A68: Até | B68: 1381 | C68: 0.105 | D68: 0.095 | E68: 0.085 | F68: 0.08 | G68: 0.07 | H68: 0.06
A69: Até | B69: 1603 | C69: 0.12 | D69: 0.11 | E69: 0.11 | F69: 0.095 | G69: 0.085 | H69: 0.085
... A93: Superior a | B93: 28000 | C93: 0.375 | D93: 0.375 | E93: 0.375 | F93: 0.375 | G93: 0.375 | H93: 0.365
A96: TABELAS DE RETENÇÃO NA FONTE PARA O CONTINENTE - 2012
A99: T A B E L A III - TRABALHO DEPENDENTE
A100: CASADO DOIS TITULARES
A103: Remuneração Mensal Euros | C103: Número de dependentes
B104: Privado | C104: 0 | D104: 1 | E104: 2 | F104: 3 | G104: 4 | H104: 5 ou mais
A105: Até | B105: 0 | C105: 0 | D105: 0 | E105: 0 | F105: 0 | G105: 0 | H105: 0
A106: Até | B106: 585 | C106: 0.01 | D106: 0 | E106: 0 | F106: 0 | G106: 0 | H106: 0
A107: Até | B107: 590 | C107: 0.02 | D107: 0.01 | E107: 0 | F107: 0 | G107: 0 | H107: 0
A108: Até | B108: 595 | C108: 0.03 | D108: 0.02 | E108: 0.01 | F108: 0 | G108: 0 | H108: 0
A109: Até | B109: 633 | C109: 0.04 | D109: 0.03 | E109: 0.02 | F109: 0.005 | G109: 0.005 | H109: 0
A110: Até | B110: 675 | C110: 0.055 | D110: 0.045 | E110: 0.035 | F110: 0.02 | G110: 0.015 | H110: 0.005
A111: Até | B111: 726 | C111: 0.065 | D111: 0.055 | E111: 0.045 | F111: 0.04 | G111: 0.03 | H111: 0.015
A112: Até | B112: 801 | C112: 0.075 | D112: 0.065 | E112: 0.065 | F112: 0.05 | G112: 0.04 | H112: 0.03
A113: Até | B113: 907 | C113: 0.09 | D113: 0.08 | E113: 0.08 | F113: 0.065 | G113: 0.055 | H113: 0.055
A114: Até | B114: 988 | C114: 0.1 | D114: 0.09 | E114: 0.09 | F114: 0.075 | G114: 0.065 | H114: 0.065
A115: Até | B115: 1048 | C115: 0.11 | D115: 0.1 | E115: 0.1 | F115: 0.085 | G115: 0.085 | H115: 0.075
A116: Até | B116: 1124 | C116: 0.12 | D116: 0.11 | E116: 0.11 | F116: 0.095 | G116: 0.095 | H116: 0.085
... A142: Superior a | B142: 25000 | C142: 0.4 | D142: 0.4 | E142: 0.4 | F142: 0.4 | G142: 0.4 | H142: 0.4
A147: TABELAS DE RETENÇÃO NA FONTE PARA O CONTINENTE - 2012
A150: TABELA X - TRABALHO DEPENDENTE - ART. 21.º LEI N.º 64-B/2011
A151: NÃO CASADO
A154: Remuneração Mensal Euros | C154: Número de dependentes
C155: 0 | D155: 1 | E155: 2 | F155: 3 | G155: 4 | H155: 5 ou mais
A156: Até | B156: 0 | C156: 0 | D156: 0 | E156: 0 | F156: 0 | G156: 0 | H156: 0
A157: Até | B157: 585 | C157: 0.01 | D157: 0 | E157: 0 | F157: 0 | G157: 0 | H157: 0
A158: Até | B158: 590 | C158: 0.02 | D158: 0 | E158: 0 | F158: 0 | G158: 0 | H158: 0
A159: Até | B159: 595 | C159: 0.03 | D159: 0.01 | E159: 0 | F159: 0 | G159: 0 | H159: 0
A160: Até | B160: 643.37143 | C160: 0.04 | D160: 0.02 | E160: 0.01 | F160: 0 | G160: 0 | H160: 0
A161: Até | B161: 698.57143 | C161: 0.055 | D161: 0.035 | E161: 0.025 | F161: 0.01 | G161: 0 | H161: 0
A162: Até | B162: 765.6 | C162: 0.065 | D162: 0.055 | E162: 0.035 | F162: 0.02 | G162: 0.01 | H162: 0
A163: Até | B163: 864.17143 | C163: 0.075 | D163: 0.065 | E163: 0.045 | F163: 0.03 | G163: 0.02 | H163: 0.01
A164: Até | B164: 1003.4857 | C164: 0.09 | D164: 0.08 | E164: 0.07 | F164: 0.045 | G164: 0.035 | H164: 0.025
A165: Até | B165: 1109.9429 | C165: 0.1 | D165: 0.09 | E165: 0.08 | F165: 0.065 | G165: 0.045 | H165: 0.035
A166: Até | B166: 1188.8 | C166: 0.11 | D166: 0.1 | E166: 0.09 | F166: 0.075 | G166: 0.065 | H166: 0.055
A167: Até | B167: 1311.3333 | C167: 0.12 | D167: 0.11 | E167: 0.1 | F167: 0.085 | G167: 0.075 | H167: 0.065
... A193: Superior a | B193: 29166.667 | C193: 0.4 | D193: 0.4 | E193: 0.4 | F193: 0.4 | G193: 0.4 | H193: 0.39
A195: TABELAS DE RETENÇÃO NA FONTE PARA O CONTINENTE - 2012
A198: T A B E L A XI - TRABALHO DEPENDENTE - ART. 21.º LEI N.º 64-B/2011
A199: CASADO UNICO TITULAR
A202: Remuneração Mensal Euros | C202: Número de dependentes
B203: Público | C203: 0 | D203: 1 | E203: 2 | F203: 3 | G203: 4 | H203: 5 ou mais
A204: Até | B204: 0 | C204: 0 | D204: 0 | E204: 0 | F204: 0 | G204: 0 | H204: 0
A205: Até | B205: 698.57143 | C205: 0.015 | D205: 0 | E205: 0 | F205: 0 | G205: 0 | H205: 0
A206: Até | B206: 726.17143 | C206: 0.025 | D206: 0 | E206: 0 | F206: 0 | G206: 0 | H206: 0
A207: Até | B207: 785.31429 | C207: 0.035 | D207: 0.015 | E207: 0 | F207: 0 | G207: 0 | H207: 0
A208: Até | B208: 837.88571 | C208: 0.045 | D208: 0.025 | E208: 0.015 | F208: 0 | G208: 0 | H208: 0
A209: Até | B209: 891.77143 | C209: 0.055 | D209: 0.045 | E209: 0.025 | F209: 0.01 | G209: 0 | H209: 0
A210: Até | B210: 957.48571 | C210: 0.065 | D210: 0.055 | E210: 0.045 | F210: 0.02 | G210: 0.01 | H210: 0
A211: Até | B211: 1070.5143 | C211: 0.075 | D211: 0.065 | E211: 0.055 | F211: 0.04 | G211: 0.02 | H211: 0.01
A212: Até | B212: 1208.5143 | C212: 0.085 | D212: 0.075 | E212: 0.065 | F212: 0.05 | G212: 0.04 | H212: 0.03
A213: Até | B213: 1405.8333 | C213: 0.095 | D213: 0.085 | E213: 0.075 | F213: 0.06 | G213: 0.05 | H213: 0.05
A214: Até | B214: 1611.1667 | C214: 0.105 | D214: 0.095 | E214: 0.085 | F214: 0.08 | G214: 0.07 | H214: 0.06
A215: Até | B215: 1870.1667 | C215: 0.12 | D215: 0.11 | E215: 0.11 | F215: 0.095 | G215: 0.085 | H215: 0.085
... A239: Superior a | B239: 32666.667 | C239: 0.375 | D239: 0.375 | E239: 0.375 | F239: 0.375 | G239: 0.375 | H239: 0.365
A242: TABELAS DE RETENÇÃO NA FONTE PARA O CONTINENTE - 2012
A245: T A B E L A XII - TRABALHO DEPENDENTE - ART. 21.º LEI N.º 64-B/2011
A246: CASADO DOIS TITULARES
A249: Remuneração Mensal Euros | C249: Número de dependentes
B250: Público | C250: 0 | D250: 1 | E250: 2 | F250: 3 | G250: 4 | H250: 5 ou mais
A251: Até | B251: 0 | C251: 0 | D251: 0 | E251: 0 | F251: 0 | G251: 0 | H251: 0
A252: Até | B252: 585 | C252: 0.01 | D252: 0 | E252: 0 | F252: 0 | G252: 0 | H252: 0
A253: Até | B253: 590 | C253: 0.02 | D253: 0.01 | E253: 0 | F253: 0 | G253: 0 | H253: 0
A254: Até | B254: 595 | C254: 0.03 | D254: 0.02 | E254: 0.01 | F254: 0 | G254: 0 | H254: 0
A255: Até | B255: 643.37143 | C255: 0.04 | D255: 0.03 | E255: 0.02 | F255: 0.005 | G255: 0.005 | H255: 0
...

Sheet 2013
A1: TABELAS DE RETENÇÃO NA FONTE PARA O CONTINENTE - 2012
A4: TABELA I - TRABALHO DEPENDENTE
A5: NÃO CASADO
A8: Remuneração Mensal Euros | C8: Número de dependentes
C9: 0 | D9: 1 | E9: 2 | F9: 3 | G9: 4 | H9: 5 ou mais
A10: Até | B10: 0 | C10: 0 | D10: 0 | E10: 0 | F10: 0 | G10: 0 | H10: 0
A11: Até | B11: 585 | C11: 0.01 | D11: 0 | E11: 0 | F11: 0 | G11: 0 | H11: 0
A12: Até | B12: 590 | C12: 0.02 | D12: 0 | E12: 0 | F12: 0 | G12: 0 | H12: 0
A13: Até | B13: 595 | C13: 0.05 | D13: 0.03 | E13: 0.02 | F13: 0.01 | G13: 0 | H13: 0
A14: Até | B14: 633 | C14: 0.06 | D14: 0.04 | E14: 0.03 | F14: 0.015 | G14: 0.01 | H14: 0
A15: Até | B15: 675 | C15: 0.075 | D15: 0.055 | E15: 0.045 | F15: 0.025 | G15: 0.015 | H15: 0.01
A16: Até | B16: 726 | C16: 0.085 | D16: 0.075 | E16: 0.055 | F16: 0.035 | G16: 0.025 | H16: 0.015
A17: Até | B17: 801 | C17: 0.11 | D17: 0.1 | E17: 0.08 | F17: 0.06 | G17: 0.05 | H17: 0.04
A18: Até | B18: 907 | C18: 0.125 | D18: 0.115 | E18: 0.105 | F18: 0.075 | G18: 0.065 | H18: 0.055
A19: Até | B19: 988 | C19: 0.135 | D19: 0.125 | E19: 0.115 | F19: 0.095 | G19: 0.075 | H19: 0.065
A20: Até | B20: 1048 | C20: 0.145 | D20: 0.135 | E20: 0.125 | F20: 0.105 | G20: 0.095 | H20: 0.085
A21: Até | B21: 1124 | C21: 0.155 | D21: 0.145 | E21: 0.135 | F21: 0.115 | G21: 0.105 | H21: 0.095
... A47: Superior a | B47: 25000 | C47: 0.445 | D47: 0.445 | E47: 0.445 | F47: 0.44 | G47: 0.44 | H47: 0.43
A49: TABELAS DE RETENÇÃO NA FONTE PARA O CONTINENTE - 2012
A52: T A B E L A II - TRABALHO DEPENDENTE
A53: CASADO UNICO TITULAR
A56: Remuneração Mensal Euros | C56: Número de dependentes
C57: 0 | D57: 1 | E57: 2 | F57: 3 | G57: 4 | H57: 5 ou mais
A58: Até | B58: 0 | C58: 0 | D58: 0 | E58: 0 | F58: 0 | G58: 0 | H58: 0
A59: Até | B59: 633 | C59: 0.005 | D59: 0.005 | E59: 0.005 | F59: 0 | G59: 0 | H59: 0
A60: Até | B60: 675 | C60: 0.025 | D60: 0.01 | E60: 0.01 | F60: 0.005 | G60: 0 | H60: 0
A61: Até | B61: 696 | C61: 0.035 | D61: 0.01 | E61: 0.01 | F61: 0.005 | G61: 0.005 | H61: 0
A62: Até | B62: 741 | C62: 0.05 | D62: 0.03 | E62: 0.015 | F62: 0.01 | G62: 0.01 | H62: 0.005
A63: Até | B63: 781 | C63: 0.06 | D63: 0.04 | E63: 0.03 | F63: 0.01 | G63: 0.01 | H63: 0.005
A64: Até | B64: 822 | C64: 0.07 | D64: 0.06 | E64: 0.04 | F64: 0.02 | G64: 0.01 | H64: 0.005
A65: Até | B65: 872 | C65: 0.08 | D65: 0.07 | E65: 0.06 | F65: 0.03 | G65: 0.02 | H65: 0.01
A66: Até | B66: 958 | C66: 0.09 | D66: 0.08 | E66: 0.07 | F66: 0.05 | G66: 0.03 | H66: 0.02
A67: Até | B67: 1063 | C67: 0.1 | D67: 0.09 | E67: 0.08 | F67: 0.06 | G67: 0.05 | H67: 0.04
A68: Até | B68: 1205 | C68: 0.115 | D68: 0.105 | E68: 0.095 | F68: 0.075 | G68: 0.065 | H68: 0.065
A69: Até | B69: 1381 | C69: 0.125 | D69: 0.115 | E69: 0.105 | F69: 0.095 | G69: 0.085 | H69: 0.075
... A94: Superior a | B94: 28000 | C94: 0.405 | D94: 0.405 | E94: 0.405 | F94: 0.4 | G94: 0.4 | H94: 0.39
A97: TABELAS DE RETENÇÃO NA FONTE PARA O CONTINENTE - 2012
A100: T A B E L A III - TRABALHO DEPENDENTE
A101: CASADO DOIS TITULARES
A104: Remuneração Mensal Euros | C104: Número de dependentes
B105: Privado | C105: 0 | D105: 1 | E105: 2 | F105: 3 | G105: 4 | H105: 5 ou mais
A106: Até | B106: 0 | C106: 0 | D106: 0 | E106: 0 | F106: 0 | G106: 0 | H106: 0
A107: Até | B107: 585 | C107: 0.01 | D107: 0 | E107: 0 | F107: 0 | G107: 0 | H107: 0
A108: Até | B108: 590 | C108: 0.02 | D108: 0.01 | E108: 0 | F108: 0 | G108: 0 | H108: 0
A109: Até | B109: 595 | C109: 0.05 | D109: 0.04 | E109: 0.03 | F109: 0.015 | G109: 0.015 | H109: 0.01
A110: Até | B110: 633 | C110: 0.06 | D110: 0.05 | E110: 0.04 | F110: 0.02 | G110: 0.02 | H110: 0.015
A111: Até | B111: 675 | C111: 0.075 | D111: 0.065 | E111: 0.055 | F111: 0.035 | G111: 0.03 | H111: 0.02
A112: Até | B112: 726 | C112: 0.085 | D112: 0.075 | E112: 0.065 | F112: 0.055 | G112: 0.045 | H112: 0.03
A113: Até | B113: 801 | C113: 0.11 | D113: 0.1 | E113: 0.1 | F113: 0.08 | G113: 0.07 | H113: 0.06
A114: Até | B114: 907 | C114: 0.125 | D114: 0.115 | E114: 0.115 | F114: 0.095 | G114: 0.085 | H114: 0.085
A115: Até | B115: 988 | C115: 0.135 | D115: 0.125 | E115: 0.125 | F115: 0.105 | G115: 0.095 | H115: 0.095
A116: Até | B116: 1048 | C116: 0.145 | D116: 0.135 | E116: 0.135 | F116: 0.115 | G116: 0.115 | H116: 0.105
A117: Até | B117: 1124 | C117: 0.155 | D117: 0.145 | E117: 0.145 | F117: 0.125 | G117: 0.125 | H117: 0.115
... A143: Superior a | B143: 25000 | C143: 0.445 | D143: 0.445 | E143: 0.445 | F143: 0.44 | G143: 0.44 | H143: 0.44
A147: TABELAS DE RETENÇÃO NA FONTE PARA O CONTINENTE - 2012
A150: TABELA X - TRABALHO DEPENDENTE - ART. 21.º LEI N.º 64-B/2011
A151: NÃO CASADO
A154: Remuneração Mensal Euros | C154: Número de dependentes
C155: 0 | D155: 1 | E155: 2 | F155: 3 | G155: 4 | H155: 5 ou mais
A156: Até | B156: 0 | C156: 0 | D156: 0 | E156: 0 | F156: 0 | G156: 0 | H156: 0
A157: Até | B157: 585 | C157: 0.01 | D157: 0 | E157: 0 | F157: 0 | G157: 0 | H157: 0
A158: Até | B158: 590 | C158: 0.02 | D158: 0 | E158: 0 | F158: 0 | G158: 0 | H158: 0
A159: Até | B159: 595 | C159: 0.05 | D159: 0.03 | E159: 0.02 | F159: 0.015 | G159: 0 | H159: 0
A160: Até | B160: 639 | C160: 0.06 | D160: 0.04 | E160: 0.03 | F160: 0.015 | G160: 0.01 | H160: 0
A161: Até | B161: 688 | C161: 0.075 | D161: 0.055 | E161: 0.045 | F161: 0.025 | G161: 0.015 | H161: 0.01
A162: Até | B162: 749 | C162: 0.085 | D162: 0.075 | E162: 0.055 | F162: 0.035 | G162: 0.025 | H162: 0.015
A163: Até | B163: 838 | C163: 0.11 | D163: 0.1 | E163: 0.08 | F163: 0.06 | G163: 0.05 | H163: 0.04
A164: Até | B164: 964 | C164: 0.125 | D164: 0.115 | E164: 0.105 | F164: 0.075 | G164: 0.065 | H164: 0.055
A165: Até | B165: 1060 | C165: 0.135 | D165: 0.125 | E165: 0.115 | F165: 0.095 | G165: 0.075 | H165: 0.065
A166: Até | B166: 1131 | C166: 0.145 | D166: 0.135 | E166: 0.125 | F166: 0.105 | G166: 0.095 | H166: 0.085
A167: Até | B167: 1210 | C167: 0.155 | D167: 0.145 | E167: 0.135 | F167: 0.115 | G167: 0.105 | H167: 0.095
... A193: Superior a | B193: 26923 | C193: 0.445 | D193: 0.445 | E193: 0.445 | F193: 0.44 | G193: 0.44 | H193: 0.43
A195: TABELAS DE RETENÇÃO NA FONTE PARA O CONTINENTE - 2012
A198: T A B E L A XI - TRABALHO DEPENDENTE - ART. 21.º LEI N.º 64-B/2011
A199: CASADO UNICO TITULAR
A202: Remuneração Mensal Euros | C202: Número de dependentes
B203: Público | C203: 0 | D203: 1 | E203: 2 | F203: 3 | G203: 4 | H203: 5 ou mais
A204: Até | B204: 0 | C204: 0 | D204: 0 | E204: 0 | F204: 0 | G204: 0 | H204: 0
A205: Até | B205: 639 | C205: 0.005 | D205: 0.005 | E205: 0.005 | F205: 0 | G205: 0 | H205: 0
A206: Até | B206: 688 | C206: 0.025 | D206: 0.01 | E206: 0.01 | F206: 0.005 | G206: 0 | H206: 0
A207: Até | B207: 713 | C207: 0.035 | D207: 0.01 | E207: 0.01 | F207: 0.005 | G207: 0.005 | H207: 0
A208: Até | B208: 767 | C208: 0.05 | D208: 0.03 | E208: 0.015 | F208: 0.01 | G208: 0.01 | H208: 0.005
A209: Até | B209: 814 | C209: 0.06 | D209: 0.04 | E209: 0.03 | F209: 0.01 | G209: 0.01 | H209: 0.005
A210: Até | B210: 863 | C210: 0.07 | D210: 0.06 | E210: 0.04 | F210: 0.02 | G210: 0.01 | H210: 0.005
A211: Até | B211: 922 | C211: 0.08 | D211: 0.07 | E211: 0.06 | F211: 0.03 | G211: 0.02 | H211: 0.01
A212: Até | B212: 1024 | C212: 0.09 | D212: 0.08 | E212: 0.07 | F212: 0.05 | G212: 0.03 | H212: 0.02
A213: Até | B213: 1149 | C213: 0.1 | D213: 0.09 | E213: 0.08 | F213: 0.06 | G213: 0.05 | H213: 0.04
A214: Até | B214: 1297 | C214: 0.115 | D214: 0.105 | E214: 0.095 | F214: 0.075 | G214: 0.065 | H214: 0.065
A215: Até | B215: 1487 | C215: 0.125 | D215: 0.115 | E215: 0.105 | F215: 0.095 | G215: 0.085 | H215: 0.075
... A240: Superior a | B240: 30153 | C240: 0.405 | D240: 0.405 | E240: 0.405 | F240: 0.4 | G240: 0.4 | H240: 0.39
A243: TABELAS DE RETENÇÃO NA FONTE PARA O CONTINENTE - 2012
A246: T A B E L A XII - TRABALHO DEPENDENTE - ART. 21.º LEI N.º 64-B/2011
A247: CASADO DOIS TITULARES
A250: Remuneração Mensal Euros | C250: Número de dependentes
B251: Público | C251: 0 | D251: 1 | E251: 2 | F251: 3 | G251: 4 | H251: 5 ou mais
A252: Até | B252: 0 | C252: 0 | D252: 0 | E252: 0 | F252: 0 | G252: 0 | H252: 0
A253: Até | B253: 585 | C253: 0.01 | D253: 0 | E253: 0 | F253: 0 | G253: 0 | H253: 0
A254: Até | B254: 590 | C254: 0.02 | D254: 0.01 | E254: 0 | F254: 0 | G254: 0 | H254: 0
A255: Até | B255: 595 | C255: 0.05 | D255: 0.04 | E255: 0.03 | F255: 0.015 | G255: 0.015 | H255: 0.01
A256: Até | B256: 639 | C256: 0.06 | D256: 0.05 | E256: 0.04 | F256: 0.02 | G256: 0.02 | H256: 0.015
...
