Workbook

Sheet perguntas
A1: Perguntas
A4: Fiz novo excell para ver se percebia melhor como efectuou os calculos
A5: espero que ajude e aqui vão as minhas perguntas
A7: 1 -No quadro 9 - Vendas, faço referência ao facto de serem coroas. Devo colocar flores para coroas para que não fosse considerado uma prestação de serviços. Na minha pespectiva coroas trata-se não de um préstimo de serviço mas como um produto acabado. É um artigo. será que as finanças não o encaram como tal? Se assim for acham que se colocar Flores para coroas, muda em alguma coisa? Interessa depois é ao registar no dia a dia certo?
A12: 2 - No quadro Fornecimentos e serv externos copiei a sua tabela e apliquei os valores com iva. Para os casos da luz e água apenas indiquei um valor indicativo. Sabem-me indicar se eles passam facturas pro-form ou não é necessário para estas situações?
A16: 2,1 - Não coloquei ordenado em gastos com pessoal em virtude de um comentário no tópico que indiva que ao ser ENI não terá ordenado...apenas o valor do rendimento final do ano, apenas coloquei o valor da seg social e seguro acidentes de trabalho que é apenas indicativo (ainda não tenho factura pró-form aguardo orçamento).
A20: 2,2-Na parte Imposto s/rendimento (25% IRC e 1,5% derrama) - apenas apliquei o imposto de 20% + 1,5% (derrama-barreiro) porque penso em optar pelo regime simplificado (não sei se seria o mais correcto mas pensei neste). É assim que se calcula?
A25: 3- Na Demonst Resultados tentei seguir o raciocinio em termos de calculos, espero que esteja bem. Mas….fiquei na mesma na dúvida quando à questão: Custo Mercadorias Vendidas e das Matérias Consumidas. Isto não é o custo dos artigos que eu vendi? desculpe mas já estou baralhada...
A30: 4- No Balanço também tentei seguir a formula mas acho que algo não está bem calculado…são €€ a mais…. :P
A35: Desculpem mais uma vez estas perguntas todas mas acho que assim vai melhor esquematizado.
A36: Obrigada

Sheet 9-venda bens 10-cons mercd
A1: 9 - Vendas de bens ou serviços do Projeto (valor a receber do clt s/ iva) | K1: 10- Consumo de Mercadorias, matérias primas e subsid projecto (s/ iva) | Q1: crescimento 5%
H2: 5% ano
A3: Designação | B3: Unid Física | C3: 2013 (Agosto/Dezemb) | E3: 2014 | G3: 2015 | K3: Designação | L3: Unid Física | M3: 2013 (Agosto a Dezembro) | O3: 2014 | Q3: 2015
C4: Quant | D4: Valor | E4: Quant | F4: Valor | G4: Quant | H4: Valor | M4: Quant | N4: Valor | O4: Quant | P4: Valor | Q4: Quant | R4: Valor
A5: coroas funeral | B5: 1 | C5: =(B37/2)+B37*4 -> 67.5 | D5: =C5*C37 -> 3118.5 | E5: =E37*1.05 -> 189 | F5: =E5*C37 -> 8731.8 | G5: =E5*1.05 -> 198.45 | H5: =G5*C37 -> 9168.39 | K5: coroas | L5: 1 | M5: =C5 -> 67.5 | N5: =M5*M29 -> 1038.15 | O5: =E5 -> 189 | P5: =(O5*M29) -> 2906.82 | Q5: =O5*1.05 -> 198.45 | R5: =Q5*M29 -> 3052.161
A6: ramos funeral | B6: 1 | C6: =(B38/2)+B38*4 -> 67.5 | D6: =C6*C38 -> 1317.8143 | E6: =E38*1.05 -> 189 | F6: =E6*C38 -> 3689.8801 | G6: =E6*1.05 -> 198.45 | H6: =G6*C38 -> 3874.3741 | K6: ramos funeral | L6: 1 | M6: =C6 -> 67.5 | N6: =M6*M30 -> 612.225 | O6: =E6 -> 189 | P6: =(O6*M30) -> 1714.23 | Q6: =O6*1.05 -> 198.45 | R6: =Q6*M30 -> 1799.9415
A7: Ramos oferta | B7: 1 | C7: =(B39/2)+B39*4 -> 135 | D7: =C7*C39 -> 1598.2312 | E7: =SUM(E39:F39)*1.05 -> 441 | F7: =E7*C39 -> 5220.8888 | G7: =E7*1.05 -> 463.05 | H7: =G7*C39 -> 5481.9332 | K7: ramos oferta | L7: 1 | M7: =C7 -> 135 | N7: =M7*M31 -> 742.5 | O7: =E7 -> 441 | P7: =(O7*M31) -> 2425.5 | Q7: =O7*1.05 -> 463.05 | R7: =Q7*M31 -> 2546.775
A8: Ramos secos | B8: 1 | C8: =(B40/2)+B40*4 -> 27 | D8: =C8*C40 -> 232.47 | E8: =E40*1.05 -> 75.6 | F8: =E8*C40 -> 650.916 | G8: =E8*1.05 -> 79.38 | H8: =G8*C40 -> 683.4618 | K8: Ramos Secos | L8: 1 | M8: =C8 -> 27 | N8: =M8*M32 -> 108 | O8: =E8 -> 75.6 | P8: =(O8*M32) -> 302.4 | Q8: =O8*1.05 -> 79.38 | R8: =Q8*M32 -> 317.52
A9: Plantas | B9: 1 | C9: =(B41/2)+B41*4 -> 45 | D9: =C9*C41 -> 387.45 | E9: =E41*1.05 -> 126 | F9: =E9*C41 -> 1084.86 | G9: =E9*1.05 -> 132.3 | H9: =G9*C41 -> 1139.103 | K9: plantas | L9: 1 | M9: =C9 -> 45 | N9: =M9*M33 -> 180 | O9: =E9 -> 126 | P9: =(O9*M33) -> 504 | Q9: =O9*1.05 -> 132.3 | R9: =Q9*M33 -> 529.2
A10: cestas | B10: 1 | C10: =(B42/2)+B42*4 -> 67.5 | D10: =C10*C42 -> 799.11562 | E10: =SUM(E42:F42)*1.05 -> 220.5 | F10: =E10*C42 -> 2610.4444 | G10: =E10*1.05 -> 231.525 | H10: =G10*C42 -> 2740.9666 | K10: cestas | L10: 1 | M10: =C10 -> 67.5 | N10: =M10*M34 -> 371.25 | O10: =E10 -> 220.5 | P10: =(O10*M34) -> 1212.75 | Q10: =O10*1.05 -> 231.525 | R10: =Q10*M34 -> 1273.3875
A11: flores p/ Dec casamentos | B11: 1 | C11: 1 | D11: =C11*C43 -> 118.3875 | E11: 4 | F11: =E11*C43 -> 473.55 | G11: 5 | H11: =G11*C43 -> 591.9375 | K11: flores p/ Dec casamentos | L11: 1 | M11: =C11 -> 1 | N11: =M11*M35 -> 55 | O11: =E11 -> 4 | P11: =(O11*M35) -> 220 | Q11: =O11*1.05 -> 4.2 | R11: =Q11*M35 -> 231
A12: Flores p/ Ramos noiva | B12: 1 | C12: 1 | D12: =C12*C44 -> 64.575 | E12: 4 | F12: =E12*C44 -> 258.3 | G12: 5 | H12: =G12*C44 -> 322.875 | K12: Flores p/ Ramos noiva | L12: 1 | M12: =C12 -> 1 | N12: =M12*M36 -> 30 | O12: =E12 -> 4 | P12: =(O12*M36) -> 120 | Q12: =O12*1.05 -> 4.2 | R12: =Q12*M36 -> 126
A13: Cravos (molho) | B13: 1 | C13: =(B45/2)+B45*4 -> 36 | D13: =C13*C45 -> 154.98 | E13: =C13*1.05 -> 37.8 | F13: =E13*C45 -> 162.729 | G13: =E13*1.05 -> 39.69 | H13: =G13*C45 -> 170.86545 | K13: Cravos (molho) | L13: 1 | M13: =C13 -> 36 | N13: =M13*M37 -> 72 | O13: =O37+P37 -> 100 | P13: =(O13*M37) -> 200 | Q13: =O13*1.05 -> 105 | R13: =Q13*M37 -> 210
A14: Margaridas (molho) | B14: 1 | C14: =(B46/2)+B46*4 -> 36 | D14: =C14*C46 -> 139.482 | E14: =C14*1.05 -> 37.8 | F14: =E14*C46 -> 146.4561 | G14: =E14*1.05 -> 39.69 | H14: =G14*C46 -> 153.77891 | K14: Margaridas (molho) | L14: 1 | M14: =C14 -> 36 | N14: =M14*M38 -> 64.8 | O14: =O38+P38 -> 100 | P14: =(O14*M38) -> 180 | Q14: =O14*1.05 -> 105 | R14: =Q14*M38 -> 189
A19: Total | C19: =SUM(C5:C14) -> 483.5 | D19: =SUM(D5:D14) -> 7931.0057 | E19: =SUM(E5:E14) -> 1324.7 | F19: =SUM(F5:F14) -> 23029.824 | G19: =SUM(G5:G14) -> 1392.535 | H19: =SUM(H5:H14) -> 24327.686
A22: calculei para o mês de Agosto a venda de apenas 50% do nº de unidades estivamdas para os meses seguintes tendo em conta que se trata do 1º mês
K25: Total | M25: =SUM(M5:M13) -> 447.5 | N25: =SUM(N5:N12) -> 3137.125 | O25: =SUM(O5:O14) -> 1449.1 | P25: =SUM(P5:P12) -> 9405.7 | Q25: =SUM(Q5:Q14) -> 1521.555 | R25: =SUM(R5:R12) -> 9875.985
K27: custos das mercadorias por mês/ano (valor s/ iva)
K28: produto | L28: unid p/ mês | M28: valor/und | N28: total mês | O28: total unid/ano | P28: (somar)Fev/Maio/Nov | Q28: total € ano
J29: 60 | K29: coroas | L29: 15 | M29: 15.38 | N29: =L29*M29 -> 230.7 | O29: =L29*12 -> 180 | Q29: =O29*M29 -> 2768.4
J30: 25 | K30: ramos funeral | L30: 15 | M30: 9.07 | N30: =L30*M30 -> 136.05 | O30: =L30*12 -> 180 | Q30: =O30*M30 -> 1632.6
J31: 15 | K31: ramos oferta | L31: 30 | M31: 5.5 | N31: =L31*M31 -> 165 | O31: =L31*12 -> 360 | P31: 30 | Q31: =(O31+P31)*M31 -> 2145
J32: 10 | K32: Ramos Secos | L32: 6 | M32: 4 | N32: =L32*M32 -> 24 | O32: =L32*12 -> 72 | Q32: =N32*12 -> 288
J33: 10 | K33: plantas | L33: 10 | M33: 4 | N33: =L33*M33 -> 40 | O33: =L33*12 -> 120 | Q33: =N33*12 -> 480
J34: 15 | K34: cestas | L34: 15 | M34: 5.5 | N34: =L34*M34 -> 82.5 | O34: =L34*12 -> 180 | P34: 14 | Q34: =(P34+O34)*M34 -> 1067
A35: vendas por mês/ano | J35: 150 | K35: Arranjos Florais p/ Dec casamentos | M35: 55 | N35: =L35*M35 -> 0 | O35: 3 | Q35: =O35*M35 -> 165
A36: produto | B36: unid p/ mês | C36: valor/und s/ iva | D36: total mês s/ iva | E36: total unid/ano | F36: Fev/Maio | G36: total € ano | J36: 80 | K36: Flores p/ Ramos noiva | M36: 30 | N36: =L36*M36 -> 0 | O36: 3 | Q36: =O36*M36 -> 90
A37: coroas | B37: 15 | C37: 46.2 | D37: =B37*C37 -> 693 | E37: =B37*12 -> 180 | G37: =E37*C37 -> 8316 | K37: Cravos (molho) | L37: 8 | M37: 2 | N37: =M37*L37 -> 16 | O37: =L37*12 -> 96 | P37: 4 | Q37: =(O37+P37)*M37 -> 200
A38: ramos funeral | B38: 15 | C38: =(M30*1.23)*1.75 -> 19.523175 | D38: =B38*C38 -> 292.84763 | E38: =B38*12 -> 180 | G38: =E38*C38 -> 3514.1715 | K38: Margaridas (molho) | L38: 8 | M38: 1.8 | N38: =M38*L38 -> 14.4 | O38: =L38*12 -> 96 | P38: 4 | Q38: =(O38+P38)*M38 -> 180
A39: ramos oferta | B39: 30 | C39: =(M31*1.23)*1.75 -> 11.83875 | D39: =B39*C39 -> 355.1625 | E39: =B39*12 -> 360 | F39: 60 | G39: =(E39+F39)*C39 -> 4972.275
A40: Ramos Secos | B40: 6 | C40: =(M32*1.23)*1.75 -> 8.61 | D40: =B40*C40 -> 51.66 | E40: =B40*12 -> 72 | G40: =D40*12 -> 619.92
A41: plantas | B41: 10 | C41: =(M33*1.23)*1.75 -> 8.61 | D41: =B41*C41 -> 86.1 | E41: =B41*12 -> 120 | G41: =D41*12 -> 1033.2
A42: cestas | B42: 15 | C42: =(M34*1.23)*1.75 -> 11.83875 | D42: =B42*C42 -> 177.58125 | E42: =B42*12 -> 180 | F42: 30 | G42: =(F42+E42)*C42 -> 2486.1375
A43: flores p/ Dec casamentos | C43: =(M35*1.23)*1.75 -> 118.3875 | D43: =B43*C43 -> 0 | E43: 4 | G43: =E43*C43 -> 473.55 | K43: Total | N43: =SUM(N29:N38) -> 708.65 | O43: =SUM(O29:O34) -> 1092 | Q43: =SUM(Q29:Q34) -> 8381
A44: Flores p/ Ramos noiva | C44: =(M36*1.23)*1.75 -> 64.575 | D44: =B44*C44 -> 0 | E44: 4 | G44: =E44*C44 -> 258.3
A45: Cravos (molho) | B45: 8 | C45: =(M37*1.23)*1.75 -> 4.305 | D45: =B45*C45 -> 34.44
A46: Margaridas (molho) | B46: 8 | C46: =(M38*1.23)*1.75 -> 3.8745 | D46: =B46*C46 -> 30.996
A49: Total | D49: =SUM(D37:D45) -> 1690.7914 | E49: =SUM(E37:E42) -> 1092 | G49: =SUM(G37:G42) -> 20941.704

Sheet 7.1 inv e financ
A1: Investimento | D1: 2013 | J1: activos fixos tangíveis | M1: total | N1: (diversos) | O1: 9.9 | Q1: Fundo Maneio
A2: 1 - propriedades de investimento | J2: equipamento básico | O2: 9.9 | R2: valor mensal * nº meses
A3: terrenos | J3: factura1-berta | K3: suporte coroas | L3: 52 | O3: 11 | P3: caução | Q3: 340 | R3: (170*2)
A4: Edificios e outras const | K4: tesouras | L4: 12.35 | O4: 7.5 | P4: renda | Q4: 510 | R4: (170*3)
A5: 2- Activos fixos Tangíveis | K5: tira picos | L5: 15.3 | O5: 2.6 | P5: ordenado | Q5: 800 | R5: (400*2)
A6: terrenos | K6: aplicador cola | L6: 12.9 | O6: 20.14 | P6: luz | Q6: 70 | R6: (35*2)
A7: edificios | K7: porta preços | L7: 3.25 | O7: 20.84 | P7: água | Q7: 40 | R7: (20*2)
A8: equipamentos básicos | D8: =L10+L8 -> 274.66 | K8: total | L8: =SUM(L3:L7) -> 95.8 | O8: 11.8 | P8: comunicações | Q8: 79.8 | R8: (39,9*2)
A9: equipamento transporte | O9: 11.8 | P9: seguro | Q9: 25 | R9: (25*2)
A10: equip administrativo | D10: 60.83 | J10: factura 2 | K10: mobiliário | L10: 178.86 | O10: 11.8 | P10: gasolina | Q10: 200 | R10: (200*2)
A11: equip biológicos | M11: =L10+L8 -> 274.66 | O11: 11.8 | P11: seg social | Q11: 437.04 | R11: (145,68*3)
A12: 3- Activos fixos Intagíveis | J12: equipamento administrativo | O12: 11.8 | P12: contabilista | Q12: 135.3 | R12: (67,65*2)
A13: Goodwill | J13: factura 3 | K13: gaveta moedas | L13: 60.83 | O13: 14.8 | P13: total | Q13: =SUM(Q3:Q12) -> 2637.14
A14: Proj Des. | M14: 60.83 | O14: 9.75
A15: Programas computador | D15: 60.83 | O15: 7.04
A16: Prop Indust | J16: activos fixos intangíveis | O16: 8.55
A17: outros | O17: 9.45
A18: 4 - Diversos | D18: =M26 -> 1300.06 | J18: factura 4 | K18: programas computador | L18: 60.83 | O18: 10.92
A19: 5 - Fundo Maneio | D19: =Q13 -> 2637.14 | M19: 60.83 | O19: 4.12
A20: Total | D20: =SUM(D2:D19) -> 4333.52 | O20: 10
J21: Diversos | O21: 3.3
J22: Factura 5 - berta | K22: 441.95 | O22: 3.3
A23: 7.2- Financiamento do Investimento | J23: factura 6 florineve | K23: 808.11 | O23: 16.9
J24: Cartões | K24: 50 | O24: 21.25
A25: Investimento | D25: 2013 | O25: 10.4
A26: 1 - Capitais Próprios | M26: =K22+K23+K24 -> 1300.06 | O26: 12.35
A27: Capital (social/Inicial) | O27: 23.5
A28: Recebimento ant de prestações desmp | D28: =D20 -> 4333.52 | O28: 12.6
A29: outros | O29: 8.1
A30: 2 - Capitais alheios | O30: 36
A31: emp sócios | O31: 28.56
A32: emp bancários | O32: 21.6
A33: créditos fornecedores | O33: 7.68
A34: outros capitais alheios | O34: 5.4
A35: Total | D35: =SUM(D26:D34) -> 4333.52 | O35: 11.42
O36: 4.08
N37: total | O37: =SUM(O1:O36) -> 441.95

Sheet 11- Fornec serv extern
A1: valores com iva
A2: Código Contas | B2: Descrição | C2: Valor em (€) 2013 | D2: Valor em (€) 2014 | E2: Valor em (€) 2015
A3: 62 | B3: Fornecimentos e Serviços Externos | C3: =C4+C5+C14+C20+C25+C30 -> 2224.25 | D3: =D4+D5+D14+D20+D25+D30 -> 5432.1 | E3: =E4+E5+E14+E20+E25+E30 -> 5432.1
A4: 62.1 | B4: Subcontratos | C4: 0 | D4: 0 | E4: 0
A5: 62.2 | B5: Serviços Especializados | C5: =C6+C7+C8+C9+C10+C11+C12+C13 -> 399.75 | D5: =D6+D7+D8+D9+D10+D11+D12+D13 -> 1053.3 | E5: =E6+E7+E8+E9+E10+E11+E12+E13 -> 1053.3
A6: 62.2.1 | B6: Trabalhos Especializados: Avença TOC- 55 €/mês+IVA (5 meses 2013 + 12 meses 2014 e 2015) | C6: =67.65*5 -> 338.25 | D6: =67.65*12 -> 811.8 | E6: =67.65*12 -> 811.8
A7: 62.2.2 | B7: Publicidade e Propaganda | C7: 61.5 | D7: =61.5+180 -> 241.5 | E7: =61.5+180 -> 241.5
A8: 62.2.3 | B8: Vigilância e Segurança | C8: 0 | D8: 0 | E8: 0
A9: 62.2.4 | B9: Honorários | C9: 0 | D9: 0 | E9: 0
A10: 62.2.5 | B10: Comissões | C10: 0 | D10: 0 | E10: 0
A11: 62.2.6 | B11: Conservação e Reparação: | C11: 0 | D11: 0 | E11: 0
A12: 62.2.7 | B12: Despesas bancárias: | C12: 0 | D12: 0 | E12: 0
A13: 62.2.8 | B13: Outros | C13: 0 | D13: 0 | E13: 0
A14: 62.3 | B14: Materiais | C14: =C15+C16+C17+C18+C19 -> 0 | D14: =D15+D16+D17+D18+D19 -> 0 | E14: =E15+E16+E17+E18+E19 -> 0
A15: 62.3.1 | B15: Ferramentas e Utensílios de desgaste rápido | C15: 0 | D15: 0 | E15: 0
A16: 62.3.2 | B16: Livros e documentação Técnica | C16: 0 | D16: 0 | E16: 0
A17: 62.3.3 | B17: Material de escritório: | C17: 0 | D17: 0 | E17: 0
A18: 62.3.4 | B18: Artigos para ofertas | C18: 0 | D18: 0 | E18: 0
A19: 62.3.8 | B19: Outros | C19: 0 | D19: 0 | E19: 0
A20: 62.4 | B20: Energia e fluídos | C20: =C21+C22+C23+C24 -> 775 | D20: =D21+D22+D23+D24 -> 1860 | E20: =E21+E22+E23+E24 -> 1860
A21: 62.4.1 | B21: Electricidade 35 €/mês + IVA (5 meses 2013 +12 meses 2014 e 2015) | C21: =35*5 -> 175 | D21: =35*12 -> 420 | E21: =35*12 -> 420
A22: 62.4.2 | B22: Combustíveis: | C22: =100*5 -> 500 | D22: =100*12 -> 1200 | E22: =100*12 -> 1200
A23: 62.4.3 | B23: Água 20 €/mês + IVA (5 meses 2013 +12 meses 2014 e 2015) | C23: =20*5 -> 100 | D23: =20*12 -> 240 | E23: =20*12 -> 240
A24: 62.4.8 | B24: Outros | C24: 0 | D24: 0 | E24: 0
A25: 62.5 | B25: Deslocações, estadas e transportes | C25: =C26+C27+C28+C29 -> 0 | D25: =D26+D27+D28+D29 -> 0 | E25: =E26+E27+E28+E29 -> 0
A26: 62.5.1 | B26: Deslocações e estadas | C26: 0 | D26: 0 | E26: 0
A27: 62.5.2 | B27: Transportes de pessoal | C27: 0 | D27: 0 | E27: 0
A28: 62.5.3 | B28: Transportes de mercadorias | C28: 0 | D28: 0 | E28: 0
A29: 62.5.8 | B29: Outros | C29: 0 | D29: 0 | E29: 0
A30: 62.6 | B30: Serviços Diversos | C30: =C31+C32+C33+C34+C35+C36+C37+C38 -> 1049.5 | D30: =D31+D32+D33+D34+D35+D36+D37+D38 -> 2518.8 | E30: =E31+E32+E33+E34+E35+E36+E37+E38 -> 2518.8
A31: 62.6.1 | B31: Rendas e alugueres | C31: =170*5 -> 850 | D31: =170*12 -> 2040 | E31: =170*12 -> 2040
A32: 62.6.2 | B32: Comunicação: 55 €/mês + IVA (5 meses 2013 +12 meses 2014 e 2015) | C32: =39.9*5 -> 199.5 | D32: =39.9*12 -> 478.8 | E32: =39.9*12 -> 478.8
A33: 62.6.3 | B33: Seguros (Que tipo de seguro multirisco, vida….) | C33: 0 | D33: 0 | E33: 0
A34: 62.6.4 | B34: Royalties | C34: 0 | D34: 0 | E34: 0
A35: 62.6.5 | B35: Contencioso e notariado | C35: 0 | D35: 0 | E35: 0
A36: 62.6.6 | B36: Despesas de representação | C36: 0 | D36: 0 | E36: 0
A37: 62.6.7 | B37: Limpeza, higiene e conforto | C37: 0 | D37: 0 | E37: 0
A38: 62.6.8 | B38: Outros Serviços | C38: 0 | D38: 0 | E38: 0
A41: Código Contas | B41: Descrição | C41: Valor em (€) por ano | D41: Valor em (€) por ano | E41: Valor em (€) por ano
A42: 63 | B42: Gastos com o pessoal | C42: =C43+C44+C46+C48+C51 -> 853.4 | D42: =D43+D44+D46+D48+D51 -> 2048.16 | E42: =E43+E44+E46+E48+E51 -> 2048.16
...

Sheet 13- gastos de depreciação e amo
A1: 13 - Gastos de Depreciação e amortização
A3: Propriedades de investimento | C3: Factura/orçamento | D3: Valor | E3: Taxa | F3: Amortização
A5: Activos Fixos Tangíveis
A6: equip básico mobiliar. | C6: FP nº | D6: ='7.1 inv e financ'!D8 -> 274.66 | E6: 1 | F6: =D6*E6 -> 274.66
A7: equip adminst | C7: FPnº | D7: ='7.1 inv e financ'!D10 -> 60.83 | E7: 1 | F7: =D7*E7 -> 60.83
A9: Activos Fixos intangíveis
A10: programas comp | C10: FP nº | D10: ='7.1 inv e financ'!D15 -> 60.83 | E10: 1 | F10: =D10*E10 -> 60.83
A13: Total | F13: =F6+F7+F10 -> 396.32

Sheet 15,2 Demonst Resultados Previs.
A1: 15- Demonstração dos Resultados Previsional
A2: Modelo do NCM
D3: (Unid:Euros)
A4: Descrição (Modelo do NCM) | B4: 2013 | C4: 2014 | D4: 2015
A5: Vendas e Serviços Prestados | B5: ='9-venda bens 10-cons mercd'!D19 -> 7931.0057 | C5: ='9-venda bens 10-cons mercd'!F19 -> 23029.824 | D5: ='9-venda bens 10-cons mercd'!H19 -> 24327.686
A6: Subsídios à exploração | B6: ='7.1 inv e financ'!D28 -> 4333.52 | C6: 0 | D6: 0
A7: Variação nos Inventários da produção | B7: 0 | C7: 0 | D7: 0
A8: Trabalhos para a própria entidade | B8: 0 | C8: 0 | D8: 0
A9: Custo Mercadorias Vendidas e das Matérias Consumidas | B9: 3137.13 | C9: 9405.7 | D9: 9875.99
A10: Fornecimentos e Serviços Externos | B10: ='11- Fornec serv extern'!C3 -> 2224.25 | C10: ='11- Fornec serv extern'!D3 -> 5432.1 | D10: ='11- Fornec serv extern'!E3 -> 5432.1
A11: Gastos com Pessoal | B11: ='11- Fornec serv extern'!C42 -> 853.4 | C11: ='11- Fornec serv extern'!D42 -> 2048.16 | D11: ='11- Fornec serv extern'!E42 -> 2048.16
A12: Imparidades (perdas/reversões) | B12: 0 | C12: 0 | D12: 0
A13: Provisões (aumentos/reduções) | B13: 0 | C13: 0 | D13: 0
A14: Outros rendimentos e ganhos | B14: 0 | C14: 0 | D14: 0
A15: Outros gastos e perdas | B15: 0 | C15: 0 | D15: 0
A16: Resultado antes de depreciações, gastos de financiamento e impostos | B16: =B5+B6+B7+B8-B9-B10-B11-B12-B13-+B14-B15 -> 6049.7457 | C16: =C5+C6+C7+C8-C9-C10-C11-C12-C13+C14-C15 -> 6143.8643 | D16: =D5+D6+D7+D8-D9-D10-D11-D12-D13+D14-D15 -> 6971.4355
A17: Gastos/reversões de depreciação e de amortização | B17: ='13- gastos de depreciação e amo'!F13 -> 396.32 | C17: 0 | D17: 0
A18: Resultado Operacionais (antes de gastos de financiamento e impostos) | B18: =B16-B17 -> 5653.4257 | C18: =C16-C17 -> 6143.8643 | D18: =D16-D17 -> 6971.4355
A19: Gasto líquido de financiamento | B19: 0 | C19: 0 | D19: 0
A20: Resultado antes dos impostos | B20: =B18-B19 -> 5653.4257 | C20: =C18-C19 -> 6143.8643 | D20: =D18-D19 -> 6971.4355
A21: Impostos s/rendimentos do período | B21: =(B20*0.2)+(B20*0.015) -> 1215.4865 | C21: =(C20*0.25)+(C20*0.015) -> 1628.124 | D21: =(D20*0.25)+(D18*0.015) -> 1847.4304
A22: Resultado líquido do período | B22: =B20-B21 -> 4437.9392 | C22: =C20-C21 -> 4515.7403 | D22: =D20-D21 -> 5124.0051
A26: se optar por ser ENI-regime simplificado a taxa a aplicar é de 20% ??? + 1,5% derrama

Sheet 16,2 -Balanço
A1: 16-Balanço Previsional
A2: Modelo do NCM
D3: (Unid:Euros)
A4: ATIVO (Modelo do NCM) | B4: 2013 | C4: 2014 | D4: 2015
A5: ATIVO NÃO CORRENTE | B5: =B6+B7+B8+B9 -> 0 | C5: =C6+C7+C8+C9 -> 0 | D5: =D6+D7+D8+D9 -> 0
A6: Ativos fixos tangíveis | B6: =(178.86+64.23)-(178.86+64.23) -> 0 | C6: 0 | D6: 0
A7: Ativos intangíveis | B7: =(60.83)-(60.83) -> 0 | C7: 0 | D7: 0
A8: Investimentos financeiros | B8: 0 | C8: 0 | D8: 0
A9: Acionistas/sócios | B9: 0 | C9: 0 | D9: 0
A10: ATIVO CORRENTE | B10: =B11+B12+B13+B14+B15+B16 -> 4583.62 | C10: =SUM(C11:C16) -> 9099.36 | D10: =D11+D12+D13+D14+D15+D16 -> 5269.69
A11: Inventários | B11: 0 | C11: 0 | D11: 0
A12: Clientes | B12: 0 | C12: 0 | D12: 0
A13: Estado e outros entes públicos | B13: 0 | C13: 0 | D13: 0
A14: Diferimentos | B14: 0 | C14: 0 | D14: 0
A15: Outros ativos correntes | B15: 0 | C15: 0 | D15: 0
A16: Caixa e depósitos bancários | B16: 4583.62 | C16: 9099.36 | D16: 5269.69
A17: TOTAL DO ATIVO | B17: =B25+B36 -> 4583.6192 | C17: =C25+C36 -> 9099.3594 | D17: =D25+D36 -> 5269.6851
A18: CAPITAL PRÓPRIO (Modelo do NCM)
A19: Capital realizado | B19: 0 | C19: 0 | D19: =B19 -> 0
A20: Outros instrumentos de capital próprio | B20: 0 | C20: 0 | D20: 0
A21: Reservas | B21: 0 | C21: =B24*0.05 -> 221.89696 | D21: =(B24*0.05)+(C24*0.05) -> 447.68397
A22: Resultados Transitados | B22: 0 | C22: =B24-C21 -> 4216.0422 | D22: =C24-D21 -> 4068.0563
A23: Outras variações no capital próprio | B23: 0 | C23: 0 | D23: 0
A24: Resultado líquido do período | B24: ='15,2 Demonst Resultados Previs.'!B22 -> 4437.9392 | C24: ='15,2 Demonst Resultados Previs.'!C22 -> 4515.7403 | D24: =[1]DR!D20 -> 0
A25: TOTAL DO CAPITAL PRÓPRIO | B25: =SUM(B19:B24) -> 4437.9392 | C25: =SUM(C19:C24) -> 8953.6794 | D25: ='15,2 Demonst Resultados Previs.'!D22 -> 5124.0051
A26: PASSIVO (Modelo do NCM)
A27: PASSIVO NÃO CORRENTE | B27: =B28+B29+B30 -> 0 | C27: =C28+C29+C30 -> 0 | D27: =D28+D29+D30 -> 0
A28: Provisões | B28: 0 | C28: 0 | D28: 0
A29: Financiamentos obtidos | B29: 0 | C29: 0 | D29: 0
A30: Outras contas a pagar | B30: 0 | C30: 0 | D30: 0
A31: PASSIVO CORRENTE | B31: =B32+B33+B34+B35 -> 145.68 | C31: =C32+C33+C34+C35 -> 145.68 | D31: =D32+D33+D34+D35 -> 145.68
A32: Fornecedores | B32: 0 | C32: 0 | D32: 0
A33: Estado e outros entes públicos | B33: 145.68 | C33: 145.68 | D33: 145.68
A34: Diferimentos | B34: 0 | C34: 0 | D34: 0
A35: Outros passivos correntes | B35: 0 | C35: 0 | D35: 0
A36: TOTAL DO PASSIVO | B36: =B27+B31 -> 145.68 | C36: =C27+C31 -> 145.68 | D36: =D27+D31 -> 145.68
A37: TOTAL DO CAPITAL PRÓPRIO E DO PASSIVO | B37: =B25+B36 -> 4583.6192 | C37: =C25+C36 -> 9099.3594 | D37: =D25+D36 -> 5269.6851
B39: =B17-B37 -> 0 | C39: =C17-C37 -> 0 | D39: =D17-D37 -> 0
