Workbook

Sheet perguntas 28-05
A1: 1 - Na minha linha de raciocínio, o quadro 7-inv e financiamentos, serve para justificar onde vamos aplicar o subsídio que estamos a solicitar. Assim e tendo em conta que indicou que o mais correcto seria depois colocar estes gastos em 62.3.1- ferramentas e utensílios de desgaste rápido, retirei o valor dos activos fixos tangíveis e coloquei em Diversos juntamente com os valores da compra inicial de flores. Poderá ser?
A7: 2 - Tem conhecimento se o IEFP apenas pretende facturas pró-form para justificar o valor do quadro 7 ou temos também de apresentar facturas/orçamentpos para o quadro 11 - Fornec de serv externos (tal como água/luz/seguros) etc
A12: 3 - No quadro de FSE e tendo em conta que o mesmo é sem iva, coloco o valor da renda da loja aplicando um valor de 23% como se tivesse iva? :/
A18: 4- Ao colocar o valor das prestações do subsídio de desemprego na conta - Outros instrumentos de capital próprio estou a indicar que no ano final de 2013 irá transitar para o ano seguinte x valor, ou seja o subsídio de desemprego. Mas se este será todo gasto para arrancar com o negócio (para compra de material e outras coisas), logo não deverá aparecer no balanço. Estou a pensar mal?

Sheet Regras regimes
B2: Empresários Regime Simplificado: ESCALÃO SEGURANÇA SOCIAL - VN
I3: valor €
B5: ANO | C5: Vendas (1) | D5: Prestação Serviços (2) | E5: Volume de Negócios 3=(1+2) | F5: 20% s/vendas 4= (1)*0,20 | G5: 75% s/P.serv. 5=(2)*0,75 | H5: 20% s/P.serv. atividades hot./restaurac.beb. [6=(2)*0,20 quando aplicável] | I5: Rendimento Relevante VN 7= (4+5) ou [7=(4+6) quando aplicável] | J5: Rendimento mensal
B6: 2013 | C6: 7931.01 | D6: 0 | E6: =C6+D6 -> 7931.01 | F6: =C6*0.2 -> 1586.202 | G6: =D6*0.75 -> 0 | I6: =F6+G6 -> 1586.202 | J6: =I6/12 -> 132.1835 | K6: Estas são as regras que irão ocorrer na realidade
B7: 2014 | C7: 23029.82 | D7: 0 | E7: =C7+D7 -> 23029.82 | F7: =C7*0.2 -> 4605.964 | G7: =D7*0.75 -> 0 | I7: =F7+G7 -> 4605.964 | J7: =I7/12 -> 383.83033
B8: 2015 | C8: 24327.69 | D8: 0 | E8: =C8+D8 -> 24327.69 | F8: =C8*0.2 -> 4865.538 | G8: =D8*0.75 -> 0 | I8: =F8+G8 -> 4865.538 | J8: =I8/12 -> 405.4615
B11: Empresários com Contabilidade Organizada: ESCALÃO SEGURANÇA SOCIAL - VN ou RL
J12: valor €
B14: ANO | C14: Vendas (1) | D14: Prestação Serviços (2) | E14: Volume de Negócios 3=(1+2) | F14: 20% s/vendas 4= (1)*0,20 | G14: 75% s/P.serv. 5=(2)*0,75 | H14: 20% s/P.serv. atividades hot./restaurac.beb. [6=(2)*0,20 quando aplicável] | I14: Rendimento Relevante VN 7= (4+5) ou [7=(4+6) quando aplicável] | J14: Rendimento Relevante RL (valor do resultado líquido) | K14: Rendimento mensal (RL)
B15: 2013 | C15: 7931.01 | D15: 0 | E15: =C15+D15 -> 7931.01 | F15: =C15*0.2 -> 1586.202 | G15: =D15*0.75 -> 0 | I15: =F15+G15 -> 1586.202 | J15: 5716.68 | K15: =J15/12 -> 476.39 | L15: Estas são as regras com a aplicação mapas DR e Balanço
B16: 2014 | C16: 23029.82 | D16: 0 | E16: =C16+D16 -> 23029.82 | F16: =C16*0.2 -> 4605.964 | G16: =D16*0.75 -> 0 | I16: =F16+G16 -> 4605.964 | J16: 6295.66 | K16: =J16/12 -> 524.63833
B17: 2015 | C17: 24327.69 | D17: 0 | E17: =C17+D17 -> 24327.69 | F17: =C17*0.2 -> 4865.538 | G17: =D17*0.75 -> 0 | I17: =F17+G17 -> 4865.538 | J17: 7123.24 | K17: =J17/12 -> 593.60333
B19: Verifica-se que o Regime Simplificado é o mais relevante para a área de negócio que pretende inserir-se, de acordo
B20: com os elementos que previsionou de gastos e rendimentos.
B21: Uma vez que obtem menos gastos se aplicar as regras da contabilidade organizada, e usufruiu de mais gastos se aplicar
B22: o regime simplificado. Entregando menos imposto ao Estado.

Sheet 9-venda bens 10-cons mercd
A1: 9 - Vendas de bens ou serviços do Projeto (valor a receber do clt s/ iva) | K1: 10- Consumo de Mercadorias, matérias primas e subsid projecto (s/ iva) | Q1: crescimento 5%
H2: 5% ano
A3: Designação | B3: Unid Física | C3: 2013 (Agosto/Dezemb) | E3: 2014 | G3: 2015 | K3: Designação | L3: Unid Física | M3: 2013 (Agosto a Dezembro) | O3: 2014 | Q3: 2015
C4: Quant | D4: Valor | E4: Quant | F4: Valor | G4: Quant | H4: Valor | M4: Quant | N4: Valor | O4: Quant | P4: Valor | Q4: Quant | R4: Valor
A5: coroas funeral | B5: 1 | C5: =(B37/2)+B37*4 -> 67.5 | D5: =C5*C37 -> 3118.5 | E5: =E37*1.05 -> 189 | F5: =E5*C37 -> 8731.8 | G5: =E5*1.05 -> 198.45 | H5: =G5*C37 -> 9168.39 | K5: coroas | L5: 1 | M5: =C5 -> 67.5 | N5: =M5*M29 -> 1038.15 | O5: =E5 -> 189 | P5: =(O5*M29) -> 2906.82 | Q5: =O5*1.05 -> 198.45 | R5: =Q5*M29 -> 3052.161
A6: ramos funeral | B6: 1 | C6: =(B38/2)+B38*4 -> 67.5 | D6: =C6*C38 -> 1317.8143 | E6: =E38*1.05 -> 189 | F6: =E6*C38 -> 3689.8801 | G6: =E6*1.05 -> 198.45 | H6: =G6*C38 -> 3874.3741 | K6: ramos funeral | L6: 1 | M6: =C6 -> 67.5 | N6: =M6*M30 -> 612.225 | O6: =E6 -> 189 | P6: =(O6*M30) -> 1714.23 | Q6: =O6*1.05 -> 198.45 | R6: =Q6*M30 -> 1799.9415
A7: Ramos oferta | B7: 1 | C7: =(B39/2)+B39*4 -> 135 | D7: =C7*C39 -> 1598.2312 | E7: =SUM(E39:F39)*1.05 -> 441 | F7: =E7*C39 -> 5220.8888 | G7: =E7*1.05 -> 463.05 | H7: =G7*C39 -> 5481.9332 | K7: ramos oferta | L7: 1 | M7: =C7 -> 135 | N7: =M7*M31 -> 742.5 | O7: =E7 -> 441 | P7: =(O7*M31) -> 2425.5 | Q7: =O7*1.05 -> 463.05 | R7: =Q7*M31 -> 2546.775
A8: Ramos secos | B8: 1 | C8: =(B40/2)+B40*4 -> 27 | D8: =C8*C40 -> 232.47 | E8: =E40*1.05 -> 75.6 | F8: =E8*C40 -> 650.916 | G8: =E8*1.05 -> 79.38 | H8: =G8*C40 -> 683.4618 | K8: Ramos Secos | L8: 1 | M8: =C8 -> 27 | N8: =M8*M32 -> 108 | O8: =E8 -> 75.6 | P8: =(O8*M32) -> 302.4 | Q8: =O8*1.05 -> 79.38 | R8: =Q8*M32 -> 317.52
A9: Plantas | B9: 1 | C9: =(B41/2)+B41*4 -> 45 | D9: =C9*C41 -> 387.45 | E9: =E41*1.05 -> 126 | F9: =E9*C41 -> 1084.86 | G9: =E9*1.05 -> 132.3 | H9: =G9*C41 -> 1139.103 | K9: plantas | L9: 1 | M9: =C9 -> 45 | N9: =M9*M33 -> 180 | O9: =E9 -> 126 | P9: =(O9*M33) -> 504 | Q9: =O9*1.05 -> 132.3 | R9: =Q9*M33 -> 529.2
A10: cestas | B10: 1 | C10: =(B42/2)+B42*4 -> 67.5 | D10: =C10*C42 -> 799.11562 | E10: =SUM(E42:F42)*1.05 -> 220.5 | F10: =E10*C42 -> 2610.4444 | G10: =E10*1.05 -> 231.525 | H10: =G10*C42 -> 2740.9666 | K10: cestas | L10: 1 | M10: =C10 -> 67.5 | N10: =M10*M34 -> 371.25 | O10: =E10 -> 220.5 | P10: =(O10*M34) -> 1212.75 | Q10: =O10*1.05 -> 231.525 | R10: =Q10*M34 -> 1273.3875
A11: flores p/ Dec casamentos | B11: 1 | C11: 1 | D11: =C11*C43 -> 118.3875 | E11: 4 | F11: =E11*C43 -> 473.55 | G11: 5 | H11: =G11*C43 -> 591.9375 | K11: flores p/ Dec casamentos | L11: 1 | M11: =C11 -> 1 | N11: =M11*M35 -> 55 | O11: =E11 -> 4 | P11: =(O11*M35) -> 220 | Q11: =O11*1.05 -> 4.2 | R11: =Q11*M35 -> 231
A12: Flores p/ Ramos noiva | B12: 1 | C12: 1 | D12: =C12*C44 -> 64.575 | E12: 4 | F12: =E12*C44 -> 258.3 | G12: 5 | H12: =G12*C44 -> 322.875 | K12: Flores p/ Ramos noiva | L12: 1 | M12: =C12 -> 1 | N12: =M12*M36 -> 30 | O12: =E12 -> 4 | P12: =(O12*M36) -> 120 | Q12: =O12*1.05 -> 4.2 | R12: =Q12*M36 -> 126
A13: Cravos (molho) | B13: 1 | C13: =(B45/2)+B45*4 -> 36 | D13: =C13*C45 -> 154.98 | E13: =C13*1.05 -> 37.8 | F13: =E13*C45 -> 162.729 | G13: =E13*1.05 -> 39.69 | H13: =G13*C45 -> 170.86545 | K13: Cravos (molho) | L13: 1 | M13: =C13 -> 36 | N13: =M13*M37 -> 72 | O13: =O37+P37 -> 100 | P13: =(O13*M37) -> 200 | Q13: =O13*1.05 -> 105 | R13: =Q13*M37 -> 210
A14: Margaridas (molho) | B14: 1 | C14: =(B46/2)+B46*4 -> 36 | D14: =C14*C46 -> 139.482 | E14: =C14*1.05 -> 37.8 | F14: =E14*C46 -> 146.4561 | G14: =E14*1.05 -> 39.69 | H14: =G14*C46 -> 153.77891 | K14: Margaridas (molho) | L14: 1 | M14: =C14 -> 36 | N14: =M14*M38 -> 64.8 | O14: =O38+P38 -> 100 | P14: =(O14*M38) -> 180 | Q14: =O14*1.05 -> 105 | R14: =Q14*M38 -> 189
A19: Total | C19: =SUM(C5:C14) -> 483.5 | D19: =SUM(D5:D14) -> 7931.0057 | E19: =SUM(E5:E14) -> 1324.7 | F19: =SUM(F5:F14) -> 23029.824 | G19: =SUM(G5:G14) -> 1392.535 | H19: =SUM(H5:H14) -> 24327.686
A22: calculei para o mês de Agosto a venda de apenas 50% do nº de unidades estivamdas para os meses seguintes tendo em conta que se trata do 1º mês
K25: Total | M25: =SUM(M5:M13) -> 447.5 | N25: =SUM(N5:N12) -> 3137.125 | O25: =SUM(O5:O14) -> 1449.1 | P25: =SUM(P5:P12) -> 9405.7 | Q25: =SUM(Q5:Q14) -> 1521.555 | R25: =SUM(R5:R12) -> 9875.985
K27: custos das mercadorias por mês/ano (valor s/ iva)
K28: produto | L28: unid p/ mês | M28: valor/und | N28: total mês | O28: total unid/ano | P28: (somar)Fev/Maio/Nov | Q28: total € ano
K29: coroas | L29: 15 | M29: 15.38 | N29: =L29*M29 -> 230.7 | O29: =L29*12 -> 180 | Q29: =O29*M29 -> 2768.4
K30: ramos funeral | L30: 15 | M30: 9.07 | N30: =L30*M30 -> 136.05 | O30: =L30*12 -> 180 | Q30: =O30*M30 -> 1632.6
K31: ramos oferta | L31: 30 | M31: 5.5 | N31: =L31*M31 -> 165 | O31: =L31*12 -> 360 | P31: 30 | Q31: =(O31+P31)*M31 -> 2145
K32: Ramos Secos | L32: 6 | M32: 4 | N32: =L32*M32 -> 24 | O32: =L32*12 -> 72 | Q32: =N32*12 -> 288
K33: plantas | L33: 10 | M33: 4 | N33: =L33*M33 -> 40 | O33: =L33*12 -> 120 | Q33: =N33*12 -> 480
K34: cestas | L34: 15 | M34: 5.5 | N34: =L34*M34 -> 82.5 | O34: =L34*12 -> 180 | P34: 14 | Q34: =(P34+O34)*M34 -> 1067
A35: vendas por mês/ano | K35: Arranjos Florais p/ Dec casamentos | M35: 55 | N35: =L35*M35 -> 0 | O35: 3 | Q35: =O35*M35 -> 165
A36: produto | B36: unid p/ mês | C36: valor/und s/ iva | D36: total mês s/ iva | E36: total unid/ano | F36: Fev/Maio | G36: total € ano | K36: Flores p/ Ramos noiva | M36: 30 | N36: =L36*M36 -> 0 | O36: 3 | Q36: =O36*M36 -> 90
A37: coroas | B37: 15 | C37: 46.2 | D37: =B37*C37 -> 693 | E37: =B37*12 -> 180 | G37: =E37*C37 -> 8316 | K37: Cravos (molho) | L37: 8 | M37: 2 | N37: =M37*L37 -> 16 | O37: =L37*12 -> 96 | P37: 4 | Q37: =(O37+P37)*M37 -> 200
A38: ramos funeral | B38: 15 | C38: =(M30*1.23)*1.75 -> 19.523175 | D38: =B38*C38 -> 292.84763 | E38: =B38*12 -> 180 | G38: =E38*C38 -> 3514.1715 | K38: Margaridas (molho) | L38: 8 | M38: 1.8 | N38: =M38*L38 -> 14.4 | O38: =L38*12 -> 96 | P38: 4 | Q38: =(O38+P38)*M38 -> 180
A39: ramos oferta | B39: 30 | C39: =(M31*1.23)*1.75 -> 11.83875 | D39: =B39*C39 -> 355.1625 | E39: =B39*12 -> 360 | F39: 60 | G39: =(E39+F39)*C39 -> 4972.275
A40: Ramos Secos | B40: 6 | C40: =(M32*1.23)*1.75 -> 8.61 | D40: =B40*C40 -> 51.66 | E40: =B40*12 -> 72 | G40: =D40*12 -> 619.92
A41: plantas | B41: 10 | C41: =(M33*1.23)*1.75 -> 8.61 | D41: =B41*C41 -> 86.1 | E41: =B41*12 -> 120 | G41: =D41*12 -> 1033.2
A42: cestas | B42: 15 | C42: =(M34*1.23)*1.75 -> 11.83875 | D42: =B42*C42 -> 177.58125 | E42: =B42*12 -> 180 | F42: 30 | G42: =(F42+E42)*C42 -> 2486.1375
A43: flores p/ Dec casamentos | C43: =(M35*1.23)*1.75 -> 118.3875 | D43: =B43*C43 -> 0 | E43: 4 | G43: =E43*C43 -> 473.55 | K43: Total | N43: =SUM(N29:N38) -> 708.65 | O43: =SUM(O29:O34) -> 1092 | Q43: =SUM(Q29:Q34) -> 8381
A44: Flores p/ Ramos noiva | C44: =(M36*1.23)*1.75 -> 64.575 | D44: =B44*C44 -> 0 | E44: 4 | G44: =E44*C44 -> 258.3
A45: Cravos (molho) | B45: 8 | C45: =(M37*1.23)*1.75 -> 4.305 | D45: =B45*C45 -> 34.44
A46: Margaridas (molho) | B46: 8 | C46: =(M38*1.23)*1.75 -> 3.8745 | D46: =B46*C46 -> 30.996
A49: Total | D49: =SUM(D37:D45) -> 1690.7914 | E49: =SUM(E37:E42) -> 1092 | G49: =SUM(G37:G42) -> 20941.704

Sheet 7.1 inv e financ
A1: Investimento | D1: 2013 | J1: activos fixos tangíveis | M1: total | N1: (diversos) | O1: 9.9 | Q1: Fundo Maneio
A2: 1 - propriedades de investimento | J2: equipamento básico | O2: 9.9 | R2: valor mensal * nº meses
A3: terrenos | J3: factura 1 | K3: mobiliário | L3: 178.86 | O3: 11 | P3: caução | Q3: 340 | R3: (170*2)
A4: Edificios e outras const | M4: =L3 -> 178.86 | O4: 7.5 | P4: renda | Q4: 510 | R4: (170*3)
A5: 2- Activos fixos Tangíveis | J5: equipamento administrativo | O5: 2.6 | P5: ordenado | Q5: 800 | R5: (400*2)
A6: terrenos | J6: factura 2 | K6: gaveta moedas | L6: 60.83 | O6: 20.14 | P6: luz | Q6: 70 | R6: (35*2)
A7: edificios | M7: 60.83 | O7: 20.84 | P7: água | Q7: 40 | R7: (20*2)
A8: equipamentos básicos | D8: =M4 -> 178.86 | O8: 11.8 | P8: comunicações | Q8: 79.8 | R8: (39,9*2)
A9: equipamento transporte | J9: activos fixos intangíveis | O9: 11.8 | P9: seguro | Q9: 25 | R9: (25*2)
A10: equip administrativo | D10: 60.83 | O10: 11.8 | P10: gasolina | Q10: 200 | R10: (200*2)
A11: equip biológicos | J11: factura 3 | K11: programas computador | L11: 60.83 | O11: 11.8 | P11: seg social | Q11: 437.04 | R11: (145,68*3)
A12: 3- Activos fixos Intagíveis | M12: 60.83 | O12: 11.8 | P12: contabilista | Q12: 135.3 | R12: (67,65*2)
A13: Goodwill | O13: 14.8 | P13: total | Q13: =SUM(Q3:Q12) -> 2637.14
A14: Proj Des. | J14: Diversos | O14: 9.75
A15: Programas computador | D15: 60.83 | J15: Factura 4- berta | K15: =O43 -> 537.75 | O15: 7.04
A16: Prop Indust | J16: factura 5 florineve | K16: 808.11 | O16: 8.55
A17: outros | J17: Cartões | K17: 50 | O17: 9.45
A18: 4 - Diversos | D18: =M19 -> 1395.86 | O18: 10.92
A19: 5 - Fundo Maneio | D19: =Q13 -> 2637.14 | M19: =K15+K16+K17 -> 1395.86 | O19: 4.12
A20: Total | D20: =SUM(D2:D19) -> 4333.52 | O20: 10
O21: 3.3
O22: 3.3
A23: 7.2- Financiamento do Investimento | O23: 16.9
O24: 21.25
A25: Investimento | D25: 2013 | O25: 10.4
A26: 1 - Capitais Próprios | O26: 12.35
A27: Capital (social/Inicial) | O27: 23.5
A28: Recebimento ant de prestações desmp | D28: =D20 -> 4333.52 | O28: 12.6
A29: outros | O29: 8.1
A30: 2 - Capitais alheios | O30: 36
A31: emp sócios | O31: 28.56
A32: emp bancários | O32: 21.6
A33: créditos fornecedores | O33: 7.68
A34: outros capitais alheios | O34: 5.4
A35: Total | D35: =SUM(D26:D34) -> 4333.52 | O35: 11.42
O36: 4.08
N38: suporte coroas | O38: 52
N39: tesouras | O39: 12.35
N40: tira picos | O40: 15.3
N41: aplicador cola | O41: 12.9
...

Sheet 11- Fornec serv extern
A1: valores sem IVA
A2: Código Contas | B2: Descrição | C2: Valor em (€) 2013 | D2: Valor em (€) 2014 | E2: Valor em (€) 2015
A3: 61 | B3: Custo Mercadorias Vendidas e das Matérias Consumidas | C3: 3137.13 | D3: 9405.7 | E3: 9875.99
A5: 62 | B5: Fornecimentos e Serviços Externos | C5: =C6+C7+C16+C22+C27+C32 -> 1844.85 | D5: =D6+D7+D16+D22+D27+D32 -> 4496.24 | E5: =E6+E7+E16+E22+E27+E32 -> 4496.24
A6: 62.1 | B6: Subcontratos | C6: 0 | D6: 0 | E6: 0
A7: 62.2 | B7: Serviços Especializados | C7: =C8+C9+C10+C11+C12+C13+C14+C15 -> 325 | D7: =D8+D9+D10+D11+D12+D13+D14+D15 -> 848.6 | E7: =E8+E9+E10+E11+E12+E13+E14+E15 -> 848.6
A8: 62.2.1 | B8: Trabalhos Especializados: Avença TOC- 55 €/mês+IVA (5 meses 2013 + 12 meses 2014 e 2015) | C8: =55*5 -> 275 | D8: =55*12 -> 660 | E8: =55*12 -> 660
A9: 62.2.2 | B9: Publicidade e Propaganda | C9: 50 | D9: =50+138.6 -> 188.6 | E9: =50+138.6 -> 188.6
A10: 62.2.3 | B10: Vigilância e Segurança | C10: 0 | D10: 0 | E10: 0
A11: 62.2.4 | B11: Honorários | C11: 0 | D11: 0 | E11: 0
A12: 62.2.5 | B12: Comissões | C12: 0 | D12: 0 | E12: 0
A13: 62.2.6 | B13: Conservação e Reparação: | C13: 0 | D13: 0 | E13: 0
A14: 62.2.7 | B14: Despesas bancárias: | C14: 0 | D14: 0 | E14: 0
A15: 62.2.8 | B15: Outros | C15: 0 | D15: 0 | E15: 0
A16: 62.3 | B16: Materiais | C16: =C17+C18+C19+C20+C21 -> 0 | D16: =D17+D18+D19+D20+D21 -> 0 | E16: =E17+E18+E19+E20+E21 -> 0
A17: 62.3.1 | B17: Ferramentas e Utensílios de desgaste rápido | C17: 0 | D17: 0 | E17: 0
A18: 62.3.2 | B18: Livros e documentação Técnica | C18: 0 | D18: 0 | E18: 0
A19: 62.3.3 | B19: Material de escritório: | C19: 0 | D19: 0 | E19: 0
A20: 62.3.4 | B20: Artigos para ofertas | C20: 0 | D20: 0 | E20: 0
A21: 62.3.8 | B21: Outros | C21: 0 | D21: 0 | E21: 0
A22: 62.4 | B22: Energia e fluídos | C22: =C23+C24+C25+C26 -> 711.75 | D22: =D23+D24+D25+D26 -> 1708.2 | E22: =E23+E24+E25+E26 -> 1708.2
A23: 62.4.1 | B23: Electricidade 26,95 €/mês + IVA (5 meses 2013 +12 meses 2014 e 2015) | C23: =26.95*5 -> 134.75 | D23: =26.95*12 -> 323.4 | E23: =26.95*12 -> 323.4
A24: 62.4.2 | B24: Combustíveis: | C24: =100*5 -> 500 | D24: =100*12 -> 1200 | E24: =100*12 -> 1200
A25: 62.4.3 | B25: Água 15,4€/mês + IVA (5 meses 2013 +12 meses 2014 e 2015) | C25: =15.4*5 -> 77 | D25: =15.4*12 -> 184.8 | E25: =15.4*12 -> 184.8
A26: 62.4.8 | B26: Outros | C26: 0 | D26: 0 | E26: 0
A27: 62.5 | B27: Deslocações, estadas e transportes | C27: =C28+C29+C30+C31 -> 0 | D27: =D28+D29+D30+D31 -> 0 | E27: =E28+E29+E30+E31 -> 0
A28: 62.5.1 | B28: Deslocações e estadas | C28: 0 | D28: 0 | E28: 0
A29: 62.5.2 | B29: Transportes de pessoal | C29: 0 | D29: 0 | E29: 0
A30: 62.5.3 | B30: Transportes de mercadorias | C30: 0 | D30: 0 | E30: 0
A31: 62.5.8 | B31: Outros | C31: 0 | D31: 0 | E31: 0
A32: 62.6 | B32: Serviços Diversos | C32: =C33+C34+C35+C36+C37+C38+C39+C40 -> 808.1 | D32: =D33+D34+D35+D36+D37+D38+D39+D40 -> 1939.44 | E32: =E33+E34+E35+E36+E37+E38+E39+E40 -> 1939.44
A33: 62.6.1 | B33: Rendas e alugueres | C33: =130.9*5 -> 654.5 | D33: =130.9*12 -> 1570.8 | E33: =130.9*12 -> 1570.8
A34: 62.6.2 | B34: Comunicação: 30,72€/mês + IVA (5 meses 2013 +12 meses 2014 e 2015) | C34: =30.72*5 -> 153.6 | D34: =30.72*12 -> 368.64 | E34: =30.72*12 -> 368.64
A35: 62.6.3 | B35: Seguros (Que tipo de seguro multirisco, vida….) | C35: 0 | D35: 0 | E35: 0
A36: 62.6.4 | B36: Royalties | C36: 0 | D36: 0 | E36: 0
A37: 62.6.5 | B37: Contencioso e notariado | C37: 0 | D37: 0 | E37: 0
A38: 62.6.6 | B38: Despesas de representação | C38: 0 | D38: 0 | E38: 0
A39: 62.6.7 | B39: Limpeza, higiene e conforto | C39: 0 | D39: 0 | E39: 0
A40: 62.6.8 | B40: Outros Serviços | C40: 0 | D40: 0 | E40: 0
A43: Código Contas | B43: Descrição | C43: Valor em (€) por ano | D43: Valor em (€) por ano | E43: Valor em (€) por ano
...

Sheet 13- gastos de depreciação e amo
A1: 13 - Gastos de Depreciação e amortização
A3: Propriedades de investimento | C3: Factura/orçamento | D3: Valor | E3: Taxa | F3: Amortização
A5: Activos Fixos Tangíveis
A6: equip básico mobiliar. | C6: FP nº | D6: ='7.1 inv e financ'!D8 -> 178.86 | E6: 1 | F6: =D6*E6 -> 178.86
A7: equip adminst | C7: FPnº | D7: ='7.1 inv e financ'!D10 -> 60.83 | E7: 1 | F7: =D7*E7 -> 60.83
A9: Activos Fixos intangíveis
A10: programas comp | C10: FP nº | D10: ='7.1 inv e financ'!D15 -> 60.83 | E10: 1 | F10: =D10*E10 -> 60.83
A13: Total | F13: =F6+F7+F10 -> 300.52

Sheet 15,2 Demonst Resultados Previs.
A1: 15- Demonstração dos Resultados Previsional
A2: Modelo do NCM
D3: (Unid:Euros)
A4: Descrição (Modelo do NCM) | B4: 2013 | C4: 2014 | D4: 2015
A5: Vendas e Serviços Prestados | B5: ='9-venda bens 10-cons mercd'!D19 -> 7931.0057 | C5: ='9-venda bens 10-cons mercd'!F19 -> 23029.824 | D5: ='9-venda bens 10-cons mercd'!H19 -> 24327.686
A6: Subsídios à exploração | B6: 0 | C6: 0 | D6: 0
A7: Variação nos Inventários da produção | B7: 0 | C7: 0 | D7: 0
A8: Trabalhos para a própria entidade | B8: 0 | C8: 0 | D8: 0
A9: Custo Mercadorias Vendidas e das Matérias Consumidas | B9: 3137.13 | C9: 9405.7 | D9: 9875.99
A10: Fornecimentos e Serviços Externos | B10: ='11- Fornec serv extern'!C5 -> 1844.85 | C10: ='11- Fornec serv extern'!D5 -> 4496.24 | D10: ='11- Fornec serv extern'!E5 -> 4496.24
A11: Gastos com Pessoal | B11: ='11- Fornec serv extern'!C44 -> 853.4 | C11: ='11- Fornec serv extern'!D44 -> 2048.16 | D11: ='11- Fornec serv extern'!E44 -> 2048.16
A12: Imparidades (perdas/reversões) | B12: 0 | C12: 0 | D12: 0
A13: Provisões (aumentos/reduções) | B13: 0 | C13: 0 | D13: 0
A14: Outros rendimentos e ganhos | B14: 0 | C14: 0 | D14: 0
A15: Outros gastos e perdas | B15: 0 | C15: 0 | D15: 0
A16: Resultado antes de depreciações, gastos de financiamento e impostos | B16: =B5+B6+B7+B8-B9-B10-B11-B12-B13-+B14-B15 -> 2095.6257 | C16: =C5+C6+C7+C8-C9-C10-C11-C12-C13+C14-C15 -> 7079.7243 | D16: =D5+D6+D7+D8-D9-D10-D11-D12-D13+D14-D15 -> 7907.2955
A17: Gastos/reversões de depreciação e de amortização | B17: ='13- gastos de depreciação e amo'!F13 -> 300.52 | C17: 0 | D17: 0
A18: Resultado Operacionais (antes de gastos de financiamento e impostos) | B18: =B16-B17 -> 1795.1057 | C18: =C16-C17 -> 7079.7243 | D18: =D16-D17 -> 7907.2955
A19: Gasto líquido de financiamento | B19: 0 | C19: 0 | D19: 0
A20: Resultado antes dos impostos | B20: =B18-B19 -> 1795.1057 | C20: =C18-C19 -> 7079.7243 | D20: =D18-D19 -> 7907.2955
A21: Impostos s/rendimentos do período IRC | B21: =(B20*0)+(B20*0) -> 0 | C21: =(C20*0)+(C20*0) -> 0 | D21: =(D20*0)+(D18*0) -> 0
A22: Resultado líquido do período | B22: =B20-B21 -> 1795.1057 | C22: =C20-C21 -> 7079.7243 | D22: =D20-D21 -> 7907.2955
A24: Impostos s/rendimentos do período é pelas regras IRS

Sheet 16,2 -Balanço
A1: 16-Balanço Previsional
A2: Modelo do NCM
D3: (Unid:Euros)
A4: ATIVO (Modelo do NCM) | B4: 2013 | C4: 2014 | D4: 2015
A5: ATIVO NÃO CORRENTE | B5: =B6+B7+B8+B9 -> 0 | C5: =C6+C7+C8+C9 -> 0 | D5: =D6+D7+D8+D9 -> 0
A6: Ativos fixos tangíveis | B6: =(178.86+64.23)-(178.86+64.23) -> 0 | C6: 0 | D6: 0
A7: Ativos intangíveis | B7: =(60.83)-(60.83) -> 0 | C7: 0 | D7: 0
A8: Investimentos financeiros | B8: 0 | C8: 0 | D8: 0
A9: Acionistas/sócios | B9: 0 | C9: 0 | D9: 0
A10: ATIVO CORRENTE | B10: =B11+B12+B13+B14+B15+B16 -> 1940.7857 | C10: =SUM(C11:C16) -> 9020.51 | D10: =D11+D12+D13+D14+D15+D16 -> 15132.7
A11: Inventários | B11: 0 | C11: 0 | D11: 0
A12: Clientes | B12: 0 | C12: 0 | D12: 0
A13: Estado e outros entes públicos | B13: 0 | C13: 0 | D13: 0
A14: Diferimentos | B14: 0 | C14: 0 | D14: 0
A15: Outros ativos correntes | B15: 0 | C15: 0 | D15: 0
A16: Caixa e depósitos bancários | B16: =B37 -> 1940.7857 | C16: =C37 -> 9020.51 | D16: =D37 -> 15132.7
A17: TOTAL DO ATIVO | B17: =B5+B10 -> 1940.7857 | C17: =C5+C10 -> 9020.51 | D17: =D5+D10 -> 15132.7
A18: CAPITAL PRÓPRIO (Modelo do NCM)
A19: Capital realizado | B19: 0 | C19: 0 | D19: =B19 -> 0
A20: Outros instrumentos de capital próprio | B20: 0 | C20: 0 | D20: 0
A21: Reservas | B21: 0 | C21: =B24*0.05 -> 89.755284 | D21: =(B24*0.05)+(C24*0.05) -> 443.7415
A22: Resultados Transitados | B22: 0 | C22: =B24-C21 -> 1705.3504 | D22: =C24-D21 -> 6635.9828
A23: Outras variações no capital próprio | B23: 0 | C23: 0 | D23: 0
A24: Resultado líquido do período | B24: ='15,2 Demonst Resultados Previs.'!B22 -> 1795.1057 | C24: ='15,2 Demonst Resultados Previs.'!C22 -> 7079.7243 | D24: ='15,2 Demonst Resultados Previs.'!D22 -> 7907.2955
A25: TOTAL DO CAPITAL PRÓPRIO | B25: =SUM(B19:B24) -> 1795.1057 | C25: =SUM(C19:C24) -> 8874.83 | D25: =SUM(D19:D24) -> 14987.02
A26: PASSIVO (Modelo do NCM)
A27: PASSIVO NÃO CORRENTE | B27: =B28+B29+B30 -> 0 | C27: =C28+C29+C30 -> 0 | D27: =D28+D29+D30 -> 0
A28: Provisões | B28: 0 | C28: 0 | D28: 0
A29: Financiamentos obtidos | B29: 0 | C29: 0 | D29: 0
A30: Outras contas a pagar | B30: 0 | C30: 0 | D30: 0
A31: PASSIVO CORRENTE | B31: =B32+B33+B34+B35 -> 145.68 | C31: =C32+C33+C34+C35 -> 145.68 | D31: =D32+D33+D34+D35 -> 145.68
A32: Fornecedores | B32: 0 | C32: 0 | D32: 0
A33: Estado e outros entes públicos | B33: 145.68 | C33: 145.68 | D33: 145.68
A34: Diferimentos | B34: 0 | C34: 0 | D34: 0
A35: Outros passivos correntes | B35: 0 | C35: 0 | D35: 0
A36: TOTAL DO PASSIVO | B36: =B27+B31 -> 145.68 | C36: =C27+C31 -> 145.68 | D36: =D27+D31 -> 145.68
A37: TOTAL DO CAPITAL PRÓPRIO E DO PASSIVO | B37: =B25+B36 -> 1940.7857 | C37: =C25+C36 -> 9020.51 | D37: =D25+D36 -> 15132.7
B39: =B17-B37 -> 0 | C39: =C17-C37 -> 0 | D39: =D17-D37 -> 0
