Workbook

Sheet Declarações IVA - Trimestral
B2: Nome da Empresa: | I2: Nome da Empresa:
B3: Exercicio: | D3: Tipo de Declarações: | F3: Trimestrais | I3: Exercicio: | K3: Tipo de Declarações: | M3: Trimestrais
B5: Nota Importante: Preencher somente o cabeçalho e as células em branco e vazias do quadro abaixo. | I5: Nota Importante: Preencher somente o cabeçalho e as células em branco e vazias do quadro abaixo.
B8: Declarações Periódicas de IVA Trimestral do Exercicio em análise | I8: Anexo R às Declarações Periódicas de IVA Trimestral do Exercicio em análise
C9: 1º Trimestre | D9: 2º Trimestre | E9: 3º Trimestre | F9: 4º Trimestre | G9: TOTAIS | J9: 1º Trimestre | K9: 2º Trimestre | L9: 3º Trimestre | M9: 4º Trimestre | N9: TOTAIS
B10: Campo 1 | G10: =IF(SUM(C10:F10)>0,SUM(C10:F10),"") | I10: Campo 1 | N10: =IF(SUM(J10:M10)>0,SUM(J10:M10),"")
B11: Campo 2 | G11: =IF(SUM(C11:F11)>0,SUM(C11:F11),"") | I11: Campo 2 | N11: =IF(SUM(J11:M11)>0,SUM(J11:M11),"")
B12: Campo 3 | G12: =IF(SUM(C12:F12)>0,SUM(C12:F12),"") | I12: Campo 3 | N12: =IF(SUM(J12:M12)>0,SUM(J12:M12),"")
B13: Campo 4 | G13: =IF(SUM(C13:F13)>0,SUM(C13:F13),"") | I13: Campo 4 | N13: =IF(SUM(J13:M13)>0,SUM(J13:M13),"")
B14: Campo 5 | G14: =IF(SUM(C14:F14)>0,SUM(C14:F14),"") | I14: Campo 5 | N14: =IF(SUM(J14:M14)>0,SUM(J14:M14),"")
B15: Campo 6 | G15: =IF(SUM(C15:F15)>0,SUM(C15:F15),"") | I15: Campo 6 | N15: =IF(SUM(J15:M15)>0,SUM(J15:M15),"")
B16: Campo 8 | G16: =IF(SUM(C16:F16)>0,SUM(C16:F16),"") | I16: Campo 8 | N16: =IF(SUM(J16:M16)>0,SUM(J16:M16),"")
B17: Campo 8 (Inversão C.Civil) | G17: =IF(SUM(C17:F17)>0,SUM(C17:F17),"") | I17: Campo 8 (Inversão C.Civil) | N17: =IF(SUM(J17:M17)>0,SUM(J17:M17),"")
B18: Campo 8 (Inversão Sucatas) | G18: =IF(SUM(C18:F18)>0,SUM(C18:F18),"") | I18: Campo 8 (Inversão Sucatas) | N18: =IF(SUM(J18:M18)>0,SUM(J18:M18),"")
B19: Campo 9 | G19: =IF(SUM(C19:F19)>0,SUM(C19:F19),"") | I19: Campo 9 | N19: =IF(SUM(J19:M19)>0,SUM(J19:M19),"")
B20: Campo 10 | G20: =IF(SUM(C20:F20)>0,SUM(C20:F20),"") | I20: Campo 10 | N20: =IF(SUM(J20:M20)>0,SUM(J20:M20),"")
B21: Campo 11 | G21: =IF(SUM(C21:F21)>0,SUM(C21:F21),"") | I21: Campo 11 | N21: =IF(SUM(J21:M21)>0,SUM(J21:M21),"")
... B26: Campo 24 | G26: =IF(SUM(C26:F26)>0,SUM(C26:F26),"") | I26: Campo 24 | N26: =IF(SUM(J26:M26)>0,SUM(J26:M26),"")
B27: Campo 40 | G27: =IF(SUM(C27:F27)>0,SUM(C27:F27),"") | I27: Campo 62 | J27: =IF(SUM(J10,J12,J14,J16:J20)>0,SUM(J10,J12,J14,J16:J20),"") | K27: =IF(SUM(K10,K12,K14,K16:K20)>0,SUM(K10,K12,K14,K16:K20),"") | L27: =IF(SUM(L10,L12,L14,L16:L20)>0,SUM(L10,L12,L14,L16:L20),"") | M27: =IF(SUM(M10,M12,M14,M16:M20)>0,SUM(M10,M12,M14,M16:M20),"") | N27: =IF(SUM(J27:M27)>0,SUM(J27:M27),"")
B28: Campo 41 | G28: =IF(SUM(C28:F28)>0,SUM(C28:F28),"") | I28: Campo 63 | J28: =IF(SUM(J22:J26)>0,SUM(J22:J26),"") | K28: =IF(SUM(K22:K26)>0,SUM(K22:K26),"") | L28: =IF(SUM(L22:L26)>0,SUM(L22:L26),"") | M28: =IF(SUM(M22:M26)>0,SUM(M22:M26),"") | N28: =IF(SUM(J28:M28)>0,SUM(J28:M28),"")
B29: Campo 61 | G29: =IF(SUM(C29:F29)>0,SUM(C29:F29),"") | I29: Campo 64 | J29: =IF(SUM(J11,J13,J15,J21)>0,SUM(J11,J13,J15,J21),"") | K29: =IF(SUM(K11,K13,K15,K21)>0,SUM(K11,K13,K15,K21),"") | L29: =IF(SUM(L11,L13,L15,L21)>0,SUM(L11,L13,L15,L21),"") | M29: =IF(SUM(M11,M13,M15,M21)>0,SUM(M11,M13,M15,M21),"") | N29: =IF(SUM(J29:M29)>0,SUM(J29:M29),"")
B30: Campo 81 | G30: =IF(SUM(C30:F30)>0,SUM(C30:F30),"")
B31: Campo 65 | C31: =IF(SUM(J28)>0,SUM(J28),"") | D31: =IF(SUM(K28)>0,SUM(K28),"") | E31: =IF(SUM(L28)>0,SUM(L28),"") | F31: =IF(SUM(M28)>0,SUM(M28),"") | G31: =IF(SUM(C31:F31)>0,SUM(C31:F31),"")
B32: Campo 66 | C32: =IF(SUM(J29)>0,SUM(J29),"") | D32: =IF(SUM(K29)>0,SUM(K29),"") | E32: =IF(SUM(L29)>0,SUM(L29),"") | F32: =IF(SUM(M29)>0,SUM(M29),"") | G32: =IF(SUM(C32:F32)>0,SUM(C32:F32),"")
B33: Campo 67 | G33: =IF(SUM(C33:F33)>0,SUM(C33:F33),"")
B34: Campo 68 | G34: =IF(SUM(C34:F34)>0,SUM(C34:F34),"")
B35: Campo 90 | C35: =IF(SUM(C10,C12,C14,C16:C20)>0,SUM(C10,C12,C14,C16:C20),"") | D35: =IF(SUM(D10,D12,D14,D16:D20)>0,SUM(D10,D12,D14,D16:D20),"") | E35: =IF(SUM(E10,E12,E14,E16:E20)>0,SUM(E10,E12,E14,E16:E20),"") | F35: =IF(SUM(F10,F12,F14,F16:F20)>0,SUM(F10,F12,F14,F16:F20),"") | G35: =IF(SUM(C35:F35)>0,SUM(C35:F35),"")
B36: Campo 91 | C36: =IF(SUM(C22,C23,C24,C25,C26,C27,C29,C31,C33,C30)>0,SUM(C22,C23,C24,C25,C26,C27,C29,C31,C33,C30),"") | D36: =IF(SUM(D22,D23,D24,D25,D26,D27,D29,D31,D33,D30)>0,SUM(D22,D23,D24,D25,D26,D27,D29,D31,D33,D30),"") | E36: =IF(SUM(E22,E23,E24,E25,E26,E27,E29,E31,E33,E30)>0,SUM(E22,E23,E24,E25,E26,E27,E29,E31,E33,E30),"") | F36: =IF(SUM(F22,F23,F24,F25,F26,F27,F29,F31,F33,F30)>0,SUM(F22,F23,F24,F25,F26,F27,F29,F31,F33,F30),"") | G36: =IF(SUM(C36:F36)>0,SUM(C36:F36),"")
B37: Campo 92 | C37: =IF(SUM(C11,C13,C15,C21,C28,C32,C34)>0,SUM(C11,C13,C15,C21,C28,C32,C34),"") | D37: =IF(SUM(D11,D13,D15,D21,D28,D32,D34)>0,SUM(D11,D13,D15,D21,D28,D32,D34),"") | E37: =IF(SUM(E11,E13,E15,E21,E28,E32,E34)>0,SUM(E11,E13,E15,E21,E28,E32,E34),"") | F37: =IF(SUM(F11,F13,F15,F21,F28,F32,F34)>0,SUM(F11,F13,F15,F21,F28,F32,F34),"") | G37: =IF(SUM(C37:F37)>0,SUM(C37:F37),"")
B38: Campo 93 | C38: =IF(SUM(C37)-SUM(C36)>0,SUM(C37)-SUM(C36),"") | D38: =IF(SUM(D37)-SUM(D36)>0,SUM(D37)-SUM(D36),"") | E38: =IF(SUM(E37)-SUM(E36)>0,SUM(E37)-SUM(E36),"") | F38: =IF(SUM(F37)-SUM(F36)>0,SUM(F37)-SUM(F36),"") | G38: =IF(SUM(C38:F38)>0,SUM(C38:F38),"")
B39: Campo 94 | C39: =IF(SUM(C36)-SUM(C37)>0,SUM(C36)-SUM(C37),"") | D39: =IF(SUM(D36)-SUM(D37)>0,SUM(D36)-SUM(D37),"") | E39: =IF(SUM(E36)-SUM(E37)>0,SUM(E36)-SUM(E37),"") | F39: =IF(SUM(F36)-SUM(F37)>0,SUM(F36)-SUM(F37),"") | G39: =IF(SUM(C39:F39)>0,SUM(C39:F39),"")

Sheet Declarações IVA - Mensal
B2: Nome da Empresa:
B3: Exercicio: | E3: Tipo de Declarações: | H3: Mensais
B5: Nota Importante: Preencher somente o cabeçalho e as células em branco e vazias do quadro abaixo.
B7: Declarações Periódicas de IVA Mensal do Exercicio em análise
C8: Janeiro | D8: Fevereiro | E8: Março | F8: Abril | G8: Maio | H8: Junho | I8: Julho | J8: Agosto | K8: Setembro | L8: Outubro | M8: Novembro | N8: Dezembro | O8: TOTAIS
B9: Campo 1 | O9: =IF(SUM(C9:N9)>0,SUM(C9:N9),"")
B10: Campo 2 | O10: =IF(SUM(C10:N10)>0,SUM(C10:N10),"")
B11: Campo 3 | O11: =IF(SUM(C11:N11)>0,SUM(C11:N11),"")
B12: Campo 4 | O12: =IF(SUM(C12:N12)>0,SUM(C12:N12),"")
B13: Campo 5 | O13: =IF(SUM(C13:N13)>0,SUM(C13:N13),"")
B14: Campo 6 | O14: =IF(SUM(C14:N14)>0,SUM(C14:N14),"")
B15: Campo 8 | O15: =IF(SUM(C15:N15)>0,SUM(C15:N15),"")
B16: Campo 8 (Inversão C. Civil) | O16: =IF(SUM(C16:N16)>0,SUM(C16:N16),"")
B17: Campo 8 (Inversão Sucatas) | O17: =IF(SUM(C17:N17)>0,SUM(C17:N17),"")
B18: Campo 9 | O18: =IF(SUM(C18:N18)>0,SUM(C18:N18),"")
B19: Campo 10 | O19: =IF(SUM(C19:N19)>0,SUM(C19:N19),"")
B20: Campo 11 | O20: =IF(SUM(C20:N20)>0,SUM(C20:N20),"")
... B29: Campo 81 | O29: =IF(SUM(C29:N29)>0,SUM(C29:N29),"")
B30: Campo 65 | C30: =IF(SUM(C66)>0,SUM(C66),"") | D30: =IF(SUM(D66)>0,SUM(D66),"") | E30: =IF(SUM(E66)>0,SUM(E66),"") | F30: =IF(SUM(F66)>0,SUM(F66),"") | G30: =IF(SUM(G66)>0,SUM(G66),"") | H30: =IF(SUM(H66)>0,SUM(H66),"") | I30: =IF(SUM(I66)>0,SUM(I66),"") | J30: =IF(SUM(J66)>0,SUM(J66),"") | ... N30: =IF(SUM(N66)>0,SUM(N66),"") | O30: =IF(SUM(C30:N30)>0,SUM(C30:N30),"")
B31: Campo 66 | C31: =IF(SUM(C67)>0,SUM(C67),"") | D31: =IF(SUM(D67)>0,SUM(D67),"") | E31: =IF(SUM(E67)>0,SUM(E67),"") | F31: =IF(SUM(F67)>0,SUM(F67),"") | G31: =IF(SUM(G67)>0,SUM(G67),"") | H31: =IF(SUM(H67)>0,SUM(H67),"") | I31: =IF(SUM(I67)>0,SUM(I67),"") | J31: =IF(SUM(J67)>0,SUM(J67),"") | ... N31: =IF(SUM(N67)>0,SUM(N67),"") | O31: =IF(SUM(C31:N31)>0,SUM(C31:N31),"")
B32: Campo 67 | G32: =IF(SUM(C32:F32)>0,SUM(C32:F32),"") | O32: =IF(SUM(C32:N32)>0,SUM(C32:N32),"")
B33: Campo 68 | G33: =IF(SUM(C33:F33)>0,SUM(C33:F33),"") | O33: =IF(SUM(C33:N33)>0,SUM(C33:N33),"")
B34: Campo 90 | C34: =IF(SUM(C9,C11,C13,C15:C19)>0,SUM(C9,C11,C13,C15:C19),"") | D34: =IF(SUM(D9,D11,D13,D15:D19)>0,SUM(D9,D11,D13,D15:D19),"") | E34: =IF(SUM(E9,E11,E13,E15:E19)>0,SUM(E9,E11,E13,E15:E19),"") | F34: =IF(SUM(F9,F11,F13,F15:F19)>0,SUM(F9,F11,F13,F15:F19),"") | G34: =IF(SUM(G9,G11,G13,G15:G19)>0,SUM(G9,G11,G13,G15:G19),"") | H34: =IF(SUM(H9,H11,H13,H15:H19)>0,SUM(H9,H11,H13,H15:H19),"") | I34: =IF(SUM(I9,I11,I13,I15:I19)>0,SUM(I9,I11,I13,I15:I19),"") | J34: =IF(SUM(J9,J11,J13,J15:J19)>0,SUM(J9,J11,J13,J15:J19),"") | ... N34: =IF(SUM(N9,N11,N13,N15:N19)>0,SUM(N9,N11,N13,N15:N19),"") | O34: =IF(SUM(C34:N34)>0,SUM(C34:N34),"")
B35: Campo 91 | C35: =IF(SUM(C21,C22,C23,C24,C25,C26,C28,C29)>0,SUM(C21,C22,C23,C24,C25,C26,C28,C29),"") | D35: =IF(SUM(D21,D22,D23,D24,D25,D26,D28,D29)>0,SUM(D21,D22,D23,D24,D25,D26,D28,D29),"") | E35: =IF(SUM(E21,E22,E23,E24,E25,E26,E28,E29)>0,SUM(E21,E22,E23,E24,E25,E26,E28,E29),"") | F35: =IF(SUM(F21,F22,F23,F24,F25,F26,F28,F29)>0,SUM(F21,F22,F23,F24,F25,F26,F28,F29),"") | G35: =IF(SUM(G21,G22,G23,G24,G25,G26,G28,G29)>0,SUM(G21,G22,G23,G24,G25,G26,G28,G29),"") | H35: =IF(SUM(H21,H22,H23,H24,H25,H26,H28,H29)>0,SUM(H21,H22,H23,H24,H25,H26,H28,H29),"") | I35: =IF(SUM(I21,I22,I23,I24,I25,I26,I28,I29)>0,SUM(I21,I22,I23,I24,I25,I26,I28,I29),"") | J35: =IF(SUM(J21,J22,J23,J24,J25,J26,J28,J29)>0,SUM(J21,J22,J23,J24,J25,J26,J28,J29),"") | ... N35: =IF(SUM(N21,N22,N23,N24,N25,N26,N28,N29)>0,SUM(N21,N22,N23,N24,N25,N26,N28,N29),"") | O35: =IF(SUM(C35:N35)>0,SUM(C35:N35),"")
B36: Campo 92 | C36: =IF(SUM(C10,C12,C14,C20,C27,C31,C33)>0,SUM(C10,C12,C14,C20,C27,C31,C33),"") | D36: =IF(SUM(D10,D12,D14,D20,D27,D31,D33)>0,SUM(D10,D12,D14,D20,D27,D31,D33),"") | E36: =IF(SUM(E10,E12,E14,E20,E27,E31,E33)>0,SUM(E10,E12,E14,E20,E27,E31,E33),"") | F36: =IF(SUM(F10,F12,F14,F20,F27,F31,F33)>0,SUM(F10,F12,F14,F20,F27,F31,F33),"") | G36: =IF(SUM(G10,G12,G14,G20,G27,G31,G33)>0,SUM(G10,G12,G14,G20,G27,G31,G33),"") | H36: =IF(SUM(H10,H12,H14,H20,H27,H31,H33)>0,SUM(H10,H12,H14,H20,H27,H31,H33),"") | I36: =IF(SUM(I10,I12,I14,I20,I27,I31,I33)>0,SUM(I10,I12,I14,I20,I27,I31,I33),"") | J36: =IF(SUM(J10,J12,J14,J20,J27,J31,J33)>0,SUM(J10,J12,J14,J20,J27,J31,J33),"") | ... N36: =IF(SUM(N10,N12,N14,N20,N27,N31,N33)>0,SUM(N10,N12,N14,N20,N27,N31,N33),"") | O36: =IF(SUM(C36:N36)>0,SUM(C36:N36),"")
B37: Campo 93 | C37: =IF(SUM(C36)-SUM(C35)>0,SUM(C36)-SUM(C35),"") | D37: =IF(SUM(D36)-SUM(D35)>0,SUM(D36)-SUM(D35),"") | E37: =IF(SUM(E36)-SUM(E35)>0,SUM(E36)-SUM(E35),"") | F37: =IF(SUM(F36)-SUM(F35)>0,SUM(F36)-SUM(F35),"") | G37: =IF(SUM(G36)-SUM(G35)>0,SUM(G36)-SUM(G35),"") | H37: =IF(SUM(H36)-SUM(H35)>0,SUM(H36)-SUM(H35),"") | I37: =IF(SUM(I36)-SUM(I35)>0,SUM(I36)-SUM(I35),"") | J37: =IF(SUM(J36)-SUM(J35)>0,SUM(J36)-SUM(J35),"") | ... N37: =IF(SUM(N36)-SUM(N35)>0,SUM(N36)-SUM(N35),"") | O37: =IF(SUM(C37:N37)>0,SUM(C37:N37),"")
B38: Campo 94 | C38: =IF(SUM(C35)-SUM(C36)>0,SUM(C35)-SUM(C36),"") | D38: =IF(SUM(D35)-SUM(D36)>0,SUM(D35)-SUM(D36),"") | E38: =IF(SUM(E35)-SUM(E36)>0,SUM(E35)-SUM(E36),"") | F38: =IF(SUM(F35)-SUM(F36)>0,SUM(F35)-SUM(F36),"") | G38: =IF(SUM(G35)-SUM(G36)>0,SUM(G35)-SUM(G36),"") | H38: =IF(SUM(H35)-SUM(H36)>0,SUM(H35)-SUM(H36),"") | I38: =IF(SUM(I35)-SUM(I36)>0,SUM(I35)-SUM(I36),"") | J38: =IF(SUM(J35)-SUM(J36)>0,SUM(J35)-SUM(J36),"") | ... N38: =IF(SUM(N35)-SUM(N36)>0,SUM(N35)-SUM(N36),"") | O38: =IF(SUM(C38:N38)>0,SUM(C38:N38),"")
B41: Nome da Empresa:
B42: Exercicio: | E42: Tipo de Declarações: | H42: Mensais
B44: Nota Importante: Preencher somente o cabeçalho e as células em branco e vazias do quadro abaixo.
B46: Anexo R às Declarações Periódicas de IVA Mensal do Exercicio em análise
C47: Janeiro | D47: Fevereiro | E47: Março | F47: Abril | G47: Maio | H47: Junho | I47: Julho | J47: Agosto | K47: Setembro | L47: Outubro | M47: Novembro | N47: Dezembro | O47: TOTAIS
B48: Campo 1 | O48: =IF(SUM(C48:N48)>0,SUM(C48:N48),"")
B49: Campo 2 | O49: =IF(SUM(C49:N49)>0,SUM(C49:N49),"")
B50: Campo 3 | O50: =IF(SUM(C50:N50)>0,SUM(C50:N50),"")
B51: Campo 4 | O51: =IF(SUM(C51:N51)>0,SUM(C51:N51),"")
B52: Campo 5 | O52: =IF(SUM(C52:N52)>0,SUM(C52:N52),"")
B53: Campo 6 | O53: =IF(SUM(C53:N53)>0,SUM(C53:N53),"")
B54: Campo 8 | O54: =IF(SUM(C54:N54)>0,SUM(C54:N54),"")
B55: Campo 8 (Inversão C. Civil) | O55: =IF(SUM(C55:N55)>0,SUM(C55:N55),"")
...

Sheet Cálculos Auxiliares
B2: Quadros de Cálculos Auxiliares para o Anexo L da IES | M2: Quadros de Cálculos Auxiliares para o Anexo L da IES
B4: Nota Importante: Preencher somente as células vazias e em branco dos quadros abaixo | M4: Nota Importante: Preencher somente as células vazias e em branco dos quadros
B6: EXISTÊNCIAS - Dados para o Quadro 4 e 6 do Anexo L - IVA TRIMESTRAL | M6: EXISTÊNCIAS - Dados para o Quadro 4 e 6 do Anexo L - IVA MENSAL
E7: Taxa Reduzida | F7: BASE | G7: Taxa Intermédia | H7: BASE | I7: Taxa Normal | J7: BASE | O7: Taxa Reduzida | P7: BASE | Q7: Taxa Intermédia | R7: BASE | S7: Taxa Normal | T7: BASE
B8: Valores do extracto de contrabilidade referentes às subcontas da 24321... - IVA Dedutivel Existências | D8: 1º Trimestre | F8: =IF(SUM('Anexo L - IES'!$J$10:$L$13)>0,IF(E8>0,E8/'Anexo L - IES'!$J$10,""),"") | H8: =IF(SUM('Anexo L - IES'!$J$10:$L$13)>0,IF(G8>0,G8/'Anexo L - IES'!$K$10,""),"") | J8: =IF(SUM('Anexo L - IES'!$J$10:$L$13)>0,IF(I8>0,I8/'Anexo L - IES'!$L$10,""),"") | M8: Valores do extracto de contrabilidade referentes às subcontas da 24321... - IVA Dedutivel Existências | N8: Janeiro | P8: =IF(SUM('Anexo L - IES'!$J$10:$L$13)>0,IF(O8>0,O8/'Anexo L - IES'!$J$10,""),"") | R8: =IF(SUM('Anexo L - IES'!$J$10:$L$13)>0,IF(Q8>0,Q8/'Anexo L - IES'!$K$10,""),"") | T8: =IF(SUM('Anexo L - IES'!$J$10:$L$13)>0,IF(S8>0,S8/'Anexo L - IES'!$L$10,""),"")
D9: 2º Trimestre | F9: =IF(SUM('Anexo L - IES'!$J$10:$L$13)>0,IF(E9>0,E9/'Anexo L - IES'!$J$11,""),"") | H9: =IF(SUM('Anexo L - IES'!$J$10:$L$13)>0,IF(G9>0,G9/'Anexo L - IES'!$K$11,""),"") | J9: =IF(SUM('Anexo L - IES'!$J$10:$L$13)>0,IF(I9>0,I9/'Anexo L - IES'!$L$11,""),"") | N9: Fevereiro | P9: =IF(SUM('Anexo L - IES'!$J$10:$L$13)>0,IF(O9>0,O9/'Anexo L - IES'!$J$10,""),"") | R9: =IF(SUM('Anexo L - IES'!$J$10:$L$13)>0,IF(Q9>0,Q9/'Anexo L - IES'!$K$10,""),"") | T9: =IF(SUM('Anexo L - IES'!$J$10:$L$13)>0,IF(S9>0,S9/'Anexo L - IES'!$L$10,""),"")
D10: 3º Trimestre | F10: =IF(SUM('Anexo L - IES'!$J$10:$L$13)>0,IF(E10>0,E10/'Anexo L - IES'!$J$12,""),"") | H10: =IF(SUM('Anexo L - IES'!$J$10:$L$13)>0,IF(G10>0,G10/'Anexo L - IES'!$K$12,""),"") | J10: =IF(SUM('Anexo L - IES'!$J$10:$L$13)>0,IF(I10>0,I10/'Anexo L - IES'!$L$12,""),"") | N10: Março | P10: =IF(SUM('Anexo L - IES'!$J$10:$L$13)>0,IF(O10>0,O10/'Anexo L - IES'!$J$10,""),"") | R10: =IF(SUM('Anexo L - IES'!$J$10:$L$13)>0,IF(Q10>0,Q10/'Anexo L - IES'!$K$10,""),"") | T10: =IF(SUM('Anexo L - IES'!$J$10:$L$13)>0,IF(S10>0,S10/'Anexo L - IES'!$L$10,""),"")
D11: 4º Trimestre | F11: =IF(SUM('Anexo L - IES'!$J$10:$L$13)>0,IF(E11>0,E11/'Anexo L - IES'!$J$13,""),"") | H11: =IF(SUM('Anexo L - IES'!$J$10:$L$13)>0,IF(G11>0,G11/'Anexo L - IES'!$K$13,""),"") | J11: =IF(SUM('Anexo L - IES'!$J$10:$L$13)>0,IF(I11>0,I11/'Anexo L - IES'!$L$13,""),"") | N11: Abril | P11: =IF(SUM('Anexo L - IES'!$J$10:$L$13)>0,IF(O11>0,O11/'Anexo L - IES'!$J$11,""),"") | R11: =IF(SUM('Anexo L - IES'!$J$10:$L$13)>0,IF(Q11>0,Q11/'Anexo L - IES'!$K$11,""),"") | T11: =IF(SUM('Anexo L - IES'!$J$10:$L$13)>0,IF(S11>0,S11/'Anexo L - IES'!$L$11,""),"")
B12: TOTAIS | E12: =IF(SUM(E8:E11)>0,SUM(E8:E11),"") | F12: =IF(SUM(F8:F11)>0,SUM(F8:F11),"") | G12: =IF(SUM(G8:G11)>0,SUM(G8:G11),"") | H12: =IF(SUM(H8:H11)>0,SUM(H8:H11),"") | I12: =IF(SUM(I8:I11)>0,SUM(I8:I11),"") | J12: =IF(SUM(J8:J11)>0,SUM(J8:J11),"") | N12: Maio | P12: =IF(SUM('Anexo L - IES'!$J$10:$L$13)>0,IF(O12>0,O12/'Anexo L - IES'!$J$11,""),"") | R12: =IF(SUM('Anexo L - IES'!$J$10:$L$13)>0,IF(Q12>0,Q12/'Anexo L - IES'!$K$11,""),"") | T12: =IF(SUM('Anexo L - IES'!$J$10:$L$13)>0,IF(S12>0,S12/'Anexo L - IES'!$L$11,""),"")
N13: Junho | P13: =IF(SUM('Anexo L - IES'!$J$10:$L$13)>0,IF(O13>0,O13/'Anexo L - IES'!$J$11,""),"") | R13: =IF(SUM('Anexo L - IES'!$J$10:$L$13)>0,IF(Q13>0,Q13/'Anexo L - IES'!$K$11,""),"") | T13: =IF(SUM('Anexo L - IES'!$J$10:$L$13)>0,IF(S13>0,S13/'Anexo L - IES'!$L$11,""),"")
N14: Julho | P14: =IF(SUM('Anexo L - IES'!$J$10:$L$13)>0,IF(O14>0,O14/'Anexo L - IES'!$J$12,""),"") | R14: =IF(SUM('Anexo L - IES'!$J$10:$L$13)>0,IF(Q14>0,Q14/'Anexo L - IES'!$K$12,""),"") | T14: =IF(SUM('Anexo L - IES'!$J$10:$L$13)>0,IF(S14>0,S14/'Anexo L - IES'!$L$12,""),"")
B15: IMOBILIZADO - Dados para o Quadro 4 e 6 do Anexo L - IVA TRIMESTRAL | N15: Agosto | P15: =IF(SUM('Anexo L - IES'!$J$10:$L$13)>0,IF(O15>0,O15/'Anexo L - IES'!$J$12,""),"") | R15: =IF(SUM('Anexo L - IES'!$J$10:$L$13)>0,IF(Q15>0,Q15/'Anexo L - IES'!$K$12,""),"") | T15: =IF(SUM('Anexo L - IES'!$J$10:$L$13)>0,IF(S15>0,S15/'Anexo L - IES'!$L$12,""),"")
E16: Taxa Reduzida | F16: BASE | G16: Taxa Intermédia | H16: BASE | I16: Taxa Normal | J16: BASE | N16: Setembro | P16: =IF(SUM('Anexo L - IES'!$J$10:$L$13)>0,IF(O16>0,O16/'Anexo L - IES'!$J$12,""),"") | R16: =IF(SUM('Anexo L - IES'!$J$10:$L$13)>0,IF(Q16>0,Q16/'Anexo L - IES'!$K$12,""),"") | T16: =IF(SUM('Anexo L - IES'!$J$10:$L$13)>0,IF(S16>0,S16/'Anexo L - IES'!$L$12,""),"")
B17: Valores do extracto de contrabilidade referentes às subcontas da 24322... - IVA Dedutivel Imobilizado | D17: 1º Trimestre | F17: =IF(SUM('Anexo L - IES'!$J$10:$L$13)>0,IF(E17>0,E17/'Anexo L - IES'!$J$10,""),"") | H17: =IF(SUM('Anexo L - IES'!$J$10:$L$13)>0,IF(G17>0,G17/'Anexo L - IES'!$K$10,""),"") | J17: =IF(SUM('Anexo L - IES'!$J$10:$L$13)>0,IF(I17>0,I17/'Anexo L - IES'!$L$10,""),"") | N17: Outubro | P17: =IF(SUM('Anexo L - IES'!$J$10:$L$13)>0,IF(O17>0,O17/'Anexo L - IES'!$J$13,""),"") | R17: =IF(SUM('Anexo L - IES'!$J$10:$L$13)>0,IF(Q17>0,Q17/'Anexo L - IES'!$K$13,""),"") | T17: =IF(SUM('Anexo L - IES'!$J$10:$L$13)>0,IF(S17>0,S17/'Anexo L - IES'!$L$13,""),"")
D18: 2º Trimestre | F18: =IF(SUM('Anexo L - IES'!$J$10:$L$13)>0,IF(E18>0,E18/'Anexo L - IES'!$J$11,""),"") | H18: =IF(SUM('Anexo L - IES'!$J$10:$L$13)>0,IF(G18>0,G18/'Anexo L - IES'!$K$11,""),"") | J18: =IF(SUM('Anexo L - IES'!$J$10:$L$13)>0,IF(I18>0,I18/'Anexo L - IES'!$L$11,""),"") | N18: Novembro | P18: =IF(SUM('Anexo L - IES'!$J$10:$L$13)>0,IF(O18>0,O18/'Anexo L - IES'!$J$13,""),"") | R18: =IF(SUM('Anexo L - IES'!$J$10:$L$13)>0,IF(Q18>0,Q18/'Anexo L - IES'!$K$13,""),"") | T18: =IF(SUM('Anexo L - IES'!$J$10:$L$13)>0,IF(S18>0,S18/'Anexo L - IES'!$L$13,""),"")
D19: 3º Trimestre | F19: =IF(SUM('Anexo L - IES'!$J$10:$L$13)>0,IF(E19>0,E19/'Anexo L - IES'!$J$12,""),"") | H19: =IF(SUM('Anexo L - IES'!$J$10:$L$13)>0,IF(G19>0,G19/'Anexo L - IES'!$K$12,""),"") | J19: =IF(SUM('Anexo L - IES'!$J$10:$L$13)>0,IF(I19>0,I19/'Anexo L - IES'!$L$12,""),"") | N19: Dezembro | P19: =IF(SUM('Anexo L - IES'!$J$10:$L$13)>0,IF(O19>0,O19/'Anexo L - IES'!$J$13,""),"") | R19: =IF(SUM('Anexo L - IES'!$J$10:$L$13)>0,IF(Q19>0,Q19/'Anexo L - IES'!$K$13,""),"") | T19: =IF(SUM('Anexo L - IES'!$J$10:$L$13)>0,IF(S19>0,S19/'Anexo L - IES'!$L$13,""),"")
D20: 4º Trimestre | F20: =IF(SUM('Anexo L - IES'!$J$10:$L$13)>0,IF(E20>0,E20/'Anexo L - IES'!$J$13,""),"") | H20: =IF(SUM('Anexo L - IES'!$J$10:$L$13)>0,IF(G20>0,G20/'Anexo L - IES'!$K$13,""),"") | J20: =IF(SUM('Anexo L - IES'!$J$10:$L$13)>0,IF(I20>0,I20/'Anexo L - IES'!$L$13,""),"") | M20: TOTAIS | O20: =IF(SUM(O8:O19)>0,SUM(O8:O19),"") | P20: =IF(SUM(P8:P19)>0,SUM(P8:P19),"") | Q20: =IF(SUM(Q8:Q19)>0,SUM(Q8:Q19),"") | R20: =IF(SUM(R8:R19)>0,SUM(R8:R19),"") | S20: =IF(SUM(S8:S19)>0,SUM(S8:S19),"") | T20: =IF(SUM(T8:T19)>0,SUM(T8:T19),"")
B21: TOTAIS | E21: =IF(SUM(E17:E20)>0,SUM(E17:E20),"") | F21: =IF(SUM(F17:F20)>0,SUM(F17:F20),"") | G21: =IF(SUM(G17:G20)>0,SUM(G17:G20),"") | H21: =IF(SUM(H17:H20)>0,SUM(H17:H20),"") | I21: =IF(SUM(I17:I20)>0,SUM(I17:I20),"") | J21: =IF(SUM(J17:J20)>0,SUM(J17:J20),"")
B24: OUTROS BENS E SERVIÇOS - Dados para o Quadro 4 e 6 do Anexo L - IVA TRIMESTRAL | M24: IMOBILIZADO - Dados para o Quadro 4 e 6 do Anexo L - IVA MENSAL
E25: Taxa Reduzida | F25: BASE | G25: Taxa Intermédia | H25: BASE | I25: Taxa Normal | J25: BASE | O25: Taxa Reduzida | P25: BASE | Q25: Taxa Intermédia | R25: BASE | S25: Taxa Normal | T25: BASE
B26: Valores do extracto de contrabilidade referentes às subcontas da 24323... - IVA Dedutivel OBS | D26: 1º Trimestre | F26: =IF(SUM('Anexo L - IES'!$J$10:$L$13)>0,IF(E26>0,E26/'Anexo L - IES'!$J$10,""),"") | H26: =IF(SUM('Anexo L - IES'!$J$10:$L$13)>0,IF(G26>0,G26/'Anexo L - IES'!$K$10,""),"") | J26: =IF(SUM('Anexo L - IES'!$J$10:$L$13)>0,IF(I26>0,I26/'Anexo L - IES'!$L$10,""),"") | M26: Valores do extracto de contrabilidade referentes às subcontas da 24322... - IVA Dedutivel Imobilizado | N26: Janeiro | P26: =IF(SUM('Anexo L - IES'!$J$10:$L$13)>0,IF(O26>0,O26/'Anexo L - IES'!$J$10,""),"") | R26: =IF(SUM('Anexo L - IES'!$J$10:$L$13)>0,IF(Q26>0,Q26/'Anexo L - IES'!$K$10,""),"") | T26: =IF(SUM('Anexo L - IES'!$J$10:$L$13)>0,IF(S26>0,S26/'Anexo L - IES'!$L$10,""),"")
D27: 2º Trimestre | F27: =IF(SUM('Anexo L - IES'!$J$10:$L$13)>0,IF(E27>0,E27/'Anexo L - IES'!$J$11,""),"") | H27: =IF(SUM('Anexo L - IES'!$J$10:$L$13)>0,IF(G27>0,G27/'Anexo L - IES'!$K$11,""),"") | J27: =IF(SUM('Anexo L - IES'!$J$10:$L$13)>0,IF(I27>0,I27/'Anexo L - IES'!$L$11,""),"") | N27: Fevereiro | P27: =IF(SUM('Anexo L - IES'!$J$10:$L$13)>0,IF(O27>0,O27/'Anexo L - IES'!$J$10,""),"") | R27: =IF(SUM('Anexo L - IES'!$J$10:$L$13)>0,IF(Q27>0,Q27/'Anexo L - IES'!$K$10,""),"") | T27: =IF(SUM('Anexo L - IES'!$J$10:$L$13)>0,IF(S27>0,S27/'Anexo L - IES'!$L$10,""),"")
D28: 3º Trimestre | F28: =IF(SUM('Anexo L - IES'!$J$10:$L$13)>0,IF(E28>0,E28/'Anexo L - IES'!$J$12,""),"") | H28: =IF(SUM('Anexo L - IES'!$J$10:$L$13)>0,IF(G28>0,G28/'Anexo L - IES'!$K$12,""),"") | J28: =IF(SUM('Anexo L - IES'!$J$10:$L$13)>0,IF(I28>0,I28/'Anexo L - IES'!$L$12,""),"") | N28: Março | P28: =IF(SUM('Anexo L - IES'!$J$10:$L$13)>0,IF(O28>0,O28/'Anexo L - IES'!$J$10,""),"") | R28: =IF(SUM('Anexo L - IES'!$J$10:$L$13)>0,IF(Q28>0,Q28/'Anexo L - IES'!$K$10,""),"") | T28: =IF(SUM('Anexo L - IES'!$J$10:$L$13)>0,IF(S28>0,S28/'Anexo L - IES'!$L$10,""),"")
D29: 4º Trimestre | F29: =IF(SUM('Anexo L - IES'!$J$10:$L$13)>0,IF(E29>0,E29/'Anexo L - IES'!$J$13,""),"") | H29: =IF(SUM('Anexo L - IES'!$J$10:$L$13)>0,IF(G29>0,G29/'Anexo L - IES'!$K$13,""),"") | J29: =IF(SUM('Anexo L - IES'!$J$10:$L$13)>0,IF(I29>0,I29/'Anexo L - IES'!$L$13,""),"") | N29: Abril | P29: =IF(SUM('Anexo L - IES'!$J$10:$L$13)>0,IF(O29>0,O29/'Anexo L - IES'!$J$11,""),"") | R29: =IF(SUM('Anexo L - IES'!$J$10:$L$13)>0,IF(Q29>0,Q29/'Anexo L - IES'!$K$11,""),"") | T29: =IF(SUM('Anexo L - IES'!$J$10:$L$13)>0,IF(S29>0,S29/'Anexo L - IES'!$L$11,""),"")
B30: TOTAIS | E30: =IF(SUM(E26:E29)>0,SUM(E26:E29),"") | F30: =IF(SUM(F26:F29)>0,SUM(F26:F29),"") | G30: =IF(SUM(G26:G29)>0,SUM(G26:G29),"") | H30: =IF(SUM(H26:H29)>0,SUM(H26:H29),"") | I30: =IF(SUM(I26:I29)>0,SUM(I26:I29),"") | J30: =IF(SUM(J26:J29)>0,SUM(J26:J29),"") | N30: Maio | P30: =IF(SUM('Anexo L - IES'!$J$10:$L$13)>0,IF(O30>0,O30/'Anexo L - IES'!$J$11,""),"") | R30: =IF(SUM('Anexo L - IES'!$J$10:$L$13)>0,IF(Q30>0,Q30/'Anexo L - IES'!$K$11,""),"") | T30: =IF(SUM('Anexo L - IES'!$J$10:$L$13)>0,IF(S30>0,S30/'Anexo L - IES'!$L$11,""),"")
I31: Taxa Normal | J31: BASE | N31: Junho | P31: =IF(SUM('Anexo L - IES'!$J$10:$L$13)>0,IF(O31>0,O31/'Anexo L - IES'!$J$11,""),"") | R31: =IF(SUM('Anexo L - IES'!$J$10:$L$13)>0,IF(Q31>0,Q31/'Anexo L - IES'!$K$11,""),"") | T31: =IF(SUM('Anexo L - IES'!$J$10:$L$13)>0,IF(S31>0,S31/'Anexo L - IES'!$L$11,""),"")
F32: Valores do extracto de contrabilidade referentes às subcontas da 24323 - Dedução 50% Iva do Gasóleo | H32: 1º Trimestre | J32: =IF(SUM('Anexo L - IES'!$J$10:$L$13)>0,IF(I32>0,I32/('Anexo L - IES'!$L$10/2)+I32,""),"") | N32: Julho | P32: =IF(SUM('Anexo L - IES'!$J$10:$L$13)>0,IF(O32>0,O32/'Anexo L - IES'!$J$12,""),"") | R32: =IF(SUM('Anexo L - IES'!$J$10:$L$13)>0,IF(Q32>0,Q32/'Anexo L - IES'!$K$12,""),"") | T32: =IF(SUM('Anexo L - IES'!$J$10:$L$13)>0,IF(S32>0,S32/'Anexo L - IES'!$L$12,""),"")
H33: 2º Trimestre | J33: =IF(SUM('Anexo L - IES'!$J$10:$L$13)>0,IF(I33>0,I33/('Anexo L - IES'!$L$11/2)+I33,""),"") | N33: Agosto | P33: =IF(SUM('Anexo L - IES'!$J$10:$L$13)>0,IF(O33>0,O33/'Anexo L - IES'!$J$12,""),"") | R33: =IF(SUM('Anexo L - IES'!$J$10:$L$13)>0,IF(Q33>0,Q33/'Anexo L - IES'!$K$12,""),"") | T33: =IF(SUM('Anexo L - IES'!$J$10:$L$13)>0,IF(S33>0,S33/'Anexo L - IES'!$L$12,""),"")
H34: 3º Trimestre | J34: =IF(SUM('Anexo L - IES'!$J$10:$L$13)>0,IF(I34>0,I34/('Anexo L - IES'!$L$12/2)+I34,""),"") | N34: Setembro | P34: =IF(SUM('Anexo L - IES'!$J$10:$L$13)>0,IF(O34>0,O34/'Anexo L - IES'!$J$12,""),"") | R34: =IF(SUM('Anexo L - IES'!$J$10:$L$13)>0,IF(Q34>0,Q34/'Anexo L - IES'!$K$12,""),"") | T34: =IF(SUM('Anexo L - IES'!$J$10:$L$13)>0,IF(S34>0,S34/'Anexo L - IES'!$L$12,""),"")
H35: 4º Trimestre | J35: =IF(SUM('Anexo L - IES'!$J$10:$L$13)>0,IF(I35>0,I35/('Anexo L - IES'!$L$13/2)+I35,""),"") | N35: Outubro | P35: =IF(SUM('Anexo L - IES'!$J$10:$L$13)>0,IF(O35>0,O35/'Anexo L - IES'!$J$13,""),"") | R35: =IF(SUM('Anexo L - IES'!$J$10:$L$13)>0,IF(Q35>0,Q35/'Anexo L - IES'!$K$13,""),"") | T35: =IF(SUM('Anexo L - IES'!$J$10:$L$13)>0,IF(S35>0,S35/'Anexo L - IES'!$L$13,""),"")
F36: TOTAIS | I36: =IF(SUM(I32:I35)>0,SUM(I32:I35),"") | J36: =IF(SUM(J32:J35)>0,SUM(J32:J35),"") | N36: Novembro | P36: =IF(SUM('Anexo L - IES'!$J$10:$L$13)>0,IF(O36>0,O36/'Anexo L - IES'!$J$13,""),"") | R36: =IF(SUM('Anexo L - IES'!$J$10:$L$13)>0,IF(Q36>0,Q36/'Anexo L - IES'!$K$13,""),"") | T36: =IF(SUM('Anexo L - IES'!$J$10:$L$13)>0,IF(S36>0,S36/'Anexo L - IES'!$L$13,""),"")
N37: Dezembro | P37: =IF(SUM('Anexo L - IES'!$J$10:$L$13)>0,IF(O37>0,O37/'Anexo L - IES'!$J$13,""),"") | R37: =IF(SUM('Anexo L - IES'!$J$10:$L$13)>0,IF(Q37>0,Q37/'Anexo L - IES'!$K$13,""),"") | T37: =IF(SUM('Anexo L - IES'!$J$10:$L$13)>0,IF(S37>0,S37/'Anexo L - IES'!$L$13,""),"")
B38: Outros Valores a retirar da contabilidade para preenchimento do Quadro 4 e 5 do Anexo L | M38: TOTAIS | O38: =IF(SUM(O26:O37)>0,SUM(O26:O37),"") | P38: =IF(SUM(P26:P37)>0,SUM(P26:P37),"") | Q38: =IF(SUM(Q26:Q37)>0,SUM(Q26:Q37),"") | R38: =IF(SUM(R26:R37)>0,SUM(R26:R37),"") | S38: =IF(SUM(S26:S37)>0,SUM(S26:S37),"") | T38: =IF(SUM(T26:T37)>0,SUM(T26:T37),"")
B39: Contas SNC | C39: Designação das Contas | F39: Valor do Extracto | H39: Valor p/ Quadro 4 | J39: Totais
F40: 1º Semestre | G40: 2º Semestre
B41: 6234... | C41: Excluido Direito Dedução - Outros | D41: Ofertas a Clientes | H41: =IF(SUM(F41)>0,F41/(1+('Anexo L - IES'!$L$11)),"") | I41: =IF(SUM(G41)>0,G41/(1+('Anexo L - IES'!$L$13)),"") | J41: =IF(SUM(H41:I44)>0,SUM(H41:I44),"") | M41: OUTROS BENS E SERVIÇOS - Dados para o Quadro 4 e 6 do Anexo L - IVA MENSAL
B42: 6266... | D42: Desp. Representação (Tx.Interm.) | H42: =IF(SUM(F42)>0,F42/(1+('Anexo L - IES'!$K$11)),"") | I42: =IF(SUM(G42)>0,G42/(1+('Anexo L - IES'!$K$13)),"") | O42: Taxa Reduzida | P42: BASE | Q42: Taxa Intermédia | R42: BASE | S42: Taxa Normal | T42: BASE
B43: 6251... | D43: Desloc. e Estadas (Tx. Interm.) | H43: =IF(SUM(F43)>0,F43/(1+('Anexo L - IES'!$K$11)),"") | I43: =IF(SUM(G43)>0,G43/(1+('Anexo L - IES'!$K$13)),"") | M43: Valores do extracto de contrabilidade referentes às subcontas da 24323... - IVA Dedutivel OBS | N43: Janeiro | P43: =IF(SUM('Anexo L - IES'!$J$10:$L$13)>0,IF(O43>0,O43/'Anexo L - IES'!$J$10,""),"") | R43: =IF(SUM('Anexo L - IES'!$J$10:$L$13)>0,IF(Q43>0,Q43/'Anexo L - IES'!$K$10,""),"") | T43: =IF(SUM('Anexo L - IES'!$J$10:$L$13)>0,IF(S43>0,S43/'Anexo L - IES'!$L$10,""),"")
B44: 62… | D44: Outros Custos | H44: =IF(SUM(F44)>0,F44/(1+('Anexo L - IES'!$L$11)),"") | I44: =IF(SUM(G44)>0,G44/(1+('Anexo L - IES'!$L$13)),"") | N44: Fevereiro | P44: =IF(SUM('Anexo L - IES'!$J$10:$L$13)>0,IF(O44>0,O44/'Anexo L - IES'!$J$10,""),"") | R44: =IF(SUM('Anexo L - IES'!$J$10:$L$13)>0,IF(Q44>0,Q44/'Anexo L - IES'!$K$10,""),"") | T44: =IF(SUM('Anexo L - IES'!$J$10:$L$13)>0,IF(S44>0,S44/'Anexo L - IES'!$L$10,""),"")
B45: 62212... | C45: Gasolina | H45: =IF(SUM(F45)>0,F45/(1+('Anexo L - IES'!$L$11)),"") | I45: =IF(SUM(G45)>0,G45/(1+('Anexo L - IES'!$L$13)),"") | J45: =IF(SUM(H45:I45)>0,SUM(H45:I45),"") | N45: Março | P45: =IF(SUM('Anexo L - IES'!$J$10:$L$13)>0,IF(O45>0,O45/'Anexo L - IES'!$J$10,""),"") | R45: =IF(SUM('Anexo L - IES'!$J$10:$L$13)>0,IF(Q45>0,Q45/'Anexo L - IES'!$K$10,""),"") | T45: =IF(SUM('Anexo L - IES'!$J$10:$L$13)>0,IF(S45>0,S45/'Anexo L - IES'!$L$10,""),"")
...

Sheet CA - Anexo R
B2: Quadros de Cálculos Auxiliares para o Anexo L da IES | M2: Quadros de Cálculos Auxiliares para o Anexo L da IES
B4: Nota Importante: Preencher somente as células vazias e em branco dos quadros abaixo. Só para IVA dos Açores e Madeira | M4: Nota Importante: Preencher somente as células vazias e em branco dos quadros abaixo. Só para IVA dos Açores e Madeira
B6: EXISTÊNCIAS - Dados para o Quadro 4 e 6 do Anexo L - IVA TRIMESTRAL | M6: EXISTÊNCIAS - Dados para o Quadro 4 e 6 do Anexo L - IVA MENSAL
E7: Taxa Reduzida | F7: BASE | G7: Taxa Intermédia | H7: BASE | I7: Taxa Normal | J7: BASE | O7: Taxa Reduzida | P7: BASE | Q7: Taxa Intermédia | R7: BASE | S7: Taxa Normal | T7: BASE
B8: Valores do extracto de contrabilidade referentes às subcontas da 24321... - IVA Dedutivel Existências | D8: 1º Trimestre | F8: =IF(SUM('Anexo L - IES'!$J$17:$L$20)>0,IF(E8>0,E8/'Anexo L - IES'!$J$17,""),"") | H8: =IF(SUM('Anexo L - IES'!$J$17:$L$20)>0,IF(G8>0,G8/'Anexo L - IES'!$K$17,""),"") | J8: =IF(SUM('Anexo L - IES'!$J$17:$L$20)>0,IF(I8>0,I8/'Anexo L - IES'!$L$17,""),"") | M8: Valores do extracto de contrabilidade referentes às subcontas da 24321... - IVA Dedutivel Existências | N8: Janeiro | P8: =IF(SUM('Anexo L - IES'!$J$17:$L$20)>0,IF(O8>0,O8/'Anexo L - IES'!$J$17,""),"") | R8: =IF(SUM('Anexo L - IES'!$J$17:$L$20)>0,IF(Q8>0,Q8/'Anexo L - IES'!$K$17,""),"") | T8: =IF(SUM('Anexo L - IES'!$J$17:$L$20)>0,IF(S8>0,S8/'Anexo L - IES'!$L$17,""),"")
D9: 2º Trimestre | F9: =IF(SUM('Anexo L - IES'!$J$17:$L$20)>0,IF(E9>0,E9/'Anexo L - IES'!$J$18,""),"") | H9: =IF(SUM('Anexo L - IES'!$J$17:$L$20)>0,IF(G9>0,G9/'Anexo L - IES'!$K$18,""),"") | J9: =IF(SUM('Anexo L - IES'!$J$17:$L$20)>0,IF(I9>0,I9/'Anexo L - IES'!$L$18,""),"") | N9: Fevereiro | P9: =IF(SUM('Anexo L - IES'!$J$17:$L$20)>0,IF(O9>0,O9/'Anexo L - IES'!$J$17,""),"") | R9: =IF(SUM('Anexo L - IES'!$J$17:$L$20)>0,IF(Q9>0,Q9/'Anexo L - IES'!$K$17,""),"") | T9: =IF(SUM('Anexo L - IES'!$J$17:$L$20)>0,IF(S9>0,S9/'Anexo L - IES'!$L$17,""),"")
D10: 3º Trimestre | F10: =IF(SUM('Anexo L - IES'!$J$17:$L$20)>0,IF(E10>0,E10/'Anexo L - IES'!$J$19,""),"") | H10: =IF(SUM('Anexo L - IES'!$J$17:$L$20)>0,IF(G10>0,G10/'Anexo L - IES'!$K$19,""),"") | J10: =IF(SUM('Anexo L - IES'!$J$17:$L$20)>0,IF(I10>0,I10/'Anexo L - IES'!$L$19,""),"") | N10: Março | P10: =IF(SUM('Anexo L - IES'!$J$17:$L$20)>0,IF(O10>0,O10/'Anexo L - IES'!$J$17,""),"") | R10: =IF(SUM('Anexo L - IES'!$J$17:$L$20)>0,IF(Q10>0,Q10/'Anexo L - IES'!$K$17,""),"") | T10: =IF(SUM('Anexo L - IES'!$J$17:$L$20)>0,IF(S10>0,S10/'Anexo L - IES'!$L$17,""),"")
D11: 4º Trimestre | F11: =IF(SUM('Anexo L - IES'!$J$17:$L$20)>0,IF(E11>0,E11/'Anexo L - IES'!$J$20,""),"") | H11: =IF(SUM('Anexo L - IES'!$J$17:$L$20)>0,IF(G11>0,G11/'Anexo L - IES'!$K$20,""),"") | J11: =IF(SUM('Anexo L - IES'!$J$17:$L$20)>0,IF(I11>0,I11/'Anexo L - IES'!$L$20,""),"") | N11: Abril | P11: =IF(SUM('Anexo L - IES'!$J$17:$L$20)>0,IF(O11>0,O11/'Anexo L - IES'!$J$18,""),"") | R11: =IF(SUM('Anexo L - IES'!$J$17:$L$20)>0,IF(Q11>0,Q11/'Anexo L - IES'!$K$18,""),"") | T11: =IF(SUM('Anexo L - IES'!$J$17:$L$20)>0,IF(S11>0,S11/'Anexo L - IES'!$L$18,""),"")
B12: TOTAIS | E12: =IF(SUM(E8:E11)>0,SUM(E8:E11),"") | F12: =IF(SUM(F8:F11)>0,SUM(F8:F11),"") | G12: =IF(SUM(G8:G11)>0,SUM(G8:G11),"") | H12: =IF(SUM(H8:H11)>0,SUM(H8:H11),"") | I12: =IF(SUM(I8:I11)>0,SUM(I8:I11),"") | J12: =IF(SUM(J8:J11)>0,SUM(J8:J11),"") | N12: Maio | P12: =IF(SUM('Anexo L - IES'!$J$17:$L$20)>0,IF(O12>0,O12/'Anexo L - IES'!$J$18,""),"") | R12: =IF(SUM('Anexo L - IES'!$J$17:$L$20)>0,IF(Q12>0,Q12/'Anexo L - IES'!$K$18,""),"") | T12: =IF(SUM('Anexo L - IES'!$J$17:$L$20)>0,IF(S12>0,S12/'Anexo L - IES'!$L$18,""),"")
N13: Junho | P13: =IF(SUM('Anexo L - IES'!$J$17:$L$20)>0,IF(O13>0,O13/'Anexo L - IES'!$J$18,""),"") | R13: =IF(SUM('Anexo L - IES'!$J$17:$L$20)>0,IF(Q13>0,Q13/'Anexo L - IES'!$K$18,""),"") | T13: =IF(SUM('Anexo L - IES'!$J$17:$L$20)>0,IF(S13>0,S13/'Anexo L - IES'!$L$18,""),"")
N14: Julho | P14: =IF(SUM('Anexo L - IES'!$J$17:$L$20)>0,IF(O14>0,O14/'Anexo L - IES'!$J$19,""),"") | R14: =IF(SUM('Anexo L - IES'!$J$17:$L$20)>0,IF(Q14>0,Q14/'Anexo L - IES'!$K$19,""),"") | T14: =IF(SUM('Anexo L - IES'!$J$17:$L$20)>0,IF(S14>0,S14/'Anexo L - IES'!$L$19,""),"")
B15: IMOBILIZADO - Dados para o Quadro 4 e 6 do Anexo L - IVA TRIMESTRAL | N15: Agosto | P15: =IF(SUM('Anexo L - IES'!$J$17:$L$20)>0,IF(O15>0,O15/'Anexo L - IES'!$J$19,""),"") | R15: =IF(SUM('Anexo L - IES'!$J$17:$L$20)>0,IF(Q15>0,Q15/'Anexo L - IES'!$K$19,""),"") | T15: =IF(SUM('Anexo L - IES'!$J$17:$L$20)>0,IF(S15>0,S15/'Anexo L - IES'!$L$19,""),"")
E16: Taxa Reduzida | F16: BASE | G16: Taxa Intermédia | H16: BASE | I16: Taxa Normal | J16: BASE | N16: Setembro | P16: =IF(SUM('Anexo L - IES'!$J$17:$L$20)>0,IF(O16>0,O16/'Anexo L - IES'!$J$19,""),"") | R16: =IF(SUM('Anexo L - IES'!$J$17:$L$20)>0,IF(Q16>0,Q16/'Anexo L - IES'!$K$19,""),"") | T16: =IF(SUM('Anexo L - IES'!$J$17:$L$20)>0,IF(S16>0,S16/'Anexo L - IES'!$L$19,""),"")
B17: Valores do extracto de contrabilidade referentes às subcontas da 24322... - IVA Dedutivel Imobilizado | D17: 1º Trimestre | F17: =IF(SUM('Anexo L - IES'!$J$17:$L$20)>0,IF(E17>0,E17/'Anexo L - IES'!$J$17,""),"") | H17: =IF(SUM('Anexo L - IES'!$J$17:$L$20)>0,IF(G17>0,G17/'Anexo L - IES'!$K$17,""),"") | J17: =IF(SUM('Anexo L - IES'!$J$17:$L$20)>0,IF(I17>0,I17/'Anexo L - IES'!$L$17,""),"") | N17: Outubro | P17: =IF(SUM('Anexo L - IES'!$J$17:$L$20)>0,IF(O17>0,O17/'Anexo L - IES'!$J$20,""),"") | R17: =IF(SUM('Anexo L - IES'!$J$17:$L$20)>0,IF(Q17>0,Q17/'Anexo L - IES'!$K$20,""),"") | T17: =IF(SUM('Anexo L - IES'!$J$17:$L$20)>0,IF(S17>0,S17/'Anexo L - IES'!$L$20,""),"")
D18: 2º Trimestre | F18: =IF(SUM('Anexo L - IES'!$J$17:$L$20)>0,IF(E18>0,E18/'Anexo L - IES'!$J$18,""),"") | H18: =IF(SUM('Anexo L - IES'!$J$17:$L$20)>0,IF(G18>0,G18/'Anexo L - IES'!$K$18,""),"") | J18: =IF(SUM('Anexo L - IES'!$J$17:$L$20)>0,IF(I18>0,I18/'Anexo L - IES'!$L$18,""),"") | N18: Novembro | P18: =IF(SUM('Anexo L - IES'!$J$17:$L$20)>0,IF(O18>0,O18/'Anexo L - IES'!$J$20,""),"") | R18: =IF(SUM('Anexo L - IES'!$J$17:$L$20)>0,IF(Q18>0,Q18/'Anexo L - IES'!$K$20,""),"") | T18: =IF(SUM('Anexo L - IES'!$J$17:$L$20)>0,IF(S18>0,S18/'Anexo L - IES'!$L$20,""),"")
D19: 3º Trimestre | F19: =IF(SUM('Anexo L - IES'!$J$17:$L$20)>0,IF(E19>0,E19/'Anexo L - IES'!$J$19,""),"") | H19: =IF(SUM('Anexo L - IES'!$J$17:$L$20)>0,IF(G19>0,G19/'Anexo L - IES'!$K$19,""),"") | J19: =IF(SUM('Anexo L - IES'!$J$17:$L$20)>0,IF(I19>0,I19/'Anexo L - IES'!$L$19,""),"") | N19: Dezembro | P19: =IF(SUM('Anexo L - IES'!$J$17:$L$20)>0,IF(O19>0,O19/'Anexo L - IES'!$J$20,""),"") | R19: =IF(SUM('Anexo L - IES'!$J$17:$L$20)>0,IF(Q19>0,Q19/'Anexo L - IES'!$K$20,""),"") | T19: =IF(SUM('Anexo L - IES'!$J$17:$L$20)>0,IF(S19>0,S19/'Anexo L - IES'!$L$20,""),"")
D20: 4º Trimestre | F20: =IF(SUM('Anexo L - IES'!$J$17:$L$20)>0,IF(E20>0,E20/'Anexo L - IES'!$J$20,""),"") | H20: =IF(SUM('Anexo L - IES'!$J$17:$L$20)>0,IF(G20>0,G20/'Anexo L - IES'!$K$20,""),"") | J20: =IF(SUM('Anexo L - IES'!$J$17:$L$20)>0,IF(I20>0,I20/'Anexo L - IES'!$L$20,""),"") | M20: TOTAIS | O20: =IF(SUM(O8:O19)>0,SUM(O8:O19),"") | P20: =IF(SUM(P8:P19)>0,SUM(P8:P19),"") | Q20: =IF(SUM(Q8:Q19)>0,SUM(Q8:Q19),"") | R20: =IF(SUM(R8:R19)>0,SUM(R8:R19),"") | S20: =IF(SUM(S8:S19)>0,SUM(S8:S19),"") | T20: =IF(SUM(T8:T19)>0,SUM(T8:T19),"")
B21: TOTAIS | E21: =IF(SUM(E17:E20)>0,SUM(E17:E20),"") | F21: =IF(SUM(F17:F20)>0,SUM(F17:F20),"") | G21: =IF(SUM(G17:G20)>0,SUM(G17:G20),"") | H21: =IF(SUM(H17:H20)>0,SUM(H17:H20),"") | I21: =IF(SUM(I17:I20)>0,SUM(I17:I20),"") | J21: =IF(SUM(J17:J20)>0,SUM(J17:J20),"")
B24: OUTROS BENS E SERVIÇOS - Dados para o Quadro 4 e 6 do Anexo L - IVA TRIMESTRAL | M24: IMOBILIZADO - Dados para o Quadro 4 e 6 do Anexo L - IVA MENSAL
E25: Taxa Reduzida | F25: BASE | G25: Taxa Intermédia | H25: BASE | I25: Taxa Normal | J25: BASE | O25: Taxa Reduzida | P25: BASE | Q25: Taxa Intermédia | R25: BASE | S25: Taxa Normal | T25: BASE
B26: Valores do extracto de contrabilidade referentes às subcontas da 24323... - IVA Dedutivel OBS | D26: 1º Trimestre | F26: =IF(SUM('Anexo L - IES'!$J$17:$L$20)>0,IF(E26>0,E26/'Anexo L - IES'!$J$17,""),"") | H26: =IF(SUM('Anexo L - IES'!$J$17:$L$20)>0,IF(G26>0,G26/'Anexo L - IES'!$K$17,""),"") | J26: =IF(SUM('Anexo L - IES'!$J$17:$L$20)>0,IF(I26>0,I26/'Anexo L - IES'!$L$17,""),"") | M26: Valores do extracto de contrabilidade referentes às subcontas da 24322... - IVA Dedutivel Imobilizado | N26: Janeiro | P26: =IF(SUM('Anexo L - IES'!$J$17:$L$20)>0,IF(O26>0,O26/'Anexo L - IES'!$J$17,""),"") | R26: =IF(SUM('Anexo L - IES'!$J$17:$L$20)>0,IF(Q26>0,Q26/'Anexo L - IES'!$K$17,""),"") | T26: =IF(SUM('Anexo L - IES'!$J$17:$L$20)>0,IF(S26>0,S26/'Anexo L - IES'!$L$17,""),"")
D27: 2º Trimestre | F27: =IF(SUM('Anexo L - IES'!$J$17:$L$20)>0,IF(E27>0,E27/'Anexo L - IES'!$J$18,""),"") | H27: =IF(SUM('Anexo L - IES'!$J$17:$L$20)>0,IF(G27>0,G27/'Anexo L - IES'!$K$18,""),"") | J27: =IF(SUM('Anexo L - IES'!$J$17:$L$20)>0,IF(I27>0,I27/'Anexo L - IES'!$L$18,""),"") | N27: Fevereiro | P27: =IF(SUM('Anexo L - IES'!$J$17:$L$20)>0,IF(O27>0,O27/'Anexo L - IES'!$J$17,""),"") | R27: =IF(SUM('Anexo L - IES'!$J$17:$L$20)>0,IF(Q27>0,Q27/'Anexo L - IES'!$K$17,""),"") | T27: =IF(SUM('Anexo L - IES'!$J$17:$L$20)>0,IF(S27>0,S27/'Anexo L - IES'!$L$17,""),"")
D28: 3º Trimestre | F28: =IF(SUM('Anexo L - IES'!$J$17:$L$20)>0,IF(E28>0,E28/'Anexo L - IES'!$J$19,""),"") | H28: =IF(SUM('Anexo L - IES'!$J$17:$L$20)>0,IF(G28>0,G28/'Anexo L - IES'!$K$19,""),"") | J28: =IF(SUM('Anexo L - IES'!$J$17:$L$20)>0,IF(I28>0,I28/'Anexo L - IES'!$L$19,""),"") | N28: Março | P28: =IF(SUM('Anexo L - IES'!$J$17:$L$20)>0,IF(O28>0,O28/'Anexo L - IES'!$J$17,""),"") | R28: =IF(SUM('Anexo L - IES'!$J$17:$L$20)>0,IF(Q28>0,Q28/'Anexo L - IES'!$K$17,""),"") | T28: =IF(SUM('Anexo L - IES'!$J$17:$L$20)>0,IF(S28>0,S28/'Anexo L - IES'!$L$17,""),"")
D29: 4º Trimestre | F29: =IF(SUM('Anexo L - IES'!$J$17:$L$20)>0,IF(E29>0,E29/'Anexo L - IES'!$J$20,""),"") | H29: =IF(SUM('Anexo L - IES'!$J$17:$L$20)>0,IF(G29>0,G29/'Anexo L - IES'!$K$20,""),"") | J29: =IF(SUM('Anexo L - IES'!$J$17:$L$20)>0,IF(I29>0,I29/'Anexo L - IES'!$L$20,""),"") | N29: Abril | P29: =IF(SUM('Anexo L - IES'!$J$17:$L$20)>0,IF(O29>0,O29/'Anexo L - IES'!$J$18,""),"") | R29: =IF(SUM('Anexo L - IES'!$J$17:$L$20)>0,IF(Q29>0,Q29/'Anexo L - IES'!$K$18,""),"") | T29: =IF(SUM('Anexo L - IES'!$J$17:$L$20)>0,IF(S29>0,S29/'Anexo L - IES'!$L$18,""),"")
B30: TOTAIS | E30: =IF(SUM(E26:E29)>0,SUM(E26:E29),"") | F30: =IF(SUM(F26:F29)>0,SUM(F26:F29),"") | G30: =IF(SUM(G26:G29)>0,SUM(G26:G29),"") | H30: =IF(SUM(H26:H29)>0,SUM(H26:H29),"") | I30: =IF(SUM(I26:I29)>0,SUM(I26:I29),"") | J30: =IF(SUM(J26:J29)>0,SUM(J26:J29),"") | N30: Maio | P30: =IF(SUM('Anexo L - IES'!$J$17:$L$20)>0,IF(O30>0,O30/'Anexo L - IES'!$J$18,""),"") | R30: =IF(SUM('Anexo L - IES'!$J$17:$L$20)>0,IF(Q30>0,Q30/'Anexo L - IES'!$K$18,""),"") | T30: =IF(SUM('Anexo L - IES'!$J$17:$L$20)>0,IF(S30>0,S30/'Anexo L - IES'!$L$18,""),"")
I31: Taxa Normal | J31: BASE | N31: Junho | P31: =IF(SUM('Anexo L - IES'!$J$17:$L$20)>0,IF(O31>0,O31/'Anexo L - IES'!$J$18,""),"") | R31: =IF(SUM('Anexo L - IES'!$J$17:$L$20)>0,IF(Q31>0,Q31/'Anexo L - IES'!$K$18,""),"") | T31: =IF(SUM('Anexo L - IES'!$J$17:$L$20)>0,IF(S31>0,S31/'Anexo L - IES'!$L$18,""),"")
F32: Valores do extracto de contrabilidade referentes às subcontas da 24323 - Dedução 50% Iva do Gasóleo | H32: 1º Trimestre | J32: =IF(SUM('Anexo L - IES'!$J$17:$L$20)>0,IF(I32>0,I32/('Anexo L - IES'!$L$17/2)+I32,""),"") | N32: Julho | P32: =IF(SUM('Anexo L - IES'!$J$17:$L$20)>0,IF(O32>0,O32/'Anexo L - IES'!$J$19,""),"") | R32: =IF(SUM('Anexo L - IES'!$J$17:$L$20)>0,IF(Q32>0,Q32/'Anexo L - IES'!$K$19,""),"") | T32: =IF(SUM('Anexo L - IES'!$J$17:$L$20)>0,IF(S32>0,S32/'Anexo L - IES'!$L$19,""),"")
H33: 2º Trimestre | J33: =IF(SUM('Anexo L - IES'!$J$17:$L$20)>0,IF(I33>0,I33/('Anexo L - IES'!$L$18/2)+I33,""),"") | N33: Agosto | P33: =IF(SUM('Anexo L - IES'!$J$17:$L$20)>0,IF(O33>0,O33/'Anexo L - IES'!$J$19,""),"") | R33: =IF(SUM('Anexo L - IES'!$J$17:$L$20)>0,IF(Q33>0,Q33/'Anexo L - IES'!$K$19,""),"") | T33: =IF(SUM('Anexo L - IES'!$J$17:$L$20)>0,IF(S33>0,S33/'Anexo L - IES'!$L$19,""),"")
H34: 3º Trimestre | J34: =IF(SUM('Anexo L - IES'!$J$17:$L$20)>0,IF(I34>0,I34/('Anexo L - IES'!$L$19/2)+I34,""),"") | N34: Setembro | P34: =IF(SUM('Anexo L - IES'!$J$17:$L$20)>0,IF(O34>0,O34/'Anexo L - IES'!$J$19,""),"") | R34: =IF(SUM('Anexo L - IES'!$J$17:$L$20)>0,IF(Q34>0,Q34/'Anexo L - IES'!$K$19,""),"") | T34: =IF(SUM('Anexo L - IES'!$J$17:$L$20)>0,IF(S34>0,S34/'Anexo L - IES'!$L$19,""),"")
H35: 4º Trimestre | J35: =IF(SUM('Anexo L - IES'!$J$17:$L$20)>0,IF(I35>0,I35/('Anexo L - IES'!$L$20/2)+I35,""),"") | N35: Outubro | P35: =IF(SUM('Anexo L - IES'!$J$17:$L$20)>0,IF(O35>0,O35/'Anexo L - IES'!$J$20,""),"") | R35: =IF(SUM('Anexo L - IES'!$J$17:$L$20)>0,IF(Q35>0,Q35/'Anexo L - IES'!$K$20,""),"") | T35: =IF(SUM('Anexo L - IES'!$J$17:$L$20)>0,IF(S35>0,S35/'Anexo L - IES'!$L$20,""),"")
F36: TOTAIS | I36: =IF(SUM(I32:I35)>0,SUM(I32:I35),"") | J36: =IF(SUM(J32:J35)>0,SUM(J32:J35),"") | N36: Novembro | P36: =IF(SUM('Anexo L - IES'!$J$17:$L$20)>0,IF(O36>0,O36/'Anexo L - IES'!$J$20,""),"") | R36: =IF(SUM('Anexo L - IES'!$J$17:$L$20)>0,IF(Q36>0,Q36/'Anexo L - IES'!$K$20,""),"") | T36: =IF(SUM('Anexo L - IES'!$J$17:$L$20)>0,IF(S36>0,S36/'Anexo L - IES'!$L$20,""),"")
N37: Dezembro | P37: =IF(SUM('Anexo L - IES'!$J$17:$L$20)>0,IF(O37>0,O37/'Anexo L - IES'!$J$20,""),"") | R37: =IF(SUM('Anexo L - IES'!$J$17:$L$20)>0,IF(Q37>0,Q37/'Anexo L - IES'!$K$20,""),"") | T37: =IF(SUM('Anexo L - IES'!$J$17:$L$20)>0,IF(S37>0,S37/'Anexo L - IES'!$L$20,""),"")
M38: TOTAIS | O38: =IF(SUM(O26:O37)>0,SUM(O26:O37),"") | P38: =IF(SUM(P26:P37)>0,SUM(P26:P37),"") | Q38: =IF(SUM(Q26:Q37)>0,SUM(Q26:Q37),"") | R38: =IF(SUM(R26:R37)>0,SUM(R26:R37),"") | S38: =IF(SUM(S26:S37)>0,SUM(S26:S37),"") | T38: =IF(SUM(T26:T37)>0,SUM(T26:T37),"")
B39: IVA DEVIDO NO ADQUIRENTE - IMOBILIZADO - Dados para o Quadro 4 e 6 do Anexo L - IVA TRIMESTRAL
E40: Taxa Reduzida | F40: BASE | G40: Taxa Intermédia | H40: BASE | I40: Taxa Normal | J40: BASE | M40: OUTROS BENS E SERVIÇOS - Dados para o Quadro 4 e 6 do Anexo L - IVA MENSAL
B41: Valores do extracto de contrabilidade referentes às subcontas da 24322... - IVA Dedutivel Devido no Adquirente | D41: 1º Trimestre | F41: =IF(SUM('Anexo L - IES'!$J$17:$L$20)>0,IF(E41>0,E41/'Anexo L - IES'!$J$17,""),"") | H41: =IF(SUM('Anexo L - IES'!$J$17:$L$20)>0,IF(G41>0,G41/'Anexo L - IES'!$K$17,""),"") | J41: =IF(SUM('Anexo L - IES'!$J$17:$L$20)>0,IF(I41>0,I41/'Anexo L - IES'!$L$17,""),"") | O41: Taxa Reduzida | P41: BASE | Q41: Taxa Intermédia | R41: BASE | S41: Taxa Normal | T41: BASE
D42: 2º Trimestre | F42: =IF(SUM('Anexo L - IES'!$J$17:$L$20)>0,IF(E42>0,E42/'Anexo L - IES'!$J$18,""),"") | H42: =IF(SUM('Anexo L - IES'!$J$17:$L$20)>0,IF(G42>0,G42/'Anexo L - IES'!$K$18,""),"") | J42: =IF(SUM('Anexo L - IES'!$J$17:$L$20)>0,IF(I42>0,I42/'Anexo L - IES'!$L$18,""),"") | M42: Valores do extracto de contrabilidade referentes às subcontas da 24323... - IVA Dedutivel OBS | N42: Janeiro | P42: =IF(SUM('Anexo L - IES'!$J$17:$L$20)>0,IF(O42>0,O42/'Anexo L - IES'!$J$17,""),"") | R42: =IF(SUM('Anexo L - IES'!$J$17:$L$20)>0,IF(Q42>0,Q42/'Anexo L - IES'!$K$17,""),"") | T42: =IF(SUM('Anexo L - IES'!$J$17:$L$20)>0,IF(S42>0,S42/'Anexo L - IES'!$L$17,""),"")
D43: 3º Trimestre | F43: =IF(SUM('Anexo L - IES'!$J$17:$L$20)>0,IF(E43>0,E43/'Anexo L - IES'!$J$19,""),"") | H43: =IF(SUM('Anexo L - IES'!$J$17:$L$20)>0,IF(G43>0,G43/'Anexo L - IES'!$K$19,""),"") | J43: =IF(SUM('Anexo L - IES'!$J$17:$L$20)>0,IF(I43>0,I43/'Anexo L - IES'!$L$19,""),"") | N43: Fevereiro | P43: =IF(SUM('Anexo L - IES'!$J$17:$L$20)>0,IF(O43>0,O43/'Anexo L - IES'!$J$17,""),"") | R43: =IF(SUM('Anexo L - IES'!$J$17:$L$20)>0,IF(Q43>0,Q43/'Anexo L - IES'!$K$17,""),"") | T43: =IF(SUM('Anexo L - IES'!$J$17:$L$20)>0,IF(S43>0,S43/'Anexo L - IES'!$L$17,""),"")
D44: 4º Trimestre | F44: =IF(SUM('Anexo L - IES'!$J$17:$L$20)>0,IF(E44>0,E44/'Anexo L - IES'!$J$20,""),"") | H44: =IF(SUM('Anexo L - IES'!$J$17:$L$20)>0,IF(G44>0,G44/'Anexo L - IES'!$K$20,""),"") | J44: =IF(SUM('Anexo L - IES'!$J$17:$L$20)>0,IF(I44>0,I44/'Anexo L - IES'!$L$20,""),"") | N44: Março | P44: =IF(SUM('Anexo L - IES'!$J$17:$L$20)>0,IF(O44>0,O44/'Anexo L - IES'!$J$17,""),"") | R44: =IF(SUM('Anexo L - IES'!$J$17:$L$20)>0,IF(Q44>0,Q44/'Anexo L - IES'!$K$17,""),"") | T44: =IF(SUM('Anexo L - IES'!$J$17:$L$20)>0,IF(S44>0,S44/'Anexo L - IES'!$L$17,""),"")
B45: TOTAIS | E45: =IF(SUM(E41:E44)>0,SUM(E41:E44),"") | F45: =IF(SUM(F41:F44)>0,SUM(F41:F44),"") | G45: =IF(SUM(G41:G44)>0,SUM(G41:G44),"") | H45: =IF(SUM(H41:H44)>0,SUM(H41:H44),"") | I45: =IF(SUM(I41:I44)>0,SUM(I41:I44),"") | J45: =IF(SUM(J41:J44)>0,SUM(J41:J44),"") | N45: Abril | P45: =IF(SUM('Anexo L - IES'!$J$17:$L$20)>0,IF(O45>0,O45/'Anexo L - IES'!$J$18,""),"") | R45: =IF(SUM('Anexo L - IES'!$J$17:$L$20)>0,IF(Q45>0,Q45/'Anexo L - IES'!$K$18,""),"") | T45: =IF(SUM('Anexo L - IES'!$J$17:$L$20)>0,IF(S45>0,S45/'Anexo L - IES'!$L$18,""),"")
...

Sheet Anexo L - IES
B1: IES - Anexo L - IVA - Elementos Contabilisticos e Fiscais
B4: Nome da Empresa: | T4: 2009 | U4: Tabela do Continente
B5: Exercicio: | H5: Contribuinte: | S5: 2 | T5: 1º Trimestre | U5: 0.05 | V5: 0.12 | W5: 0.19
B6: Data Actual | D6: =NOW() -> 40688.782 | O6: 1 | Q6: 1 | S6: 2 | T6: 2º Trimestre | U6: 0.05 | V6: 0.12 | W6: 0.19
O7: 2 | P7: Continente | Q7: 2 | R7: 2009 | S7: 2 | T7: 3º Trimestre | U7: 0.05 | V7: 0.12 | W7: 0.2
H8: Localização | I8: =IF(SUM(P11)>1,VLOOKUP(P11,$O$7:$P$8,2,0),"") | K8: Ano | L8: =IF(SUM(P12)>1,VLOOKUP(P12,$Q$7:$R$9,2,0),"") | O8: 3 | P8: Ilhas | Q8: 3 | R8: 2010 | S8: 2 | T8: 4º Trimestre | U8: 0.05 | V8: 0.12 | W8: 0.2
B9: Colocar no quadro em frente o Tipo de Transmissões da Empresa referentes ao Quadro 03 - Operações Internas Activas: SÓ EXISTÊNCIAS = 1 ; SÓ OBS = 2 ; SÓ IMOBILIZADO = 3 ; EXISTÊNCIAS, OBS e IMOBILIZADO = 4 (Na opção 4, preencher Quadro Cálculos Auxiliares) | E9: Existências | H9: Tabela das 3 Taxas de IVA por Periodo | Q9: 4 | R9: 2011
E10: OBS | H10: 1º Trimestre | J10: =IF(SUM($P$11)>1,IF(SUM($P$11)=2,IF(SUM($P$12)=4,VLOOKUP(H10,$T$22:$W$25,2,0),IF(SUM($P$12)=2,VLOOKUP(H10,$T$5:$W$8,2,0),IF(SUM($P$12)=3,VLOOKUP(H10,$T$11:$W$14,2,0),""))),IF(SUM($P$12)=4,VLOOKUP(H10,$T$41:$W$44,2,0),IF(SUM($P$12)=2,VLOOKUP(H10,$T$29:$W$32,2,0),IF(SUM($P$12)=3,VLOOKUP(H10,$T$35:$W$38,2,0),"")))),"") | K10: =IF(SUM($P$11)>1,IF(SUM($P$11)=2,IF(SUM($P$12)=4,VLOOKUP(H10,$T$22:$W$25,3,0),IF(SUM($P$12)=2,VLOOKUP(H10,$T$5:$W$8,3,0),IF(SUM($P$12)=3,VLOOKUP(H10,$T$11:$W$14,3,0),""))),IF(SUM($P$12)=4,VLOOKUP(H10,$T$41:$W$44,3,0),IF(SUM($P$12)=2,VLOOKUP(H10,$T$29:$W$32,3,0),IF(SUM($P$12)=3,VLOOKUP(H10,$T$35:$W$38,3,0),"")))),"") | L10: =IF(SUM($P$11)>1,IF(SUM($P$11)=2,IF(SUM($P$12)=4,VLOOKUP(H10,$T$22:$W$25,4,0),IF(SUM($P$12)=2,VLOOKUP(H10,$T$5:$W$8,4,0),IF(SUM($P$12)=3,VLOOKUP(H10,$T$11:$W$14,4,0),""))),IF(SUM($P$12)=4,VLOOKUP(H10,$T$41:$W$44,4,0),IF(SUM($P$12)=2,VLOOKUP(H10,$T$29:$W$32,4,0),IF(SUM($P$12)=3,VLOOKUP(H10,$T$35:$W$38,4,0),"")))),"") | T10: 2010 | U10: Tabela do Continente
E11: Imobilizado | H11: 2º Trimestre | J11: =IF(SUM($P$11)>1,IF(SUM($P$11)=2,IF(SUM($P$12)=4,VLOOKUP(H11,$T$22:$W$25,2,0),IF(SUM($P$12)=2,VLOOKUP(H11,$T$5:$W$8,2,0),IF(SUM($P$12)=3,VLOOKUP(H11,$T$11:$W$14,2,0),""))),IF(SUM($P$12)=4,VLOOKUP(H11,$T$41:$W$44,2,0),IF(SUM($P$12)=2,VLOOKUP(H11,$T$29:$W$32,2,0),IF(SUM($P$12)=3,VLOOKUP(H11,$T$35:$W$38,2,0),"")))),"") | K11: =IF(SUM($P$11)>1,IF(SUM($P$11)=2,IF(SUM($P$12)=4,VLOOKUP(H11,$T$22:$W$25,3,0),IF(SUM($P$12)=2,VLOOKUP(H11,$T$5:$W$8,3,0),IF(SUM($P$12)=3,VLOOKUP(H11,$T$11:$W$14,3,0),""))),IF(SUM($P$12)=4,VLOOKUP(H11,$T$41:$W$44,3,0),IF(SUM($P$12)=2,VLOOKUP(H11,$T$29:$W$32,3,0),IF(SUM($P$12)=3,VLOOKUP(H11,$T$35:$W$38,3,0),"")))),"") | L11: =IF(SUM($P$11)>1,IF(SUM($P$11)=2,IF(SUM($P$12)=4,VLOOKUP(H11,$T$22:$W$25,4,0),IF(SUM($P$12)=2,VLOOKUP(H11,$T$5:$W$8,4,0),IF(SUM($P$12)=3,VLOOKUP(H11,$T$11:$W$14,4,0),""))),IF(SUM($P$12)=4,VLOOKUP(H11,$T$41:$W$44,4,0),IF(SUM($P$12)=2,VLOOKUP(H11,$T$29:$W$32,4,0),IF(SUM($P$12)=3,VLOOKUP(H11,$T$35:$W$38,4,0),"")))),"") | P11: 1 | S11: 3 | T11: 1º Trimestre | U11: 0.05 | V11: 0.12 | W11: 0.2
E12: 2 ou + | H12: 3º Trimestre | J12: =IF(SUM($P$11)>1,IF(SUM($P$11)=2,IF(SUM($P$12)=4,VLOOKUP(H12,$T$22:$W$25,2,0),IF(SUM($P$12)=2,VLOOKUP(H12,$T$5:$W$8,2,0),IF(SUM($P$12)=3,VLOOKUP(H12,$T$11:$W$14,2,0),""))),IF(SUM($P$12)=4,VLOOKUP(H12,$T$41:$W$44,2,0),IF(SUM($P$12)=2,VLOOKUP(H12,$T$29:$W$32,2,0),IF(SUM($P$12)=3,VLOOKUP(H12,$T$35:$W$38,2,0),"")))),"") | K12: =IF(SUM($P$11)>1,IF(SUM($P$11)=2,IF(SUM($P$12)=4,VLOOKUP(H12,$T$22:$W$25,3,0),IF(SUM($P$12)=2,VLOOKUP(H12,$T$5:$W$8,3,0),IF(SUM($P$12)=3,VLOOKUP(H12,$T$11:$W$14,3,0),""))),IF(SUM($P$12)=4,VLOOKUP(H12,$T$41:$W$44,3,0),IF(SUM($P$12)=2,VLOOKUP(H12,$T$29:$W$32,3,0),IF(SUM($P$12)=3,VLOOKUP(H12,$T$35:$W$38,3,0),"")))),"") | L12: =IF(SUM($P$11)>1,IF(SUM($P$11)=2,IF(SUM($P$12)=4,VLOOKUP(H12,$T$22:$W$25,4,0),IF(SUM($P$12)=2,VLOOKUP(H12,$T$5:$W$8,4,0),IF(SUM($P$12)=3,VLOOKUP(H12,$T$11:$W$14,4,0),""))),IF(SUM($P$12)=4,VLOOKUP(H12,$T$41:$W$44,4,0),IF(SUM($P$12)=2,VLOOKUP(H12,$T$29:$W$32,4,0),IF(SUM($P$12)=3,VLOOKUP(H12,$T$35:$W$38,4,0),"")))),"") | P12: 1 | S12: 3 | T12: 2º Trimestre | U12: 0.05 | V12: 0.12 | W12: 0.2
H13: 4º Trimestre | J13: =IF(SUM($P$11)>1,IF(SUM($P$11)=2,IF(SUM($P$12)=4,VLOOKUP(H13,$T$22:$W$25,2,0),IF(SUM($P$12)=2,VLOOKUP(H13,$T$5:$W$8,2,0),IF(SUM($P$12)=3,VLOOKUP(H13,$T$11:$W$14,2,0),""))),IF(SUM($P$12)=4,VLOOKUP(H13,$T$41:$W$44,2,0),IF(SUM($P$12)=2,VLOOKUP(H13,$T$29:$W$32,2,0),IF(SUM($P$12)=3,VLOOKUP(H13,$T$35:$W$38,2,0),"")))),"") | K13: =IF(SUM($P$11)>1,IF(SUM($P$11)=2,IF(SUM($P$12)=4,VLOOKUP(H13,$T$22:$W$25,3,0),IF(SUM($P$12)=2,VLOOKUP(H13,$T$5:$W$8,3,0),IF(SUM($P$12)=3,VLOOKUP(H13,$T$11:$W$14,3,0),""))),IF(SUM($P$12)=4,VLOOKUP(H13,$T$41:$W$44,3,0),IF(SUM($P$12)=2,VLOOKUP(H13,$T$29:$W$32,3,0),IF(SUM($P$12)=3,VLOOKUP(H13,$T$35:$W$38,3,0),"")))),"") | L13: =IF(SUM($P$11)>1,IF(SUM($P$11)=2,IF(SUM($P$12)=4,VLOOKUP(H13,$T$22:$W$25,4,0),IF(SUM($P$12)=2,VLOOKUP(H13,$T$5:$W$8,4,0),IF(SUM($P$12)=3,VLOOKUP(H13,$T$11:$W$14,4,0),""))),IF(SUM($P$12)=4,VLOOKUP(H13,$T$41:$W$44,4,0),IF(SUM($P$12)=2,VLOOKUP(H13,$T$29:$W$32,4,0),IF(SUM($P$12)=3,VLOOKUP(H13,$T$35:$W$38,4,0),"")))),"") | S13: 3 | T13: 3º Trimestre | U13: 0.06 | V13: 0.13 | W13: 0.21
B14: Nota Importante: Preencher apenas o Cabeçalho, o Quadro acima e os 2 Quadros do lado direito. No quadro acima, preencha apenas o tipo de operação. No 1º quadro da direita de cima para baixo, escolha qual a localização das operações e o Ano das mesmas, sendo que basta preencher este quadro, se realizar operações só no Continente ou só nas Ilhas. Se realizar operações em ambos os locais, deve optar por escolher a localização "Continente" nesse quadro, e "Ilhas" no 2º quadro abaixo desse. Os quadros 03 a 07 do Anexo são preenchidos automaticamente através das Declarações de IVA e Cálculos Auxiliares. | S14: 3 | T14: 4º Trimestre | U14: 0.06 | V14: 0.13 | W14: 0.21
H15: Localização | I15: =IF(SUM(P17)>1,VLOOKUP(P17,$O$7:$P$8,2,0),"") | K15: Ano | L15: =IF(SUM(P18)>1,VLOOKUP(P18,$Q$7:$R$9,2,0),"")
H16: Tabela das 3 Taxas de IVA por Periodo
H17: 1º Trimestre | J17: =IF(SUM($P$17)>1,IF(SUM($P$17)=2,IF(SUM($P$18)=4,VLOOKUP(H17,$T$22:$W$25,2,0),IF(SUM($P$18)=2,VLOOKUP(H17,$T$5:$W$8,2,0),IF(SUM($P$18)=3,VLOOKUP(H17,$T$11:$W$14,2,0),""))),IF(SUM($P$18)=4,VLOOKUP(H17,$T$41:$W$44,2,0),IF(SUM($P$18)=2,VLOOKUP(H17,$T$29:$W$32,2,0),IF(SUM($P$18)=3,VLOOKUP(H17,$T$35:$W$38,2,0),"")))),"") | K17: =IF(SUM($P$17)>1,IF(SUM($P$17)=2,IF(SUM($P$18)=4,VLOOKUP(H17,$T$22:$W$25,3,0),IF(SUM($P$18)=2,VLOOKUP(H17,$T$5:$W$8,3,0),IF(SUM($P$18)=3,VLOOKUP(H17,$T$11:$W$14,3,0),""))),IF(SUM($P$18)=4,VLOOKUP(H17,$T$41:$W$44,3,0),IF(SUM($P$18)=2,VLOOKUP(H17,$T$29:$W$32,3,0),IF(SUM($P$18)=3,VLOOKUP(H17,$T$35:$W$38,3,0),"")))),"") | L17: =IF(SUM($P$17)>1,IF(SUM($P$17)=2,IF(SUM($P$18)=4,VLOOKUP(H17,$T$22:$W$25,4,0),IF(SUM($P$18)=2,VLOOKUP(H17,$T$5:$W$8,4,0),IF(SUM($P$18)=3,VLOOKUP(H17,$T$11:$W$14,4,0),""))),IF(SUM($P$18)=4,VLOOKUP(H17,$T$41:$W$44,4,0),IF(SUM($P$18)=2,VLOOKUP(H17,$T$29:$W$32,4,0),IF(SUM($P$18)=3,VLOOKUP(H17,$T$35:$W$38,4,0),"")))),"") | P17: 1
H18: 2º Trimestre | J18: =IF(SUM($P$17)>1,IF(SUM($P$17)=2,IF(SUM($P$18)=4,VLOOKUP(H18,$T$22:$W$25,2,0),IF(SUM($P$18)=2,VLOOKUP(H18,$T$5:$W$8,2,0),IF(SUM($P$18)=3,VLOOKUP(H18,$T$11:$W$14,2,0),""))),IF(SUM($P$18)=4,VLOOKUP(H18,$T$41:$W$44,2,0),IF(SUM($P$18)=2,VLOOKUP(H18,$T$29:$W$32,2,0),IF(SUM($P$18)=3,VLOOKUP(H18,$T$35:$W$38,2,0),"")))),"") | K18: =IF(SUM($P$17)>1,IF(SUM($P$17)=2,IF(SUM($P$18)=4,VLOOKUP(H18,$T$22:$W$25,3,0),IF(SUM($P$18)=2,VLOOKUP(H18,$T$5:$W$8,3,0),IF(SUM($P$18)=3,VLOOKUP(H18,$T$11:$W$14,3,0),""))),IF(SUM($P$18)=4,VLOOKUP(H18,$T$41:$W$44,3,0),IF(SUM($P$18)=2,VLOOKUP(H18,$T$29:$W$32,3,0),IF(SUM($P$18)=3,VLOOKUP(H18,$T$35:$W$38,3,0),"")))),"") | L18: =IF(SUM($P$17)>1,IF(SUM($P$17)=2,IF(SUM($P$18)=4,VLOOKUP(H18,$T$22:$W$25,4,0),IF(SUM($P$18)=2,VLOOKUP(H18,$T$5:$W$8,4,0),IF(SUM($P$18)=3,VLOOKUP(H18,$T$11:$W$14,4,0),""))),IF(SUM($P$18)=4,VLOOKUP(H18,$T$41:$W$44,4,0),IF(SUM($P$18)=2,VLOOKUP(H18,$T$29:$W$32,4,0),IF(SUM($P$18)=3,VLOOKUP(H18,$T$35:$W$38,4,0),"")))),"") | P18: 1
H19: 3º Trimestre | J19: =IF(SUM($P$17)>1,IF(SUM($P$17)=2,IF(SUM($P$18)=4,VLOOKUP(H19,$T$22:$W$25,2,0),IF(SUM($P$18)=2,VLOOKUP(H19,$T$5:$W$8,2,0),IF(SUM($P$18)=3,VLOOKUP(H19,$T$11:$W$14,2,0),""))),IF(SUM($P$18)=4,VLOOKUP(H19,$T$41:$W$44,2,0),IF(SUM($P$18)=2,VLOOKUP(H19,$T$29:$W$32,2,0),IF(SUM($P$18)=3,VLOOKUP(H19,$T$35:$W$38,2,0),"")))),"") | K19: =IF(SUM($P$17)>1,IF(SUM($P$17)=2,IF(SUM($P$18)=4,VLOOKUP(H19,$T$22:$W$25,3,0),IF(SUM($P$18)=2,VLOOKUP(H19,$T$5:$W$8,3,0),IF(SUM($P$18)=3,VLOOKUP(H19,$T$11:$W$14,3,0),""))),IF(SUM($P$18)=4,VLOOKUP(H19,$T$41:$W$44,3,0),IF(SUM($P$18)=2,VLOOKUP(H19,$T$29:$W$32,3,0),IF(SUM($P$18)=3,VLOOKUP(H19,$T$35:$W$38,3,0),"")))),"") | L19: =IF(SUM($P$17)>1,IF(SUM($P$17)=2,IF(SUM($P$18)=4,VLOOKUP(H19,$T$22:$W$25,4,0),IF(SUM($P$18)=2,VLOOKUP(H19,$T$5:$W$8,4,0),IF(SUM($P$18)=3,VLOOKUP(H19,$T$11:$W$14,4,0),""))),IF(SUM($P$18)=4,VLOOKUP(H19,$T$41:$W$44,4,0),IF(SUM($P$18)=2,VLOOKUP(H19,$T$29:$W$32,4,0),IF(SUM($P$18)=3,VLOOKUP(H19,$T$35:$W$38,4,0),"")))),"")
H20: 4º Trimestre | J20: =IF(SUM($P$17)>1,IF(SUM($P$17)=2,IF(SUM($P$18)=4,VLOOKUP(H20,$T$22:$W$25,2,0),IF(SUM($P$18)=2,VLOOKUP(H20,$T$5:$W$8,2,0),IF(SUM($P$18)=3,VLOOKUP(H20,$T$11:$W$14,2,0),""))),IF(SUM($P$18)=4,VLOOKUP(H20,$T$41:$W$44,2,0),IF(SUM($P$18)=2,VLOOKUP(H20,$T$29:$W$32,2,0),IF(SUM($P$18)=3,VLOOKUP(H20,$T$35:$W$38,2,0),"")))),"") | K20: =IF(SUM($P$17)>1,IF(SUM($P$17)=2,IF(SUM($P$18)=4,VLOOKUP(H20,$T$22:$W$25,3,0),IF(SUM($P$18)=2,VLOOKUP(H20,$T$5:$W$8,3,0),IF(SUM($P$18)=3,VLOOKUP(H20,$T$11:$W$14,3,0),""))),IF(SUM($P$18)=4,VLOOKUP(H20,$T$41:$W$44,3,0),IF(SUM($P$18)=2,VLOOKUP(H20,$T$29:$W$32,3,0),IF(SUM($P$18)=3,VLOOKUP(H20,$T$35:$W$38,3,0),"")))),"") | L20: =IF(SUM($P$17)>1,IF(SUM($P$17)=2,IF(SUM($P$18)=4,VLOOKUP(H20,$T$22:$W$25,4,0),IF(SUM($P$18)=2,VLOOKUP(H20,$T$5:$W$8,4,0),IF(SUM($P$18)=3,VLOOKUP(H20,$T$11:$W$14,4,0),""))),IF(SUM($P$18)=4,VLOOKUP(H20,$T$41:$W$44,4,0),IF(SUM($P$18)=2,VLOOKUP(H20,$T$29:$W$32,4,0),IF(SUM($P$18)=3,VLOOKUP(H20,$T$35:$W$38,4,0),"")))),"")
T21: 2011 | U21: Tabela do Continente
B22: Quadro 03 - Operações Internas Activas | S22: 4 | T22: 1º Trimestre | U22: 0.06 | V22: 0.13 | W22: 0.23
G23: EXISTÊNCIAS | I23: OUTROS BENS SERV. | K23: IMOBILIZADO | S23: 4 | T23: 2º Trimestre | U23: 0.06 | V23: 0.13 | W23: 0.23
B24: Transmissões de Bens e Prestações de Serviços | C24: Taxa Reduzida | G24: L01 | H24: =IF(SUM($F$9,$F$12)>0,IF($F$9=1,SUM('Declarações IVA - Trimestral'!G10)+SUM('Declarações IVA - Trimestral'!N10)+SUM('Declarações IVA - Mensal'!O48)+SUM('Declarações IVA - Mensal'!O9),SUM('Cálculos Auxiliares'!E86:F86)-SUM('Cálculos Auxiliares'!Q101)),"") | I24: L07 | J24: =IF(SUM($F$10,$F$12)>0,IF($F$10=2,SUM('Declarações IVA - Trimestral'!G10)+SUM('Declarações IVA - Trimestral'!N10)+SUM('Declarações IVA - Mensal'!O48)-SUM('Cálculos Auxiliares'!Q101)+SUM('Declarações IVA - Mensal'!O9),SUM('Cálculos Auxiliares'!G86:H86)),"") | K24: L14 | L24: =IF(SUM($F$11,$F$12)>0,IF($F$11=3,SUM('Declarações IVA - Trimestral'!G10)+SUM('Declarações IVA - Trimestral'!N10)+SUM('Declarações IVA - Mensal'!O48)-SUM('Cálculos Auxiliares'!F101)+SUM('Declarações IVA - Mensal'!O9),SUM('Cálculos Auxiliares'!I86:J86)),"") | S24: 4 | T24: 3º Trimestre | U24: 0.06 | V24: 0.13 | W24: 0.23
C25: Taxa Intermédia | G25: L02 | H25: =IF(SUM($F$9,$F$12)>0,IF($F$9=1,SUM('Declarações IVA - Trimestral'!G14)+SUM('Declarações IVA - Trimestral'!N14)+SUM('Declarações IVA - Mensal'!O52)+SUM('Declarações IVA - Mensal'!O13),SUM('Cálculos Auxiliares'!E87:F87)-SUM('Cálculos Auxiliares'!S101)),"") | I25: L08 | J25: =IF(SUM($F$10,$F$12)>0,IF($F$10=2,SUM('Declarações IVA - Trimestral'!G14)+SUM('Declarações IVA - Trimestral'!N14)+SUM('Declarações IVA - Mensal'!O52)-SUM('Cálculos Auxiliares'!S101)+SUM('Declarações IVA - Mensal'!O13),SUM('Cálculos Auxiliares'!G87:H87)),"") | K25: L15 | L25: =IF(SUM($F$11,$F$12)>0,IF($F$11=3,SUM('Declarações IVA - Trimestral'!G14)+SUM('Declarações IVA - Trimestral'!N14)+SUM('Declarações IVA - Mensal'!O52)-SUM('Cálculos Auxiliares'!H101)+SUM('Declarações IVA - Mensal'!O13),SUM('Cálculos Auxiliares'!I87:J87)),"") | S25: 4 | T25: 4º Trimestre | U25: 0.06 | V25: 0.13 | W25: 0.23
C26: Taxa Normal | G26: L03 | H26: =IF(SUM($F$9,$F$12)>0,IF($F$9=1,SUM('Declarações IVA - Trimestral'!G12)+SUM('Declarações IVA - Trimestral'!N12)+SUM('Declarações IVA - Mensal'!O50)-SUM('Cálculos Auxiliares'!U101)+SUM('Declarações IVA - Mensal'!O11),SUM('Cálculos Auxiliares'!E88:F88)),"") | I26: L09 | J26: =IF(SUM($F$10,$F$12)>0,IF($F$10=2,SUM('Declarações IVA - Trimestral'!G12)+SUM('Declarações IVA - Trimestral'!N12)+SUM('Declarações IVA - Mensal'!O50)-SUM('Cálculos Auxiliares'!U101)+SUM('Declarações IVA - Mensal'!O11),SUM('Cálculos Auxiliares'!G88:H88)),"") | K26: L16 | L26: =IF(SUM($F$11,$F$12)>0,IF($F$11=3,SUM('Declarações IVA - Trimestral'!G12)+SUM('Declarações IVA - Trimestral'!N12)+SUM('Declarações IVA - Mensal'!O50)-SUM('Cálculos Auxiliares'!J101)+SUM('Declarações IVA - Mensal'!O11),SUM('Cálculos Auxiliares'!I88:J88)),"")
C27: Isentas ou não sujeitas c/ direito à dedução (alinea b) nº 1 art. 20 do CIVA) | G27: L04 | H27: =IF(SUM($F$9,$F$12)>0,IF($F$9=1,SUM('Declarações IVA - Trimestral'!G16)+SUM('Declarações IVA - Trimestral'!N16)+SUM('Declarações IVA - Mensal'!O54)+SUM('Declarações IVA - Mensal'!O15),SUM('Cálculos Auxiliares'!E89:F89)),"") | I27: L10 | J27: =IF(SUM($F$10,$F$12)>0,IF($F$10=2,SUM('Declarações IVA - Trimestral'!G16)+SUM('Declarações IVA - Trimestral'!N16)+SUM('Declarações IVA - Mensal'!O54)+SUM('Declarações IVA - Mensal'!O15),SUM('Cálculos Auxiliares'!G89:H89)),"")
C28: Isentas sem direito à dedução | G28: L05 | H28: =IF(SUM($F$9,$F$12)>0,IF($F$9=1,SUM('Declarações IVA - Trimestral'!G19)+SUM('Declarações IVA - Trimestral'!N19)+SUM('Declarações IVA - Mensal'!O57)+SUM('Declarações IVA - Mensal'!O18),SUM('Cálculos Auxiliares'!E90:F90)),"") | I28: L11 | J28: =IF(SUM($F$10,$F$12)>0,IF($F$10=2,SUM('Declarações IVA - Trimestral'!G19)+SUM('Declarações IVA - Trimestral'!N19)+SUM('Declarações IVA - Mensal'!O57)+SUM('Declarações IVA - Mensal'!O18),SUM('Cálculos Auxiliares'!G90:H90)),"") | T28: 2009 | U28: Tabela das Ilhas
