Workbook

Sheet Simulação
A4: Simulador do impacto da adopção do regime de IVA de caixa na tesouraria
A8: INSTRUÇÕES DE USO:
A10: 1. Indique o regime (periodicidade) de IVA ao qual está sujeito: | D10: Mensal
A11: 2. Indique o nr. dias que, em média, os seus clientes demoram a pagar as vendas efectuadas:
A12: 3. Indique o nr. dias que, em média, demora a pagar aos seus fornecedores/outros credores:
A13: 4. No quadro seguinte, indique o volume de vendas, compras e outras despesas (sem IVA incluído), registados ou previstos para cada período:
D14: =IF(Simulação!$D$10="Mensal",30,IF(Simulação!$D$10="Trimestral",90,0)) -> 30 | E14: =IF(Simulação!$D$10="Mensal",D14+30,IF(Simulação!$D$10="Trimestral",D14+90,0)) -> 60 | F14: =IF(Simulação!$D$10="Mensal",E14+30,IF(Simulação!$D$10="Trimestral",E14+90,0)) -> 90 | G14: =IF(Simulação!$D$10="Mensal",F14+30,IF(Simulação!$D$10="Trimestral",F14+90,0)) -> 120 | H14: =IF(Simulação!$D$10="Mensal",G14+30,IF(Simulação!$D$10="Trimestral",G14+90,0)) -> 150 | I14: =IF(Simulação!$D$10="Mensal",H14+30,IF(Simulação!$D$10="Trimestral",H14+90,0)) -> 180
D15: =IF(Simulação!$D$10="Mensal","Jan | 2012",IF(Simulação!$D$10="Trimestral","Jan-Mar | 2012","N/D")) -> Jan | 2012 | E15: =IF(Simulação!$D$10="Mensal","Fev | 2012",IF(Simulação!$D$10="Trimestral","Abr-Jun | 2012","N/D")) -> Fev | 2012 | F15: =IF(Simulação!$D$10="Mensal","Mar | 2012",IF(Simulação!$D$10="Trimestral","Jul-Set | 2012","N/D")) -> Mar | 2012 | G15: =IF(Simulação!$D$10="Mensal","Abr | 2012",IF(Simulação!$D$10="Trimestral","Out-Dez | 2012","N/D")) -> Abr | 2012 | H15: =IF(Simulação!$D$10="Mensal","Mai | 2012",IF(Simulação!$D$10="Trimestral","Jan-Mar | 2013","N/D")) -> Mai | 2012 | I15: =IF(Simulação!$D$10="Mensal","Jun | 2012",IF(Simulação!$D$10="Trimestral","Abr-Jun | 2013","N/D")) -> Jun | 2012 | J15: =IF(Simulação!$D$10="Mensal","Jul | 2012",IF(Simulação!$D$10="Trimestral","Jul-Set | 2013","N/D")) -> Jul | 2012 | K15: =IF(Simulação!$D$10="Mensal","Ago | 2012",IF(Simulação!$D$10="Trimestral","Out-Dez | 2013","N/D")) -> Ago | 2012
B16: Vendas/Prestações de serviços a 23% | C16: 0.23
B17: Vendas/Prestações de serviços a 13% | C17: 0.13
B18: Vendas/Prestações de serviços a 6% | C18: 0.06
B19: Compras a 23% | C19: 0.23
B20: Compras a 13% | C20: 0.13
B21: Compras a 6% | C21: 0.06
B22: Outras despesas e investimentos a 23% | C22: 0.23
B23: Outras despesas e investimentos a 13% | C23: 0.13
B24: Outras despesas e investimentos a 6% | C24: 0.06
B25: Recebimentos (23%) | D25: =IF($F$11>$D$14,0,(($D$14-$F$11)/$D$14)*D16*(1+$C16)) -> 0 | E25: =IF($F$11>$E$14,0,IF($F$11>$D$14,(($E$14-$F$11)/$D$14)*D16*(1+$C16),($F$11/$D$14)*D16*(1+$C16)+(($D$14-$F$11)/$D$14)*E16*(1+$C16))) -> 0 | F25: =IF($F$11>$F$14,0,IF($F$11<$D$14,0,IF($F$11>$E$14,(($F$14-$F$11)/$D$14)*D16*(1+C16),(($F$11-$D$14)/$D$14)*D16*(1+C16))))+IF($F$11>$E$14,0,IF($F$11>$D$14,(($E$14-$F$11)/$D$14)*E16*(1+$C16),(($D$14-$F$11)/$D$14)*F16*(1+$C16)+($F$11/$D$14)*E16*(1+$C16))) -> 0 | G25: =IF($F$11>$G$14,0,IF($F$11<$E$14,0,IF($F$11>$F$14,(($G$14-$F$11)/$D$14)*D16*(1+C16),(($F$11-$E$14)/$D$14)*D16*(1+C16))))+IF($F$11>$F$14,0,IF($F$11<$D$14,0,IF($F$11>$E$14,(($F$14-$F$11)/$D$14)*E16*(1+C16),(($F$11-$D$14)/$D$14)*E16*(1+C16))))+IF($F$11>$E$14,0,IF($F$11>$D$14,(($E$14-$F$11)/$D$14)*F16*(1+$C16),(($D$14-$F$11)/$D$14)*G16*(1+$C16)+($F$11/$D$14)*F16*(1+$C16))) -> 0 | H25: =IF($F$11>$H$14,0,IF($F$11<$F$14,0,IF($F$11>$G$14,(($H$14-$F$11)/$D$14)*D16*(1+C16),(($F$11-$F$14)/$D$14)*D16*(1+C16))))+IF($F$11>$G$14,0,IF($F$11<$E$14,0,IF($F$11>$F$14,(($G$14-$F$11)/$D$14)*E16*(1+C16),(($F$11-$E$14)/$D$14)*E16*(1+C16))))+IF($F$11>$F$14,0,IF($F$11<$D$14,0,IF($F$11>$E$14,(($F$14-$F$11)/$D$14)*F16*(1+C16),(($F$11-$D$14)/$D$14)*F16*(1+C16))))+IF($F$11>$E$14,0,IF($F$11>$D$14,(($E$14-$F$11)/$D$14)*G16*(1+$C16),(($D$14-$F$11)/$D$14)*H16*(1+$C16)+($F$11/$D$14)*G16*(1+$C16))) -> 0 | I25: =IF($F$11>$I$14,0,IF($F$11<$G$14,0,IF($F$11>$H$14,(($I$14-$F$11)/$D$14)*D16*(1+C16),(($F$11-$G$14)/$D$14)*D16*(1+C16))))+IF($F$11>$H$14,0,IF($F$11<$F$14,0,IF($F$11>$G$14,(($H$14-$F$11)/$D$14)*E16*(1+C16),(($F$11-$F$14)/$D$14)*E16*(1+C16))))+IF($F$11>$G$14,0,IF($F$11<$E$14,0,IF($F$11>$F$14,(($G$14-$F$11)/$D$14)*F16*(1+C16),(($F$11-$E$14)/$D$14)*F16*(1+C16))))+IF($F$11>$F$14,0,IF($F$11<$D$14,0,IF($F$11>$E$14,(($F$14-$F$11)/$D$14)*G16*(1+C16),(($F$11-$D$14)/$D$14)*G16*(1+C16))))+IF($F$11>$E$14,0,IF($F$11>$D$14,(($E$14-$F$11)/$D$14)*H16*(1+$C16),(($D$14-$F$11)/$D$14)*I16*(1+$C16)+($F$11/$D$14)*H16*(1+$C16))) -> 0
B26: Recebimentos (13%) | D26: =IF($F$11>$D$14,0,(($D$14-$F$11)/$D$14)*D17*(1+$C17)) -> 0 | E26: =IF($F$11>$E$14,0,IF($F$11>$D$14,(($E$14-$F$11)/$D$14)*D17*(1+$C17),($F$11/$D$14)*D17*(1+$C17)+(($D$14-$F$11)/$D$14)*E17*(1+$C17))) -> 0 | F26: =IF($F$11>$F$14,0,IF($F$11<$D$14,0,IF($F$11>$E$14,(($F$14-$F$11)/$D$14)*D17*(1+C17),(($F$11-$D$14)/$D$14)*D17*(1+C17))))+IF($F$11>$E$14,0,IF($F$11>$D$14,(($E$14-$F$11)/$D$14)*E17*(1+$C17),(($D$14-$F$11)/$D$14)*F17*(1+$C17)+($F$11/$D$14)*E17*(1+$C17))) -> 0 | G26: =IF($F$11>$G$14,0,IF($F$11<$E$14,0,IF($F$11>$F$14,(($G$14-$F$11)/$D$14)*D17*(1+C17),(($F$11-$E$14)/$D$14)*D17*(1+C17))))+IF($F$11>$F$14,0,IF($F$11<$D$14,0,IF($F$11>$E$14,(($F$14-$F$11)/$D$14)*E17*(1+C17),(($F$11-$D$14)/$D$14)*E17*(1+C17))))+IF($F$11>$E$14,0,IF($F$11>$D$14,(($E$14-$F$11)/$D$14)*F17*(1+$C17),(($D$14-$F$11)/$D$14)*G17*(1+$C17)+($F$11/$D$14)*F17*(1+$C17))) -> 0 | H26: =IF($F$11>$H$14,0,IF($F$11<$F$14,0,IF($F$11>$G$14,(($H$14-$F$11)/$D$14)*D17*(1+C17),(($F$11-$F$14)/$D$14)*D17*(1+C17))))+IF($F$11>$G$14,0,IF($F$11<$E$14,0,IF($F$11>$F$14,(($G$14-$F$11)/$D$14)*E17*(1+C17),(($F$11-$E$14)/$D$14)*E17*(1+C17))))+IF($F$11>$F$14,0,IF($F$11<$D$14,0,IF($F$11>$E$14,(($F$14-$F$11)/$D$14)*F17*(1+C17),(($F$11-$D$14)/$D$14)*F17*(1+C17))))+IF($F$11>$E$14,0,IF($F$11>$D$14,(($E$14-$F$11)/$D$14)*G17*(1+$C17),(($D$14-$F$11)/$D$14)*H17*(1+$C17)+($F$11/$D$14)*G17*(1+$C17))) -> 0 | I26: =IF($F$11>$I$14,0,IF($F$11<$G$14,0,IF($F$11>$H$14,(($I$14-$F$11)/$D$14)*D17*(1+C17),(($F$11-$G$14)/$D$14)*D17*(1+C17))))+IF($F$11>$H$14,0,IF($F$11<$F$14,0,IF($F$11>$G$14,(($H$14-$F$11)/$D$14)*E17*(1+C17),(($F$11-$F$14)/$D$14)*E17*(1+C17))))+IF($F$11>$G$14,0,IF($F$11<$E$14,0,IF($F$11>$F$14,(($G$14-$F$11)/$D$14)*F17*(1+C17),(($F$11-$E$14)/$D$14)*F17*(1+C17))))+IF($F$11>$F$14,0,IF($F$11<$D$14,0,IF($F$11>$E$14,(($F$14-$F$11)/$D$14)*G17*(1+C17),(($F$11-$D$14)/$D$14)*G17*(1+C17))))+IF($F$11>$E$14,0,IF($F$11>$D$14,(($E$14-$F$11)/$D$14)*H17*(1+$C17),(($D$14-$F$11)/$D$14)*I17*(1+$C17)+($F$11/$D$14)*H17*(1+$C17))) -> 0
B27: Recebimentos (6%) | D27: =IF($F$11>$D$14,0,(($D$14-$F$11)/$D$14)*D18*(1+$C18)) -> 0 | E27: =IF($F$11>$E$14,0,IF($F$11>$D$14,(($E$14-$F$11)/$D$14)*D18*(1+$C18),($F$11/$D$14)*D18*(1+$C18)+(($D$14-$F$11)/$D$14)*E18*(1+$C18))) -> 0 | F27: =IF($F$11>$F$14,0,IF($F$11<$D$14,0,IF($F$11>$E$14,(($F$14-$F$11)/$D$14)*D18*(1+C18),(($F$11-$D$14)/$D$14)*D18*(1+C18))))+IF($F$11>$E$14,0,IF($F$11>$D$14,(($E$14-$F$11)/$D$14)*E18*(1+$C18),(($D$14-$F$11)/$D$14)*F18*(1+$C18)+($F$11/$D$14)*E18*(1+$C18))) -> 0 | G27: =IF($F$11>$G$14,0,IF($F$11<$E$14,0,IF($F$11>$F$14,(($G$14-$F$11)/$D$14)*D18*(1+C18),(($F$11-$E$14)/$D$14)*D18*(1+C18))))+IF($F$11>$F$14,0,IF($F$11<$D$14,0,IF($F$11>$E$14,(($F$14-$F$11)/$D$14)*E18*(1+C18),(($F$11-$D$14)/$D$14)*E18*(1+C18))))+IF($F$11>$E$14,0,IF($F$11>$D$14,(($E$14-$F$11)/$D$14)*F18*(1+$C18),(($D$14-$F$11)/$D$14)*G18*(1+$C18)+($F$11/$D$14)*F18*(1+$C18))) -> 0 | H27: =IF($F$11>$H$14,0,IF($F$11<$F$14,0,IF($F$11>$G$14,(($H$14-$F$11)/$D$14)*D18*(1+C18),(($F$11-$F$14)/$D$14)*D18*(1+C18))))+IF($F$11>$G$14,0,IF($F$11<$E$14,0,IF($F$11>$F$14,(($G$14-$F$11)/$D$14)*E18*(1+C18),(($F$11-$E$14)/$D$14)*E18*(1+C18))))+IF($F$11>$F$14,0,IF($F$11<$D$14,0,IF($F$11>$E$14,(($F$14-$F$11)/$D$14)*F18*(1+C18),(($F$11-$D$14)/$D$14)*F18*(1+C18))))+IF($F$11>$E$14,0,IF($F$11>$D$14,(($E$14-$F$11)/$D$14)*G18*(1+$C18),(($D$14-$F$11)/$D$14)*H18*(1+$C18)+($F$11/$D$14)*G18*(1+$C18))) -> 0 | I27: =IF($F$11>$I$14,0,IF($F$11<$G$14,0,IF($F$11>$H$14,(($I$14-$F$11)/$D$14)*D18*(1+C18),(($F$11-$G$14)/$D$14)*D18*(1+C18))))+IF($F$11>$H$14,0,IF($F$11<$F$14,0,IF($F$11>$G$14,(($H$14-$F$11)/$D$14)*E18*(1+C18),(($F$11-$F$14)/$D$14)*E18*(1+C18))))+IF($F$11>$G$14,0,IF($F$11<$E$14,0,IF($F$11>$F$14,(($G$14-$F$11)/$D$14)*F18*(1+C18),(($F$11-$E$14)/$D$14)*F18*(1+C18))))+IF($F$11>$F$14,0,IF($F$11<$D$14,0,IF($F$11>$E$14,(($F$14-$F$11)/$D$14)*G18*(1+C18),(($F$11-$D$14)/$D$14)*G18*(1+C18))))+IF($F$11>$E$14,0,IF($F$11>$D$14,(($E$14-$F$11)/$D$14)*H18*(1+$C18),(($D$14-$F$11)/$D$14)*I18*(1+$C18)+($F$11/$D$14)*H18*(1+$C18))) -> 0
B28: Recebimentos previstos | D28: =SUM(D25:D27) -> 0 | E28: =SUM(E25:E27) -> 0 | F28: =SUM(F25:F27) -> 0 | G28: =SUM(G25:G27) -> 0 | H28: =SUM(H25:H27) -> 0 | I28: =SUM(I25:I27) -> 0
B29: Pagamentos (23%) | D29: =IF($F$12>$D$14,0,(($D$14-$F$12)/$D$14)*(D19+D22)*(1+$C19)) -> 0 | E29: =IF($F$12>$E$14,0,IF($F$12>$D$14,(($E$14-$F$12)/$D$14)*(D19+D22)*(1+$C19),($F$12/$D$14)*(D19+D22)*(1+$C19)+(($D$14-$F$12)/$D$14)*(E19+E22)*(1+$C19))) -> 0 | F29: =IF($F$12>$F$14,0,IF($F$12<$D$14,0,IF($F$12>$E$14,(($F$14-$F$12)/$D$14)*(D19+D22)*(1+C19),(($F$12-$D$14)/$D$14)*(D19+D22)*(1+C19))))+IF($F$12>$E$14,0,IF($F$12>$D$14,(($E$14-$F$12)/$D$14)*(E19+E22)*(1+$C19),(($D$14-$F$12)/$D$14)*(F19+F22)*(1+$C19)+($F$12/$D$14)*(E19+E22)*(1+$C19))) -> 0 | G29: =IF($F$12>$G$14,0,IF($F$12<$E$14,0,IF($F$12>$F$14,(($G$14-$F$12)/$D$14)*(D19+D22)*(1+C19),(($F$12-$E$14)/$D$14)*(D19+D22)*(1+C19))))+IF($F$12>$F$14,0,IF($F$12<$D$14,0,IF($F$12>$E$14,(($F$14-$F$12)/$D$14)*(E19+E22)*(1+C19),(($F$12-$D$14)/$D$14)*(E19+E22)*(1+C19))))+IF($F$12>$E$14,0,IF($F$12>$D$14,(($E$14-$F$12)/$D$14)*(F19+F22)*(1+$C19),(($D$14-$F$12)/$D$14)*(G19+G22)*(1+$C19)+($F$12/$D$14)*(F19+F22)*(1+$C19))) -> 0 | H29: =IF($F$12>$H$14,0,IF($F$12<$F$14,0,IF($F$12>$G$14,(($H$14-$F$12)/$D$14)*(D19+D22)*(1+C19),(($F$12-$F$14)/$D$14)*(D19+D22)*(1+C19))))+IF($F$12>$G$14,0,IF($F$12<$E$14,0,IF($F$12>$F$14,(($G$14-$F$12)/$D$14)*(E19+E22)*(1+C19),(($F$12-$E$14)/$D$14)*(E19+E22)*(1+C19))))+IF($F$12>$F$14,0,IF($F$12<$D$14,0,IF($F$12>$E$14,(($F$14-$F$12)/$D$14)*(F19+F22)*(1+C19),(($F$12-$D$14)/$D$14)*(F19+F22)*(1+C19))))+IF($F$12>$E$14,0,IF($F$12>$D$14,(($E$14-$F$12)/$D$14)*(G19+G22)*(1+$C19),(($D$14-$F$12)/$D$14)*(H19+H22)*(1+$C19)+($F$12/$D$14)*(G19+G22)*(1+$C19))) -> 0 | I29: =IF($F$12>$I$14,0,IF($F$12<$G$14,0,IF($F$12>$H$14,(($I$14-$F$12)/$D$14)*(D19+D22)*(1+C19),(($F$12-$G$14)/$D$14)*(D19+D22)*(1+C19))))+IF($F$12>$H$14,0,IF($F$12<$F$14,0,IF($F$12>$G$14,(($H$14-$F$12)/$D$14)*(E19+E22)*(1+C19),(($F$12-$F$14)/$D$14)*(E19+E22)*(1+C19))))+IF($F$12>$G$14,0,IF($F$12<$E$14,0,IF($F$12>$F$14,(($G$14-$F$12)/$D$14)*(F19+F22)*(1+C19),(($F$12-$E$14)/$D$14)*(F19+F22)*(1+C19))))+IF($F$12>$F$14,0,IF($F$12<$D$14,0,IF($F$12>$E$14,(($F$14-$F$12)/$D$14)*(G19+G22)*(1+C19),(($F$12-$D$14)/$D$14)*(G19+G22)*(1+C19))))+IF($F$12>$E$14,0,IF($F$12>$D$14,(($E$14-$F$12)/$D$14)*(H19+H22)*(1+$C19),(($D$14-$F$12)/$D$14)*(I19+I22)*(1+$C19)+($F$12/$D$14)*(H19+H22)*(1+$C19))) -> 0
B30: Pagamentos (13%) | D30: =IF($F$12>$D$14,0,(($D$14-$F$12)/$D$14)*(D20+D23)*(1+$C20)) -> 0 | E30: =IF($F$12>$E$14,0,IF($F$12>$D$14,(($E$14-$F$12)/$D$14)*(D20+D23)*(1+$C20),($F$12/$D$14)*(D20+D23)*(1+$C20)+(($D$14-$F$12)/$D$14)*(E20+E23)*(1+$C20))) -> 0 | F30: =IF($F$12>$F$14,0,IF($F$12<$D$14,0,IF($F$12>$E$14,(($F$14-$F$12)/$D$14)*(D20+D23)*(1+C20),(($F$12-$D$14)/$D$14)*(D20+D23)*(1+C20))))+IF($F$12>$E$14,0,IF($F$12>$D$14,(($E$14-$F$12)/$D$14)*(E20+E23)*(1+$C20),(($D$14-$F$12)/$D$14)*(F20+F23)*(1+$C20)+($F$12/$D$14)*(E20+E23)*(1+$C20))) -> 0 | G30: =IF($F$12>$G$14,0,IF($F$12<$E$14,0,IF($F$12>$F$14,(($G$14-$F$12)/$D$14)*(D20+D23)*(1+C20),(($F$12-$E$14)/$D$14)*(D20+D23)*(1+C20))))+IF($F$12>$F$14,0,IF($F$12<$D$14,0,IF($F$12>$E$14,(($F$14-$F$12)/$D$14)*(E20+E23)*(1+C20),(($F$12-$D$14)/$D$14)*(E20+E23)*(1+C20))))+IF($F$12>$E$14,0,IF($F$12>$D$14,(($E$14-$F$12)/$D$14)*(F20+F23)*(1+$C20),(($D$14-$F$12)/$D$14)*(G20+G23)*(1+$C20)+($F$12/$D$14)*(F20+F23)*(1+$C20))) -> 0 | H30: =IF($F$12>$H$14,0,IF($F$12<$F$14,0,IF($F$12>$G$14,(($H$14-$F$12)/$D$14)*(D20+D23)*(1+C20),(($F$12-$F$14)/$D$14)*(D20+D23)*(1+C20))))+IF($F$12>$G$14,0,IF($F$12<$E$14,0,IF($F$12>$F$14,(($G$14-$F$12)/$D$14)*(E20+E23)*(1+C20),(($F$12-$E$14)/$D$14)*(E20+E23)*(1+C20))))+IF($F$12>$F$14,0,IF($F$12<$D$14,0,IF($F$12>$E$14,(($F$14-$F$12)/$D$14)*(F20+F23)*(1+C20),(($F$12-$D$14)/$D$14)*(F20+F23)*(1+C20))))+IF($F$12>$E$14,0,IF($F$12>$D$14,(($E$14-$F$12)/$D$14)*(G20+G23)*(1+$C20),(($D$14-$F$12)/$D$14)*(H20+H23)*(1+$C20)+($F$12/$D$14)*(G20+G23)*(1+$C20))) -> 0 | I30: =IF($F$12>$I$14,0,IF($F$12<$G$14,0,IF($F$12>$H$14,(($I$14-$F$12)/$D$14)*(D20+D23)*(1+C20),(($F$12-$G$14)/$D$14)*(D20+D23)*(1+C20))))+IF($F$12>$H$14,0,IF($F$12<$F$14,0,IF($F$12>$G$14,(($H$14-$F$12)/$D$14)*(E20+E23)*(1+C20),(($F$12-$F$14)/$D$14)*(E20+E23)*(1+C20))))+IF($F$12>$G$14,0,IF($F$12<$E$14,0,IF($F$12>$F$14,(($G$14-$F$12)/$D$14)*(F20+F23)*(1+C20),(($F$12-$E$14)/$D$14)*(F20+F23)*(1+C20))))+IF($F$12>$F$14,0,IF($F$12<$D$14,0,IF($F$12>$E$14,(($F$14-$F$12)/$D$14)*(G20+G23)*(1+C20),(($F$12-$D$14)/$D$14)*(G20+G23)*(1+C20))))+IF($F$12>$E$14,0,IF($F$12>$D$14,(($E$14-$F$12)/$D$14)*(H20+H23)*(1+$C20),(($D$14-$F$12)/$D$14)*(I20+I23)*(1+$C20)+($F$12/$D$14)*(H20+H23)*(1+$C20))) -> 0
B31: Pagamentos (6%) | D31: =IF($F$12>$D$14,0,(($D$14-$F$12)/$D$14)*(D21+D24)*(1+$C21)) -> 0 | E31: =IF($F$12>$E$14,0,IF($F$12>$D$14,(($E$14-$F$12)/$D$14)*(D21+D24)*(1+$C21),($F$12/$D$14)*(D21+D24)*(1+$C21)+(($D$14-$F$12)/$D$14)*(E21+E24)*(1+$C21))) -> 0 | F31: =IF($F$12>$F$14,0,IF($F$12<$D$14,0,IF($F$12>$E$14,(($F$14-$F$12)/$D$14)*(D21+D24)*(1+C21),(($F$12-$D$14)/$D$14)*(D21+D24)*(1+C21))))+IF($F$12>$E$14,0,IF($F$12>$D$14,(($E$14-$F$12)/$D$14)*(E21+E24)*(1+$C21),(($D$14-$F$12)/$D$14)*(F21+F24)*(1+$C21)+($F$12/$D$14)*(E21+E24)*(1+$C21))) -> 0 | G31: =IF($F$12>$G$14,0,IF($F$12<$E$14,0,IF($F$12>$F$14,(($G$14-$F$12)/$D$14)*(D21+D24)*(1+C21),(($F$12-$E$14)/$D$14)*(D21+D24)*(1+C21))))+IF($F$12>$F$14,0,IF($F$12<$D$14,0,IF($F$12>$E$14,(($F$14-$F$12)/$D$14)*(E21+E24)*(1+C21),(($F$12-$D$14)/$D$14)*(E21+E24)*(1+C21))))+IF($F$12>$E$14,0,IF($F$12>$D$14,(($E$14-$F$12)/$D$14)*(F21+F24)*(1+$C21),(($D$14-$F$12)/$D$14)*(G21+G24)*(1+$C21)+($F$12/$D$14)*(F21+F24)*(1+$C21))) -> 0 | H31: =IF($F$12>$H$14,0,IF($F$12<$F$14,0,IF($F$12>$G$14,(($H$14-$F$12)/$D$14)*(D21+D24)*(1+C21),(($F$12-$F$14)/$D$14)*(D21+D24)*(1+C21))))+IF($F$12>$G$14,0,IF($F$12<$E$14,0,IF($F$12>$F$14,(($G$14-$F$12)/$D$14)*(E21+E24)*(1+C21),(($F$12-$E$14)/$D$14)*(E21+E24)*(1+C21))))+IF($F$12>$F$14,0,IF($F$12<$D$14,0,IF($F$12>$E$14,(($F$14-$F$12)/$D$14)*(F21+F24)*(1+C21),(($F$12-$D$14)/$D$14)*(F21+F24)*(1+C21))))+IF($F$12>$E$14,0,IF($F$12>$D$14,(($E$14-$F$12)/$D$14)*(G21+G24)*(1+$C21),(($D$14-$F$12)/$D$14)*(H21+H24)*(1+$C21)+($F$12/$D$14)*(G21+G24)*(1+$C21))) -> 0 | I31: =IF($F$12>$I$14,0,IF($F$12<$G$14,0,IF($F$12>$H$14,(($I$14-$F$12)/$D$14)*(D21+D24)*(1+C21),(($F$12-$G$14)/$D$14)*(D21+D24)*(1+C21))))+IF($F$12>$H$14,0,IF($F$12<$F$14,0,IF($F$12>$G$14,(($H$14-$F$12)/$D$14)*(E21+E24)*(1+C21),(($F$12-$F$14)/$D$14)*(E21+E24)*(1+C21))))+IF($F$12>$G$14,0,IF($F$12<$E$14,0,IF($F$12>$F$14,(($G$14-$F$12)/$D$14)*(F21+F24)*(1+C21),(($F$12-$E$14)/$D$14)*(F21+F24)*(1+C21))))+IF($F$12>$F$14,0,IF($F$12<$D$14,0,IF($F$12>$E$14,(($F$14-$F$12)/$D$14)*(G21+G24)*(1+C21),(($F$12-$D$14)/$D$14)*(G21+G24)*(1+C21))))+IF($F$12>$E$14,0,IF($F$12>$D$14,(($E$14-$F$12)/$D$14)*(H21+H24)*(1+$C21),(($D$14-$F$12)/$D$14)*(I21+I24)*(1+$C21)+($F$12/$D$14)*(H21+H24)*(1+$C21))) -> 0
B32: Pagamentos previstos | D32: =SUM(D29:D31) -> 0 | E32: =SUM(E29:E31) -> 0 | F32: =SUM(F29:F31) -> 0 | G32: =SUM(G29:G31) -> 0 | H32: =SUM(H29:H31) -> 0 | I32: =SUM(I29:I31) -> 0
A34: No quadro seguinte, pode comparar o valor de IVA a pagar/receber, entre o regime normal e o regime de IVA de caixa
D35: =IF(Simulação!$D$10="Mensal","Jan | 2012",IF(Simulação!$D$10="Trimestral","Jan-Mar | 2012","N/D")) -> Jan | 2012 | E35: =IF(Simulação!$D$10="Mensal","Fev | 2012",IF(Simulação!$D$10="Trimestral","Abr-Jun | 2012","N/D")) -> Fev | 2012 | F35: =IF(Simulação!$D$10="Mensal","Mar | 2012",IF(Simulação!$D$10="Trimestral","Jul-Set | 2012","N/D")) -> Mar | 2012 | G35: =IF(Simulação!$D$10="Mensal","Abr | 2012",IF(Simulação!$D$10="Trimestral","Out-Dez | 2012","N/D")) -> Abr | 2012 | H35: =IF(Simulação!$D$10="Mensal","Mai | 2012",IF(Simulação!$D$10="Trimestral","Jan-Mar | 2013","N/D")) -> Mai | 2012 | I35: =IF(Simulação!$D$10="Mensal","Jun | 2012",IF(Simulação!$D$10="Trimestral","Abr-Jun | 2013","N/D")) -> Jun | 2012 | J35: =IF(Simulação!$D$10="Mensal","Jul | 2012",IF(Simulação!$D$10="Trimestral","Jul-Set | 2013","N/D")) -> Jul | 2012 | K35: =IF(Simulação!$D$10="Mensal","Ago | 2012",IF(Simulação!$D$10="Trimestral","Out-Dez | 2013","N/D")) -> Ago | 2012
B36: Apuramento de IVA - Regime Normal
B37: IVA das Vendas/Prestações de serviços | D37: =D16*$C$16+D17*$C$17+D18*$C$18 -> 0 | E37: =E16*$C$16+E17*$C$17+E18*$C$18 -> 0 | F37: =F16*$C$16+F17*$C$17+F18*$C$18 -> 0 | G37: =G16*$C$16+G17*$C$17+G18*$C$18 -> 0 | H37: =H16*$C$16+H17*$C$17+H18*$C$18 -> 0 | I37: =I16*$C$16+I17*$C$17+I18*$C$18 -> 0
B38: IVA das Compras e Outras Despesas | D38: =D19*$C$19+D20*$C$20+D21*$C$21+D22*$C$22+D23*$C$23+D24*$C$24 -> 0 | E38: =E19*$C$19+E20*$C$20+E21*$C$21+E22*$C$22+E23*$C$23+E24*$C$24 -> 0 | F38: =F19*$C$19+F20*$C$20+F21*$C$21+F22*$C$22+F23*$C$23+F24*$C$24 -> 0 | G38: =G19*$C$19+G20*$C$20+G21*$C$21+G22*$C$22+G23*$C$23+G24*$C$24 -> 0 | H38: =H19*$C$19+H20*$C$20+H21*$C$21+H22*$C$22+H23*$C$23+H24*$C$24 -> 0 | I38: =I19*$C$19+I20*$C$20+I21*$C$21+I22*$C$22+I23*$C$23+I24*$C$24 -> 0
B39: IVA a pagar | E39: =IF($D$10="Mensal",0,IF(D37-D38>0,D37-D38,0)) -> 0 | F39: =IF($D$10="Mensal",IF(D37-D38>0,D37-D38,0),IF(E37-E38>0,E37-E38,0)) -> 0 | G39: =IF($D$10="Mensal",IF(E37-E38>0,E37-E38,0),IF(F37-F38>0,F37-F38,0)) -> 0 | H39: =IF($D$10="Mensal",IF(F37-F38>0,F37-F38,0),IF(G37-G38>0,G37-G38,0)) -> 0 | I39: =IF($D$10="Mensal",IF(G37-G38>0,G37-G38,0),IF(H37-H38>0,H37-H38,0)) -> 0 | J39: =IF($D$10="Mensal",IF(H37-H38>0,H37-H38,0),IF(I37-I38>0,I37-I38,0)) -> 0 | K39: =IF($D$10="Mensal",IF(I37-I38>0,I37-I38,0),IF(J37-J38>0,J37-J38,0)) -> 0
B40: IVA a reembolsar | E40: =IF($D$10="Mensal",0,IF(D37-D37>0,D37-D38,0)) -> 0 | F40: =IF($D$10="Mensal",IF(D37-D38>0,0,D38-D37),IF(E37-E38>0,0,E38-E37)) -> 0 | G40: =IF($D$10="Mensal",IF(E37-E38>0,0,E38-E37),IF(F37-F38>0,0,F38-F37)) -> 0 | H40: =IF($D$10="Mensal",IF(F37-F38>0,0,F38-F37),IF(G37-G38>0,0,G38-G37)) -> 0 | I40: =IF($D$10="Mensal",IF(G37-G38>0,0,G38-G37),IF(H37-H38>0,0,H38-H37)) -> 0 | J40: =IF($D$10="Mensal",IF(H37-H38>0,0,H38-H37),IF(I37-I38>0,0,I38-I37)) -> 0 | K40: =IF($D$10="Mensal",IF(I37-I38>0,0,I38-I37),IF(J37-J38>0,0,J38-J37)) -> 0
D41: =D39-D40 -> 0 | E41: =E39-E40 -> 0 | F41: =F39-F40 -> 0 | G41: =G39-G40 -> 0 | H41: =H39-H40 -> 0 | I41: =I39-I40 -> 0 | J41: =J39-J40 -> 0 | K41: =K39-K40 -> 0
B42: Regime NORMAL - Efeito acumulado do IVA na tesouraria | D42: 0 | E42: =D42-E39+E40 -> 0 | F42: =E42-F39+F40 -> 0 | G42: =F42-G39+G40 -> 0 | H42: =G42-H39+H40 -> 0 | I42: =H42-I39+I40 -> 0 | J42: =I42-J39+J40 -> 0 | K42: =J42-K39+K40 -> 0
B44: Apuramento de IVA - Regime de IVA de Caixa (RIC)
B45: IVA das Vendas/Prestações de serviços | D45: =+D25/(1+$C16)*$C16+D26/(1+$C17)*$C17+D27/(1+$C18)*$C18 -> 0 | E45: =+E25/(1+$C16)*$C16+E26/(1+$C17)*$C17+E27/(1+$C18)*$C18 -> 0 | F45: =+F25/(1+$C16)*$C16+F26/(1+$C17)*$C17+F27/(1+$C18)*$C18 -> 0 | G45: =+G25/(1+$C16)*$C16+G26/(1+$C17)*$C17+G27/(1+$C18)*$C18 -> 0 | H45: =+H25/(1+$C16)*$C16+H26/(1+$C17)*$C17+H27/(1+$C18)*$C18 -> 0 | I45: =+I25/(1+$C16)*$C16+I26/(1+$C17)*$C17+I27/(1+$C18)*$C18 -> 0
B46: IVA das Compras e Outras Despesas | D46: =+D29/(1+$C19)*$C19+D30/(1+$C20)*$C20+D31/(1+$C21)*$C21 -> 0 | E46: =+E29/(1+$C19)*$C19+E30/(1+$C20)*$C20+E31/(1+$C21)*$C21 -> 0 | F46: =+F29/(1+$C19)*$C19+F30/(1+$C20)*$C20+F31/(1+$C21)*$C21 -> 0 | G46: =+G29/(1+$C19)*$C19+G30/(1+$C20)*$C20+G31/(1+$C21)*$C21 -> 0 | H46: =+H29/(1+$C19)*$C19+H30/(1+$C20)*$C20+H31/(1+$C21)*$C21 -> 0 | I46: =+I29/(1+$C19)*$C19+I30/(1+$C20)*$C20+I31/(1+$C21)*$C21 -> 0
B47: IVA a pagar | E47: =IF($D$10="Mensal",0,IF(D45-D46>0,D45-D46,0)) -> 0 | F47: =IF($D$10="Mensal",IF(D45-D46>0,D45-D46,0),IF(E45-E46>0,E45-E46,0)) -> 0 | G47: =IF($D$10="Mensal",IF(E45-E46>0,E45-E46,0),IF(F45-F46>0,F45-F46,0)) -> 0 | H47: =IF($D$10="Mensal",IF(F45-F46>0,F45-F46,0),IF(G45-G46>0,G45-G46,0)) -> 0 | I47: =IF($D$10="Mensal",IF(G45-G46>0,G45-G46,0),IF(H45-H46>0,H45-H46,0)) -> 0 | J47: =IF($D$10="Mensal",IF(H45-H46>0,H45-H46,0),IF(I45-I46>0,I45-I46,0)) -> 0 | K47: =IF($D$10="Mensal",IF(I45-I46>0,I45-I46,0),IF(J45-J46>0,J45-J46,0)) -> 0
B48: IVA a reembolsar | E48: =IF($D$10="Mensal",0,IF(D45-D45>0,D45-D46,0)) -> 0 | F48: =IF($D$10="Mensal",IF(D45-D46>0,0,D46-D45),IF(E45-E46>0,0,E46-E45)) -> 0 | G48: =IF($D$10="Mensal",IF(E45-E46>0,0,E46-E45),IF(F45-F46>0,0,F46-F45)) -> 0 | H48: =IF($D$10="Mensal",IF(F45-F46>0,0,F46-F45),IF(G45-G46>0,0,G46-G45)) -> 0 | I48: =IF($D$10="Mensal",IF(G45-G46>0,0,G46-G45),IF(H45-H46>0,0,H46-H45)) -> 0 | J48: =IF($D$10="Mensal",IF(H45-H46>0,0,H46-H45),IF(I45-I46>0,0,I46-I45)) -> 0 | K48: =IF($D$10="Mensal",IF(I45-I46>0,0,I46-I45),IF(J45-J46>0,0,J46-J45)) -> 0
D49: =D47-D48 -> 0 | E49: =E47-E48 -> 0 | F49: =F47-F48 -> 0 | G49: =G47-G48 -> 0 | H49: =H47-H48 -> 0 | I49: =I47-I48 -> 0 | J49: =J47-J48 -> 0 | K49: =K47-K48 -> 0
...

Sheet Análise
L1: Voltar à simulação
A4: Análise gráfica do impacto da adopção do regime de IVA de caixa
A33: Este gráfico permite comparar o valor de IVA a pagar ou a reembolsar em cada regime de IVA, para os vários períodos de análise.
A34: Simultaneamente, é possível analisar o ganho ou perda do RIC face ao regime normal, ao longo do tempo (curva de análise).
A60: Este gráfico permite analisar o efeito que o valor de IVA a pagar ou a reembolsar tem sobre a tesouraria ao longo do tempo, consoante o regime adoptado.
A61: Efeito positivo significa que a empresa tem IVA a reembolsar. Efeito negativo significa que a empresa tem IVA a pagar.
K62: © 2013 Sage Portugal

Sheet Termos & Condições
A2: Termos & Condições
A5: A Sage Portugal, SA desenvolveu este Simulador do Regime de IVA de Caixa com o intuito de ajudar os contribuintes, passíveis de enquadramento neste novo regime, a aferir do impacto ao nível da sua tesouraria perante uma eventual adopção do Regime de IVA de Caixa em alternativa ao actual Regime Normal de IVA. Este simulador contém algumas simplificações, nomeadamente o não ter em conta a exigibilidade do IVA após 12 meses da data de emissão da factura de acordo com a alínea a) do n.º 3 do art.º 2º do DL 71/2013. O modelo desenvolvido, com base nos prazos médios de recebimento e pagamentos e na análise de valores de Vendas e Compras que deverão ser apurados pelo utilizador recorrendo às suas fontes de informação, assenta na projecção do montante de recebimentos e pagamentos permitindo chegar a uma comparação do IVA apurado no Regime Normal versus aquele que seria apurado no Regime de IVA de Caixa. A Sage Portugal, SA não assume qualquer responsabilidade pela exactidão dos dados apurados pelo Simulador e ressalva da necessidade de o utilizador conhecer detalhadamente a legislação aplicável, nomeadamente o Decreto-Lei n.º 71/2013, de 30 de Maio. A Sage Portugal, SA reserva-se no direito de proceder a actualizações do presente Simulador com vista à incorporação de melhorias e ajustamentos que se mostrem necessários e relevantes. De igual forma a Sage Portugal, SA reserva-se no direito de também ajustar os Termos & Condições aqui elencados.
A6: Direitos de autor e Copyright
A9: O presente Simulador foi desenvolvido pela Sage Portugal, SA e está protegido ao abrigo da legislação em vigor e relativa à protecção dos direitos de autor e de reprodução ilegítima de programas protegidos.
