Workbook

Sheet a) Movimentos de Rectificação
A1: Ponto 1
B2: 312 | C2: Comp.Mercadorias | E2: 317 | F2: Devolução Compras | H2: 318 | I2: Descontos e abatimentos em compras
B3: 16000 | C3: 16000 | E3: 300 | F3: 300 | H3: 250 | I3: 250
C6: =C3-B3 -> 0 | F6: =F3-E3 -> 0 | I6: =I3-H3 -> 0
B12: 382 | C12: Reg.Exist. | E12: 321 | F12: Mercadorias | H12: 612 | I12: Mercadorias
B13: 300 | C13: 300 | E13: 10000 | F13: 300 | H13: 24450
B14: 250 | C14: 250 | E14: 16000 | F14: 250
F15: 24450
C16: =SUM(C13:C14)-SUM(B13:B14) -> 0 | E16: =SUM(E13:E14)-SUM(F13:F15) -> 1000 | H16: 24450
A20: Ponto 2
B22: 272 | C22: Custos Diferidos | E22: 62219 | F22: Rendas e alugueres
B23: 50 | F23: 50
B25: =B23 -> 50 | F25: =F23 -> 50
A30: Ponto 3
B32: 692 | C32: Dívidas incobráveis | E32: 218 | F32: Clientes.Cob.Duvid. | J32: Como a conta 281 não apresenta saldos não há lugar à restituição de provisão de 110 feita.
B33: 110 | F33: 110
B36: =B33 -> 110 | F36: 110
A40: Ponto 4
B42: 62222 | C42: Comunicação | E42: 273 | F42: Acréscimos Custos
B43: 30 | F43: 30
B46: =B43 -> 30 | F46: =F43 -> 30
A50: Ponto 5
B52: 274 | C52: Proveitos diferidos | E52: 783 | F52: Rendimentos Imóveis
C53: 60 | E53: 60
C55: =C53 -> 60 | E55: =E53 -> 60
A60: Ponto 6
B61: 62217 | C61: Mat.Escritório | E61: 272 | F61: Custos Diferidos
C62: 15 | E62: 15
C64: =C62 -> 15 | E64: =E62 -> 15
A70: Ponto 7
B71: 6711 | C71: Dividas Clientes | E71: 281 | F71: Provisões D.Clientes | K71: > 6 meses <= 12 meses | L71: 200 | M71: Provisão = 200 * 25% | N71: =L71*0.25 -> 50
B72: =N74 -> 200 | F72: =N74 -> 200 | K72: >18 meses <= 24 meses | L72: 100 | M72: Provisão = 100 * 75% | N72: =L72*0.75 -> 75
K73: 24 meses (>18 meses <= 24 meses) | L73: 100 | M73: Provisão = 100 * 75% | N73: =L73*0.75 -> 75
B74: =B72 -> 200 | F74: =F72 -> 200 | M74: Total | N74: =SUM(N71:N73) -> 200
A80: Ponto 8
B81: 6624 | C81: Equip. Transporte | E81: 4824 | F81: Equip Transporte | K81: Amortização Equip Tansporte
B82: 1500 | F82: 1500 | K82: 6000 * 0,25 | L82: =6000*0.25 -> 1500
B84: =B82 -> 1500 | F84: =F82 -> 1500
B89: 6626 | C89: Equip Administrativo | E89: 4826 | F89: Equip Transporte
B90: 240 | F90: 240 | K90: Amortização Equip Administrativo
...

Sheet b)
B3: 61 | C3: CMVMC | E3: 62 | F3: Fornecimentos Serv. | H3: 64 | I3: Custos com pessoal
B4: ='a) Movimentos de Rectificação'!H16 -> 24450 | C4: 24450 | D4: SF | E4: 1100 | F4: ='a) Movimentos de Rectificação'!F25 -> 50 | H4: 1800 | I4: 1800 | J4: SF
E5: ='a) Movimentos de Rectificação'!B46 -> 30 | F5: ='a) Movimentos de Rectificação'!C62 -> 15
E7: =SUM(E4:E5)-SUM(F4:F5) -> 1065 | F7: =E7 -> 1065 | G7: SF
B13: 66 | C13: Amortiz. | E13: 67 | F13: Provisões | H13: 68 | I13: Custos e Perdas
B14: ='a) Movimentos de Rectificação'!B82 -> 1500 | E14: ='a) Movimentos de Rectificação'!B72 -> 200 | H14: 450
B15: ='a) Movimentos de Rectificação'!B90 -> 240 | H15: ='a) Movimentos de Rectificação'!B98 -> 200
B17: =SUM(B14:B15) -> 1740 | C17: =B17 -> 1740 | D17: SF | E17: =SUM(E14:E15)-SUM(F14:F16) -> 200 | F17: =E17 -> 200 | G17: SF | H17: =SUM(H14:H15) -> 650 | I17: =H17 -> 650 | J17: SF
B23: 69 | C23: Custos Perdas Ext.
B24: ='a) Movimentos de Rectificação'!B33 -> 110
B26: =B24 -> 110 | C26: =B26 -> 110 | D26: SF
B33: 71 | C33: Vendas | E33: 78 | F33: Prov.Ganh.Fin. | H33: 79 Prov.Ganh.Ext.
B34: 400 | C34: 35300 | E34: ='a) Movimentos de Rectificação'!E53 -> 60 | F34: 780 | G34: SF | H34: =I34 -> 220 | I34: 220
F35: 250
A36: SF | B36: =C34-B34 -> 34900 | C36: =B36 -> 34900
D37: SF | E37: =SUM(F34:F35)-E34 -> 970 | F37: =E37 -> 970
B43: 81 | C43: Res.Operacionais | E43: 82 | F43: Res. Financ. | H43: 84 | I43: Res. Extr.
B44: =C4 -> 24450 | C44: =B36 -> 34900 | E44: =I17 -> 650 | F44: =E37 -> 970 | H44: =C26 -> 110 | I44: =H34 -> 220
B45: =F7 -> 1065
B46: =I4 -> 1800
B47: =C17 -> 1740
B48: =F17 -> 200
A50: SF | B50: =C50 -> 5645 | C50: =C44-SUM(B44:B48) -> 5645 | D50: SF | E50: =F50 -> 320 | F50: =F44-E44 -> 320 | G50: SF | H50: =I50 -> 110 | I50: =I44-H44 -> 110
B53: 85 | C53: Res. Antes de Impostos
C54: =B50 -> 5645
C55: =E50 -> 320
C56: =H50 -> 110
C58: =SUM(C54:C56) -> 6075

Sheet c)
B2: IRC = 6075 * 25% = | E2: =6075*0.25 -> 1518.75
B3: Derrama = 1518,75 * 10% = | E3: =E2*0.1 -> 151.875
B5: Total Imposto | E5: =E2+E3 -> 1670.625
B7: 86 | C7: Imposto S/Rend.Ex. | E7: 241 | F7: EOEP - IR | H7: 88 | I7: Res.Liquido
B8: =E5 -> 1670.625 | F8: =C14 -> 1670.625 | H8: =C14 -> 1670.625 | I8: ='b)'!C58 -> 6075
B14: =B8 -> 1670.625 | C14: =B14 -> 1670.625 | D14: SF | F14: =F8-E8 -> 1670.625 | G14: SF | H14: =I14 -> 4404.375 | I14: =I8-H8 -> 4404.375

Sheet d) Dem.Result.
A2: DEMONSTRAÇÃO DE RESULTADOS
A3: Codigo de Contas | C3: Exercício
A4: P.O.C. | B4: Custos e Perdas | C4: 2009
A5: 61 | B5: Custo das Mercadorias Vendidas e das Matérias Consumidas | C5: 24450
A6: 62 | B6: Fornecimentos e Serviços Externos | C6: 1065
A7: 64 | B7: Custos com o Pessoal | C7: 1800
A8: 66 | B8: Amortizações do imobilizado corpóreo e incorpóreo | C8: 1740
A9: 67 | B9: Provisões | C9: 200
A10: 63 | B10: Impostos
A11: 65 | B11: Outros Custos de Exploração
B12: (A)............................................................ | C12: =SUM(C5:D11) -> 29255
A14: 68 | B14: Amortizações e provisões de aplicações e investimentos financeiros | C14: 650
B15: (C)............................................................ | C15: =SUM(C12,C14) -> 29905
A17: 69 | B17: Custos e Perdas Extrordinários | C17: 110 | D17: 110
B18: (E)............................................................ | C18: =SUM(C15,C17) -> 30015
A20: 86 | B20: Imposto sobre o rendimento do exercício | C20: 1670.625 | D20: 1670.625
B21: (G)............................................................ | C21: =SUM(C18,C20) -> 31685.625 | D21: =SUM(D18:D20) -> 1670.625
A23: 88 | B23: Resultado líquido do exercício (+/-) | C23: 4404.375 | D23: 4404.375
C24: =SUM(C21,C23) -> 36090 | D24: =SUM(D21:D23) -> 6075
B25: Proveitos e Ganhos
A26: 71 | B26: Vendas | C26: 34900
B27: (B)............................................................ | C27: =SUM(C26:C26) -> 34900
A29: 78 | B29: Proveitos e Ganhos Financeiros | C29: 970
B30: (D)............................................................ | C30: =SUM(C29,C27) -> 35870
A32: 79 | B32: Proveitos e ganhos extraordinários | C32: 220
B33: (F)............................................................ | C33: =SUM(C30,C32) -> 36090
B35: Resumo
B36: Resultados operacionais: (B) - (A) = | C36: =C27-C12 -> 5645
B37: Resultados financeiros : (D-B) - (C-A) = | C37: =(C30-C27)-(C15-C12) -> 320
B38: Resultados correntes : (D-C) = | C38: =C30-C15 -> 5965
B39: Resultados antes de impostos: (F) - (E) = | C39: =C33-C18 -> 6075
B40: Resultado líquido do exercício : (F) - (G) = | C40: =C33-C21 -> 4404.375

Sheet d) Balço
A3: BALANÇO EM 31 DE DEZEMBRO DE 2 009
A4: Código de contas | G4: Exercício de | J4: Código de contas | Q4: Exercício de
A5: do | G5: 2009 | Q5: 2009
A6: POC | G6: AB | H6: AP | I6: AL | J6: POC
B7: ACTIVO | K7: Capital próprio e passivo
B8: Imobilizado: | K8: Capital próprio
A9: 43 | C9: Imobilizações Incorpóreas | G9: 0 | H9: 0 | I9: 0 | J9: 51 | L9: Capital | Q9: 12000
A10: 42 | C10: Imobilizações corpóreas | G10: 7200 | H10: 4740 | I10: =G10-H10 -> 2460 | J10: 54 | L10: Prémios de emissão de acções (quotas) | Q10: 0 | R10: saldo conta 482 | T10: 2400 | U10: 1500 | V10: 600 | W10: 240
A11: 41 | C11: Investimentos financeiros | G11: 10000 | H11: 200 | I11: =G11-H11 -> 9800 | J11: 56 | L11: Reservas de reavaliação | Q11: 0 | R11: saldo conta 481
G12: =SUM(G9:G11) -> 17200 | H12: =SUM(H9:H11) -> 4940 | I12: =SUM(I9:I11) -> 12260 | J12: 571 | L12: Reservas legais | Q12: 0
B13: Circulante | J13: 52+53+55+5472/9 | L13: Restantes reservas e outros capitais próprios | Q13: 0
C14: Existências | J14: 59 | L14: Resultados transitados | Q14: 0
A15: 32 | D15: Mercadorias | G15: 1000 | H15: 0 | I15: =G15-H15 -> 1000 | N15: Subtotal....................................................... | Q15: =SUM(Q9:Q14) -> 12000 | T15: -10000 | U15: -16000 | V15: 300 | W15: 250 | X15: 24450
C16: Dívidas de Terceiros - Curto Prazo | J16: 88 | L16: Resultado líquido do exercício | Q16: 4404.375
A17: 21 | D17: Clientes | G17: =2400+850+200-110 -> 3340 | H17: 200 | I17: =G17-H17 -> 3140 | J17: 89 | L17: Dividendos antecipados | O17: (-) | Q17: 0 | R17: Saldo conta 281 | T17: 2400 | U17: 850 | V17: 200 | W17: -110
A18: 24 | D18: Estado e Outros Entes Públicos | G18: 0 | H18: 0 | I18: 0 | N18: Total do capital próprio.............................. | Q18: =SUM(Q15:Q17) -> 16404.375
A19: 25 | D19: Accionistas (socios) | G19: 0 | H19: 0 | I19: 0 | K19: Passivo
A20: 26 | D20: Outros Devedores | G20: 0 | H20: 0 | I20: 0 | J20: 29 | K20: Provisões para riscos e encargos | Q20: 0
C21: Depósitos bancários e caixa | K21: Dívidas a terceiros
A22: 11 | D22: Caixa | G22: 80 | I22: =G22-H22 -> 80 | J22: 21+22+23+24+25+26 | L22: Médio Prazo
A23: 12 | D23: Depósitos à ordem | G23: 4000 | I23: =G23-H23 -> 4000 | J23: 23 | M23: Empréstmos bancários
G24: =SUM(G14:G23) -> 8420 | H24: =SUM(H14:H23) -> 200 | I24: =SUM(I14:I23) -> 8220 | L24: Curto prazo
J25: 23 | M25: Instituições de Crédito | Q25: 0 | T25: cd | W25: cd
A26: 27 | C26: Acréscimos e diferimentos | G26: 65 | H26: 0 | I26: =G26-H26 -> 65 | J26: 221 | M26: Fornecedores c/c | Q26: 1480 | R26: Saldo conta 272 + 271 (Custos diferidos e a de Acréscimdos de proveitos | T26: -50 | W26: -15
J27: 222 | M27: Fornecedores -Títulos a pagar | Q27: 1000
J28: 24 | M28: Estado e Outros Entes Públicos | Q28: 1670.625
D29: Total do activo.......... | G29: =G12+G24+G26 -> 25685 | H29: =H12+H24+H26 -> 5140 | I29: =I12+I24+I26 -> 20545 | J29: 25 | M29: Accionmistas (Sócios) | Q29: 0
J30: 26 | M30: Outros Credores | Q30: 0
Q31: =SUM(Q25:Q30) -> 4150.625 | U31: ac | V31: pd
J32: 27 | K32: Acréscimos e diferimentos | Q32: 90 | R32: Saldo conta 273 + 274 (Acréscimos de custos e Proveitos diferidos) | U32: 30 | V32: 60
N33: Total do passivo.......................................... | Q33: =SUM(Q31:Q32) -> 4240.625
N34: Total do capital próprio e do passivo......... | Q34: =Q18+Q33 -> 20645
B35: AB - Activo Bruto
B36: AP-Amortizações e Provisões | Q36: =Q34-I29 -> 100
B37: AL-Activo Líquido
