Workbook

Sheet Investimento
B1: Valor
A2: Descrição | B2: Ano 0 | C2: Ano 1 | D2: Ano 2 | E2: Ano 3 | F2: Ano 4 | G2: Ano 5 | H2: Ano 6 | I2: Ano 7
A3: Projectos de especialidades | B3: 17000 | C3: 0 | D3: 0 | E3: 0 | F3: 0 | G3: 0 | H3: 0 | I3: 0
A4: Mesa baixa bar | B4: 1057 | C4: 0 | D4: 0 | E4: 0 | F4: 0 | G4: 0 | H4: 1507 | I4: 0
A5: Sofá duplo bar | B5: 1663.2 | C5: 0 | D5: 0 | E5: 0 | F5: 0 | G5: 0 | H5: 0 | I5: 1663.2
A6: Sofá Individual Bar | B6: 2158.8 | C6: 0 | D6: 0 | E6: 0 | F6: 0 | G6: 0 | H6: 0 | I6: 2158.8
A7: Tapetes Bar | B7: 2709 | C7: 0 | D7: 0 | E7: 0 | F7: 0 | G7: 0 | H7: 2709 | I7: 0
A8: Cadeirão Recepção + Quartos | B8: 11365.2 | C8: 0 | D8: 0 | E8: 0 | F8: 0 | G8: =B8/2 -> 5682.6 | H8: =B8-G8 -> 5682.6 | I8: 0
A9: Cadeira Restaurante | B9: 3248 | C9: 0 | D9: 0 | E9: 0 | F9: 0 | G9: 3248 | H9: 0 | I9: 0
A10: Mesa alta restaurante | B10: 5000 | C10: 0 | D10: 0 | E10: 0 | F10: 0 | G10: 0 | H10: 0 | I10: 5000
A11: Mobiliário e iluminação dos quartos e corredores (1) | B11: 49459.2 | C11: 0 | D11: 0 | E11: 0 | F11: =B11/4 -> 12364.8 | G11: 12364.8 | H11: 12364.8 | I11: 12364.8
A12: Mobilário de escritório | B12: 8503.2 | C12: 0 | D12: 0 | E12: 0 | F12: 0 | G12: 0 | H12: 2000 | I12: 2000
A13: Televisores Quartos e Bar | B13: 14230 | C13: 0 | D13: 0 | E13: 0 | F13: 0 | G13: =B13/3 -> 4743.3333 | H13: 4743.33 | I13: 4743.33
A14: Telefones Quartos + Recepção + Escritório | B14: 737.07 | C14: 0 | D14: 0 | E14: 0 | F14: 0 | G14: 0 | H14: 737.07 | I14: 0
A15: Sistema de som Bar + Hall + Restaurante | B15: 859.08 | C15: 0 | D15: 0 | E15: 0 | F15: 0 | G15: 0 | H15: 0 | I15: 859.08
A16: Viatura de direcção/secretariado | B16: 25000 | C16: 0 | D16: 0 | E16: 0 | F16: 10000 | G16: 0 | H16: 0 | I16: 0
A17: Viatura de trabalho (mini furgão) | B17: 15000 | C17: 0 | D17: 0 | E17: 0 | F17: 0 | G17: 10000 | H17: 0 | I17: 0
A18: Computadores, Impressoras e servidor | B18: 13248 | C18: 0 | D18: 0 | E18: 0 | F18: 3500 | G18: 3500 | H18: 3500 | I18: 3500
A19: Site com ecommerce e CRM (Licenciamento,instalação, alojamento, configuração, caracterização, integração e desenvolvimento) | B19: 15500 | C19: 0 | D19: 0 | E19: 0 | F19: 0 | G19: 0 | H19: 0 | I19: 0
A20: Equipamento hoteleiro para restaurante, cozinha e bar | B20: 49535.8 | C20: 0 | D20: 0 | E20: 0 | F20: 0 | G20: 5000 | H20: 5000 | I20: 5000
A21: Equipamento de climatização | B21: 100000 | C21: 0 | D21: 0 | E21: 0 | F21: 0 | G21: 0 | H21: 0 | I21: 0
A22: Terreno com cerca de 10 ha, com vinha e casa senhorial na zona da Ribeira, Ponte de Lima (2) | B22: 800000 | C22: 0 | D22: 0 | E22: 0 | F22: 0 | G22: 0 | H22: 0 | I22: 0
A23: Recuperação, requalificação e ampliação do edíficio existente | B23: 1532547.3 | C23: 0 | D23: 0 | E23: 0 | F23: 0 | G23: 0 | H23: 0 | I23: 0
A24: TOTAIS | B24: =SUM(B4:B23) -> 2651820.9 | C24: =SUM(C4:C23) -> 0 | D24: =SUM(D4:D23) -> 0 | E24: =SUM(E4:E23) -> 0 | F24: =SUM(F4:F23) -> 25864.8 | G24: =SUM(G4:G23) -> 44538.733 | H24: =SUM(H4:H23) -> 38243.8 | I24: =SUM(I4:I23) -> 37289.21
A25: Reinvestimentos | F25: =F24 -> 25864.8 | G25: =G24 -> 44538.733 | H25: =H24 -> 38243.8 | I25: =I24 -> 37289.21
A26: Valor Residual | I26: -4000000
G27: Valor Residual líquido do reinvestimento | I27: =I25+I26 -> -3962710.8
A29: 1)Mobiliário de quarto compreende: 30 camas, com estrado, colchão ortopédico e mesas de cabeceiras; 30 Moldura com espelho; 30 secretárias com cadeira
A30: 30 tapetes, 3 berços e respectivos colchões; 60 candeeiros de mesa de cabeceira + 30 pontos luz de pé alto. Mobiliário de corredor: 8 aparadores, 10 candeeiros
A31: em aplique (exclui-se os cadeirões já incluidos em artigo anterior)
A32: 2) O Valor do terreno obtido através de média ponderada entre as ofertas que existiam em propriedades com iguais características e dimensão entre 5 e
A33: quarenta hectares na zona de Ponte de Lima

Sheet Amortizações
B1: QUADRO DE AMORTIZAÇÕES
B2: Edíficio | C2: Mobiliário | D2: Veículos | E2: Equipamento Administrativo | F2: Equipamentos Electrónicos | G2: Climatização (Máquina Pesada) | H2: Equipamento Hoteleiro (Ferramentas e máquinas ligeiras) | I2: Software e loja virtual | J2: Projectos | K2: TOTAL
A3: Ano 1 | B3: =(Investimento!$B$22+Investimento!$B$23)*0.02 -> 46650.947 | C3: =76660.4*0.125 -> 9582.55 | D3: =(Investimento!$B$16+Investimento!$B$17)*0.25 -> 10000 | E3: =(Investimento!$B$12+Investimento!$B$18)*0.2 -> 4350.24 | F3: =(Investimento!$B$13+Investimento!$B$14+Investimento!$B$15)*0.2 -> 3165.23 | G3: =Investimento!$B$21*0.125 -> 12500 | H3: =Investimento!$B$20*0.2 -> 9907.16 | I3: =Investimento!$B$19*0.33333333 -> 5166.6666 | J3: =Investimento!$B$3*0.33333333 -> 5666.6666 | K3: =SUM(B3:J3) -> 106989.46
A4: Ano 2 | B4: =(Investimento!$B$22+Investimento!$B$23)*0.02 -> 46650.947 | C4: =76660.4*0.125 -> 9582.55 | D4: =(Investimento!$B$16+Investimento!$B$17)*0.25 -> 10000 | E4: =(Investimento!$B$12+Investimento!$B$18)*0.2 -> 4350.24 | F4: =(Investimento!$B$13+Investimento!$B$14+Investimento!$B$15)*0.2 -> 3165.23 | G4: =Investimento!$B$21*0.125 -> 12500 | H4: =Investimento!$B$20*0.2 -> 9907.16 | I4: =Investimento!$B$19*0.3333333 -> 5166.6662 | J4: =Investimento!$B$3*0.33333333 -> 5666.6666 | K4: =SUM(B4:J4) -> 106989.46
A5: Ano 3 | B5: =(Investimento!$B$22+Investimento!$B$23)*0.02 -> 46650.947 | C5: =76660.4*0.125 -> 9582.55 | D5: =(Investimento!$B$16+Investimento!$B$17)*0.25 -> 10000 | E5: =(Investimento!$B$12+Investimento!$B$18)*0.2 -> 4350.24 | F5: =(Investimento!$B$13+Investimento!$B$14+Investimento!$B$15)*0.2 -> 3165.23 | G5: =Investimento!$B$21*0.125 -> 12500 | H5: =Investimento!$B$20*0.2 -> 9907.16 | I5: =Investimento!$B$19*0.33333333 -> 5166.6666 | J5: =Investimento!$B$3*0.33333333 -> 5666.6666 | K5: =SUM(B5:J5) -> 106989.46
A6: Ano 4 | B6: =(Investimento!$B$22+Investimento!$B$23)*0.02 -> 46650.947 | C6: =(76660.4+12364.8)*0.125 -> 11128.15 | D6: =(Investimento!$B$16+Investimento!$B$17+10000)*0.25 -> 12500 | E6: =(Investimento!B12+Investimento!B18+Investimento!F18)*0.2 -> 5050.24 | F6: =(Investimento!$B$13+Investimento!$B$14+Investimento!$B$15)*0.2 -> 3165.23 | G6: =Investimento!$B$21*0.125 -> 12500 | H6: =Investimento!$B$20*0.2 -> 9907.16 | I6: 0 | J6: 0 | K6: =SUM(B6:J6) -> 100901.73
A7: Ano 5 | B7: =(Investimento!$B$22+Investimento!$B$23)*0.02 -> 46650.947 | C7: =(76660.4+21295.4)*0.125 -> 12244.475 | D7: =(Investimento!$F$16+Investimento!$G$17)*0.25 -> 5000 | E7: =(Investimento!B12+Investimento!B18+Investimento!F18+Investimento!G18)*0.2 -> 5750.24 | F7: =(Investimento!$B$13+Investimento!$B$14+Investimento!$B$15+Investimento!G13)*0.2 -> 4113.8967 | G7: =Investimento!$B$21*0.125 -> 12500 | H7: =(Investimento!$B$20+Investimento!G20)*0.2 -> 10907.16 | I7: 0 | J7: 0 | K7: =SUM(B7:J7) -> 97166.718
A8: Ano 6 | B8: =(Investimento!$B$22+Investimento!$B$23)*0.02 -> 46650.947 | C8: =(76660.4+22263.4)*0.125 -> 12365.475 | D8: =(Investimento!$F$16+Investimento!$G$17)*0.25 -> 5000 | E8: =(Investimento!F18+Investimento!G18+Investimento!H18+Investimento!H12)*0.2 -> 2500 | F8: =(Investimento!G13+Investimento!H13+Investimento!H14)*0.2 -> 2044.7467 | G8: =Investimento!$B$21*0.125 -> 12500 | H8: =(Investimento!G20+Investimento!H20)*0.2 -> 2000 | I8: 0 | J8: 0 | K8: =SUM(B8:J8) -> 83061.168
A9: Ano 7 | B9: =(Investimento!$B$22+Investimento!$B$23)*0.02 -> 46650.947 | C9: =(76660.4+21186.8)*0.125 -> 12230.9 | D9: =(Investimento!$F$16+Investimento!$G$17)*0.25 -> 5000 | E9: =(Investimento!H12+Investimento!I12+Investimento!F18+Investimento!G18+Investimento!H18+Investimento!I18)*0.2 -> 3600 | F9: =(Investimento!G13+Investimento!H13+Investimento!I13+Investimento!H14+Investimento!I15)*0.2 -> 3165.2287 | G9: =Investimento!$B$21*0.125 -> 12500 | H9: =(Investimento!G20+Investimento!H20+Investimento!I20)*0.2 -> 3000 | I9: 0 | J9: 0 | K9: =SUM(B9:J9) -> 86147.075
A10: Amortizações Acumuladas | B10: =SUM(B3:B9) -> 326556.63 | C10: =SUM(C3:C9) -> 76716.65 | D10: =SUM(D3:D9) -> 57500 | E10: =SUM(E3:E9) -> 29951.2 | F10: =SUM(F3:F9) -> 21984.792 | G10: =SUM(G3:G9) -> 87500 | H10: =SUM(H3:H9) -> 55535.8 | I10: =SUM(I3:I9) -> 15499.999 | ... K10: =SUM(K3:K9) -> 688245.07

Sheet Estrutura accionista
A1: Capital Próprio Ano 0
A2: Estrutura Accionista
A3: Accionistas a considerar | B3: 500000
A4: Subsídios ao Investimento
A5: Fundo de Turismo | B5: 1000000
A6: TOTAL= | B6: =B3+B5 -> 1500000
A9: Notas: O Fundo de Turismo, nos projectos de turismo de qualidade (4 estrelas ou superior), costuma aplicar um valor que anda entre os 25%e os 60% do Investimento Inicial. Este valor fica garantido durante doze anos, sem remuneração, ou remuneração mínima (5% dos dividendos) e será acompanhado da obrigatoriedade de ter um gestor externo ao hotel, do Turismo de Portugal, para garantir que a unidade não perde qualidade e para introduzir know-how e boas práticas de gestão

Sheet Pacotes
A1: Nome | B1: Segunda-feira | C1: Terça-feira | D1: Quarta-feira | E1: Quinta-feira | F1: Sexta-feira | G1: Sábado | H1: Domingo
A2: Minho´s Gold Experience Preço - 2900€ /casal | B2: Tema: A Serra | C2: Dia Livre | D2: Tema: rota do alvarinho | E2: Dia Livre | F2: Tema: Folclore e artesanato | G2: Tema: Fortes e Castelos do Alto Minho e sua história | H2: Dia Livre
B3: Visita a Lindoso(P.Barca) Zona do Parque Nacional Peneda Gerês: - Percursos Pedestres; - Almoço em restaurante local: Prato típico da região. Visita ao Castelo e Barragem do Lindoso, Chão da Fonte, Madalena, Poço da Gola, Ponte Romana, Espigueiros. (Malhadas e desfolhadas) | D3: Visita a Melgaço e Monção: Solar do Alvarinho em Melgaço, Prova de Vinhos; Adega Cooperativa de Monção, Palácio da Brejoeira, Termas de Monção. Almoço em restaurante local: Prato típico da região (anho no forno ou arroz de lampreia); breve apresentação sobre o Vinho Verde | F3: Museu do Traje - Viana; os palmitos, os bordados, a cerâmica. Almoço em restaurante típico com actuação ao vivo de Rancho Folclórico; Feira semanal. | G3: Visita guiada aos fortes e castelos do distrito; Almoço: Prato típico da região.
B4: Jantar Temático (Alto Minho) c/ degustação presidida por especialista em vinhos | C4: Jantar Temático (Alto Minho) c/ degustação presidida por especialista em vinhos | D4: Jantar Temático (Alto Minho) c/ degustação presidida por especialista em vinhos | E4: Jantar Temático (Alto Minho) c/ degustação presidida por especialista em vinhos | F4: Jantar Temático (Alto Minho) c/ degustação presidida por especialista em vinhos | G4: Jantar Temático (Alto Minho) c/ degustação presidida por especialista em vinhos | H4: Jantar Temático (Alto Minho) c/ degustação presidida por especialista em vinhos
A6: Minho´s Story - 1900€ / casal | B6: Tema: A Serra | C6: Dia Livre | D6: Tema: Turismo religioso | E6: Dia Livre | F6: Tema: Cidade de V. Castelo | G6: Tema: O Românico no Alto Minho | H6: Dia Livre
B7: Mesio (Arcos de Valdevez) - Marcha de montanha - Serra do Soajo . Almoço: Prato típico da Região Visita à aldeia do Soajo, espigueiros e Centro Equestre | D7: Visita aos santuários da Srª da Peneda, S. João d'Árga, Srª do Minho. | F7: Visita guiada ao centro histórico da cidade de Viana do Castelo e ao Castelo de Santiago da Barra; Feira semanal. | G7: Visita aos monumentos românicos do distrito
B8: Jantar Temático (Alto Minho) c/ degustação presidida por especialista em vinhos | C8: Jantar Temático (Alto Minho) c/ degustação presidida por especialista em vinhos | D8: Jantar Temático (Alto Minho) c/ degustação presidida por especialista em vinhos | E8: Jantar Temático (Alto Minho) c/ degustação presidida por especialista em vinhos | F8: Jantar Temático (Alto Minho) c/ degustação presidida por especialista em vinhos | G8: Jantar Temático (Alto Minho) c/ degustação presidida por especialista em vinhos | H8: Jantar Temático (Alto Minho) c/ degustação presidida por especialista em vinhos
F10: Pacotes Fim de Semana
E11: Gold vintage - 950€ / casal | G11: Tema: Fortes e Castelos do Alto Minho e sua história | H11: Saída
F12: Recepção de boas vindas com um verde de honra | G12: Visita guiada aos fortes e castelos do distrito; A história do Vinho Verde; na época de vindimas e de abertura dos vinhos produzidos na quinta do hotel, os hóspedes serão convidados a particpar nestes momentos Almoço: Prato típico da região.
F13: Jantar Temático (Alto Minho) - Animação | G13: Jantar Temático (Alto Minho) c/ degustação
E15: Wine Degustia - 900€ / casal | G15: Tema: O Românico no Alto Minho | H15: Saída
F16: Recepção de boas vindas com um verde de honra | G16: Visita às adegas regionais
F17: Jantar Temático (Alto Minho) - Animação | G17: Jantar Temático (Alto Minho) c/ degustação
E19: Golf and Wine - 900€ / casal | F19: Recepção de boas vindas com um verde de honra | G19: Golfe | H19: Saída
F20: Jantar Temático (Alto Minho) - Animação | G20: Jantar Temático (Alto Minho) c/ degustação

Sheet Receitas Exploração
B1: Vendas
B2: ANO 1 | E2: ANO 2 | H2: ANO 3 | K2: ANO 4 | N2: ANO 5 | Q2: ANO 6 | T2: ANO 7
A3: Descrição | B3: Quantidade | C3: Valor | D3: TOTAL | E3: Quantidade | F3: Valor | G3: TOTAL | H3: Quantidade | I3: Valor | J3: TOTAL | K3: Quantidade | L3: Valor | M3: TOTAL | N3: Quantidade | O3: Valor | P3: TOTAL | Q3: Quantidade | R3: Valor | S3: TOTAL | T3: Quantidade | U3: Valor | V3: TOTAL
A4: Programa Minho´s Gold Experience
A5: Através de loja ecomerce | B5: 15 | C5: 2900 | D5: =B5*C5 -> 43500 | E5: 25 | F5: 2900 | G5: =E5*F5 -> 72500 | H5: 30 | I5: 2950 | J5: =H5*I5 -> 88500 | K5: 35 | L5: 2950 | M5: =K5*L5 -> 103250 | N5: 42 | O5: 2950 | P5: =N5*O5 -> 123900 | Q5: 50 | R5: 3120 | S5: =Q5*R5 -> 156000 | T5: 55 | U5: 3120 | V5: =T5*U5 -> 171600
A6: Ao Balcão | B6: 3 | C6: 3250 | D6: =B6*C6 -> 9750 | E6: 4 | F6: 3250 | G6: =E6*F6 -> 13000 | H6: 5 | I6: 3300 | J6: =H6*I6 -> 16500 | K6: 6 | L6: 3300 | M6: =K6*L6 -> 19800 | N6: 7 | O6: 3300 | P6: =N6*O6 -> 23100 | Q6: 8 | R6: 3500 | S6: =Q6*R6 -> 28000 | T6: 10 | U6: 3500 | V6: =T6*U6 -> 35000
A7: Através de operadores | B7: 30 | C7: 2900 | D7: =B7*C7 -> 87000 | E7: =E5*2 -> 50 | F7: 2900 | G7: =E7*F7 -> 145000 | H7: 60 | I7: 2950 | J7: =H7*I7 -> 177000 | K7: 70 | L7: 2950 | M7: =K7*L7 -> 206500 | N7: 84 | O7: 2950 | P7: =N7*O7 -> 247800 | Q7: 100 | R7: 3120 | S7: =Q7*R7 -> 312000 | T7: 105 | U7: 3120 | V7: =T7*U7 -> 327600
A8: Programa Minho´s Story
A9: Através de loja ecomerce | B9: 30 | C9: 1900 | D9: =B9*C9 -> 57000 | E9: 35 | F9: 1900 | G9: =E9*F9 -> 66500 | H9: 40 | I9: 1950 | J9: =H9*I9 -> 78000 | K9: 60 | L9: 1950 | M9: =K9*L9 -> 117000 | N9: 65 | O9: 1950 | P9: =N9*O9 -> 126750 | Q9: 70 | R9: 2100 | S9: =Q9*R9 -> 147000 | T9: 75 | U9: 2100 | V9: =T9*U9 -> 157500
A10: Ao Balcão | B10: 3 | C10: 2250 | D10: =B10*C10 -> 6750 | E10: 4 | F10: 2250 | G10: =E10*F10 -> 9000 | H10: 5 | I10: 2300 | J10: =H10*I10 -> 11500 | K10: 6 | L10: 2300 | M10: =K10*L10 -> 13800 | N10: 7 | O10: 2300 | P10: =N10*O10 -> 16100 | Q10: 8 | R10: 2300 | S10: =Q10*R10 -> 18400 | T10: 10 | U10: 2300 | V10: =T10*U10 -> 23000
A11: Através de operadores | B11: 60 | C11: 1900 | D11: =B11*C11 -> 114000 | E11: 70 | F11: 1900 | G11: =E11*F11 -> 133000 | H11: 80 | I11: 1900 | J11: =H11*I11 -> 152000 | K11: 120 | L11: 1900 | M11: =K11*L11 -> 228000 | N11: =N9*2 -> 130 | O11: 1900 | P11: =N11*O11 -> 247000 | Q11: 140 | R11: 2300 | S11: =Q11*R11 -> 322000 | T11: 150 | U11: 2300 | V11: =T11*U11 -> 345000
A12: Programa Gold Vintage
A13: Através da loja Ecommerce | B13: 50 | C13: 950 | D13: =B13*C13 -> 47500 | E13: 60 | F13: 950 | G13: =E13*F13 -> 57000 | H13: 65 | I13: 975 | J13: =H13*I13 -> 63375 | K13: 80 | L13: 975 | M13: =K13*L13 -> 78000 | N13: 85 | O13: 975 | P13: =N13*O13 -> 82875 | Q13: 90 | R13: 1000 | S13: =Q13*R13 -> 90000 | T13: 95 | U13: 1000 | V13: =T13*U13 -> 95000
A14: Ao Balcão | B14: 3 | C14: 1250 | D14: =B14*C14 -> 3750 | E14: 4 | F14: 1250 | G14: =E14*F14 -> 5000 | H14: 5 | I14: 1300 | J14: =H14*I14 -> 6500 | K14: 6 | L14: 1300 | M14: =K14*L14 -> 7800 | N14: 7 | O14: 1300 | P14: =N14*O14 -> 9100 | Q14: 8 | R14: 1400 | S14: =Q14*R14 -> 11200 | T14: 10 | U14: 1400 | V14: =T14*U14 -> 14000
A15: Através de Operadores | B15: 100 | C15: 950 | D15: =B15*C15 -> 95000 | E15: 120 | F15: 950 | G15: =E15*F15 -> 114000 | H15: 130 | I15: 975 | J15: =H15*I15 -> 126750 | K15: 160 | L15: 975 | M15: =K15*L15 -> 156000 | N15: 170 | O15: 975 | P15: =N15*O15 -> 165750 | Q15: 180 | R15: 1000 | S15: =Q15*R15 -> 180000 | T15: 190 | U15: 1000 | V15: =T15*U15 -> 190000
A16: Programa Wine Degustia
A17: Através da loja Ecommerce | B17: 50 | C17: 900 | D17: =B17*C17 -> 45000 | E17: 60 | F17: 900 | G17: =E17*F17 -> 54000 | H17: 65 | I17: 925 | J17: =H17*I17 -> 60125 | K17: 80 | L17: 925 | M17: =K17*L17 -> 74000 | N17: 85 | O17: 925 | P17: =N17*O17 -> 78625 | Q17: 90 | R17: 975 | S17: =Q17*R17 -> 87750 | T17: 95 | U17: 975 | V17: =T17*U17 -> 92625
A18: Ao Balcão | B18: 3 | C18: 1200 | D18: =B18*C18 -> 3600 | E18: 4 | F18: 1200 | G18: =E18*F18 -> 4800 | H18: 5 | I18: 1350 | J18: =H18*I18 -> 6750 | K18: 6 | L18: 1250 | M18: =K18*L18 -> 7500 | N18: 7 | O18: 1250 | P18: =N18*O18 -> 8750 | Q18: 8 | R18: 1350 | S18: =Q18*R18 -> 10800 | T18: 10 | U18: 1350 | V18: =T18*U18 -> 13500
A19: Através de Operadores | B19: 100 | C19: 900 | D19: =B19*C19 -> 90000 | E19: 120 | F19: 900 | G19: =E19*F19 -> 108000 | H19: 130 | I19: 925 | J19: =H19*I19 -> 120250 | K19: 160 | L19: 925 | M19: =K19*L19 -> 148000 | N19: 170 | O19: 925 | P19: =N19*O19 -> 157250 | Q19: 180 | R19: 975 | S19: =Q19*R19 -> 175500 | T19: 190 | U19: 975 | V19: =T19*U19 -> 185250
A20: Programa Golf and Wine
A21: Através da loja Ecommerce | B21: 60 | C21: 900 | D21: =B21*C21 -> 54000 | E21: 70 | F21: 900 | G21: =E21*F21 -> 63000 | H21: 80 | I21: 925 | J21: =H21*I21 -> 74000 | K21: 90 | L21: 925 | M21: =K21*L21 -> 83250 | N21: 100 | O21: 925 | P21: =N21*O21 -> 92500 | Q21: 120 | R21: 975 | S21: =Q21*R21 -> 117000 | T21: 130 | U21: 975 | V21: =T21*U21 -> 126750
A22: Ao Balcão | B22: 3 | C22: 1200 | D22: =B22*C22 -> 3600 | E22: 4 | F22: 1200 | G22: =E22*F22 -> 4800 | H22: 5 | I22: 1350 | J22: =H22*I22 -> 6750 | K22: 6 | L22: 1250 | M22: =K22*L22 -> 7500 | N22: 7 | O22: 1250 | P22: =N22*O22 -> 8750 | Q22: 8 | R22: 1350 | S22: =Q22*R22 -> 10800 | T22: 10 | U22: 1350 | V22: =T22*U22 -> 13500
A23: Através de Operadores | B23: 120 | C23: 900 | D23: =B23*C23 -> 108000 | E23: 140 | F23: 900 | G23: =E23*F23 -> 126000 | H23: 160 | I23: 925 | J23: =H23*I23 -> 148000 | K23: 170 | L23: 925 | M23: =K23*L23 -> 157250 | N23: 200 | O23: 925 | P23: =N23*O23 -> 185000 | Q23: 240 | R23: 975 | S23: =Q23*R23 -> 234000 | T23: 260 | U23: 975 | V23: =T23*U23 -> 253500
A24: Vendas de Estadias Individuais
A25: Através da loja Ecommerce | B25: 100 | C25: 125 | D25: =B25*C25 -> 12500 | E25: 150 | F25: 125 | G25: =E25*F25 -> 18750 | H25: 180 | I25: 150 | J25: =H25*I25 -> 27000 | K25: 200 | L25: 150 | M25: =K25*L25 -> 30000 | N25: 225 | O25: 150 | P25: =N25*O25 -> 33750 | Q25: 250 | R25: 150 | S25: =Q25*R25 -> 37500 | T25: 300 | U25: 150 | V25: =T25*U25 -> 45000
A26: Ao Balcão | B26: 20 | C26: 150 | D26: =B26*C26 -> 3000 | E26: 25 | F26: 150 | G26: =E26*F26 -> 3750 | H26: 30 | I26: 175 | J26: =H26*I26 -> 5250 | K26: 35 | L26: 175 | M26: =K26*L26 -> 6125 | N26: 38 | O26: 175 | P26: =N26*O26 -> 6650 | Q26: 42 | R26: 175 | S26: =Q26*R26 -> 7350 | T26: 50 | U26: 175 | V26: =T26*U26 -> 8750
A27: Através de Operadores | B27: 200 | C27: 125 | D27: =B27*C27 -> 25000 | E27: 300 | F27: 125 | G27: =E27*F27 -> 37500 | H27: 360 | I27: 150 | J27: =H27*I27 -> 54000 | K27: 400 | L27: 150 | M27: =K27*L27 -> 60000 | N27: 450 | O27: 150 | P27: =N27*O27 -> 67500 | Q27: 500 | R27: 150 | S27: =Q27*R27 -> 75000 | T27: 600 | U27: 150 | V27: =T27*U27 -> 90000
A28: Vendas de jantares individuais
A29: Ao Balcão | B29: 250 | C29: 25 | D29: =B29*C29 -> 6250 | E29: 260 | F29: 25 | G29: =E29*F29 -> 6500 | H29: 270 | I29: 30 | J29: =H29*I29 -> 8100 | K29: 290 | L29: 30 | M29: =K29*L29 -> 8700 | N29: 300 | O29: 30 | P29: =N29*O29 -> 9000 | Q29: 310 | R29: 35 | S29: =Q29*R29 -> 10850 | T29: 325 | U29: 35 | V29: =T29*U29 -> 11375
A30: Vendas da produção própria de vinho " The Lethes Hotel" (em garrafas)
A31: A hóspedes | B31: 500 | C31: 5 | D31: =B31*C31 -> 2500 | E31: 500 | F31: 5 | G31: =E31*F31 -> 2500 | H31: 500 | I31: 6 | J31: =H31*I31 -> 3000 | K31: 500 | L31: 6 | M31: =K31*L31 -> 3000 | N31: 500 | O31: 6 | P31: =N31*O31 -> 3000 | Q31: 500 | R31: 6 | S31: =Q31*R31 -> 3000 | T31: 500 | U31: 6 | V31: =T31*U31 -> 3000
A32: Ao balcão | B32: 300 | C32: 7.5 | D32: =B32*C32 -> 2250 | E32: 300 | F32: 7.5 | G32: =E32*F32 -> 2250 | H32: 300 | I32: 8 | J32: =H32*I32 -> 2400 | K32: 300 | L32: 7.5 | M32: =K32*L32 -> 2250 | N32: 300 | O32: 7.5 | P32: =N32*O32 -> 2250 | Q32: 300 | R32: 7.5 | S32: =Q32*R32 -> 2250 | T32: 300 | U32: 7.5 | V32: =T32*U32 -> 2250
A33: Para lojas gourmet | B33: 1000 | C33: 4.75 | D33: =B33*C33 -> 4750 | E33: 1000 | F33: 4.75 | G33: =E33*F33 -> 4750 | H33: 1000 | I33: 5.75 | J33: =H33*I33 -> 5750 | K33: 1000 | L33: 5.5 | M33: =K33*L33 -> 5500 | N33: 1000 | O33: 5.5 | P33: =N33*O33 -> 5500 | Q33: 1000 | R33: 5.5 | S33: =Q33*R33 -> 5500 | T33: 1000 | U33: 5.5 | V33: =T33*U33 -> 5500
A34: Vendas da uva de qualidade não superior à adega cooperativa (em kgs) | B34: 40000 | C34: 0.25 | D34: =B34*C34 -> 10000 | E34: 40000 | F34: 0.25 | G34: =E34*F34 -> 10000 | H34: 40000 | I34: 0.25 | J34: =H34*I34 -> 10000 | K34: 40000 | L34: 0.25 | M34: =K34*L34 -> 10000 | N34: 40000 | O34: 0.25 | P34: =N34*O34 -> 10000 | Q34: 40000 | R34: 0.25 | S34: =Q34*R34 -> 10000 | T34: 40000 | U34: 0.25 | V34: =T34*U34 -> 10000
A35: Vendas de Bar / Cafetaria | D35: 2500 | G35: 2750 | J35: 3000 | M35: 3250 | P35: 3500 | S35: 4000 | V35: 4750
A36: Vendas Mini-Bar Quartos | D36: 500 | G36: 525 | J36: 550 | M36: 600 | P36: 650 | S36: 700 | V36: 800
A37: Diversos (serviços de lavandaria, telefone,fax, tabacos, etc) | D37: 3000 | G37: 3250 | J37: 3500 | M37: 3750 | P37: 4000 | S37: 4250 | V37: 4500
A38: TOTAIS | B38: =SUM(D5:D37) -> 840700 | E38: =SUM(G5:G37) -> 1068125 | H38: =SUM(J5:J37) -> 1258550 | K38: =SUM(M5:M37) -> 1540825 | N38: =SUM(P5:P37) -> 1719050 | Q38: =SUM(S5:S37) -> 2060850 | T38: =SUM(V5:V37) -> 2229750
A39: Vendas sujeitas a comissões | D39: =D7+D11+D15+D19+D23+D27 -> 519000 | G39: =G7+G11+G15+G19+G23+G27 -> 663500 | J39: =J7+J11+J15+J19+J23+J27 -> 778000 | M39: =M7+M11+M15+M19+M23+M27 -> 955750 | P39: =P7+P11+P15+P19+P23+P27 -> 1070300 | S39: =S7+S11+S15+S19+S23+S27 -> 1298500 | V39: =V7+V11+V15+V19+V23+V27 -> 1391350
A41: N.º de fees de golf a comprar duplos (duas pessoas) | B41: =B21+B23+B22 -> 183 | E41: =E21+E23+E22 -> 214 | H41: =H21+H23+H22 -> 245 | K41: =K21+K23+K22 -> 266 | N41: =N21+N23+N22 -> 307 | Q41: =Q21+Q23+Q22 -> 368 | T41: =T21+T23+T22 -> 400
...

Sheet Custos com Pessoal
A2: Função | B2: Quantidade | C2: Vencimento Bruto | D2: Vencimento Bruto anual | E2: Horário
A3: Cozinheiro | B3: 2 | C3: 800 | D3: =B3*C3*14 -> 22400 | E3: 7h-10h,17h-22h
A4: Ajudante cozinha | B4: 2 | C4: 500 | D4: =B4*C4*14 -> 14000 | E4: 7h-10h,17h-22h
A5: Copa/ Apoio geral | B5: 1 | C5: 500 | D5: =B5*C5*14 -> 7000 | E5: 8h-12h,18h-22h
A6: Serviço limpeza quartos | B6: 4 | C6: 500 | D6: =B6*C6*14 -> 28000 | E6: 8h-12h,18h-22h
A7: Recepção | B7: 4 | C7: 650 | D7: =B7*C7*14 -> 36400 | E7: 24h
A8: Restaurante | B8: 4 | C8: 650 | D8: =B8*C8*14 -> 36400 | E8: 7h-10h,17h-22h | F8: 1 Especialista em vinhos
A9: Secretariado | B9: 1 | C9: 600 | D9: =B9*C9*14 -> 8400 | E9: 9h-13h, 15h19h
A10: Gestão | B10: 1 | C10: 1000 | D10: =B10*C10*14 -> 14000 | E10: Isento
A11: Manutenção vinhas e animais | B11: 1 | C11: 500 | D11: =B11*C11*14 -> 7000 | E11: 8h-12h,14h-18h
A12: Relações Publicas | B12: 1 | C12: 600 | D12: =B12*C12*14 -> 8400 | E12: 9h-13h, 15h19h
A13: Manutenção piscina / Apoio geral | B13: 1 | C13: 600 | D13: =B13*C13*14 -> 8400 | E13: 9h-13h, 15h19h
C14: TOTAL | D14: =SUM(D3:D13) -> 190400
B16: Salários | C16: Enc. Seg. Social | D16: Seguro Acidentes de Trabalho | E16: Sub. Refeição | F16: Fardamento | G16: TOTAL
A17: Ano 1 | B17: 190400 | C17: =B17*0.2375 -> 45220 | D17: 2106 | E17: 29040 | F17: 1000 | G17: =B17+C17+D17+E17+F17 -> 267766
A18: Ano 2 | B18: =B17*1.05 -> 199920 | C18: =B18*0.2375 -> 47481 | D18: 2211.32 | E18: 29040 | F18: 1000 | G18: =B18+C18+D18+E18+F18 -> 279652.32
A19: Ano 3 | B19: =B18*1.05 -> 209916 | C19: =B19*0.2375 -> 49855.05 | D19: 2321.2 | E19: =E18*1.05 -> 30492 | F19: 1000 | G19: =B19+C19+D19+E19+F19 -> 293584.25
A20: Ano 4 | B20: =B19*1.05 -> 220411.8 | C20: =B20*0.2375 -> 52347.803 | D20: 2437 | E20: 30492 | F20: 1000 | G20: =B20+C20+D20+E20+F20 -> 306688.6
A21: Ano 5 | B21: =B20*1.05 -> 231432.39 | C21: =B21*0.2375 -> 54965.193 | D21: 2559.87 | E21: =E20*1.05 -> 32016.6 | F21: 1000 | G21: =B21+C21+D21+E21+F21 -> 321974.05
A22: Ano 6 | B22: =B21*1.05 -> 243004.01 | C22: =B22*0.2375 -> 57713.452 | D22: 2687 | E22: 32016.6 | F22: 1000 | G22: =B22+C22+D22+E22+F22 -> 336421.06
A23: Ano 7 | B23: =B22*1.05 -> 255154.21 | C23: =B23*0.2375 -> 60599.125 | D23: 2822 | E23: =E22*1.05 -> 33617.43 | F23: 1000 | G23: =B23+C23+D23+E23+F23 -> 353192.76
A26: Notas: não foram incluídos alguns benefícios fiscais com o pessoal, por exemplo, tx de seg. social reduzida nos primeiros anos, ou pagamento parcial do salário por parte do IEFP para contratação de desempregados, uma vez que existem sempre outros rendimentos para os funcionários (prémios, horas extra, etc) e outros custos (absentismo, baixas médicas), que não estão contemplados

Sheet Despesas Exploração
D1: Ano 1 | E1: Ano 2 | F1: Ano 3 | G1: Ano 4 | H1: Ano 5 | I1: Ano 6 | J1: Ano 7
A2: CONSUMO COMIDAS | B2: Eur | D2: =D3+D4+D5 -> 95900 | E2: =E3+E4+E5 -> 105490 | F2: =F3+F4+F5 -> 116039 | G2: =G3+G4+G5 -> 127642.9 | H2: =H3+H4+H5 -> 140407.19 | I2: =I3+I4+I5 -> 154447.91 | J2: =J3+J4+J5 -> 169892.7
A3: (+) Caf. Pequenos Almoços | B3: Eur | D3: 35000 | E3: =D3*1.1 -> 38500 | F3: =E3*1.1 -> 42350 | G3: =F3*1.1 -> 46585 | H3: =G3*1.1 -> 51243.5 | I3: =H3*1.1 -> 56367.85 | J3: =I3*1.1 -> 62004.635
A4: (+) Cozinha/Pastelaria | B4: Eur | D4: 60000 | E4: =D4*1.1 -> 66000 | F4: =E4*1.1 -> 72600 | G4: =F4*1.1 -> 79860 | H4: =G4*1.1 -> 87846 | I4: =H4*1.1 -> 96630.6 | J4: =I4*1.1 -> 106293.66
A5: (+) Bar Hotel | B5: Eur | D5: 900 | E5: =D5*1.1 -> 990 | F5: =E5*1.1 -> 1089 | G5: =F5*1.1 -> 1197.9 | H5: =G5*1.1 -> 1317.69 | I5: =H5*1.1 -> 1449.459 | J5: =I5*1.1 -> 1594.4049
A6: CONSUMO BEBIDAS | B6: Eur | D6: 15000 | E6: =E7+E8 -> 16500 | F6: =F7+F8 -> 18150 | G6: =G7+G8 -> 19965 | H6: =H7+H8 -> 21961.5 | I6: =I7+I8 -> 24157.65 | J6: =J7+J8 -> 26573.415
A7: (+) Cave | B7: Eur | D7: 12500 | E7: =D7*1.1 -> 13750 | F7: =E7*1.1 -> 15125 | G7: =F7*1.1 -> 16637.5 | H7: =G7*1.1 -> 18301.25 | I7: =H7*1.1 -> 20131.375 | J7: =I7*1.1 -> 22144.513
A8: (+) Bares / Cafetaria | B8: Eur | D8: 2500 | E8: =D8*1.1 -> 2750 | F8: =E8*1.1 -> 3025 | G8: =F8*1.1 -> 3327.5 | H8: =G8*1.1 -> 3660.25 | I8: =H8*1.1 -> 4026.275 | J8: =I8*1.1 -> 4428.9025
B9: TOTAL | D9: =D2+D6 -> 110900 | E9: =E2+E6 -> 121990 | F9: =F2+F6 -> 134189 | G9: =G2+G6 -> 147607.9 | H9: =H2+H6 -> 162368.69 | I9: =I2+I6 -> 178605.56 | J9: =J2+J6 -> 196466.11
D10: Custos de Variáveis de Produção
D11: Ano 1 | E11: Ano 2 | F11: Ano 3 | G11: Ano 4 | H11: Ano 5 | I11: Ano 6 | J11: Ano 7
A12: Subcontratos | B12: Eur | D12: =D13 -> 5250 | E12: =E13 -> 5512.5 | F12: =F13 -> 5788.125 | G12: =G13 -> 6077.5312 | H12: =H13 -> 6381.4078 | I12: =I13 -> 6700.4782 | J12: =J13 -> 7035.5021
A13: Subcontratação da vindima, produção, engarramento e rotulagem do Vinho "Lethes Hotel" (1,05€/garrafa) | B13: Eur | D13: =5000*1.05 -> 5250 | E13: =D13*1.05 -> 5512.5 | F13: =E13*1.05 -> 5788.125 | G13: =F13*1.05 -> 6077.5312 | H13: =G13*1.05 -> 6381.4078 | I13: =H13*1.05 -> 6700.4782 | J13: =I13*1.05 -> 7035.5021
A14: Autoconsumos | B14: Eur | D14: =D15 -> 6560 | E14: =E15 -> 6888 | F14: =F15 -> 7232.4 | G14: =G15 -> 7594.02 | H14: =H15 -> 7973.721 | I14: =I15 -> 8372.407 | J14: =J15 -> 8791.0274
A15: Autoconsumos do Vinho "The Lethes Hotel" | B15: Eur | D15: =(5000-1800)*2.05 -> 6560 | E15: =D15*1.05 -> 6888 | F15: =E15*1.05 -> 7232.4 | G15: =F15*1.05 -> 7594.02 | H15: =G15*1.05 -> 7973.721 | I15: =H15*1.05 -> 8372.407 | J15: =I15*1.05 -> 8791.0274
B16: TOTAL | D16: =D12+D14 -> 11810 | E16: =E12+E14 -> 12400.5 | F16: =F12+F14 -> 13020.525 | G16: =G12+G14 -> 13671.551 | H16: =H12+H14 -> 14355.129 | I16: =I12+I14 -> 15072.885 | J16: =J12+J14 -> 15826.53
D17: Custos de Produção Fixos
D18: Ano 1 | E18: Ano 2 | F18: Ano 3 | G18: Ano 4 | H18: Ano 5 | I18: Ano 6 | J18: Ano 7
A19: FSE | B19: Eur | D19: =SUM(D20:D34) -> 136131.96 | E19: =+SUM(E20:E34) -> 109401.6 | F19: =+SUM(F20:F34) -> 118437.58 | G19: =+SUM(G20:G34) -> 128313.64 | H19: =+SUM(H20:H34) -> 139110.74 | I19: =+SUM(I20:I34) -> 150917.8 | J19: =+SUM(J20:J34) -> 163832.46
A20: Subcontratos | B20: Eur | D20: 1000 | E20: =D20*1.05 -> 1050 | F20: =E20*1.05 -> 1102.5 | G20: =F20*1.05 -> 1157.625 | H20: =G20*1.05 -> 1215.5063 | I20: =H20*1.05 -> 1276.2816 | J20: =I20*1.05 -> 1340.0956
A21: Electricidade | B21: Eur | D21: 22500 | E21: =D21*1.1 -> 24750 | F21: =E21*1.1 -> 27225 | G21: =F21*1.1 -> 29947.5 | H21: =G21*1.1 -> 32942.25 | I21: =H21*1.1 -> 36236.475 | J21: =I21*1.1 -> 39860.123
A22: Água | B22: Eur | D22: 2500 | E22: =D22*1.1 -> 2750 | F22: =E22*1.1 -> 3025 | G22: =F22*1.1 -> 3327.5 | H22: =G22*1.1 -> 3660.25 | I22: =H22*1.1 -> 4026.275 | J22: =I22*1.1 -> 4428.9025
A23: Combustíveis | B23: Eur | D23: 20000 | E23: =D23*1.1 -> 22000 | F23: =E23*1.1 -> 24200 | G23: =F23*1.1 -> 26620 | H23: =G23*1.1 -> 29282 | I23: =H23*1.1 -> 32210.2 | J23: =I23*1.1 -> 35431.22
A24: Conservação e Reparaçao | B24: Eur | D24: 12000 | E24: =D24*1.05 -> 12600 | F24: =E24*1.05 -> 13230 | G24: =F24*1.05 -> 13891.5 | H24: =G24*1.05 -> 14586.075 | I24: =H24*1.05 -> 15315.379 | J24: =I24*1.05 -> 16081.148
A25: Comunicação | B25: Eur | D25: 3000 | E25: =D25*1.05 -> 3150 | F25: =E25*1.05 -> 3307.5 | G25: =F25*1.05 -> 3472.875 | H25: =G25*1.05 -> 3646.5188 | I25: =H25*1.05 -> 3828.8447 | J25: =I25*1.05 -> 4020.2869
A26: Deslocações / Desp. Rep. | B26: Eur | D26: 2000 | E26: =D26*1.05 -> 2100 | F26: =E26*1.05 -> 2205 | G26: =F26*1.05 -> 2315.25 | H26: =G26*1.05 -> 2431.0125 | I26: =H26*1.05 -> 2552.5631 | J26: =I26*1.05 -> 2680.1913
A27: Honorários | B27: Eur | D27: 2500 | E27: =D27*1.05 -> 2625 | F27: =E27*1.05 -> 2756.25 | G27: =F27*1.05 -> 2894.0625 | H27: =G27*1.05 -> 3038.7656 | I27: =H27*1.05 -> 3190.7039 | J27: =I27*1.05 -> 3350.2391
A28: Ferramentas e Utensilios | B28: Eur | D28: 5000 | E28: =D28*1.1 -> 5500 | F28: =E28*1.1 -> 6050 | G28: =F28*1.1 -> 6655 | H28: =G28*1.1 -> 7320.5 | I28: =H28*1.1 -> 8052.55 | J28: =I28*1.1 -> 8857.805
A29: Publicidade e Propaganda | B29: Eur | D29: 40000 | E29: 5000 | F29: 5000 | G29: 5000 | H29: 5000 | I29: 5000 | J29: 5000
A30: Limpeza Higiene e Conforto | B30: Eur | D30: 10900 | E30: =D30*1.1 -> 11990 | F30: =E30*1.1 -> 13189 | G30: =F30*1.1 -> 14507.9 | H30: =G30*1.1 -> 15958.69 | I30: =H30*1.1 -> 17554.559 | J30: =I30*1.1 -> 19310.015
A31: Animação / Decoração | B31: Eur | D31: 10000 | E31: =D31*1.1 -> 11000 | F31: =E31*1.1 -> 12100 | G31: =F31*1.1 -> 13310 | H31: =G31*1.1 -> 14641 | I31: =H31*1.1 -> 16105.1 | J31: =I31*1.1 -> 17715.61
A32: Seguros (Multiriscos + automóvel) | B32: Eur | D32: 2731.96 | E32: =D32*1.02 -> 2786.5992 | F32: =E32*1.02 -> 2842.3312 | G32: =F32*1.02 -> 2899.1778 | H32: =G32*1.02 -> 2957.1614 | I32: =H32*1.02 -> 3016.3046 | J32: =I32*1.02 -> 3076.6307
A33: Material de Escritório | B33: Eur | D33: 1500 | E33: =D33*1.05 -> 1575 | F33: =E33*1.05 -> 1653.75 | G33: =F33*1.05 -> 1736.4375 | H33: =G33*1.05 -> 1823.2594 | I33: =H33*1.05 -> 1914.4223 | J33: =I33*1.05 -> 2010.1435
A34: Outros | B34: Eur | D34: 500 | E34: =D34*1.05 -> 525 | F34: =E34*1.05 -> 551.25 | G34: =F34*1.05 -> 578.8125 | H34: =G34*1.05 -> 607.75313 | I34: =H34*1.05 -> 638.14078 | J34: =I34*1.05 -> 670.04782
A35: Impostos | B35: Eur | D35: =D36 -> 10000 | E35: =E36 -> 10000 | F35: =F36 -> 10000 | G35: =G36 -> 10000 | H35: =H36 -> 10000 | I35: =I36 -> 10000 | J35: =J36 -> 10000
A36: Licenças de Exploração + Taxas | B36: Eur | D36: 10000 | E36: 10000 | F36: 10000 | G36: 10000 | H36: 10000 | I36: 10000 | J36: 10000
B37: TOTAL | D37: =D19+D35 -> 146131.96 | E37: =E19+E35 -> 119401.6 | F37: =F19+F35 -> 128437.58 | G37: =G19+G35 -> 138313.64 | H37: =H19+H35 -> 149110.74 | I37: =I19+I35 -> 160917.8 | J37: =J19+J35 -> 173832.46
A40: Notas: Estes custos, consumos e FSE foram estimados a partir de um orçamento de exploração de um hotel em pleno funcionamento com caracteríticas muito semelhantes, em dimensão e em valor, ao do projecto The Lethes Hotel

Sheet Financiamento
A1: Necessidades Tesouria
A2: Investimento (Fixo + Capital Circulante) | B2: ='Cash Flow do Projecto'!B5-'Cash Flow do Projecto'!C6 -> 2296180.9 | D2: N= | E2: 10 anos
A3: Capital Próprio | B3: 1500000 | D3: i= | E3: 0.03
A4: Reservas | B4: =B3*0.2 -> 300000
A5: TOTAL a solicitar | B5: =B2-(B3-B4) -> 1096180.9
B7: Quadro financeiro
B8: Termo N.º | C8: Débito Contrato | D8: Termo | G8: Imposto selo | H8: Montante Reembolso | I8: Encargos Financiamento
D9: Amortização | E9: Juro | F9: Valor
B10: 0 | C10: 1096180.9 | D10: 0 | E10: 0 | F10: 0 | G10: 0 | H10: 0 | I10: 0
B11: 1 | C11: =C10-D11 -> 1000560.5 | D11: =F11-E11 -> 95620.412 | E11: =C10*0.03 -> 32885.428 | F11: 128505.84 | G11: =E11*0.04 -> 1315.4171 | H11: =D11+E11+G11 -> 129821.26 | I11: =E11+G11 -> 34200.845
B12: 2 | C12: =C11-D12 -> 902071.48 | D12: =F12-E12 -> 98489.025 | E12: =C11*0.03 -> 30016.815 | F12: 128505.84 | G12: =E12*0.04 -> 1200.6726 | H12: =D12+E12+G12 -> 129706.51 | I12: =E12+G12 -> 31217.488
B13: 3 | C13: =C12-D13 -> 800627.79 | D13: =F13-E13 -> 101443.7 | E13: =C12*0.03 -> 27062.144 | F13: 128505.84 | G13: =E13*0.04 -> 1082.4858 | H13: =D13+E13+G13 -> 129588.33 | I13: =E13+G13 -> 28144.63
B14: 4 | C14: =C13-D14 -> 696140.78 | D14: =F14-E14 -> 104487.01 | E14: =C13*0.03 -> 24018.834 | F14: 128505.84 | G14: =E14*0.04 -> 960.75334 | H14: =D14+E14+G14 -> 129466.59 | I14: =E14+G14 -> 24979.587
B15: 5 | C15: =C14-D15 -> 588519.16 | D15: =F15-E15 -> 107621.62 | E15: =C14*0.03 -> 20884.223 | F15: 128505.84 | G15: =E15*0.04 -> 835.36894 | H15: =D15+E15+G15 -> 129341.21 | I15: =E15+G15 -> 21719.592
B16: 6 | C16: =C15-D16 -> 477668.9 | D16: =F16-E16 -> 110850.27 | E16: =C15*0.03 -> 17655.575 | F16: 128505.84 | G16: =E16*0.04 -> 706.223 | H16: =D16+E16+G16 -> 129212.06 | I16: =E16+G16 -> 18361.798
B17: 7 | C17: =C16-D17 -> 363493.13 | D17: =F17-E17 -> 114175.77 | E17: =C16*0.03 -> 14330.067 | F17: 128505.84 | G17: =E17*0.04 -> 573.20268 | H17: =D17+E17+G17 -> 129079.04 | I17: =E17+G17 -> 14903.27
B18: 8 | C18: =C17-D18 -> 245892.08 | D18: =F18-E18 -> 117601.05 | E18: =C17*0.03 -> 10904.794 | F18: 128505.84 | G18: =E18*0.04 -> 436.19175 | H18: =D18+E18+G18 -> 128942.03 | I18: =E18+G18 -> 11340.986
B19: 9 | C19: =C18-D19 -> 124763 | D19: =F19-E19 -> 121129.08 | E19: =C18*0.03 -> 7376.7624 | F19: 128505.84 | G19: =E19*0.04 -> 295.0705 | H19: =D19+E19+G19 -> 128800.91 | I19: =E19+G19 -> 7671.8329
B20: 10 | C20: =C19-D20 -> 0.052533341 | D20: =F20-E20 -> 124762.95 | E20: =C19*0.03 -> 3742.8901 | F20: 128505.84 | G20: =E20*0.04 -> 149.7156 | H20: =D20+E20+G20 -> 128655.56 | I20: =E20+G20 -> 3892.6057
A23: Notas: Poderíamos ter optado por um financiamento QREN e, caso se verificasse os valores apresentados no projecto (VAL, PR e TIR) a partir do 5.º ano seria extinto o empréstimo, isto é, seria contemplado o financiamento como fundo perdido. Contudo achamos que um projecto deve ter "resistência" suficiente para remunerar um empréstimo bancário. Caso só se apoiásse em subsídios, seria um projecto destinado ao fracasso no longo prazo

Sheet ICC
B2: Investimento Capital Circulante
C4: Stock Segurança | D4: Reserva de Caixa | E4: Receitas | F4: PMR | G4: Pagamentos | H4: PMP | I4: ICC
B5: Ano 1 | C5: 12000 | D5: 5000 | E5: ='Cash Flow do Projecto'!E6 -> 840700 | F5: =E5*((360-$C$17)/360) -> 817347.22 | G5: =I23 -> 547094.01 | H5: =G5*((360-$C$18)/360) -> 478707.26 | I5: =C5+D5+F5-H5 -> 355639.96
B6: Ano 2 | C6: 0 | D6: 0 | E6: ='Cash Flow do Projecto'!E7 -> 1068125 | F6: =E6*((360-$C$17)/360) -> 1038454.9 | G6: ='Cash Flow do Projecto'!F7 -> 689363.03 | H6: =G6*((360-$C$18)/360) -> 603192.65 | I6: =C6+D6+F6-H6 -> 435262.21
B7: Ano 3 | C7: 0 | D7: 0 | E7: ='Cash Flow do Projecto'!E8 -> 1258550 | F7: =E7*((360-$C$17)/360) -> 1223590.3 | G7: ='Cash Flow do Projecto'!F8 -> 761884.81 | H7: =G7*((360-$C$18)/360) -> 666649.21 | I7: =C7+D7+F7-H7 -> 556941.07
B8: Ano 4 | C8: 0 | D8: 0 | E8: ='Cash Flow do Projecto'!E9 -> 1540825 | F8: =E8*((360-$C$17)/360) -> 1498024.3 | G8: ='Cash Flow do Projecto'!F9 -> 853638.52 | H8: =G8*((360-$C$18)/360) -> 746933.7 | I8: =C8+D8+F8-H8 -> 751090.6
B9: Ano 5 | C9: 0 | D9: 0 | E9: ='Cash Flow do Projecto'!E10 -> 1719050 | F9: =E9*((360-$C$17)/360) -> 1671298.6 | G9: ='Cash Flow do Projecto'!F10 -> 916751.66 | H9: =G9*((360-$C$18)/360) -> 802157.7 | I9: =C9+D9+F9-H9 -> 869140.91
B10: Ano 6 | C10: 0 | D10: 0 | E10: ='Cash Flow do Projecto'!E11 -> 2060850 | F10: =E10*((360-$C$17)/360) -> 2003604.2 | G10: ='Cash Flow do Projecto'!F11 -> 1082709.3 | H10: =G10*((360-$C$18)/360) -> 947370.64 | I10: =C10+D10+F10-H10 -> 1056233.5
B11: Ano 7 | C11: 0 | D11: 0 | E11: ='Cash Flow do Projecto'!E12 -> 2229750 | F11: =E11*((360-$C$17)/360) -> 2167812.5 | G11: ='Cash Flow do Projecto'!F12 -> 1180688.4 | H11: =G11*((360-$C$18)/360) -> 1033102.4 | I11: =C11+D11+F11-H11 -> 1134710.1
H12: ICC7 - ICC6 | I12: =I10-I11 -> -78476.58
H13: Valor Resídual | I13: -17500
H14: V. Residual líquido do investimento em capital circulante | I14: =I12-I13 -> -60976.58
B15: ICC=ss+R.Caixa+PMR-PMP
B17: PMR (dias) | C17: 10 | D17: Neste negócio recebe-se quase sempre a pronto (por vezes antecipadamente). Efectuaram-se excepções às vendas a operadores que se recebe a 30 dias, à venda das uvas às adegas cooperativas e às vendas de vinho para loja gourmet
B18: PMP (dias) | C18: 45
B22: Pagamentos | C22: Pessoal | D22: FSE+IVA | E22: Fees Golfe | F22: Comissões | G22: Mat. Consumos | H22: Subcontratos | I22: TOTAL
B23: Ano 1 | C23: ='Custos com Pessoal'!G17 -> 267766 | D23: =DRLP!K6*1.13 -> 165129.11 | E23: =DRLP!C6*1.06 -> 10668.9 | F23: =DRLP!D6 -> 90825 | G23: =DRLP!G6*1.21 -> 6352.5 | H23: =DRLP!G6*1.21 -> 6352.5 | I23: =C23+D23+E23+F23+G23+H23 -> 547094.01
B24: Ano 2 | C24: ='Custos com Pessoal'!G18 -> 279652.32 | D24: =DRLP!K7*1.13 -> 134923.81 | E24: =DRLP!C7*1.06 -> 12476.2 | F24: =DRLP!D7 -> 116112.5 | G24: =DRLP!G7*1.21 -> 6670.125 | H24: =DRLP!G7*1.21 -> 6670.125 | I24: =C24+D24+E24+F24+G24+H24 -> 556505.08
B25: Ano 3 | C25: ='Custos com Pessoal'!G19 -> 293584.25 | D25: =DRLP!K8*1.13 -> 145134.47 | E25: =DRLP!C8*1.06 -> 15582 | F25: =DRLP!D8 -> 136150 | G25: =DRLP!G8*1.21 -> 7003.6312 | H25: =DRLP!G8*1.21 -> 7003.6312 | I25: =C25+D25+E25+F25+G25+H25 -> 604457.98
B26: Ano 4 | C26: ='Custos com Pessoal'!G20 -> 306688.6 | D26: =DRLP!K9*1.13 -> 156294.41 | E26: =DRLP!C9*1.06 -> 16917.6 | F26: =DRLP!D9 -> 167256.25 | G26: =DRLP!G9*1.21 -> 7353.8128 | H26: =DRLP!G9*1.21 -> 7353.8128 | I26: =C26+D26+E26+F26+G26+H26 -> 661864.49
B27: Ano 5 | C27: ='Custos com Pessoal'!G21 -> 321974.05 | D27: =DRLP!K10*1.13 -> 168495.14 | E27: =DRLP!C10*1.06 -> 19525.2 | F27: =DRLP!D10 -> 187302.5 | G27: =DRLP!G10*1.21 -> 7721.5035 | H27: =DRLP!G10*1.21 -> 7721.5035 | I27: =C27+D27+E27+F27+G27+H27 -> 712739.9
B28: Ano 6 | C28: ='Custos com Pessoal'!G22 -> 336421.06 | D28: =DRLP!K11*1.13 -> 181837.11 | E28: =DRLP!C11*1.06 -> 23404.8 | F28: =DRLP!D11 -> 227237.5 | G28: =DRLP!G11*1.21 -> 8107.5786 | H28: =DRLP!G11*1.21 -> 8107.5786 | I28: =C28+D28+E28+F28+G28+H28 -> 785115.63
B29: Ano 7 | C29: ='Custos com Pessoal'!G23 -> 353192.76 | D29: =DRLP!K12*1.13 -> 196430.68 | E29: =DRLP!C12*1.06 -> 27560 | F29: =DRLP!D12 -> 243486.25 | G29: =DRLP!G12*1.21 -> 8512.9576 | H29: =DRLP!G12*1.21 -> 8512.9576 | I29: =C29+D29+E29+F29+G29+H29 -> 837695.61

Sheet DRLP
I2: Demonstração Resultados Liquidos Previsional (DRLP)
A4: Ano | B4: Vendas | C4: Custos Comerciais Variáveis | F4: Custos Variáveis Produção | J4: Custos Fixos | M4: EBITDA | N4: Amortizações | O4: C. Financeiros | P4: RAI | Q4: Imposto* | R4: R.L.E.
C5: Fees Golfe | D5: Comissões | E5: Total | F5: Consumos | G5: Subcontratos | H5: Autoconsumos | I5: Total | J5: Pessoal | K5: FSE + Impostos | L5: Total
A6: 1 | B6: ='Receitas Exploração'!B38:D38 -> 840700 | C6: ='Receitas Exploração'!B43 -> 10065 | D6: ='Receitas Exploração'!D39*0.175 -> 90825 | E6: =C6+D6 -> 100890 | F6: ='Despesas Exploração'!D9 -> 110900 | G6: ='Despesas Exploração'!D12 -> 5250 | H6: ='Despesas Exploração'!D14 -> 6560 | I6: =F6++G6+H6 -> 122710 | J6: ='Custos com Pessoal'!G17 -> 267766 | K6: ='Despesas Exploração'!D37 -> 146131.96 | L6: =J6+K6 -> 413897.96 | M6: =B6-D6-I6-L6 -> 213267.04 | N6: =Amortizações!K3 -> 106989.46 | O6: =Financiamento!I11 -> 34200.845 | P6: =M6-N6-O6 -> 72076.735 | Q6: 0 | R6: =P6-Q6 -> 72076.735
A7: 2 | B7: ='Receitas Exploração'!E38 -> 1068125 | C7: ='Receitas Exploração'!E43 -> 11770 | D7: ='Receitas Exploração'!G39*0.175 -> 116112.5 | E7: =C7+D7 -> 127882.5 | F7: ='Despesas Exploração'!E9 -> 121990 | G7: =G6*1.05 -> 5512.5 | H7: =H6*1.05 -> 6888 | I7: =F7++G7+H7 -> 134390.5 | J7: ='Custos com Pessoal'!G18 -> 279652.32 | K7: ='Despesas Exploração'!E37 -> 119401.6 | L7: =J7+K7 -> 399053.92 | M7: =B7-D7-I7-L7 -> 418568.08 | N7: =Amortizações!K4 -> 106989.46 | O7: =Financiamento!I12 -> 31217.488 | P7: =M7-N7-O7 -> 280361.13 | Q7: =P7*0.1 -> 28036.113 | R7: =P7-Q7 -> 252325.02
A8: 3 | B8: ='Receitas Exploração'!H38 -> 1258550 | C8: ='Receitas Exploração'!H43 -> 14700 | D8: ='Receitas Exploração'!J39*0.175 -> 136150 | E8: =C8+D8 -> 150850 | F8: ='Despesas Exploração'!F9 -> 134189 | G8: =G7*1.05 -> 5788.125 | H8: =H7*1.05 -> 7232.4 | I8: =F8++G8+H8 -> 147209.52 | J8: ='Custos com Pessoal'!G19 -> 293584.25 | K8: ='Despesas Exploração'!F37 -> 128437.58 | L8: =J8+K8 -> 422021.83 | M8: =B8-D8-I8-L8 -> 553168.64 | N8: =Amortizações!K5 -> 106989.46 | O8: =Financiamento!I13 -> 28144.63 | P8: =M8-N8-O8 -> 418034.55 | Q8: =P8*0.1 -> 41803.455 | R8: =P8-Q8 -> 376231.1
A9: 4 | B9: ='Receitas Exploração'!K38 -> 1540825 | C9: ='Receitas Exploração'!K43 -> 15960 | D9: ='Receitas Exploração'!M39*0.175 -> 167256.25 | E9: =C9+D9 -> 183216.25 | F9: ='Despesas Exploração'!G9 -> 147607.9 | G9: =G8*1.05 -> 6077.5312 | H9: =H8*1.05 -> 7594.02 | I9: =F9++G9+H9 -> 161279.45 | J9: ='Custos com Pessoal'!G20 -> 306688.6 | K9: ='Despesas Exploração'!G37 -> 138313.64 | L9: =J9+K9 -> 445002.24 | M9: =B9-D9-I9-L9 -> 767287.06 | N9: =Amortizações!K6 -> 100901.73 | O9: =Financiamento!I14 -> 24979.587 | P9: =M9-N9-O9 -> 641405.74 | Q9: =P9*0.1 -> 64140.574 | R9: =P9-Q9 -> 577265.17
A10: 5 | B10: ='Receitas Exploração'!N38 -> 1719050 | C10: ='Receitas Exploração'!N43 -> 18420 | D10: ='Receitas Exploração'!P39*0.175 -> 187302.5 | E10: =C10+D10 -> 205722.5 | F10: ='Despesas Exploração'!G9 -> 147607.9 | G10: =G9*1.05 -> 6381.4078 | H10: =H9*1.05 -> 7973.721 | I10: =F10++G10+H10 -> 161963.03 | J10: ='Custos com Pessoal'!G21 -> 321974.05 | K10: ='Despesas Exploração'!H37 -> 149110.74 | L10: =J10+K10 -> 471084.79 | M10: =B10-D10-I10-L10 -> 898699.68 | N10: =Amortizações!K7 -> 97166.718 | O10: =Financiamento!I15 -> 21719.592 | P10: =M10-N10-O10 -> 779813.37 | Q10: =P10*0.1 -> 77981.337 | R10: =P10-Q10 -> 701832.03
A11: 6 | B11: ='Receitas Exploração'!Q38 -> 2060850 | C11: ='Receitas Exploração'!Q43 -> 22080 | D11: ='Receitas Exploração'!S39*0.175 -> 227237.5 | E11: =C11+D11 -> 249317.5 | F11: ='Despesas Exploração'!H9 -> 162368.69 | G11: =G10*1.05 -> 6700.4782 | H11: =H10*1.05 -> 8372.407 | I11: =F11++G11+H11 -> 177441.58 | J11: ='Custos com Pessoal'!G22 -> 336421.06 | K11: ='Despesas Exploração'!I37 -> 160917.8 | L11: =J11+K11 -> 497338.86 | M11: =B11-D11-I11-L11 -> 1158832.1 | N11: =Amortizações!K8 -> 83061.168 | O11: =Financiamento!I16 -> 18361.798 | P11: =M11-N11-O11 -> 1057409.1 | Q11: =P11*0.15 -> 158611.36 | R11: =P11-Q11 -> 898797.73
A12: 7 | B12: ='Receitas Exploração'!T38 -> 2229750 | C12: ='Receitas Exploração'!T43 -> 26000 | D12: ='Receitas Exploração'!V39*0.175 -> 243486.25 | E12: =C12+D12 -> 269486.25 | F12: ='Despesas Exploração'!J9 -> 196466.11 | G12: =G11*1.05 -> 7035.5021 | H12: =H11*1.05 -> 8791.0274 | I12: =F12++G12+H12 -> 212292.64 | J12: ='Custos com Pessoal'!G23 -> 353192.76 | K12: ='Despesas Exploração'!J37 -> 173832.46 | L12: =J12+K12 -> 527025.22 | M12: =B12-D12-I12-L12 -> 1246945.9 | N12: =Amortizações!K9 -> 86147.075 | O12: =Financiamento!I17 -> 14903.27 | P12: =M12-N12-O12 -> 1145895.5 | Q12: =P12*0.15 -> 171884.33 | R12: =P12-Q12 -> 974011.21
F14: Notas: não foram incluidos benefícios fiscais como por exemplo, a majoração de 30 % das amortizações, após RLE, para apurar o impostoa pagar. Foi incluído o benefício de 10% de IRC para as zonas
D15: DRLP | F15: de interioridade, nos 1.ºs cinco anos e, e 15% nos restantes anos por se situar no concelho de Ponte de Lima
D17: Vendas | L17: Cash-Cost= | M17: C.V.Comerciais
D18: C.V.Comerciais | E18: (comissões,desconto clientes) | M18: C.V.Produção
D19: Margem Bruta | M19: C.Fixos
D20: C.V.Produção | E20: (M.primas,M.Subsidiárias,M.Consumo) | L20: Cash Cost
D21: M. Contribuição | L21: Ano 1 | M21: =E6+I6+L6 -> 637497.96
D22: C.Fixos | E22: (Pessoal, outros custos) | L22: Ano 2 | M22: =E7+I7+L7 -> 661326.92
D23: EBITDA | L23: Ano 3 | M23: =E8+I8+L8 -> 720081.36
D24: Amortizações | L24: Ano 4 | M24: =E9+I9+L9 -> 789497.94
D25: Provisões | L25: Ano 5 | M25: =E10+I10+L10 -> 838770.32
D26: EBIT | L26: Ano 6 | M26: =E11+I11+L11 -> 924097.94
D27: C. Financeiros | L27: Ano 7 | M27: =E12+I12+L12 -> 1008804.1
D28: RAI
D29: Impostos
D30: R.L.E.

Sheet Cash Flow do Projecto
B2: Investimento | E2: Exploração | H2: Cash Flow do Projecto
A3: Ano | B3: C. Fixo | C3: C. Circulante | D3: Total | E3: Receitas | F3: Despesas | G3: C.F.Exploração | H3: C.F.Projecto | I3: (1+i)^(-n) | J3: C.F.P. Actualizado | K3: C.F.P.A.Acumulado
B4: A | C4: B | D4: A-B | E4: C | F4: D+E | G4: C-(D+E)
A5: 0 | B5: =Investimento!B24 -> 2651820.9 | C5: 0 | D5: =B5-C5 -> 2651820.9 | H5: =G5-D5 -> -2651820.9 | I5: =(1+0.05)^0 -> 1 | J5: =H5*I5 -> -2651820.9
A6: 1 | B6: 0 | C6: =ICC!I5 -> 355639.96 | D6: =B6-C6 -> -355639.96 | E6: =DRLP!B6 -> 840700 | F6: =DRLP!M21+DRLP!Q6 -> 637497.96 | G6: =E6-F6 -> 203202.04 | H6: =G6-D6 -> 558842 | I6: =(1.05)^-1 -> 0.95238095 | J6: =H6*I6 -> 532230.48 | K6: =J5+J6 -> -2119590.4
A7: 2 | B7: =Investimento!C24 -> 0 | C7: =ICC!I6-ICC!I5 -> 79622.248 | D7: =B7-C7 -> -79622.248 | E7: =DRLP!B7 -> 1068125 | F7: =DRLP!M22+DRLP!Q7 -> 689363.03 | G7: =E7-F7 -> 378761.97 | H7: =G7-D7 -> 458384.22 | I7: =(1.05)^-2 -> 0.90702948 | J7: =H7*I7 -> 415768 | K7: =K6+J7 -> -1703822.4
A8: 3 | B8: =Investimento!D24 -> 0 | C8: =ICC!I7-ICC!I6 -> 121678.86 | D8: =B8-C8 -> -121678.86 | E8: =DRLP!B8 -> 1258550 | F8: =DRLP!M23+DRLP!Q8 -> 761884.81 | G8: =E8-F8 -> 496665.19 | H8: =G8-D8 -> 618344.05 | I8: =(1.05)^-3 -> 0.8638376 | J8: =H8*I8 -> 534148.84 | K8: =K7+J8 -> -1169673.6
A9: 4 | B9: =Investimento!F24 -> 25864.8 | C9: =ICC!I8-ICC!I7 -> 194149.53 | D9: =B9-C9 -> -168284.73 | E9: =DRLP!B9 -> 1540825 | F9: =DRLP!M24+DRLP!Q9 -> 853638.52 | G9: =E9-F9 -> 687186.48 | H9: =G9-D9 -> 855471.22 | I9: =(1.05)^-4 -> 0.82270247 | J9: =H9*I9 -> 703798.29 | K9: =K8+J9 -> -465875.28
A10: 5 | B10: =Investimento!G24 -> 44538.733 | C10: =ICC!I9-ICC!I8 -> 118050.31 | D10: =B10-C10 -> -73511.573 | E10: =DRLP!B10 -> 1719050 | F10: =DRLP!M25+DRLP!Q10 -> 916751.66 | G10: =E10-F10 -> 802298.34 | H10: =G10-D10 -> 875809.91 | I10: =(1.05)^-5 -> 0.78352617 | J10: =H10*I10 -> 686219.98 | K10: =K9+J10 -> 220344.7
A11: 6 | B11: =Investimento!H24 -> 38243.8 | C11: =ICC!I10-ICC!I9 -> 187092.62 | D11: =B11-C11 -> -148848.82 | E11: =DRLP!B11 -> 2060850 | F11: =DRLP!M26+DRLP!Q11 -> 1082709.3 | G11: =E11-F11 -> 978140.7 | H11: =G11-D11 -> 1126989.5 | I11: =(1.05)^-6 -> 0.7462154 | J11: =H11*I11 -> 840976.93 | K11: =K10+J11 -> 1061321.6
A12: 7 | B12: =Investimento!I27 -> -3962710.8 | C12: =ICC!I14 -> -60976.58 | D12: =B12+C12 -> -4023687.4 | E12: =DRLP!B12 -> 2229750 | F12: =DRLP!M27+DRLP!Q12 -> 1180688.4 | G12: =E12-F12 -> 1049061.6 | H12: =G12-D12 -> 5072748.9 | I12: =(1.05)^-7 -> 0.71068133 | J12: =H12*I12 -> 3605108 | K12: =K11+J12 -> 4666429.6
I13: VAL | J13: =SUM(J5:J12) -> 4666429.6
J15: Taxa de Desconto
C16: Notas: | J16: Tx Inflação | K16: 0.01
C17: B | E17: C | F17: D | J17: Spread Mercado | K17: 0.01
C18: ICC= ss+PMR-PMP | E18: Vendas | F18: Cash-Cost: | G18: CV Comerciais | J18: Prémio s/ risco | K18: =K16+K17 -> 0.02
G19: CV Produção | J19: Prémio de risco | K19: 0.03
A20: Import. | B20: Ano 2 | C20: ICC2-ICC1 | G20: C. Fixos | J20: VAL | K20: =K18+K19 -> 0.05
B21: Ano 3 | C21: ICC3-ICC2 | F21: mais
B22: Ano 4 | C22: ICC4-ICC3 | F22: E
C23: etc. | F23: Impostos
J24: Val | K24: =J13 -> 4666429.6
J25: TIR | K25: =IRR(J5:J12) -> 0.2282436
J26: PR | K26: 4 anos 8 meses
J28: PR
I29: meses | J29: 4 anos
I30: 12 | J30: 684741
J31: 475210
J32: =I30*J31/J30 -> 8.3279955
