Workbook

Sheet ÍNDICE
A1: INDÍCE DO FICHEIRO
A2: Nome da Folha | B2: Descrição
A3: Tabelas IRT | B3: Na folha “Tabela IRT” actualize anualmente com os dados das Tabelas de Retenção de IRT que são publicadas
A4: Actualizações | B4: Na folha “Actualizações” actualize anualmente com os dados referentes as actualizações dos Subsidios
A5: Tipo de Remunerações | B5: Na folha “Tipo de Remunerações” actualize de acordo com a actualização da fiscalidade
A6: Outras Tabelas | B6: Na folha “Outras Tabelas-calendário” contém o calendário anual com os feriados. Actualize os dados do calendário para o ano em questão, não esqueçenco os feriados
A7: Ficha Funcionário | B7: Contém todos os dados necessários ao processamento de salário, bem como para controlo interno. Esta ficha "alimenta" a folha "Ficha de Funci e processa". Foi criada como formulário, só os campos editáveis são possíveis de utilizar.
A8: Processamento salários | B8: Na folha “Ficha de Funci e processa” coloque a informação referente a cada funcionário, pois todos os campos são essenciais para o cálculo do processamento de salários
A9: Recibo Func. | B9: Recibo do funcionário está automatizado com o processamento de salários, o único campo em que pode mexer é no N.º de funcionário (M5), em que basta inserir o nº do funcionário para que os dados do recibo se alterem. Sai sempre 1 original e 1 suplicado. Se detectar algum erro no recibo terá de verificar os dados que inseriu na Ficha de funcionário e na Ficha de funci e processamento.
A10: Dec.Ret.IRT | B10: Declaração de Retenção de IRT de Trabalhadores Dependentes (apenas para consulta)
A12: IMPORTANTE: | B12: SÓ ESTARÃO DISPONÍVEIS AS CÉLULAS QUE TERÁ/PODERÁ DE INSERIR DADOS.

Sheet Tabela IRT
A5: TABELAS DE RETENÇÃO NA FONTE
A9: RENDIMENTO | C9: IMPOSTO
A10: DE | B10: a | C10: Excesso | D10: % | E10: Parc.Fixa
A11: 0 | B11: 25000.99 | C11: 0 | D11: 0 | E11: 0
A12: 25001 | B12: 30000.99 | C12: 25000 | D12: 0.05 | E12: 0
A13: 30001 | B13: 35000.99 | C13: 30000 | D13: 0.06 | E13: 250
A14: 35001 | B14: 40000.99 | C14: 35000 | D14: 0.07 | E14: 550
A15: 40001 | B15: 45000.99 | C15: 40000 | D15: 0.08 | E15: 900
A16: 45001 | B16: 50000.99 | C16: 45000 | D16: 0.09 | E16: 1300
A17: 50001 | B17: 70000.99 | C17: 50000 | D17: 0.1 | E17: 1750
A18: 70001 | B18: 90000.99 | C18: 70000 | D18: 0.11 | E18: 3750
A19: 90001 | B19: 110000.99 | C19: 90000 | D19: 0.12 | E19: 5950
A20: 110001 | B20: 140000.99 | C20: 110000 | D20: 0.13 | E20: 8350
A21: 140001 | B21: 170000.99 | C21: 140000 | D21: 0.14 | E21: 12250
A22: 170001 | B22: 200000.99 | C22: 170000 | D22: 0.15 | E22: 16450
... A24: 230001 | B24: 10000000000 | C24: 230000 | D24: 0.17 | E24: 25750
A25: Decreto Executivo n.º 80/09, de 7 de Agosto
A26: (Ministério das Finanças)

Sheet ATUALIZAÇÕES
B3: ANO: | C3: 2014
A5: ATUALIZAÇÕES ANUAIS
A8: TIPO DE SUBSÍDIO | B8: Taxa
A9: Subs. De investigação | B9: 0.1
A10: Subs. De exposição direta aos agentes bilológicos | B10: 0.07
A11: Subs. De exposição indireta aos agentes bilológicos | B11: 0.05
A12: Subs. Noturno | B12: 0.07
A13: Subs. De risco | B13: 0.05
A14: Subs. De dedicação exclusiva ou de exclusividade | B14: 0.05
A15: Subs. De turno | B15: 0.05
A16: Subs. De atavio | B16: 0.05
A17: Subs. De orientação de tese | B17: 0.05
A18: Subs. De exame | B18: 0.05
A19: Subs. De regência | B19: 0.05
A20: Subs. De representação diplomática | B20: 0.05
... A27: Subs. De produtividade | B27: 0.1

Sheet Tipo de remunerações
A5: DESCRIÇÃO DE REMUNERAÇÕES
E7: RETENÇÃO NA FONTE
E9: IRT | G9: SS | H9: Algum valor com isenção?
A11: VENCIMENTO BRUTO | E11: SIM | G11: SIM | I11: NÃO
A13: SUBSÍDIOS | E13: NÃO | G13: NÃO | I13: SIM
A15: ISENÇÃO DE HORÁRIO | E15: SIM | G15: SIM | I15: NÃO
A17: SUBSÍDIOS ESPORÁDICOS | E17: NÃO | G17: NÃO | I17: SIM

Sheet Outras tabelas - calendário
A5: DIAS ÚTEIS REFERENTES AO ANO DE 2014
E6: Inicio Mês | F6: Fim Mês
A7: JANEIRO | B7: 41670 | C7: =NETWORKDAYS(DATE(YEAR(B7),MONTH(B7),1),B7,$B$23:$B$33)-(C23) -> 21 | E7: 41640 | F7: =B7 -> 41670
A8: FEVEREIRO | B8: 41698 | C8: =NETWORKDAYS(DATE(YEAR(B8),MONTH(B8),1),B8,$B$23:$B$33)-(C24) -> 18 | E8: 41671 | F8: =B8 -> 41698
A9: MARÇO | B9: 41729 | C9: =NETWORKDAYS(DATE(YEAR(B9),MONTH(B9),1),B9,$B$23:$B$33)-(C25) -> 18 | E9: 41699 | F9: =B9 -> 41729
A10: ABRIL | B10: 41759 | C10: =NETWORKDAYS(DATE(YEAR(B10),MONTH(B10),1),B10,$B$23:$B$33)-(C27) -> 18 | E10: 41730 | F10: =B10 -> 41759
A11: MAIO | B11: 41790 | C11: =NETWORKDAYS(DATE(YEAR(B11),MONTH(B11),1),B11,$B$23:$B$33)-(C29) -> 20 | E11: 41760 | F11: =B11 -> 41790
A12: JUNHO | B12: 41820 | C12: =NETWORKDAYS(DATE(YEAR(B12),MONTH(B12),1),B12,$B$23:$B$33) -> 21 | E12: 41791 | F12: =B12 -> 41820
A13: JULHO | B13: 41851 | C13: =NETWORKDAYS(DATE(YEAR(B13),MONTH(B13),1),B13,$B$23:$B$33) -> 23 | E13: 41821 | F13: =B13 -> 41851
A14: AGOSTO | B14: 41882 | C14: =NETWORKDAYS(DATE(YEAR(B14),MONTH(B14),1),B14,$B$23:$B$33) -> 21 | E14: 41852 | F14: =B14 -> 41882
A15: SETEMBRO | B15: 41912 | C15: =NETWORKDAYS(DATE(YEAR(B15),MONTH(B15),1),B15,$B$23:$B$33)-(C30) -> 20 | E15: 41883 | F15: =B15 -> 41912
A16: OUTUBRO | B16: 41943 | C16: =NETWORKDAYS(DATE(YEAR(B16),MONTH(B16),1),B16,$B$23:$B$33) -> 23 | E16: 41913 | F16: =B16 -> 41943
A17: NOVEMBRO | B17: 41973 | C17: =NETWORKDAYS(DATE(YEAR(B17),MONTH(B17),1),B17,$B$23:$B$33)-(C31) -> 17 | E17: 41944 | F17: =B17 -> 41973
A18: DEZEMBRO | B18: 42004 | C18: =NETWORKDAYS(DATE(YEAR(B18),MONTH(B18),1),B18,$B$23:$B$33)-(C33) -> 21 | E18: 41974 | F18: =B18 -> 42004
A20: Média de dias úteis | C20: =AVERAGE(C7:C18) -> 20.083333
A22: FERIADOS
A23: ANO NOVO | B23: 41640 | C23: 1
A24: Dia do início da Luta Armada de Libertação Nacional | B24: 41674 | C24: 1
A25: Dia Internacional da Mulhe | B25: 41702 | C25: 2
A26: Dia Internacional da Mulher | B26: 41706
A27: Dia da Paz e Reconciliação Nacional | B27: 41733 | C27: 2
A28: Sexta-Feira Santa (Páscoa) | B28: 41747
A29: Dia Internacional do Trabalhador | B29: 41760 | C29: 1
A30: Dia do Herói Nacional | B30: 41899 | C30: 1
A31: Dia de Finados | B31: 41945 | C31: 2
A32: Dia da Independência Nacional | B32: 41954
A33: Natal | B33: 41998 | C33: 1

Sheet Ficha funcionário
A4: ID | B4: Nome | C4: Categoria Profissional | D4: Tipo de Contrato | E4: Data início | F4: Data Fim | H4: A 45 dias do término aviso vermelho | I4: Vencimento Bruto | J4: Subsídios a retirar ao V base | N4: Nº horas Semanais | O4: Nº horas diárias | P4: Subs. Alimentação diário | Q4: Subs. Transporte | R4: Identificação (BI) | S4: NISS | T4: NIF | U4: N.º apólice Seg. Acidentes trabalho | V4: Seguradora | W4: Morada | X4: Cod_post | Y4: Contacto | Z4: Dt_Nascimento | AB4: Idade | AC4: Observações
J5: 0.3
G6: HOJE | J6: IRT | AA6: Hoje
J7: Tx IRT | K7: Parcela Fixa | L7: Excesso | M7: Valor base-Excesso
A8: 1 | D8: Expatriado | G8: =TODAY() -> 41740 | H8: =F8-G8 -> -41740 | J8: =IF('Ficha de funcio e processa'!W13<='Tabela IRT'!$B$11,'Tabela IRT'!$D$11,IF('Ficha de funcio e processa'!W13<='Tabela IRT'!$B$12,'Tabela IRT'!$D$12,IF('Ficha de funcio e processa'!W13<='Tabela IRT'!$B$13,'Tabela IRT'!$D$13,IF('Ficha de funcio e processa'!W13<='Tabela IRT'!$B$14,'Tabela IRT'!$D$14,IF('Ficha de funcio e processa'!W13<='Tabela IRT'!$B$15,'Tabela IRT'!$D$15,IF('Ficha de funcio e processa'!W13<='Tabela IRT'!$B$16,'Tabela IRT'!$D$16,IF('Ficha de funcio e processa'!W13<='Tabela IRT'!$B$17,'Tabela IRT'!$D$17,IF('Ficha de funcio e processa'!W13<='Tabela IRT'!$B$18,'Tabela IRT'!$D$18,IF('Ficha de funcio e processa'!W13<='Tabela IRT'!$B$19,'Tabela IRT'!$D$19,IF('Ficha de funcio e processa'!W13<='Tabela IRT'!$B$20,'Tabela IRT'!$D$20,IF('Ficha de funcio e processa'!W13<='Tabela IRT'!$B$21,'Tabela IRT'!$D$21,IF('Ficha de funcio e processa'!W13<='Tabela IRT'!$B$22,'Tabela IRT'!$D$22,IF('Ficha de funcio e processa'!W13<='Tabela IRT'!$B$23,'Tabela IRT'!$D$23,IF('Ficha de funcio e processa'!W13<='Tabela IRT'!$B$24,'Tabela IRT'!$D$24)))))))))))))) -> 0 | K8: =IF('Ficha de funcio e processa'!W13<='Tabela IRT'!$B$11,'Tabela IRT'!$E$11,IF('Ficha de funcio e processa'!W13<='Tabela IRT'!$B$12,'Tabela IRT'!$E$12,IF('Ficha de funcio e processa'!W13<='Tabela IRT'!$B$13,'Tabela IRT'!$E$13,IF('Ficha de funcio e processa'!W13<='Tabela IRT'!$B$14,'Tabela IRT'!$E$14,IF('Ficha de funcio e processa'!W13<='Tabela IRT'!$B$15,'Tabela IRT'!$E$15,IF('Ficha de funcio e processa'!W13<='Tabela IRT'!$B$16,'Tabela IRT'!$E$16,IF('Ficha de funcio e processa'!W13<='Tabela IRT'!$B$17,'Tabela IRT'!$E$17,IF('Ficha de funcio e processa'!W13<='Tabela IRT'!$B$18,'Tabela IRT'!$E$18,IF('Ficha de funcio e processa'!W13<='Tabela IRT'!$B$19,'Tabela IRT'!$E$19,IF('Ficha de funcio e processa'!W13<='Tabela IRT'!$B$20,'Tabela IRT'!$E$20,IF('Ficha de funcio e processa'!W13<='Tabela IRT'!$B$21,'Tabela IRT'!$E$21,IF('Ficha de funcio e processa'!W13<='Tabela IRT'!$B$22,'Tabela IRT'!$E$22,IF('Ficha de funcio e processa'!W13<='Tabela IRT'!$B$23,'Tabela IRT'!$E$23,IF('Ficha de funcio e processa'!W13<='Tabela IRT'!$B$24,'Tabela IRT'!$E$24)))))))))))))) -> 0 | L8: =IF('Ficha de funcio e processa'!W13<='Tabela IRT'!$B$11,'Tabela IRT'!$C$11,IF('Ficha de funcio e processa'!W13<='Tabela IRT'!$B$12,'Tabela IRT'!$C$12,IF('Ficha de funcio e processa'!W13<='Tabela IRT'!$B$13,'Tabela IRT'!$C$13,IF('Ficha de funcio e processa'!W13<='Tabela IRT'!$B$14,'Tabela IRT'!$C$14,IF('Ficha de funcio e processa'!W13<='Tabela IRT'!$B$15,'Tabela IRT'!$C$15,IF('Ficha de funcio e processa'!W13<='Tabela IRT'!$B$16,'Tabela IRT'!$C$16,IF('Ficha de funcio e processa'!W13<='Tabela IRT'!$B$17,'Tabela IRT'!$C$17,IF('Ficha de funcio e processa'!W13<='Tabela IRT'!$B$18,'Tabela IRT'!$C$18,IF('Ficha de funcio e processa'!W13<='Tabela IRT'!$B$19,'Tabela IRT'!$C$19,IF('Ficha de funcio e processa'!W13<='Tabela IRT'!$B$20,'Tabela IRT'!$C$20,IF('Ficha de funcio e processa'!W13<='Tabela IRT'!$B$21,'Tabela IRT'!$C$21,IF('Ficha de funcio e processa'!W13<='Tabela IRT'!$B$22,'Tabela IRT'!$C$22,IF('Ficha de funcio e processa'!W13<='Tabela IRT'!$B$23,'Tabela IRT'!$C$23,IF('Ficha de funcio e processa'!W13<='Tabela IRT'!$B$24,'Tabela IRT'!$C$24)))))))))))))) -> 0 | M8: =('Ficha de funcio e processa'!W13-30%)-L8 -> -0.3 | N8: 44 | O8: 9 | AA8: =TODAY() -> 41740 | AB8: =(AA8-Z8)/365 -> 114.35616
A9: =IF(B9>0,A8+1) -> FALSE | D9: Expatriado | G9: =TODAY() -> 41740 | H9: =F9-G9 -> -41740 | J9: =IF('Ficha de funcio e processa'!W14<='Tabela IRT'!$B$11,'Tabela IRT'!$D$11,IF('Ficha de funcio e processa'!W14<='Tabela IRT'!$B$12,'Tabela IRT'!$D$12,IF('Ficha de funcio e processa'!W14<='Tabela IRT'!$B$13,'Tabela IRT'!$D$13,IF('Ficha de funcio e processa'!W14<='Tabela IRT'!$B$14,'Tabela IRT'!$D$14,IF('Ficha de funcio e processa'!W14<='Tabela IRT'!$B$15,'Tabela IRT'!$D$15,IF('Ficha de funcio e processa'!W14<='Tabela IRT'!$B$16,'Tabela IRT'!$D$16,IF('Ficha de funcio e processa'!W14<='Tabela IRT'!$B$17,'Tabela IRT'!$D$17,IF('Ficha de funcio e processa'!W14<='Tabela IRT'!$B$18,'Tabela IRT'!$D$18,IF('Ficha de funcio e processa'!W14<='Tabela IRT'!$B$19,'Tabela IRT'!$D$19,IF('Ficha de funcio e processa'!W14<='Tabela IRT'!$B$20,'Tabela IRT'!$D$20,IF('Ficha de funcio e processa'!W14<='Tabela IRT'!$B$21,'Tabela IRT'!$D$21,IF('Ficha de funcio e processa'!W14<='Tabela IRT'!$B$22,'Tabela IRT'!$D$22,IF('Ficha de funcio e processa'!W14<='Tabela IRT'!$B$23,'Tabela IRT'!$D$23,IF('Ficha de funcio e processa'!W14<='Tabela IRT'!$B$24,'Tabela IRT'!$D$24)))))))))))))) -> 0 | K9: =IF('Ficha de funcio e processa'!W14<='Tabela IRT'!$B$11,'Tabela IRT'!$E$11,IF('Ficha de funcio e processa'!W14<='Tabela IRT'!$B$12,'Tabela IRT'!$E$12,IF('Ficha de funcio e processa'!W14<='Tabela IRT'!$B$13,'Tabela IRT'!$E$13,IF('Ficha de funcio e processa'!W14<='Tabela IRT'!$B$14,'Tabela IRT'!$E$14,IF('Ficha de funcio e processa'!W14<='Tabela IRT'!$B$15,'Tabela IRT'!$E$15,IF('Ficha de funcio e processa'!W14<='Tabela IRT'!$B$16,'Tabela IRT'!$E$16,IF('Ficha de funcio e processa'!W14<='Tabela IRT'!$B$17,'Tabela IRT'!$E$17,IF('Ficha de funcio e processa'!W14<='Tabela IRT'!$B$18,'Tabela IRT'!$E$18,IF('Ficha de funcio e processa'!W14<='Tabela IRT'!$B$19,'Tabela IRT'!$E$19,IF('Ficha de funcio e processa'!W14<='Tabela IRT'!$B$20,'Tabela IRT'!$E$20,IF('Ficha de funcio e processa'!W14<='Tabela IRT'!$B$21,'Tabela IRT'!$E$21,IF('Ficha de funcio e processa'!W14<='Tabela IRT'!$B$22,'Tabela IRT'!$E$22,IF('Ficha de funcio e processa'!W14<='Tabela IRT'!$B$23,'Tabela IRT'!$E$23,IF('Ficha de funcio e processa'!W14<='Tabela IRT'!$B$24,'Tabela IRT'!$E$24)))))))))))))) -> 0 | L9: =IF('Ficha de funcio e processa'!W14<='Tabela IRT'!$B$11,'Tabela IRT'!$C$11,IF('Ficha de funcio e processa'!W14<='Tabela IRT'!$B$12,'Tabela IRT'!$C$12,IF('Ficha de funcio e processa'!W14<='Tabela IRT'!$B$13,'Tabela IRT'!$C$13,IF('Ficha de funcio e processa'!W14<='Tabela IRT'!$B$14,'Tabela IRT'!$C$14,IF('Ficha de funcio e processa'!W14<='Tabela IRT'!$B$15,'Tabela IRT'!$C$15,IF('Ficha de funcio e processa'!W14<='Tabela IRT'!$B$16,'Tabela IRT'!$C$16,IF('Ficha de funcio e processa'!W14<='Tabela IRT'!$B$17,'Tabela IRT'!$C$17,IF('Ficha de funcio e processa'!W14<='Tabela IRT'!$B$18,'Tabela IRT'!$C$18,IF('Ficha de funcio e processa'!W14<='Tabela IRT'!$B$19,'Tabela IRT'!$C$19,IF('Ficha de funcio e processa'!W14<='Tabela IRT'!$B$20,'Tabela IRT'!$C$20,IF('Ficha de funcio e processa'!W14<='Tabela IRT'!$B$21,'Tabela IRT'!$C$21,IF('Ficha de funcio e processa'!W14<='Tabela IRT'!$B$22,'Tabela IRT'!$C$22,IF('Ficha de funcio e processa'!W14<='Tabela IRT'!$B$23,'Tabela IRT'!$C$23,IF('Ficha de funcio e processa'!W14<='Tabela IRT'!$B$24,'Tabela IRT'!$C$24)))))))))))))) -> 0 | M9: =('Ficha de funcio e processa'!W14-30%)-L9 -> -0.3 | N9: 44 | O9: 9 | AA9: =TODAY() -> 41740 | AB9: =(AA9-Z9)/365 -> 114.35616
A10: =IF(B10>0,A9+1) -> FALSE | D10: Expatriado | G10: =TODAY() -> 41740 | H10: =F10-G10 -> -41740 | J10: =IF('Ficha de funcio e processa'!W15<='Tabela IRT'!$B$11,'Tabela IRT'!$D$11,IF('Ficha de funcio e processa'!W15<='Tabela IRT'!$B$12,'Tabela IRT'!$D$12,IF('Ficha de funcio e processa'!W15<='Tabela IRT'!$B$13,'Tabela IRT'!$D$13,IF('Ficha de funcio e processa'!W15<='Tabela IRT'!$B$14,'Tabela IRT'!$D$14,IF('Ficha de funcio e processa'!W15<='Tabela IRT'!$B$15,'Tabela IRT'!$D$15,IF('Ficha de funcio e processa'!W15<='Tabela IRT'!$B$16,'Tabela IRT'!$D$16,IF('Ficha de funcio e processa'!W15<='Tabela IRT'!$B$17,'Tabela IRT'!$D$17,IF('Ficha de funcio e processa'!W15<='Tabela IRT'!$B$18,'Tabela IRT'!$D$18,IF('Ficha de funcio e processa'!W15<='Tabela IRT'!$B$19,'Tabela IRT'!$D$19,IF('Ficha de funcio e processa'!W15<='Tabela IRT'!$B$20,'Tabela IRT'!$D$20,IF('Ficha de funcio e processa'!W15<='Tabela IRT'!$B$21,'Tabela IRT'!$D$21,IF('Ficha de funcio e processa'!W15<='Tabela IRT'!$B$22,'Tabela IRT'!$D$22,IF('Ficha de funcio e processa'!W15<='Tabela IRT'!$B$23,'Tabela IRT'!$D$23,IF('Ficha de funcio e processa'!W15<='Tabela IRT'!$B$24,'Tabela IRT'!$D$24)))))))))))))) -> 0 | K10: =IF('Ficha de funcio e processa'!W15<='Tabela IRT'!$B$11,'Tabela IRT'!$E$11,IF('Ficha de funcio e processa'!W15<='Tabela IRT'!$B$12,'Tabela IRT'!$E$12,IF('Ficha de funcio e processa'!W15<='Tabela IRT'!$B$13,'Tabela IRT'!$E$13,IF('Ficha de funcio e processa'!W15<='Tabela IRT'!$B$14,'Tabela IRT'!$E$14,IF('Ficha de funcio e processa'!W15<='Tabela IRT'!$B$15,'Tabela IRT'!$E$15,IF('Ficha de funcio e processa'!W15<='Tabela IRT'!$B$16,'Tabela IRT'!$E$16,IF('Ficha de funcio e processa'!W15<='Tabela IRT'!$B$17,'Tabela IRT'!$E$17,IF('Ficha de funcio e processa'!W15<='Tabela IRT'!$B$18,'Tabela IRT'!$E$18,IF('Ficha de funcio e processa'!W15<='Tabela IRT'!$B$19,'Tabela IRT'!$E$19,IF('Ficha de funcio e processa'!W15<='Tabela IRT'!$B$20,'Tabela IRT'!$E$20,IF('Ficha de funcio e processa'!W15<='Tabela IRT'!$B$21,'Tabela IRT'!$E$21,IF('Ficha de funcio e processa'!W15<='Tabela IRT'!$B$22,'Tabela IRT'!$E$22,IF('Ficha de funcio e processa'!W15<='Tabela IRT'!$B$23,'Tabela IRT'!$E$23,IF('Ficha de funcio e processa'!W15<='Tabela IRT'!$B$24,'Tabela IRT'!$E$24)))))))))))))) -> 0 | L10: =IF('Ficha de funcio e processa'!W15<='Tabela IRT'!$B$11,'Tabela IRT'!$C$11,IF('Ficha de funcio e processa'!W15<='Tabela IRT'!$B$12,'Tabela IRT'!$C$12,IF('Ficha de funcio e processa'!W15<='Tabela IRT'!$B$13,'Tabela IRT'!$C$13,IF('Ficha de funcio e processa'!W15<='Tabela IRT'!$B$14,'Tabela IRT'!$C$14,IF('Ficha de funcio e processa'!W15<='Tabela IRT'!$B$15,'Tabela IRT'!$C$15,IF('Ficha de funcio e processa'!W15<='Tabela IRT'!$B$16,'Tabela IRT'!$C$16,IF('Ficha de funcio e processa'!W15<='Tabela IRT'!$B$17,'Tabela IRT'!$C$17,IF('Ficha de funcio e processa'!W15<='Tabela IRT'!$B$18,'Tabela IRT'!$C$18,IF('Ficha de funcio e processa'!W15<='Tabela IRT'!$B$19,'Tabela IRT'!$C$19,IF('Ficha de funcio e processa'!W15<='Tabela IRT'!$B$20,'Tabela IRT'!$C$20,IF('Ficha de funcio e processa'!W15<='Tabela IRT'!$B$21,'Tabela IRT'!$C$21,IF('Ficha de funcio e processa'!W15<='Tabela IRT'!$B$22,'Tabela IRT'!$C$22,IF('Ficha de funcio e processa'!W15<='Tabela IRT'!$B$23,'Tabela IRT'!$C$23,IF('Ficha de funcio e processa'!W15<='Tabela IRT'!$B$24,'Tabela IRT'!$C$24)))))))))))))) -> 0 | M10: =('Ficha de funcio e processa'!W15-30%)-L10 -> -0.3 | N10: 44 | O10: 9 | AA10: =TODAY() -> 41740 | AB10: =(AA10-Z10)/365 -> 114.35616
A11: =IF(B11>0,A10+1) -> FALSE | D11: Expatriado | G11: =TODAY() -> 41740 | H11: =F11-G11 -> -41740 | J11: =IF('Ficha de funcio e processa'!W16<='Tabela IRT'!$B$11,'Tabela IRT'!$D$11,IF('Ficha de funcio e processa'!W16<='Tabela IRT'!$B$12,'Tabela IRT'!$D$12,IF('Ficha de funcio e processa'!W16<='Tabela IRT'!$B$13,'Tabela IRT'!$D$13,IF('Ficha de funcio e processa'!W16<='Tabela IRT'!$B$14,'Tabela IRT'!$D$14,IF('Ficha de funcio e processa'!W16<='Tabela IRT'!$B$15,'Tabela IRT'!$D$15,IF('Ficha de funcio e processa'!W16<='Tabela IRT'!$B$16,'Tabela IRT'!$D$16,IF('Ficha de funcio e processa'!W16<='Tabela IRT'!$B$17,'Tabela IRT'!$D$17,IF('Ficha de funcio e processa'!W16<='Tabela IRT'!$B$18,'Tabela IRT'!$D$18,IF('Ficha de funcio e processa'!W16<='Tabela IRT'!$B$19,'Tabela IRT'!$D$19,IF('Ficha de funcio e processa'!W16<='Tabela IRT'!$B$20,'Tabela IRT'!$D$20,IF('Ficha de funcio e processa'!W16<='Tabela IRT'!$B$21,'Tabela IRT'!$D$21,IF('Ficha de funcio e processa'!W16<='Tabela IRT'!$B$22,'Tabela IRT'!$D$22,IF('Ficha de funcio e processa'!W16<='Tabela IRT'!$B$23,'Tabela IRT'!$D$23,IF('Ficha de funcio e processa'!W16<='Tabela IRT'!$B$24,'Tabela IRT'!$D$24)))))))))))))) -> 0 | K11: =IF('Ficha de funcio e processa'!W16<='Tabela IRT'!$B$11,'Tabela IRT'!$E$11,IF('Ficha de funcio e processa'!W16<='Tabela IRT'!$B$12,'Tabela IRT'!$E$12,IF('Ficha de funcio e processa'!W16<='Tabela IRT'!$B$13,'Tabela IRT'!$E$13,IF('Ficha de funcio e processa'!W16<='Tabela IRT'!$B$14,'Tabela IRT'!$E$14,IF('Ficha de funcio e processa'!W16<='Tabela IRT'!$B$15,'Tabela IRT'!$E$15,IF('Ficha de funcio e processa'!W16<='Tabela IRT'!$B$16,'Tabela IRT'!$E$16,IF('Ficha de funcio e processa'!W16<='Tabela IRT'!$B$17,'Tabela IRT'!$E$17,IF('Ficha de funcio e processa'!W16<='Tabela IRT'!$B$18,'Tabela IRT'!$E$18,IF('Ficha de funcio e processa'!W16<='Tabela IRT'!$B$19,'Tabela IRT'!$E$19,IF('Ficha de funcio e processa'!W16<='Tabela IRT'!$B$20,'Tabela IRT'!$E$20,IF('Ficha de funcio e processa'!W16<='Tabela IRT'!$B$21,'Tabela IRT'!$E$21,IF('Ficha de funcio e processa'!W16<='Tabela IRT'!$B$22,'Tabela IRT'!$E$22,IF('Ficha de funcio e processa'!W16<='Tabela IRT'!$B$23,'Tabela IRT'!$E$23,IF('Ficha de funcio e processa'!W16<='Tabela IRT'!$B$24,'Tabela IRT'!$E$24)))))))))))))) -> 0 | L11: =IF('Ficha de funcio e processa'!W16<='Tabela IRT'!$B$11,'Tabela IRT'!$C$11,IF('Ficha de funcio e processa'!W16<='Tabela IRT'!$B$12,'Tabela IRT'!$C$12,IF('Ficha de funcio e processa'!W16<='Tabela IRT'!$B$13,'Tabela IRT'!$C$13,IF('Ficha de funcio e processa'!W16<='Tabela IRT'!$B$14,'Tabela IRT'!$C$14,IF('Ficha de funcio e processa'!W16<='Tabela IRT'!$B$15,'Tabela IRT'!$C$15,IF('Ficha de funcio e processa'!W16<='Tabela IRT'!$B$16,'Tabela IRT'!$C$16,IF('Ficha de funcio e processa'!W16<='Tabela IRT'!$B$17,'Tabela IRT'!$C$17,IF('Ficha de funcio e processa'!W16<='Tabela IRT'!$B$18,'Tabela IRT'!$C$18,IF('Ficha de funcio e processa'!W16<='Tabela IRT'!$B$19,'Tabela IRT'!$C$19,IF('Ficha de funcio e processa'!W16<='Tabela IRT'!$B$20,'Tabela IRT'!$C$20,IF('Ficha de funcio e processa'!W16<='Tabela IRT'!$B$21,'Tabela IRT'!$C$21,IF('Ficha de funcio e processa'!W16<='Tabela IRT'!$B$22,'Tabela IRT'!$C$22,IF('Ficha de funcio e processa'!W16<='Tabela IRT'!$B$23,'Tabela IRT'!$C$23,IF('Ficha de funcio e processa'!W16<='Tabela IRT'!$B$24,'Tabela IRT'!$C$24)))))))))))))) -> 0 | M11: =('Ficha de funcio e processa'!W16-30%)-L11 -> -0.3 | N11: 44 | O11: 9 | AA11: =TODAY() -> 41740 | AB11: =(AA11-Z11)/365 -> 114.35616
A12: =IF(B12>0,A11+1) -> FALSE | D12: Expatriado | G12: =TODAY() -> 41740 | H12: =F12-G12 -> -41740 | J12: =IF('Ficha de funcio e processa'!W17<='Tabela IRT'!$B$11,'Tabela IRT'!$D$11,IF('Ficha de funcio e processa'!W17<='Tabela IRT'!$B$12,'Tabela IRT'!$D$12,IF('Ficha de funcio e processa'!W17<='Tabela IRT'!$B$13,'Tabela IRT'!$D$13,IF('Ficha de funcio e processa'!W17<='Tabela IRT'!$B$14,'Tabela IRT'!$D$14,IF('Ficha de funcio e processa'!W17<='Tabela IRT'!$B$15,'Tabela IRT'!$D$15,IF('Ficha de funcio e processa'!W17<='Tabela IRT'!$B$16,'Tabela IRT'!$D$16,IF('Ficha de funcio e processa'!W17<='Tabela IRT'!$B$17,'Tabela IRT'!$D$17,IF('Ficha de funcio e processa'!W17<='Tabela IRT'!$B$18,'Tabela IRT'!$D$18,IF('Ficha de funcio e processa'!W17<='Tabela IRT'!$B$19,'Tabela IRT'!$D$19,IF('Ficha de funcio e processa'!W17<='Tabela IRT'!$B$20,'Tabela IRT'!$D$20,IF('Ficha de funcio e processa'!W17<='Tabela IRT'!$B$21,'Tabela IRT'!$D$21,IF('Ficha de funcio e processa'!W17<='Tabela IRT'!$B$22,'Tabela IRT'!$D$22,IF('Ficha de funcio e processa'!W17<='Tabela IRT'!$B$23,'Tabela IRT'!$D$23,IF('Ficha de funcio e processa'!W17<='Tabela IRT'!$B$24,'Tabela IRT'!$D$24)))))))))))))) -> 0 | K12: =IF('Ficha de funcio e processa'!W17<='Tabela IRT'!$B$11,'Tabela IRT'!$E$11,IF('Ficha de funcio e processa'!W17<='Tabela IRT'!$B$12,'Tabela IRT'!$E$12,IF('Ficha de funcio e processa'!W17<='Tabela IRT'!$B$13,'Tabela IRT'!$E$13,IF('Ficha de funcio e processa'!W17<='Tabela IRT'!$B$14,'Tabela IRT'!$E$14,IF('Ficha de funcio e processa'!W17<='Tabela IRT'!$B$15,'Tabela IRT'!$E$15,IF('Ficha de funcio e processa'!W17<='Tabela IRT'!$B$16,'Tabela IRT'!$E$16,IF('Ficha de funcio e processa'!W17<='Tabela IRT'!$B$17,'Tabela IRT'!$E$17,IF('Ficha de funcio e processa'!W17<='Tabela IRT'!$B$18,'Tabela IRT'!$E$18,IF('Ficha de funcio e processa'!W17<='Tabela IRT'!$B$19,'Tabela IRT'!$E$19,IF('Ficha de funcio e processa'!W17<='Tabela IRT'!$B$20,'Tabela IRT'!$E$20,IF('Ficha de funcio e processa'!W17<='Tabela IRT'!$B$21,'Tabela IRT'!$E$21,IF('Ficha de funcio e processa'!W17<='Tabela IRT'!$B$22,'Tabela IRT'!$E$22,IF('Ficha de funcio e processa'!W17<='Tabela IRT'!$B$23,'Tabela IRT'!$E$23,IF('Ficha de funcio e processa'!W17<='Tabela IRT'!$B$24,'Tabela IRT'!$E$24)))))))))))))) -> 0 | L12: =IF('Ficha de funcio e processa'!W17<='Tabela IRT'!$B$11,'Tabela IRT'!$C$11,IF('Ficha de funcio e processa'!W17<='Tabela IRT'!$B$12,'Tabela IRT'!$C$12,IF('Ficha de funcio e processa'!W17<='Tabela IRT'!$B$13,'Tabela IRT'!$C$13,IF('Ficha de funcio e processa'!W17<='Tabela IRT'!$B$14,'Tabela IRT'!$C$14,IF('Ficha de funcio e processa'!W17<='Tabela IRT'!$B$15,'Tabela IRT'!$C$15,IF('Ficha de funcio e processa'!W17<='Tabela IRT'!$B$16,'Tabela IRT'!$C$16,IF('Ficha de funcio e processa'!W17<='Tabela IRT'!$B$17,'Tabela IRT'!$C$17,IF('Ficha de funcio e processa'!W17<='Tabela IRT'!$B$18,'Tabela IRT'!$C$18,IF('Ficha de funcio e processa'!W17<='Tabela IRT'!$B$19,'Tabela IRT'!$C$19,IF('Ficha de funcio e processa'!W17<='Tabela IRT'!$B$20,'Tabela IRT'!$C$20,IF('Ficha de funcio e processa'!W17<='Tabela IRT'!$B$21,'Tabela IRT'!$C$21,IF('Ficha de funcio e processa'!W17<='Tabela IRT'!$B$22,'Tabela IRT'!$C$22,IF('Ficha de funcio e processa'!W17<='Tabela IRT'!$B$23,'Tabela IRT'!$C$23,IF('Ficha de funcio e processa'!W17<='Tabela IRT'!$B$24,'Tabela IRT'!$C$24)))))))))))))) -> 0 | M12: =('Ficha de funcio e processa'!W17-30%)-L12 -> -0.3 | N12: 44 | O12: 9 | AA12: =TODAY() -> 41740 | AB12: =(AA12-Z12)/365 -> 114.35616
A13: =IF(B13>0,A12+1) -> FALSE | D13: Expatriado | H13: =F13-G13 -> 0 | J13: =IF('Ficha de funcio e processa'!W18<='Tabela IRT'!$B$11,'Tabela IRT'!$D$11,IF('Ficha de funcio e processa'!W18<='Tabela IRT'!$B$12,'Tabela IRT'!$D$12,IF('Ficha de funcio e processa'!W18<='Tabela IRT'!$B$13,'Tabela IRT'!$D$13,IF('Ficha de funcio e processa'!W18<='Tabela IRT'!$B$14,'Tabela IRT'!$D$14,IF('Ficha de funcio e processa'!W18<='Tabela IRT'!$B$15,'Tabela IRT'!$D$15,IF('Ficha de funcio e processa'!W18<='Tabela IRT'!$B$16,'Tabela IRT'!$D$16,IF('Ficha de funcio e processa'!W18<='Tabela IRT'!$B$17,'Tabela IRT'!$D$17,IF('Ficha de funcio e processa'!W18<='Tabela IRT'!$B$18,'Tabela IRT'!$D$18,IF('Ficha de funcio e processa'!W18<='Tabela IRT'!$B$19,'Tabela IRT'!$D$19,IF('Ficha de funcio e processa'!W18<='Tabela IRT'!$B$20,'Tabela IRT'!$D$20,IF('Ficha de funcio e processa'!W18<='Tabela IRT'!$B$21,'Tabela IRT'!$D$21,IF('Ficha de funcio e processa'!W18<='Tabela IRT'!$B$22,'Tabela IRT'!$D$22,IF('Ficha de funcio e processa'!W18<='Tabela IRT'!$B$23,'Tabela IRT'!$D$23,IF('Ficha de funcio e processa'!W18<='Tabela IRT'!$B$24,'Tabela IRT'!$D$24)))))))))))))) -> 0 | K13: =IF('Ficha de funcio e processa'!W18<='Tabela IRT'!$B$11,'Tabela IRT'!$E$11,IF('Ficha de funcio e processa'!W18<='Tabela IRT'!$B$12,'Tabela IRT'!$E$12,IF('Ficha de funcio e processa'!W18<='Tabela IRT'!$B$13,'Tabela IRT'!$E$13,IF('Ficha de funcio e processa'!W18<='Tabela IRT'!$B$14,'Tabela IRT'!$E$14,IF('Ficha de funcio e processa'!W18<='Tabela IRT'!$B$15,'Tabela IRT'!$E$15,IF('Ficha de funcio e processa'!W18<='Tabela IRT'!$B$16,'Tabela IRT'!$E$16,IF('Ficha de funcio e processa'!W18<='Tabela IRT'!$B$17,'Tabela IRT'!$E$17,IF('Ficha de funcio e processa'!W18<='Tabela IRT'!$B$18,'Tabela IRT'!$E$18,IF('Ficha de funcio e processa'!W18<='Tabela IRT'!$B$19,'Tabela IRT'!$E$19,IF('Ficha de funcio e processa'!W18<='Tabela IRT'!$B$20,'Tabela IRT'!$E$20,IF('Ficha de funcio e processa'!W18<='Tabela IRT'!$B$21,'Tabela IRT'!$E$21,IF('Ficha de funcio e processa'!W18<='Tabela IRT'!$B$22,'Tabela IRT'!$E$22,IF('Ficha de funcio e processa'!W18<='Tabela IRT'!$B$23,'Tabela IRT'!$E$23,IF('Ficha de funcio e processa'!W18<='Tabela IRT'!$B$24,'Tabela IRT'!$E$24)))))))))))))) -> 0 | L13: =IF('Ficha de funcio e processa'!W18<='Tabela IRT'!$B$11,'Tabela IRT'!$C$11,IF('Ficha de funcio e processa'!W18<='Tabela IRT'!$B$12,'Tabela IRT'!$C$12,IF('Ficha de funcio e processa'!W18<='Tabela IRT'!$B$13,'Tabela IRT'!$C$13,IF('Ficha de funcio e processa'!W18<='Tabela IRT'!$B$14,'Tabela IRT'!$C$14,IF('Ficha de funcio e processa'!W18<='Tabela IRT'!$B$15,'Tabela IRT'!$C$15,IF('Ficha de funcio e processa'!W18<='Tabela IRT'!$B$16,'Tabela IRT'!$C$16,IF('Ficha de funcio e processa'!W18<='Tabela IRT'!$B$17,'Tabela IRT'!$C$17,IF('Ficha de funcio e processa'!W18<='Tabela IRT'!$B$18,'Tabela IRT'!$C$18,IF('Ficha de funcio e processa'!W18<='Tabela IRT'!$B$19,'Tabela IRT'!$C$19,IF('Ficha de funcio e processa'!W18<='Tabela IRT'!$B$20,'Tabela IRT'!$C$20,IF('Ficha de funcio e processa'!W18<='Tabela IRT'!$B$21,'Tabela IRT'!$C$21,IF('Ficha de funcio e processa'!W18<='Tabela IRT'!$B$22,'Tabela IRT'!$C$22,IF('Ficha de funcio e processa'!W18<='Tabela IRT'!$B$23,'Tabela IRT'!$C$23,IF('Ficha de funcio e processa'!W18<='Tabela IRT'!$B$24,'Tabela IRT'!$C$24)))))))))))))) -> 0 | M13: =('Ficha de funcio e processa'!W18-30%)-L13 -> -0.3 | N13: 44 | O13: 9 | AA13: =TODAY() -> 41740 | AB13: =(AA13-Z13)/365 -> 114.35616
A14: =IF(B14>0,A13+1) -> FALSE | D14: Expatriado | G14: =TODAY() -> 41740 | H14: =F14-G14 -> -41740 | J14: =IF('Ficha de funcio e processa'!W19<='Tabela IRT'!$B$11,'Tabela IRT'!$D$11,IF('Ficha de funcio e processa'!W19<='Tabela IRT'!$B$12,'Tabela IRT'!$D$12,IF('Ficha de funcio e processa'!W19<='Tabela IRT'!$B$13,'Tabela IRT'!$D$13,IF('Ficha de funcio e processa'!W19<='Tabela IRT'!$B$14,'Tabela IRT'!$D$14,IF('Ficha de funcio e processa'!W19<='Tabela IRT'!$B$15,'Tabela IRT'!$D$15,IF('Ficha de funcio e processa'!W19<='Tabela IRT'!$B$16,'Tabela IRT'!$D$16,IF('Ficha de funcio e processa'!W19<='Tabela IRT'!$B$17,'Tabela IRT'!$D$17,IF('Ficha de funcio e processa'!W19<='Tabela IRT'!$B$18,'Tabela IRT'!$D$18,IF('Ficha de funcio e processa'!W19<='Tabela IRT'!$B$19,'Tabela IRT'!$D$19,IF('Ficha de funcio e processa'!W19<='Tabela IRT'!$B$20,'Tabela IRT'!$D$20,IF('Ficha de funcio e processa'!W19<='Tabela IRT'!$B$21,'Tabela IRT'!$D$21,IF('Ficha de funcio e processa'!W19<='Tabela IRT'!$B$22,'Tabela IRT'!$D$22,IF('Ficha de funcio e processa'!W19<='Tabela IRT'!$B$23,'Tabela IRT'!$D$23,IF('Ficha de funcio e processa'!W19<='Tabela IRT'!$B$24,'Tabela IRT'!$D$24)))))))))))))) -> 0 | K14: =IF('Ficha de funcio e processa'!W19<='Tabela IRT'!$B$11,'Tabela IRT'!$E$11,IF('Ficha de funcio e processa'!W19<='Tabela IRT'!$B$12,'Tabela IRT'!$E$12,IF('Ficha de funcio e processa'!W19<='Tabela IRT'!$B$13,'Tabela IRT'!$E$13,IF('Ficha de funcio e processa'!W19<='Tabela IRT'!$B$14,'Tabela IRT'!$E$14,IF('Ficha de funcio e processa'!W19<='Tabela IRT'!$B$15,'Tabela IRT'!$E$15,IF('Ficha de funcio e processa'!W19<='Tabela IRT'!$B$16,'Tabela IRT'!$E$16,IF('Ficha de funcio e processa'!W19<='Tabela IRT'!$B$17,'Tabela IRT'!$E$17,IF('Ficha de funcio e processa'!W19<='Tabela IRT'!$B$18,'Tabela IRT'!$E$18,IF('Ficha de funcio e processa'!W19<='Tabela IRT'!$B$19,'Tabela IRT'!$E$19,IF('Ficha de funcio e processa'!W19<='Tabela IRT'!$B$20,'Tabela IRT'!$E$20,IF('Ficha de funcio e processa'!W19<='Tabela IRT'!$B$21,'Tabela IRT'!$E$21,IF('Ficha de funcio e processa'!W19<='Tabela IRT'!$B$22,'Tabela IRT'!$E$22,IF('Ficha de funcio e processa'!W19<='Tabela IRT'!$B$23,'Tabela IRT'!$E$23,IF('Ficha de funcio e processa'!W19<='Tabela IRT'!$B$24,'Tabela IRT'!$E$24)))))))))))))) -> 0 | L14: =IF('Ficha de funcio e processa'!W19<='Tabela IRT'!$B$11,'Tabela IRT'!$C$11,IF('Ficha de funcio e processa'!W19<='Tabela IRT'!$B$12,'Tabela IRT'!$C$12,IF('Ficha de funcio e processa'!W19<='Tabela IRT'!$B$13,'Tabela IRT'!$C$13,IF('Ficha de funcio e processa'!W19<='Tabela IRT'!$B$14,'Tabela IRT'!$C$14,IF('Ficha de funcio e processa'!W19<='Tabela IRT'!$B$15,'Tabela IRT'!$C$15,IF('Ficha de funcio e processa'!W19<='Tabela IRT'!$B$16,'Tabela IRT'!$C$16,IF('Ficha de funcio e processa'!W19<='Tabela IRT'!$B$17,'Tabela IRT'!$C$17,IF('Ficha de funcio e processa'!W19<='Tabela IRT'!$B$18,'Tabela IRT'!$C$18,IF('Ficha de funcio e processa'!W19<='Tabela IRT'!$B$19,'Tabela IRT'!$C$19,IF('Ficha de funcio e processa'!W19<='Tabela IRT'!$B$20,'Tabela IRT'!$C$20,IF('Ficha de funcio e processa'!W19<='Tabela IRT'!$B$21,'Tabela IRT'!$C$21,IF('Ficha de funcio e processa'!W19<='Tabela IRT'!$B$22,'Tabela IRT'!$C$22,IF('Ficha de funcio e processa'!W19<='Tabela IRT'!$B$23,'Tabela IRT'!$C$23,IF('Ficha de funcio e processa'!W19<='Tabela IRT'!$B$24,'Tabela IRT'!$C$24)))))))))))))) -> 0 | M14: =('Ficha de funcio e processa'!W19-30%)-L14 -> -0.3 | N14: 44 | O14: 9 | AA14: =TODAY() -> 41740 | AB14: =(AA14-Z14)/365 -> 114.35616
A15: =IF(B15>0,A14+1) -> FALSE | D15: Expatriado | G15: =TODAY() -> 41740 | H15: =F15-G15 -> -41740 | J15: =IF('Ficha de funcio e processa'!W20<='Tabela IRT'!$B$11,'Tabela IRT'!$D$11,IF('Ficha de funcio e processa'!W20<='Tabela IRT'!$B$12,'Tabela IRT'!$D$12,IF('Ficha de funcio e processa'!W20<='Tabela IRT'!$B$13,'Tabela IRT'!$D$13,IF('Ficha de funcio e processa'!W20<='Tabela IRT'!$B$14,'Tabela IRT'!$D$14,IF('Ficha de funcio e processa'!W20<='Tabela IRT'!$B$15,'Tabela IRT'!$D$15,IF('Ficha de funcio e processa'!W20<='Tabela IRT'!$B$16,'Tabela IRT'!$D$16,IF('Ficha de funcio e processa'!W20<='Tabela IRT'!$B$17,'Tabela IRT'!$D$17,IF('Ficha de funcio e processa'!W20<='Tabela IRT'!$B$18,'Tabela IRT'!$D$18,IF('Ficha de funcio e processa'!W20<='Tabela IRT'!$B$19,'Tabela IRT'!$D$19,IF('Ficha de funcio e processa'!W20<='Tabela IRT'!$B$20,'Tabela IRT'!$D$20,IF('Ficha de funcio e processa'!W20<='Tabela IRT'!$B$21,'Tabela IRT'!$D$21,IF('Ficha de funcio e processa'!W20<='Tabela IRT'!$B$22,'Tabela IRT'!$D$22,IF('Ficha de funcio e processa'!W20<='Tabela IRT'!$B$23,'Tabela IRT'!$D$23,IF('Ficha de funcio e processa'!W20<='Tabela IRT'!$B$24,'Tabela IRT'!$D$24)))))))))))))) -> 0 | K15: =IF('Ficha de funcio e processa'!W20<='Tabela IRT'!$B$11,'Tabela IRT'!$E$11,IF('Ficha de funcio e processa'!W20<='Tabela IRT'!$B$12,'Tabela IRT'!$E$12,IF('Ficha de funcio e processa'!W20<='Tabela IRT'!$B$13,'Tabela IRT'!$E$13,IF('Ficha de funcio e processa'!W20<='Tabela IRT'!$B$14,'Tabela IRT'!$E$14,IF('Ficha de funcio e processa'!W20<='Tabela IRT'!$B$15,'Tabela IRT'!$E$15,IF('Ficha de funcio e processa'!W20<='Tabela IRT'!$B$16,'Tabela IRT'!$E$16,IF('Ficha de funcio e processa'!W20<='Tabela IRT'!$B$17,'Tabela IRT'!$E$17,IF('Ficha de funcio e processa'!W20<='Tabela IRT'!$B$18,'Tabela IRT'!$E$18,IF('Ficha de funcio e processa'!W20<='Tabela IRT'!$B$19,'Tabela IRT'!$E$19,IF('Ficha de funcio e processa'!W20<='Tabela IRT'!$B$20,'Tabela IRT'!$E$20,IF('Ficha de funcio e processa'!W20<='Tabela IRT'!$B$21,'Tabela IRT'!$E$21,IF('Ficha de funcio e processa'!W20<='Tabela IRT'!$B$22,'Tabela IRT'!$E$22,IF('Ficha de funcio e processa'!W20<='Tabela IRT'!$B$23,'Tabela IRT'!$E$23,IF('Ficha de funcio e processa'!W20<='Tabela IRT'!$B$24,'Tabela IRT'!$E$24)))))))))))))) -> 0 | L15: =IF('Ficha de funcio e processa'!W20<='Tabela IRT'!$B$11,'Tabela IRT'!$C$11,IF('Ficha de funcio e processa'!W20<='Tabela IRT'!$B$12,'Tabela IRT'!$C$12,IF('Ficha de funcio e processa'!W20<='Tabela IRT'!$B$13,'Tabela IRT'!$C$13,IF('Ficha de funcio e processa'!W20<='Tabela IRT'!$B$14,'Tabela IRT'!$C$14,IF('Ficha de funcio e processa'!W20<='Tabela IRT'!$B$15,'Tabela IRT'!$C$15,IF('Ficha de funcio e processa'!W20<='Tabela IRT'!$B$16,'Tabela IRT'!$C$16,IF('Ficha de funcio e processa'!W20<='Tabela IRT'!$B$17,'Tabela IRT'!$C$17,IF('Ficha de funcio e processa'!W20<='Tabela IRT'!$B$18,'Tabela IRT'!$C$18,IF('Ficha de funcio e processa'!W20<='Tabela IRT'!$B$19,'Tabela IRT'!$C$19,IF('Ficha de funcio e processa'!W20<='Tabela IRT'!$B$20,'Tabela IRT'!$C$20,IF('Ficha de funcio e processa'!W20<='Tabela IRT'!$B$21,'Tabela IRT'!$C$21,IF('Ficha de funcio e processa'!W20<='Tabela IRT'!$B$22,'Tabela IRT'!$C$22,IF('Ficha de funcio e processa'!W20<='Tabela IRT'!$B$23,'Tabela IRT'!$C$23,IF('Ficha de funcio e processa'!W20<='Tabela IRT'!$B$24,'Tabela IRT'!$C$24)))))))))))))) -> 0 | M15: =('Ficha de funcio e processa'!W20-30%)-L15 -> -0.3 | N15: 44 | O15: 9 | AA15: =TODAY() -> 41740 | AB15: =(AA15-Z15)/365 -> 114.35616
A16: =IF(B16>0,A15+1) -> FALSE | D16: Expatriado | G16: =TODAY() -> 41740 | H16: =F16-G16 -> -41740 | J16: =IF('Ficha de funcio e processa'!W21<='Tabela IRT'!$B$11,'Tabela IRT'!$D$11,IF('Ficha de funcio e processa'!W21<='Tabela IRT'!$B$12,'Tabela IRT'!$D$12,IF('Ficha de funcio e processa'!W21<='Tabela IRT'!$B$13,'Tabela IRT'!$D$13,IF('Ficha de funcio e processa'!W21<='Tabela IRT'!$B$14,'Tabela IRT'!$D$14,IF('Ficha de funcio e processa'!W21<='Tabela IRT'!$B$15,'Tabela IRT'!$D$15,IF('Ficha de funcio e processa'!W21<='Tabela IRT'!$B$16,'Tabela IRT'!$D$16,IF('Ficha de funcio e processa'!W21<='Tabela IRT'!$B$17,'Tabela IRT'!$D$17,IF('Ficha de funcio e processa'!W21<='Tabela IRT'!$B$18,'Tabela IRT'!$D$18,IF('Ficha de funcio e processa'!W21<='Tabela IRT'!$B$19,'Tabela IRT'!$D$19,IF('Ficha de funcio e processa'!W21<='Tabela IRT'!$B$20,'Tabela IRT'!$D$20,IF('Ficha de funcio e processa'!W21<='Tabela IRT'!$B$21,'Tabela IRT'!$D$21,IF('Ficha de funcio e processa'!W21<='Tabela IRT'!$B$22,'Tabela IRT'!$D$22,IF('Ficha de funcio e processa'!W21<='Tabela IRT'!$B$23,'Tabela IRT'!$D$23,IF('Ficha de funcio e processa'!W21<='Tabela IRT'!$B$24,'Tabela IRT'!$D$24)))))))))))))) -> 0 | K16: =IF('Ficha de funcio e processa'!W21<='Tabela IRT'!$B$11,'Tabela IRT'!$E$11,IF('Ficha de funcio e processa'!W21<='Tabela IRT'!$B$12,'Tabela IRT'!$E$12,IF('Ficha de funcio e processa'!W21<='Tabela IRT'!$B$13,'Tabela IRT'!$E$13,IF('Ficha de funcio e processa'!W21<='Tabela IRT'!$B$14,'Tabela IRT'!$E$14,IF('Ficha de funcio e processa'!W21<='Tabela IRT'!$B$15,'Tabela IRT'!$E$15,IF('Ficha de funcio e processa'!W21<='Tabela IRT'!$B$16,'Tabela IRT'!$E$16,IF('Ficha de funcio e processa'!W21<='Tabela IRT'!$B$17,'Tabela IRT'!$E$17,IF('Ficha de funcio e processa'!W21<='Tabela IRT'!$B$18,'Tabela IRT'!$E$18,IF('Ficha de funcio e processa'!W21<='Tabela IRT'!$B$19,'Tabela IRT'!$E$19,IF('Ficha de funcio e processa'!W21<='Tabela IRT'!$B$20,'Tabela IRT'!$E$20,IF('Ficha de funcio e processa'!W21<='Tabela IRT'!$B$21,'Tabela IRT'!$E$21,IF('Ficha de funcio e processa'!W21<='Tabela IRT'!$B$22,'Tabela IRT'!$E$22,IF('Ficha de funcio e processa'!W21<='Tabela IRT'!$B$23,'Tabela IRT'!$E$23,IF('Ficha de funcio e processa'!W21<='Tabela IRT'!$B$24,'Tabela IRT'!$E$24)))))))))))))) -> 0 | L16: =IF('Ficha de funcio e processa'!W21<='Tabela IRT'!$B$11,'Tabela IRT'!$C$11,IF('Ficha de funcio e processa'!W21<='Tabela IRT'!$B$12,'Tabela IRT'!$C$12,IF('Ficha de funcio e processa'!W21<='Tabela IRT'!$B$13,'Tabela IRT'!$C$13,IF('Ficha de funcio e processa'!W21<='Tabela IRT'!$B$14,'Tabela IRT'!$C$14,IF('Ficha de funcio e processa'!W21<='Tabela IRT'!$B$15,'Tabela IRT'!$C$15,IF('Ficha de funcio e processa'!W21<='Tabela IRT'!$B$16,'Tabela IRT'!$C$16,IF('Ficha de funcio e processa'!W21<='Tabela IRT'!$B$17,'Tabela IRT'!$C$17,IF('Ficha de funcio e processa'!W21<='Tabela IRT'!$B$18,'Tabela IRT'!$C$18,IF('Ficha de funcio e processa'!W21<='Tabela IRT'!$B$19,'Tabela IRT'!$C$19,IF('Ficha de funcio e processa'!W21<='Tabela IRT'!$B$20,'Tabela IRT'!$C$20,IF('Ficha de funcio e processa'!W21<='Tabela IRT'!$B$21,'Tabela IRT'!$C$21,IF('Ficha de funcio e processa'!W21<='Tabela IRT'!$B$22,'Tabela IRT'!$C$22,IF('Ficha de funcio e processa'!W21<='Tabela IRT'!$B$23,'Tabela IRT'!$C$23,IF('Ficha de funcio e processa'!W21<='Tabela IRT'!$B$24,'Tabela IRT'!$C$24)))))))))))))) -> 0 | M16: =('Ficha de funcio e processa'!W21-30%)-L16 -> -0.3 | N16: 44 | O16: 9 | AA16: =TODAY() -> 41740 | AB16: =(AA16-Z16)/365 -> 114.35616
A17: =IF(B17>0,A16+1) -> FALSE | D17: Expatriado | G17: =TODAY() -> 41740 | H17: =F17-G17 -> -41740 | J17: =IF('Ficha de funcio e processa'!W22<='Tabela IRT'!$B$11,'Tabela IRT'!$D$11,IF('Ficha de funcio e processa'!W22<='Tabela IRT'!$B$12,'Tabela IRT'!$D$12,IF('Ficha de funcio e processa'!W22<='Tabela IRT'!$B$13,'Tabela IRT'!$D$13,IF('Ficha de funcio e processa'!W22<='Tabela IRT'!$B$14,'Tabela IRT'!$D$14,IF('Ficha de funcio e processa'!W22<='Tabela IRT'!$B$15,'Tabela IRT'!$D$15,IF('Ficha de funcio e processa'!W22<='Tabela IRT'!$B$16,'Tabela IRT'!$D$16,IF('Ficha de funcio e processa'!W22<='Tabela IRT'!$B$17,'Tabela IRT'!$D$17,IF('Ficha de funcio e processa'!W22<='Tabela IRT'!$B$18,'Tabela IRT'!$D$18,IF('Ficha de funcio e processa'!W22<='Tabela IRT'!$B$19,'Tabela IRT'!$D$19,IF('Ficha de funcio e processa'!W22<='Tabela IRT'!$B$20,'Tabela IRT'!$D$20,IF('Ficha de funcio e processa'!W22<='Tabela IRT'!$B$21,'Tabela IRT'!$D$21,IF('Ficha de funcio e processa'!W22<='Tabela IRT'!$B$22,'Tabela IRT'!$D$22,IF('Ficha de funcio e processa'!W22<='Tabela IRT'!$B$23,'Tabela IRT'!$D$23,IF('Ficha de funcio e processa'!W22<='Tabela IRT'!$B$24,'Tabela IRT'!$D$24)))))))))))))) -> 0 | K17: =IF('Ficha de funcio e processa'!W22<='Tabela IRT'!$B$11,'Tabela IRT'!$E$11,IF('Ficha de funcio e processa'!W22<='Tabela IRT'!$B$12,'Tabela IRT'!$E$12,IF('Ficha de funcio e processa'!W22<='Tabela IRT'!$B$13,'Tabela IRT'!$E$13,IF('Ficha de funcio e processa'!W22<='Tabela IRT'!$B$14,'Tabela IRT'!$E$14,IF('Ficha de funcio e processa'!W22<='Tabela IRT'!$B$15,'Tabela IRT'!$E$15,IF('Ficha de funcio e processa'!W22<='Tabela IRT'!$B$16,'Tabela IRT'!$E$16,IF('Ficha de funcio e processa'!W22<='Tabela IRT'!$B$17,'Tabela IRT'!$E$17,IF('Ficha de funcio e processa'!W22<='Tabela IRT'!$B$18,'Tabela IRT'!$E$18,IF('Ficha de funcio e processa'!W22<='Tabela IRT'!$B$19,'Tabela IRT'!$E$19,IF('Ficha de funcio e processa'!W22<='Tabela IRT'!$B$20,'Tabela IRT'!$E$20,IF('Ficha de funcio e processa'!W22<='Tabela IRT'!$B$21,'Tabela IRT'!$E$21,IF('Ficha de funcio e processa'!W22<='Tabela IRT'!$B$22,'Tabela IRT'!$E$22,IF('Ficha de funcio e processa'!W22<='Tabela IRT'!$B$23,'Tabela IRT'!$E$23,IF('Ficha de funcio e processa'!W22<='Tabela IRT'!$B$24,'Tabela IRT'!$E$24)))))))))))))) -> 0 | L17: =IF('Ficha de funcio e processa'!W22<='Tabela IRT'!$B$11,'Tabela IRT'!$C$11,IF('Ficha de funcio e processa'!W22<='Tabela IRT'!$B$12,'Tabela IRT'!$C$12,IF('Ficha de funcio e processa'!W22<='Tabela IRT'!$B$13,'Tabela IRT'!$C$13,IF('Ficha de funcio e processa'!W22<='Tabela IRT'!$B$14,'Tabela IRT'!$C$14,IF('Ficha de funcio e processa'!W22<='Tabela IRT'!$B$15,'Tabela IRT'!$C$15,IF('Ficha de funcio e processa'!W22<='Tabela IRT'!$B$16,'Tabela IRT'!$C$16,IF('Ficha de funcio e processa'!W22<='Tabela IRT'!$B$17,'Tabela IRT'!$C$17,IF('Ficha de funcio e processa'!W22<='Tabela IRT'!$B$18,'Tabela IRT'!$C$18,IF('Ficha de funcio e processa'!W22<='Tabela IRT'!$B$19,'Tabela IRT'!$C$19,IF('Ficha de funcio e processa'!W22<='Tabela IRT'!$B$20,'Tabela IRT'!$C$20,IF('Ficha de funcio e processa'!W22<='Tabela IRT'!$B$21,'Tabela IRT'!$C$21,IF('Ficha de funcio e processa'!W22<='Tabela IRT'!$B$22,'Tabela IRT'!$C$22,IF('Ficha de funcio e processa'!W22<='Tabela IRT'!$B$23,'Tabela IRT'!$C$23,IF('Ficha de funcio e processa'!W22<='Tabela IRT'!$B$24,'Tabela IRT'!$C$24)))))))))))))) -> 0 | M17: =('Ficha de funcio e processa'!W22-30%)-L17 -> -0.3 | N17: 44 | O17: 9 | AA17: =TODAY() -> 41740 | AB17: =(AA17-Z17)/365 -> 114.35616
A18: =IF(B18>0,A17+1) -> FALSE | D18: Expatriado | G18: =TODAY() -> 41740 | H18: =F18-G18 -> -41740 | J18: =IF('Ficha de funcio e processa'!W23<='Tabela IRT'!$B$11,'Tabela IRT'!$D$11,IF('Ficha de funcio e processa'!W23<='Tabela IRT'!$B$12,'Tabela IRT'!$D$12,IF('Ficha de funcio e processa'!W23<='Tabela IRT'!$B$13,'Tabela IRT'!$D$13,IF('Ficha de funcio e processa'!W23<='Tabela IRT'!$B$14,'Tabela IRT'!$D$14,IF('Ficha de funcio e processa'!W23<='Tabela IRT'!$B$15,'Tabela IRT'!$D$15,IF('Ficha de funcio e processa'!W23<='Tabela IRT'!$B$16,'Tabela IRT'!$D$16,IF('Ficha de funcio e processa'!W23<='Tabela IRT'!$B$17,'Tabela IRT'!$D$17,IF('Ficha de funcio e processa'!W23<='Tabela IRT'!$B$18,'Tabela IRT'!$D$18,IF('Ficha de funcio e processa'!W23<='Tabela IRT'!$B$19,'Tabela IRT'!$D$19,IF('Ficha de funcio e processa'!W23<='Tabela IRT'!$B$20,'Tabela IRT'!$D$20,IF('Ficha de funcio e processa'!W23<='Tabela IRT'!$B$21,'Tabela IRT'!$D$21,IF('Ficha de funcio e processa'!W23<='Tabela IRT'!$B$22,'Tabela IRT'!$D$22,IF('Ficha de funcio e processa'!W23<='Tabela IRT'!$B$23,'Tabela IRT'!$D$23,IF('Ficha de funcio e processa'!W23<='Tabela IRT'!$B$24,'Tabela IRT'!$D$24)))))))))))))) -> 0 | K18: =IF('Ficha de funcio e processa'!W23<='Tabela IRT'!$B$11,'Tabela IRT'!$E$11,IF('Ficha de funcio e processa'!W23<='Tabela IRT'!$B$12,'Tabela IRT'!$E$12,IF('Ficha de funcio e processa'!W23<='Tabela IRT'!$B$13,'Tabela IRT'!$E$13,IF('Ficha de funcio e processa'!W23<='Tabela IRT'!$B$14,'Tabela IRT'!$E$14,IF('Ficha de funcio e processa'!W23<='Tabela IRT'!$B$15,'Tabela IRT'!$E$15,IF('Ficha de funcio e processa'!W23<='Tabela IRT'!$B$16,'Tabela IRT'!$E$16,IF('Ficha de funcio e processa'!W23<='Tabela IRT'!$B$17,'Tabela IRT'!$E$17,IF('Ficha de funcio e processa'!W23<='Tabela IRT'!$B$18,'Tabela IRT'!$E$18,IF('Ficha de funcio e processa'!W23<='Tabela IRT'!$B$19,'Tabela IRT'!$E$19,IF('Ficha de funcio e processa'!W23<='Tabela IRT'!$B$20,'Tabela IRT'!$E$20,IF('Ficha de funcio e processa'!W23<='Tabela IRT'!$B$21,'Tabela IRT'!$E$21,IF('Ficha de funcio e processa'!W23<='Tabela IRT'!$B$22,'Tabela IRT'!$E$22,IF('Ficha de funcio e processa'!W23<='Tabela IRT'!$B$23,'Tabela IRT'!$E$23,IF('Ficha de funcio e processa'!W23<='Tabela IRT'!$B$24,'Tabela IRT'!$E$24)))))))))))))) -> 0 | L18: =IF('Ficha de funcio e processa'!W23<='Tabela IRT'!$B$11,'Tabela IRT'!$C$11,IF('Ficha de funcio e processa'!W23<='Tabela IRT'!$B$12,'Tabela IRT'!$C$12,IF('Ficha de funcio e processa'!W23<='Tabela IRT'!$B$13,'Tabela IRT'!$C$13,IF('Ficha de funcio e processa'!W23<='Tabela IRT'!$B$14,'Tabela IRT'!$C$14,IF('Ficha de funcio e processa'!W23<='Tabela IRT'!$B$15,'Tabela IRT'!$C$15,IF('Ficha de funcio e processa'!W23<='Tabela IRT'!$B$16,'Tabela IRT'!$C$16,IF('Ficha de funcio e processa'!W23<='Tabela IRT'!$B$17,'Tabela IRT'!$C$17,IF('Ficha de funcio e processa'!W23<='Tabela IRT'!$B$18,'Tabela IRT'!$C$18,IF('Ficha de funcio e processa'!W23<='Tabela IRT'!$B$19,'Tabela IRT'!$C$19,IF('Ficha de funcio e processa'!W23<='Tabela IRT'!$B$20,'Tabela IRT'!$C$20,IF('Ficha de funcio e processa'!W23<='Tabela IRT'!$B$21,'Tabela IRT'!$C$21,IF('Ficha de funcio e processa'!W23<='Tabela IRT'!$B$22,'Tabela IRT'!$C$22,IF('Ficha de funcio e processa'!W23<='Tabela IRT'!$B$23,'Tabela IRT'!$C$23,IF('Ficha de funcio e processa'!W23<='Tabela IRT'!$B$24,'Tabela IRT'!$C$24)))))))))))))) -> 0 | M18: =('Ficha de funcio e processa'!W23-30%)-L18 -> -0.3 | N18: 44 | O18: 9 | AA18: =TODAY() -> 41740 | AB18: =(AA18-Z18)/365 -> 114.35616
A19: =IF(B19>0,A18+1) -> FALSE | D19: Expatriado | G19: =TODAY() -> 41740 | H19: =F19-G19 -> -41740 | J19: =IF('Ficha de funcio e processa'!W24<='Tabela IRT'!$B$11,'Tabela IRT'!$D$11,IF('Ficha de funcio e processa'!W24<='Tabela IRT'!$B$12,'Tabela IRT'!$D$12,IF('Ficha de funcio e processa'!W24<='Tabela IRT'!$B$13,'Tabela IRT'!$D$13,IF('Ficha de funcio e processa'!W24<='Tabela IRT'!$B$14,'Tabela IRT'!$D$14,IF('Ficha de funcio e processa'!W24<='Tabela IRT'!$B$15,'Tabela IRT'!$D$15,IF('Ficha de funcio e processa'!W24<='Tabela IRT'!$B$16,'Tabela IRT'!$D$16,IF('Ficha de funcio e processa'!W24<='Tabela IRT'!$B$17,'Tabela IRT'!$D$17,IF('Ficha de funcio e processa'!W24<='Tabela IRT'!$B$18,'Tabela IRT'!$D$18,IF('Ficha de funcio e processa'!W24<='Tabela IRT'!$B$19,'Tabela IRT'!$D$19,IF('Ficha de funcio e processa'!W24<='Tabela IRT'!$B$20,'Tabela IRT'!$D$20,IF('Ficha de funcio e processa'!W24<='Tabela IRT'!$B$21,'Tabela IRT'!$D$21,IF('Ficha de funcio e processa'!W24<='Tabela IRT'!$B$22,'Tabela IRT'!$D$22,IF('Ficha de funcio e processa'!W24<='Tabela IRT'!$B$23,'Tabela IRT'!$D$23,IF('Ficha de funcio e processa'!W24<='Tabela IRT'!$B$24,'Tabela IRT'!$D$24)))))))))))))) -> 0 | K19: =IF('Ficha de funcio e processa'!W24<='Tabela IRT'!$B$11,'Tabela IRT'!$E$11,IF('Ficha de funcio e processa'!W24<='Tabela IRT'!$B$12,'Tabela IRT'!$E$12,IF('Ficha de funcio e processa'!W24<='Tabela IRT'!$B$13,'Tabela IRT'!$E$13,IF('Ficha de funcio e processa'!W24<='Tabela IRT'!$B$14,'Tabela IRT'!$E$14,IF('Ficha de funcio e processa'!W24<='Tabela IRT'!$B$15,'Tabela IRT'!$E$15,IF('Ficha de funcio e processa'!W24<='Tabela IRT'!$B$16,'Tabela IRT'!$E$16,IF('Ficha de funcio e processa'!W24<='Tabela IRT'!$B$17,'Tabela IRT'!$E$17,IF('Ficha de funcio e processa'!W24<='Tabela IRT'!$B$18,'Tabela IRT'!$E$18,IF('Ficha de funcio e processa'!W24<='Tabela IRT'!$B$19,'Tabela IRT'!$E$19,IF('Ficha de funcio e processa'!W24<='Tabela IRT'!$B$20,'Tabela IRT'!$E$20,IF('Ficha de funcio e processa'!W24<='Tabela IRT'!$B$21,'Tabela IRT'!$E$21,IF('Ficha de funcio e processa'!W24<='Tabela IRT'!$B$22,'Tabela IRT'!$E$22,IF('Ficha de funcio e processa'!W24<='Tabela IRT'!$B$23,'Tabela IRT'!$E$23,IF('Ficha de funcio e processa'!W24<='Tabela IRT'!$B$24,'Tabela IRT'!$E$24)))))))))))))) -> 0 | L19: =IF('Ficha de funcio e processa'!W24<='Tabela IRT'!$B$11,'Tabela IRT'!$C$11,IF('Ficha de funcio e processa'!W24<='Tabela IRT'!$B$12,'Tabela IRT'!$C$12,IF('Ficha de funcio e processa'!W24<='Tabela IRT'!$B$13,'Tabela IRT'!$C$13,IF('Ficha de funcio e processa'!W24<='Tabela IRT'!$B$14,'Tabela IRT'!$C$14,IF('Ficha de funcio e processa'!W24<='Tabela IRT'!$B$15,'Tabela IRT'!$C$15,IF('Ficha de funcio e processa'!W24<='Tabela IRT'!$B$16,'Tabela IRT'!$C$16,IF('Ficha de funcio e processa'!W24<='Tabela IRT'!$B$17,'Tabela IRT'!$C$17,IF('Ficha de funcio e processa'!W24<='Tabela IRT'!$B$18,'Tabela IRT'!$C$18,IF('Ficha de funcio e processa'!W24<='Tabela IRT'!$B$19,'Tabela IRT'!$C$19,IF('Ficha de funcio e processa'!W24<='Tabela IRT'!$B$20,'Tabela IRT'!$C$20,IF('Ficha de funcio e processa'!W24<='Tabela IRT'!$B$21,'Tabela IRT'!$C$21,IF('Ficha de funcio e processa'!W24<='Tabela IRT'!$B$22,'Tabela IRT'!$C$22,IF('Ficha de funcio e processa'!W24<='Tabela IRT'!$B$23,'Tabela IRT'!$C$23,IF('Ficha de funcio e processa'!W24<='Tabela IRT'!$B$24,'Tabela IRT'!$C$24)))))))))))))) -> 0 | M19: =('Ficha de funcio e processa'!W24-30%)-L19 -> -0.3 | N19: 44 | O19: 9 | AA19: =TODAY() -> 41740 | AB19: =(AA19-Z19)/365 -> 114.35616
A20: =IF(B20>0,A19+1) -> FALSE | D20: Expatriado | G20: =TODAY() -> 41740 | H20: =F20-G20 -> -41740 | J20: =IF('Ficha de funcio e processa'!W25<='Tabela IRT'!$B$11,'Tabela IRT'!$D$11,IF('Ficha de funcio e processa'!W25<='Tabela IRT'!$B$12,'Tabela IRT'!$D$12,IF('Ficha de funcio e processa'!W25<='Tabela IRT'!$B$13,'Tabela IRT'!$D$13,IF('Ficha de funcio e processa'!W25<='Tabela IRT'!$B$14,'Tabela IRT'!$D$14,IF('Ficha de funcio e processa'!W25<='Tabela IRT'!$B$15,'Tabela IRT'!$D$15,IF('Ficha de funcio e processa'!W25<='Tabela IRT'!$B$16,'Tabela IRT'!$D$16,IF('Ficha de funcio e processa'!W25<='Tabela IRT'!$B$17,'Tabela IRT'!$D$17,IF('Ficha de funcio e processa'!W25<='Tabela IRT'!$B$18,'Tabela IRT'!$D$18,IF('Ficha de funcio e processa'!W25<='Tabela IRT'!$B$19,'Tabela IRT'!$D$19,IF('Ficha de funcio e processa'!W25<='Tabela IRT'!$B$20,'Tabela IRT'!$D$20,IF('Ficha de funcio e processa'!W25<='Tabela IRT'!$B$21,'Tabela IRT'!$D$21,IF('Ficha de funcio e processa'!W25<='Tabela IRT'!$B$22,'Tabela IRT'!$D$22,IF('Ficha de funcio e processa'!W25<='Tabela IRT'!$B$23,'Tabela IRT'!$D$23,IF('Ficha de funcio e processa'!W25<='Tabela IRT'!$B$24,'Tabela IRT'!$D$24)))))))))))))) -> 0 | K20: =IF('Ficha de funcio e processa'!W25<='Tabela IRT'!$B$11,'Tabela IRT'!$E$11,IF('Ficha de funcio e processa'!W25<='Tabela IRT'!$B$12,'Tabela IRT'!$E$12,IF('Ficha de funcio e processa'!W25<='Tabela IRT'!$B$13,'Tabela IRT'!$E$13,IF('Ficha de funcio e processa'!W25<='Tabela IRT'!$B$14,'Tabela IRT'!$E$14,IF('Ficha de funcio e processa'!W25<='Tabela IRT'!$B$15,'Tabela IRT'!$E$15,IF('Ficha de funcio e processa'!W25<='Tabela IRT'!$B$16,'Tabela IRT'!$E$16,IF('Ficha de funcio e processa'!W25<='Tabela IRT'!$B$17,'Tabela IRT'!$E$17,IF('Ficha de funcio e processa'!W25<='Tabela IRT'!$B$18,'Tabela IRT'!$E$18,IF('Ficha de funcio e processa'!W25<='Tabela IRT'!$B$19,'Tabela IRT'!$E$19,IF('Ficha de funcio e processa'!W25<='Tabela IRT'!$B$20,'Tabela IRT'!$E$20,IF('Ficha de funcio e processa'!W25<='Tabela IRT'!$B$21,'Tabela IRT'!$E$21,IF('Ficha de funcio e processa'!W25<='Tabela IRT'!$B$22,'Tabela IRT'!$E$22,IF('Ficha de funcio e processa'!W25<='Tabela IRT'!$B$23,'Tabela IRT'!$E$23,IF('Ficha de funcio e processa'!W25<='Tabela IRT'!$B$24,'Tabela IRT'!$E$24)))))))))))))) -> 0 | L20: =IF('Ficha de funcio e processa'!W25<='Tabela IRT'!$B$11,'Tabela IRT'!$C$11,IF('Ficha de funcio e processa'!W25<='Tabela IRT'!$B$12,'Tabela IRT'!$C$12,IF('Ficha de funcio e processa'!W25<='Tabela IRT'!$B$13,'Tabela IRT'!$C$13,IF('Ficha de funcio e processa'!W25<='Tabela IRT'!$B$14,'Tabela IRT'!$C$14,IF('Ficha de funcio e processa'!W25<='Tabela IRT'!$B$15,'Tabela IRT'!$C$15,IF('Ficha de funcio e processa'!W25<='Tabela IRT'!$B$16,'Tabela IRT'!$C$16,IF('Ficha de funcio e processa'!W25<='Tabela IRT'!$B$17,'Tabela IRT'!$C$17,IF('Ficha de funcio e processa'!W25<='Tabela IRT'!$B$18,'Tabela IRT'!$C$18,IF('Ficha de funcio e processa'!W25<='Tabela IRT'!$B$19,'Tabela IRT'!$C$19,IF('Ficha de funcio e processa'!W25<='Tabela IRT'!$B$20,'Tabela IRT'!$C$20,IF('Ficha de funcio e processa'!W25<='Tabela IRT'!$B$21,'Tabela IRT'!$C$21,IF('Ficha de funcio e processa'!W25<='Tabela IRT'!$B$22,'Tabela IRT'!$C$22,IF('Ficha de funcio e processa'!W25<='Tabela IRT'!$B$23,'Tabela IRT'!$C$23,IF('Ficha de funcio e processa'!W25<='Tabela IRT'!$B$24,'Tabela IRT'!$C$24)))))))))))))) -> 0 | M20: =('Ficha de funcio e processa'!W25-30%)-L20 -> -0.3 | N20: 44 | O20: 9 | AA20: =TODAY() -> 41740 | AB20: =(AA20-Z20)/365 -> 114.35616
A21: =IF(B21>0,A20+1) -> FALSE | D21: Expatriado | G21: =TODAY() -> 41740 | H21: =F21-G21 -> -41740 | J21: =IF('Ficha de funcio e processa'!W26<='Tabela IRT'!$B$11,'Tabela IRT'!$D$11,IF('Ficha de funcio e processa'!W26<='Tabela IRT'!$B$12,'Tabela IRT'!$D$12,IF('Ficha de funcio e processa'!W26<='Tabela IRT'!$B$13,'Tabela IRT'!$D$13,IF('Ficha de funcio e processa'!W26<='Tabela IRT'!$B$14,'Tabela IRT'!$D$14,IF('Ficha de funcio e processa'!W26<='Tabela IRT'!$B$15,'Tabela IRT'!$D$15,IF('Ficha de funcio e processa'!W26<='Tabela IRT'!$B$16,'Tabela IRT'!$D$16,IF('Ficha de funcio e processa'!W26<='Tabela IRT'!$B$17,'Tabela IRT'!$D$17,IF('Ficha de funcio e processa'!W26<='Tabela IRT'!$B$18,'Tabela IRT'!$D$18,IF('Ficha de funcio e processa'!W26<='Tabela IRT'!$B$19,'Tabela IRT'!$D$19,IF('Ficha de funcio e processa'!W26<='Tabela IRT'!$B$20,'Tabela IRT'!$D$20,IF('Ficha de funcio e processa'!W26<='Tabela IRT'!$B$21,'Tabela IRT'!$D$21,IF('Ficha de funcio e processa'!W26<='Tabela IRT'!$B$22,'Tabela IRT'!$D$22,IF('Ficha de funcio e processa'!W26<='Tabela IRT'!$B$23,'Tabela IRT'!$D$23,IF('Ficha de funcio e processa'!W26<='Tabela IRT'!$B$24,'Tabela IRT'!$D$24)))))))))))))) -> 0 | K21: =IF('Ficha de funcio e processa'!W26<='Tabela IRT'!$B$11,'Tabela IRT'!$E$11,IF('Ficha de funcio e processa'!W26<='Tabela IRT'!$B$12,'Tabela IRT'!$E$12,IF('Ficha de funcio e processa'!W26<='Tabela IRT'!$B$13,'Tabela IRT'!$E$13,IF('Ficha de funcio e processa'!W26<='Tabela IRT'!$B$14,'Tabela IRT'!$E$14,IF('Ficha de funcio e processa'!W26<='Tabela IRT'!$B$15,'Tabela IRT'!$E$15,IF('Ficha de funcio e processa'!W26<='Tabela IRT'!$B$16,'Tabela IRT'!$E$16,IF('Ficha de funcio e processa'!W26<='Tabela IRT'!$B$17,'Tabela IRT'!$E$17,IF('Ficha de funcio e processa'!W26<='Tabela IRT'!$B$18,'Tabela IRT'!$E$18,IF('Ficha de funcio e processa'!W26<='Tabela IRT'!$B$19,'Tabela IRT'!$E$19,IF('Ficha de funcio e processa'!W26<='Tabela IRT'!$B$20,'Tabela IRT'!$E$20,IF('Ficha de funcio e processa'!W26<='Tabela IRT'!$B$21,'Tabela IRT'!$E$21,IF('Ficha de funcio e processa'!W26<='Tabela IRT'!$B$22,'Tabela IRT'!$E$22,IF('Ficha de funcio e processa'!W26<='Tabela IRT'!$B$23,'Tabela IRT'!$E$23,IF('Ficha de funcio e processa'!W26<='Tabela IRT'!$B$24,'Tabela IRT'!$E$24)))))))))))))) -> 0 | L21: =IF('Ficha de funcio e processa'!W26<='Tabela IRT'!$B$11,'Tabela IRT'!$C$11,IF('Ficha de funcio e processa'!W26<='Tabela IRT'!$B$12,'Tabela IRT'!$C$12,IF('Ficha de funcio e processa'!W26<='Tabela IRT'!$B$13,'Tabela IRT'!$C$13,IF('Ficha de funcio e processa'!W26<='Tabela IRT'!$B$14,'Tabela IRT'!$C$14,IF('Ficha de funcio e processa'!W26<='Tabela IRT'!$B$15,'Tabela IRT'!$C$15,IF('Ficha de funcio e processa'!W26<='Tabela IRT'!$B$16,'Tabela IRT'!$C$16,IF('Ficha de funcio e processa'!W26<='Tabela IRT'!$B$17,'Tabela IRT'!$C$17,IF('Ficha de funcio e processa'!W26<='Tabela IRT'!$B$18,'Tabela IRT'!$C$18,IF('Ficha de funcio e processa'!W26<='Tabela IRT'!$B$19,'Tabela IRT'!$C$19,IF('Ficha de funcio e processa'!W26<='Tabela IRT'!$B$20,'Tabela IRT'!$C$20,IF('Ficha de funcio e processa'!W26<='Tabela IRT'!$B$21,'Tabela IRT'!$C$21,IF('Ficha de funcio e processa'!W26<='Tabela IRT'!$B$22,'Tabela IRT'!$C$22,IF('Ficha de funcio e processa'!W26<='Tabela IRT'!$B$23,'Tabela IRT'!$C$23,IF('Ficha de funcio e processa'!W26<='Tabela IRT'!$B$24,'Tabela IRT'!$C$24)))))))))))))) -> 0 | M21: =('Ficha de funcio e processa'!W26-30%)-L21 -> -0.3 | N21: 44 | O21: 9 | AA21: =TODAY() -> 41740 | AB21: =(AA21-Z21)/365 -> 114.35616
A22: =IF(B22>0,A21+1) -> FALSE | D22: Expatriado | G22: =TODAY() -> 41740 | H22: =F22-G22 -> -41740 | J22: =IF('Ficha de funcio e processa'!W27<='Tabela IRT'!$B$11,'Tabela IRT'!$D$11,IF('Ficha de funcio e processa'!W27<='Tabela IRT'!$B$12,'Tabela IRT'!$D$12,IF('Ficha de funcio e processa'!W27<='Tabela IRT'!$B$13,'Tabela IRT'!$D$13,IF('Ficha de funcio e processa'!W27<='Tabela IRT'!$B$14,'Tabela IRT'!$D$14,IF('Ficha de funcio e processa'!W27<='Tabela IRT'!$B$15,'Tabela IRT'!$D$15,IF('Ficha de funcio e processa'!W27<='Tabela IRT'!$B$16,'Tabela IRT'!$D$16,IF('Ficha de funcio e processa'!W27<='Tabela IRT'!$B$17,'Tabela IRT'!$D$17,IF('Ficha de funcio e processa'!W27<='Tabela IRT'!$B$18,'Tabela IRT'!$D$18,IF('Ficha de funcio e processa'!W27<='Tabela IRT'!$B$19,'Tabela IRT'!$D$19,IF('Ficha de funcio e processa'!W27<='Tabela IRT'!$B$20,'Tabela IRT'!$D$20,IF('Ficha de funcio e processa'!W27<='Tabela IRT'!$B$21,'Tabela IRT'!$D$21,IF('Ficha de funcio e processa'!W27<='Tabela IRT'!$B$22,'Tabela IRT'!$D$22,IF('Ficha de funcio e processa'!W27<='Tabela IRT'!$B$23,'Tabela IRT'!$D$23,IF('Ficha de funcio e processa'!W27<='Tabela IRT'!$B$24,'Tabela IRT'!$D$24)))))))))))))) -> 0 | K22: =IF('Ficha de funcio e processa'!W27<='Tabela IRT'!$B$11,'Tabela IRT'!$E$11,IF('Ficha de funcio e processa'!W27<='Tabela IRT'!$B$12,'Tabela IRT'!$E$12,IF('Ficha de funcio e processa'!W27<='Tabela IRT'!$B$13,'Tabela IRT'!$E$13,IF('Ficha de funcio e processa'!W27<='Tabela IRT'!$B$14,'Tabela IRT'!$E$14,IF('Ficha de funcio e processa'!W27<='Tabela IRT'!$B$15,'Tabela IRT'!$E$15,IF('Ficha de funcio e processa'!W27<='Tabela IRT'!$B$16,'Tabela IRT'!$E$16,IF('Ficha de funcio e processa'!W27<='Tabela IRT'!$B$17,'Tabela IRT'!$E$17,IF('Ficha de funcio e processa'!W27<='Tabela IRT'!$B$18,'Tabela IRT'!$E$18,IF('Ficha de funcio e processa'!W27<='Tabela IRT'!$B$19,'Tabela IRT'!$E$19,IF('Ficha de funcio e processa'!W27<='Tabela IRT'!$B$20,'Tabela IRT'!$E$20,IF('Ficha de funcio e processa'!W27<='Tabela IRT'!$B$21,'Tabela IRT'!$E$21,IF('Ficha de funcio e processa'!W27<='Tabela IRT'!$B$22,'Tabela IRT'!$E$22,IF('Ficha de funcio e processa'!W27<='Tabela IRT'!$B$23,'Tabela IRT'!$E$23,IF('Ficha de funcio e processa'!W27<='Tabela IRT'!$B$24,'Tabela IRT'!$E$24)))))))))))))) -> 0 | L22: =IF('Ficha de funcio e processa'!W27<='Tabela IRT'!$B$11,'Tabela IRT'!$C$11,IF('Ficha de funcio e processa'!W27<='Tabela IRT'!$B$12,'Tabela IRT'!$C$12,IF('Ficha de funcio e processa'!W27<='Tabela IRT'!$B$13,'Tabela IRT'!$C$13,IF('Ficha de funcio e processa'!W27<='Tabela IRT'!$B$14,'Tabela IRT'!$C$14,IF('Ficha de funcio e processa'!W27<='Tabela IRT'!$B$15,'Tabela IRT'!$C$15,IF('Ficha de funcio e processa'!W27<='Tabela IRT'!$B$16,'Tabela IRT'!$C$16,IF('Ficha de funcio e processa'!W27<='Tabela IRT'!$B$17,'Tabela IRT'!$C$17,IF('Ficha de funcio e processa'!W27<='Tabela IRT'!$B$18,'Tabela IRT'!$C$18,IF('Ficha de funcio e processa'!W27<='Tabela IRT'!$B$19,'Tabela IRT'!$C$19,IF('Ficha de funcio e processa'!W27<='Tabela IRT'!$B$20,'Tabela IRT'!$C$20,IF('Ficha de funcio e processa'!W27<='Tabela IRT'!$B$21,'Tabela IRT'!$C$21,IF('Ficha de funcio e processa'!W27<='Tabela IRT'!$B$22,'Tabela IRT'!$C$22,IF('Ficha de funcio e processa'!W27<='Tabela IRT'!$B$23,'Tabela IRT'!$C$23,IF('Ficha de funcio e processa'!W27<='Tabela IRT'!$B$24,'Tabela IRT'!$C$24)))))))))))))) -> 0 | M22: =('Ficha de funcio e processa'!W27-30%)-L22 -> -0.3 | N22: 44 | O22: 9 | AA22: =TODAY() -> 41740 | AB22: =(AA22-Z22)/365 -> 114.35616
