Workbook

Sheet teste
A1: ANÁLISE DE CUSTOS DE FUNCIONAMENTO | G1: ANÁLISE DE PROVEITOS OPERACIONAIS | M1: ANÁLISE DE CUSTOS OPERACIONAIS
B2: RUBRICA | C2: CONTA | D2: VALOR | E2: ACUMULADO | H2: RUBRICA | I2: CONTA | J2: VALOR | K2: ACUMULADO | N2: RUBRICA | O2: CONTA | P2: VALOR | Q2: ACUMULADO
D3: MENSAL | E3: OBS. | J3: MENSAL | P3: MENSAL | T3: COMPARAÇÃO PROVEITOS vs CUSTOS | U3: ACUMULADO
B4: ACTIVOS ( NÃO SOMA A CUSTOS MENSAIS ) | C4: 43+44 | D4: 0 | E4: ='[1]Junho 2014'!$E$4+D4 -> 33758.32 | G4: 1 | H4: PRESTAÇÕES DE SERVIÇOS SUJEITAS A IVA | I4: 721 | J4: =SUM(J5:J15) -> 0 | K4: ='[1]Junho 2014'!K4+teste!J4 -> 255800.38 | M4: 1 | N4: SUBCONTRATOS SUJEITOS A IVA | O4: 621 | P4: =SUM(P5:P12) -> 0 | Q4: ='[1]Junho 2014'!Q4+teste!P4 -> 126451.09 | S4: SUJEITOS A IVA | T4: 721 - 621
B5: Portátil HP Envy 15-J100NPI5 | C5: 433162 | D5: 0 | E5: VALORES COM MAIOR PESO | H5: Estadias Port.Cont./Ilhas/Comum.Europeia | I5: 721101 | K5: ='[1]Junho 2014'!K5+teste!J5 -> 59811.34 | N5: Estadias Port.Cont./Ilhas/Comum.Europeia | O5: 621101 | Q5: ='[1]Junho 2014'!Q5+teste!P5 -> 57010.83 | S5: Estadias Port.Cont./Ilhas/Comum.Europeia | T5: =J5-P5 -> 0 | U5: ='[1]Junho 2014'!U5+teste!T5 -> 2800.51
H6: Operador Port.Cont./Ilhas/Comum.Europeia | I6: 721102 | K6: ='[1]Junho 2014'!K6+teste!J6 -> 11850.2 | N6: Operador Port.Cont./Ilhas/Comum.Europeia | O6: 621102 | Q6: ='[1]Junho 2014'!Q6+teste!P6 -> 14121.1 | S6: Operador Port.Cont./Ilhas/Comum.Europeia | T6: =J6-P6 -> 0 | U6: ='[1]Junho 2014'!U6+teste!T6 -> -2270.9
H7: Rent a car Port.Cont./Ilhas/Comum.Europeia | I7: 721103 | K7: ='[1]Junho 2014'!K7+teste!J7 -> 557.48 | N7: Rent a car Port.Cont./Ilhas/Comum.Europeia | O7: 621103 | Q7: ='[1]Junho 2014'!Q7+teste!P7 -> 519.29 | S7: Rent a car Port.Cont./Ilhas/Comum.Europeia | T7: =J7-P7 -> 0 | U7: ='[1]Junho 2014'!U7+teste!T7 -> 38.19
H8: Vistos Port.Cont./Ilhas/Comum.Europeia | I8: 721104 | K8: ='[1]Junho 2014'!K8+teste!J8 -> 0 | N8: Vistos Port.Cont./Ilhas/Comum.Europeia | O8: 621104 | Q8: ='[1]Junho 2014'!Q8+teste!P8 -> 0 | S8: Vistos Port.Cont./Ilhas/Comum.Europeia | T8: =J8-P8 -> 0 | U8: ='[1]Junho 2014'!U8+teste!T8 -> 0
A9: 2 | B9: SERVIÇOS ESPECIALIZADOS | C9: 622 | D9: 0 | E9: ='[1]Junho 2014'!$E$9+D9 -> 12573.92 | H9: Pacotes Tryvel Port.Cont./Ilhas/Comum.Europeia | I9: 721105 | K9: ='[1]Junho 2014'!K9+teste!J9 -> 151501.52 | N9: Pacotes Tryvel Port.Cont./Ilhas/Comum.Europeia | O9: 621105 | Q9: ='[1]Junho 2014'!Q9+teste!P9 -> 43131.88 | S9: Pacotes Tryvel Port.Cont./Ilhas/Comum.Europeia | T9: =J9-P9 -> 0 | U9: ='[1]Junho 2014'!U9+teste!T9 -> 108369.64
B10: Honorários | C10: 622412+5 | D10: 0 | E10: VALORES COM MAIOR PESO | H10: Seguros Viagem Port.Cont./Ilhas/Comum.Europeia | I10: 721106 | K10: ='[1]Junho 2014'!K10+teste!J10 -> 60 | N10: Seguros Viagem Port.Cont./Ilhas/Comum.Europeia | O10: 621106 | Q10: ='[1]Junho 2014'!Q10+teste!P10 -> 1441.75 | S10: Seguros Viagem Port.Cont./Ilhas/Comum.Europeia | T10: =J10-P10 -> 0 | U10: ='[1]Junho 2014'!U10+teste!T10 -> -1381.75
B11: Despesas com serviços bancários | C11: 622715 | D11: 0 | H11: Diversos Port.Cont./Ilhas/Comum.Europeia | I11: 721107 | K11: ='[1]Junho 2014'!K11+teste!J11 -> 28417.1 | N11: Diversos Port.Cont./Ilhas/Comum.Europeia | O11: 621107 | Q11: ='[1]Junho 2014'!Q11+teste!P11 -> 10177.48 | S11: Diversos Port.Cont./Ilhas/Comum.Europeia | T11: =J11-P11 -> 0 | U11: ='[1]Junho 2014'!U11+teste!T11 -> 18239.62
H12: Aviação Portugal Continental | I12: 721301 | K12: ='[1]Junho 2014'!K12+teste!J12 -> 3309.25 | N12: Aviação Portugal Continental | O12: 621301 | Q12: ='[1]Junho 2014'!Q12+teste!P12 -> 48.76 | S12: Aviação Portugal Continental | T12: =J12-P12 -> 0 | U12: ='[1]Junho 2014'!U12+teste!T12 -> 3260.49
A13: 3 | B13: MATERIAIS | C13: 623 | D13: 0 | E13: ='[1]Junho 2014'!$E$13+D13 -> 11295.85 | H13: Despesas de reserva - Taxa Normal | I13: 721401 | K13: ='[1]Junho 2014'!K13+teste!J13 -> 0 | S13: Despesas de reserva - Taxa Normal | T13: =J13-P13 -> 0 | U13: ='[1]Junho 2014'!U13+teste!T13 -> 0
B14: Ferramentas e utensílios de desgaste rápido | C14: 623112 | D14: 0 | E14: VALORES COM MAIOR PESO | H14: Comissões - Taxa Normal | I14: 721402 | K14: ='[1]Junho 2014'!K14+teste!J14 -> 0.39 | S14: Comissões - Taxa Normal | T14: =J14-P14 -> 0 | U14: ='[1]Junho 2014'!U14+teste!T14 -> 0.39
B15: Material de escritório | C15: 623312+5 | D15: 0 | H15: Rappel de fornecedores - Taxa Normal | I15: 721412 | K15: ='[1]Junho 2014'!K15+teste!J15 -> 293.1 | S15: Rappel de fornecedores - Taxa Normal | T15: =J15-P15 -> 0 | U15: ='[1]Junho 2014'!U15+teste!T15 -> 293.1
H16: REEMBOLSOS DE SERVIÇOS SUJEITOS A IVA | I16: 727 | J16: =SUM(J17:J26) -> 0 | K16: ='[1]Junho 2014'!K16+teste!J16 -> 32623.31 | S16: REEMBOLSOS C/IVA
A17: 4 | B17: ENERGIA E FLUIDOS | C17: 624 | D17: 0 | E17: ='[1]Junho 2014'!$E$17+D17 -> 2165.35 | H17: Estadias Port.Cont./Ilhas/Comum.Europeia | I17: 727101 | K17: ='[1]Junho 2014'!K17+teste!J17 -> 60 | S17: Estadias Port.Cont./Ilhas/Comum.Europeia | T17: =J17-P17 -> 0 | U17: ='[1]Junho 2014'!U17+teste!T17 -> 60
B18: Electricidade | C18: 624111+624112 | D18: 0 | E18: VALORES COM MAIOR PESO | H18: Operador Port.Cont./Ilhas/Comum.Europeia | I18: 727102 | K18: ='[1]Junho 2014'!K18+teste!J18 -> 68.31 | S18: Operador Port.Cont./Ilhas/Comum.Europeia | T18: =J18-P18 -> 0 | U18: ='[1]Junho 2014'!U18+teste!T18 -> 68.31
B19: Gasóleo | C19: 624212 | D19: 0 | H19: Rent a car Port.Cont./Ilhas/Comum.Europeia | I19: 727103 | K19: ='[1]Junho 2014'!K19+teste!J19 -> 15 | S19: Rent a car Port.Cont./Ilhas/Comum.Europeia | T19: =J19-P19 -> 0 | U19: ='[1]Junho 2014'!U19+teste!T19 -> 15
H20: Vistos Port.Cont./Ilhas/Comum.Europeia | I20: 727104 | K20: ='[1]Junho 2014'!K20+teste!J20 -> 0
A21: 5 | B21: DESLOCAÇÕES, ESTADAS E TRANSPORTES | C21: 625 | D21: 0 | E21: ='[1]Junho 2014'!$E$21+D21 -> 738.53 | H21: Pacotes Tryvel Port.Cont./Ilhas/Comum.Europeia | I21: 727105 | K21: ='[1]Junho 2014'!K21+teste!J21 -> 30390 | S21: Pacotes Tryvel Port.Cont./Ilhas/Comum.Europeia | T21: =J21-P21 -> 0 | U21: ='[1]Junho 2014'!U21+teste!T21 -> 30390
B22: Deslocações e estadas ( orgãos sociais ) | C22: 625115 | D22: 0 | E22: VALORES COM MAIOR PESO | H22: Seguros Viagem Port.Cont./Ilhas/Comum.Europeia | I22: 727106 | K22: ='[1]Junho 2014'!K22+teste!J22 -> 0
H23: Diversos Port.Cont./Ilhas/Comum.Europeia | I23: 727107 | K23: ='[1]Junho 2014'!K23+teste!J23 -> 2090 | S23: Diversos Port.Cont./Ilhas/Comum.Europeia | T23: =J23-P23 -> 0 | U23: ='[1]Junho 2014'!U23+teste!T23 -> 2090
A24: 6 | B24: SERVIÇOS DIVERSOS | C24: 626 | D24: 0 | E24: ='[1]Junho 2014'!$E$24+D24 -> 22197.33 | H24: Aviação Portugal Continental | I24: 727301 | K24: ='[1]Junho 2014'!K24+teste!J24 -> 0
B25: Rendas e alugueres | C25: 626115 | D25: 0 | E25: VALORES COM MAIOR PESO | H25: Despesas de reserva - Taxa Normal | I25: 727401 | K25: ='[1]Junho 2014'!K25+teste!J25 -> 0
B26: Despesas de representação | C26: 626615 | D26: 0 | H26: Comissões - Taxa Normal | I26: 727402 | K26: ='[1]Junho 2014'!K26+teste!J26 -> 0
H27: PRESTAÇÕES DE SERVIÇOS SUJEITAS A IVA | I27: TOTAL | J27: =J4-J16 -> 0 | K27: ='[1]Junho 2014'!K27+teste!J27 -> 223177.07
A28: 7 | B28: GASTOS COM O PESSOAL | C28: 63 | D28: 0 | E28: ='[1]Junho 2014'!$E$28+D28 -> 48035.81
B29: Remunerações dos orgãos sociais | C29: 6311 | D29: 0 | E29: VALORES COM MAIOR PESO | G29: 2 | T29: COMPARAÇÃO PROVEITOS vs CUSTOS | U29: ACUMULADO
B30: Remunerações do pessoal | C30: 6321 | D30: 0 | H30: PRESTAÇÕES DE SERVIÇOS ISENTAS DE IVA | I30: 721 | J30: =SUM(J31:J42) -> 0 | K30: ='[1]Junho 2014'!K30+teste!J30 -> 2240532.7 | M30: 2 | N30: SUBCONTRATOS ISENTOS DE IVA | O30: 621 | P30: =SUM(P31:P41) -> 0 | Q30: ='[1]Junho 2014'!Q30+teste!P30 -> 1810468.6 | S30: ISENTOS DE IVA | T30: 721 - 621
H31: Estadias Extracomunitárias | I31: 721201 | K31: ='[1]Junho 2014'!K31+teste!J31 -> 20844 | N31: Estadias Extracomunitárias | O31: 621201 | Q31: ='[1]Junho 2014'!Q31+teste!P31 -> 17212.41 | S31: Estadias Extracomunitárias | T31: =J31-P31 -> 0 | U31: ='[1]Junho 2014'!U31+teste!T31 -> 3631.59
A32: 7 | B32: GASTOS DEPRECIAÇÃO-AMORTIZ. | C32: 64 | D32: 0 | E32: ='[1]Junho 2014'!$E$32+D32 -> 0 | H32: Operador Extracomunitárias | I32: 721202 | K32: ='[1]Junho 2014'!K32+teste!J32 -> 69682.5 | N32: Operador Extracomunitárias | O32: 621202 | Q32: ='[1]Junho 2014'!Q32+teste!P32 -> 16259.3 | S32: Operador Extracomunitárias | T32: =J32-P32 -> 0 | U32: ='[1]Junho 2014'!U32+teste!T32 -> 53423.2
E33: VALORES COM MAIOR PESO | H33: Rent a car Extracomunitárias | I33: 721203 | K33: ='[1]Junho 2014'!K33+teste!J33 -> 0 | N33: Rent a car Extracomunitárias | O33: 621203 | Q33: ='[1]Junho 2014'!Q33+teste!P33 -> 0 | S33: Rent a car Extracomunitárias | T33: =J33-P33 -> 0 | U33: ='[1]Junho 2014'!U33+teste!T33 -> 0
H34: Vistos Extracomunitárias | I34: 721204 | K34: ='[1]Junho 2014'!K34+teste!J34 -> 1515.4 | N34: Vistos Extracomunitárias | O34: 621204 | Q34: ='[1]Junho 2014'!Q34+teste!P34 -> 3448.8 | S34: Vistos Extracomunitárias | T34: =J34-P34 -> 0 | U34: ='[1]Junho 2014'!U34+teste!T34 -> -1933.4
H35: Pacotes Tryvel Extracomunitárias | I35: 721205 | K35: ='[1]Junho 2014'!K35+teste!J35 -> 1809557.5 | N35: Pacotes Tryvel Extracomunitárias | O35: 621205 | Q35: ='[1]Junho 2014'!Q35+teste!P35 -> 1335035.4 | S35: Pacotes Tryvel Extracomunitárias | T35: =J35-P35 -> 0 | U35: ='[1]Junho 2014'!U35+teste!T35 -> 474522.08
A36: 8 | H36: Seguros Viagem Extracomunitárias | I36: 721206 | K36: ='[1]Junho 2014'!K36+teste!J36 -> 206 | N36: Seguros Viagem Extracomunitárias | O36: 621206 | Q36: ='[1]Junho 2014'!Q36+teste!P36 -> 726.23 | S36: Seguros Viagem Extracomunitárias | T36: =J36-P36 -> 0 | U36: ='[1]Junho 2014'!U36+teste!T36 -> -520.23
B37: OUTROS GASTOS E PERDAS | C37: 68 | D37: 0 | E37: ='[1]Junho 2014'!$E$37+D37 -> 1151.06 | H37: Diversos Extracomunitárias | I37: 721207 | K37: ='[1]Junho 2014'!K37+teste!J37 -> 442 | N37: Diversos Extracomunitárias | O37: 621207 | Q37: ='[1]Junho 2014'!Q37+teste!P37 -> 54721.6 | S37: Diversos Extracomunitárias | T37: =J37-P37 -> 0 | U37: ='[1]Junho 2014'!U37+teste!T37 -> -54279.6
B38: Quotizações | C38: 68831+68832 | D38: 0 | E38: VALORES COM MAIOR PESO | H38: Aviação Internacional | I38: 721302 | K38: ='[1]Junho 2014'!K38+teste!J38 -> 243500.59 | N38: Aviação Internacional | O38: 621302 | Q38: ='[1]Junho 2014'!Q38+teste!P38 -> 283981.13 | S38: Aviação Internacional | T38: =J38-P38 -> 0 | U38: ='[1]Junho 2014'!U38+teste!T38 -> -40480.54
H39: Taxas de aeroporto | I39: 721303 | K39: ='[1]Junho 2014'!K39+teste!J39 -> 91344.97 | N39: Taxas de aeroporto | O39: 621303 | Q39: ='[1]Junho 2014'!Q39+teste!P39 -> 99083.67 | S39: Taxas de aeroporto | T39: =J39-P39 -> 0 | U39: ='[1]Junho 2014'!U39+teste!T39 -> -7738.7
H40: Taxa XP | I40: 721304 | K40: ='[1]Junho 2014'!K40+teste!J40 -> 36 | N40: Taxa XP | O40: 621304 | Q40: ='[1]Junho 2014'!Q40+teste!P40 -> 0 | S40: Taxa XP | T40: =J40-P40 -> 0 | U40: ='[1]Junho 2014'!U40+teste!T40 -> 36
...
