Workbook

Sheet Início
I3: Caro Colega:
I4: A presente ferramenta de trabalho visa agilizar o trabalho do TTOC, enquanto as suas aplicações informáticas não se encontram preparadas para a obtenção de algumas das demonstrações financeiras.
I5: Disponibilizamos-lhe por isso uma aplicação que lhe permitirá obter o Balanço, a Demonstração dos Resultados e a Demonstração dos Fluxos de Caixa.
I6: Devemos conferir sempre o trabalho que fazemos, razão pela qual os resultados obtidos devem ser objecto de conferência.
I7: No entanto a máxima de que "QUEM NÃO SABE O QUE PROCURA DIFICILMENTE ENCONTRA", aplica-se perfeitamente à nossa actividade.
I8: Se não conhecermos os mecanismos técnicos de elaboração do Balanço, da Demonstração dos Resultados por Naturezas e da Demonstração dos Fluxos de Caixa, dificilmente corrigiremos os erros que a folha de cálculo vier a evidenciar.
I9: Por isso, TOC(a) a estudar e a trabalhar.
I10: Um abraço para todos e bom trabalho.
I12: Jorge Manuel Teixeira da Silva
I13: TOC 21069 / ROC 637
I14: jorgesilva.roc@mail.telepac.pt
I15: Tel. 234 622 250
... I21: 3754-909 Águeda
H24: Jorge Silva & António Neto, SROC, Lda.

Sheet Instrucoes
I3: Instruções de utilização da folha de cálculo
I4: Com a presente folha de cálculo, pretende-se auxiliar o TOC na elaboração das peças funtamentais da prestação de contas das empresas, nomeadamente o Balanço, a Demonstração dos Resultados e a Demonstração dos Fluxos de Caixa.
I6: Para o efeito deverá seguir os seguintes passos: (só é possível preencher campos com fundo amarelo)
H8: 1 - | I8: Identificar a entidade ( designação, contribuinte, etc.).
H9: 2 - | I9: Introduzir os saldos dos balancetes do ano N e N-1 (antes dos apuramentos dos resultados, do Custo das Mercadorias Vendidas e das Matérias Consumidas e da variação da produção), e verificar se os mesmos se encontram balanceados.
H10: 3 - | I10: No fim do balancete, introduzir o valor dos inventários à data de balanço ( a folha de cálculo pressupõe que estamos em sistema de inventário intermitente).
H11: 4 - | I11: Introduzir informação adicional para elaboração da demonstração de Fluxos de Caixa.
H12: 5 - | I12: Verificar se existem erros (ver mapa de controle de erros).
H13: 6 - | I13: Caso existam erros, fazer os respectivos ajustamentos na coluna (ajustes) dos menus "Demonstração dos Fluxos Operacionais", "Demonstração dos Fluxos de Investimento" e "Demonstração dos Fluxos de Financiamento".
H14: 7 - | I14: Caso não existam erros, pode agora imprimir: o Balanço, a Demonstração dos Resultados e a Demonstração dos Fluxos de Caixa.
I17: Possíveis anomalias:
I18: No Balanço
I19: Os balancetes não estão saldados
I20: Existem saldos anómalos ( Ex. Saldo credor de Caixa, saldo devedor em financiamentos obtidos, etc.)
I22: Demonstração dos fluxos de Caixa
I23: Alienação ou abate de activos fixos tangíveis, ou outros activos não correntes não considerados.
I24: Pagamento de dividendos
I26: Jorge Manuel Teixeira da Silva
I27: TOC 21069 / ROC 637
I28: jorgesilva.roc@mail.telepac.pt
I29: Tel. 234 622 250
I30: Fax 234 624 267
... I35: 3754-909 Águeda
H38: =+Início!H24 -> Jorge Silva & António Neto, SROC, Lda.

Sheet Índice
C3: Empresa | D3: Empresa ABC, Lda.
C5: Ano | D5: 2014 | E5: Mês | F5: Dezembro
C7: NIF / NIPC | D7: 999999999 | H7: Órgão de Gestão | I7: A Gerência
C11: Balancete do ano | G11: Instruções de preenchimento
C13: Balancete do ano anterior | G13: Balanço
C15: Mapa de introdução para fluxos de caixa | G15: Demonstração dos resultados por naturezas
C17: Demonstração dos fluxos operacionais | G17: Demonstração dos fluxos de caixa
C19: Demonstração dos fluxos de investimento | G19: Mapa de controlo de erros
C21: Demonstração dos fluxos de financiamento
H22: Jorge Manuel Teixeira da Silva
H23: TOC 21069 / ROC 637
H24: jorgesilva.roc@mail.telepac.pt
L29: Versão 08

Sheet Balancete Ano
A1: Empresa | C1: =Índice!D3 -> Empresa ABC, Lda.
A2: Ano | C2: =Índice!D5 -> 2014
A3: Mês | C3: =Índice!F5 -> Dezembro
A4: Conta | C4: Descrição | D4: Débito | E4: Crédito | F4: Saldo
A5: 11 | B5: M | C5: Caixa | F5: =D5-E5 -> 0
A6: 12 | B6: M | C6: Depósitos à ordem | F6: =D6-E6 -> 0
A7: 13 | B7: M | C7: Outros depósitos bancários | F7: =D7-E7 -> 0
A8: 14 | C8: Outros Instrumentos financeiros | D8: =D9+D12+D15 -> 0 | E8: =E9+E12+E15 -> 0 | F8: =D8-E8 -> 0
A9: 141 | C9: Derivados | D9: =SUM(D10:D11) -> 0 | E9: =SUM(E10:E11) -> 0 | F9: =D9-E9 -> 0
A10: 1411 | B10: M | C10: Potencialmente favoráveis | F10: =D10-E10 -> 0
A11: 1412 | B11: M | C11: Potencialmente desfavoráveis | F11: =D11-E11 -> 0
A12: 142 | C12: Instrumentos financeiros detidos para negociação | D12: =SUM(D13:D14) -> 0 | E12: =SUM(E13:E14) -> 0 | F12: =D12-E12 -> 0
A13: 1421 | B13: M | C13: Activos financeiros | F13: =D13-E13 -> 0
A14: 1422 | B14: M | C14: Passivos financeiros | F14: =D14-E14 -> 0
A15: 143 | C15: Outros activos e passivos financeiros (justo valor através dos resultados) | D15: =SUM(D16:D17) -> 0 | E15: =SUM(E16:E17) -> 0 | F15: =D15-E15 -> 0
A16: 1431 | B16: M | C16: Outros activos financeiros | F16: =D16-E16 -> 0
A17: 1432 | B17: M | C17: Outros passivos financeiros | F17: =D17-E17 -> 0
A18: 21 | C18: Clientes | D18: =D19+D26+D33+D34+D35+D36 -> 0 | E18: =E19+E26+E33+E34+E35+E36 -> 0 | F18: =D18-E18 -> 0
A19: 211 | C19: Clientes c/c | D19: =SUM(D20:D25) -> 0 | E19: =SUM(E20:E25) -> 0 | F19: =D19-E19 -> 0
A20: 2111 | B20: M | C20: Clientes gerais | F20: =D20-E20 -> 0
A21: 2112 | B21: M | C21: Clientes – empresa-mãe | F21: =D21-E21 -> 0
A22: 2113 | B22: M | C22: Clientes - empresas subsidiárias | F22: =D22-E22 -> 0
A23: 2114 | B23: M | C23: Clientes - empresas associadas | F23: =D23-E23 -> 0
A24: 2115 | B24: M | C24: Clientes - empreendimentos conjuntos | F24: =D24-E24 -> 0
A25: 2116 | B25: M | C25: Clientes - outras partes relacionadas | F25: =D25-E25 -> 0
A26: 212 | C26: Clientes - títulos a receber | D26: =SUM(D27:D32) -> 0 | E26: =SUM(E27:E32) -> 0 | F26: =D26-E26 -> 0
A27: 2121 | B27: M | C27: Clientes gerais | F27: =D27-E27 -> 0
A28: 2122 | B28: M | C28: Clientes – empresa-mãe | F28: =D28-E28 -> 0
A29: 2123 | B29: M | C29: Clientes - empresas subsidiárias | F29: =D29-E29 -> 0
A30: 2124 | B30: M | C30: Clientes - empresas associadas | F30: =D30-E30 -> 0
A31: 2125 | B31: M | C31: Clientes - empreendimentos conjuntos | F31: =D31-E31 -> 0
A32: 2126 | B32: M | C32: Clientes - outras partes relacionadas | F32: =D32-E32 -> 0
A33: 215 | B33: M | C33: Clientes - não correntes | F33: =D33-E33 -> 0
A34: 217 | B34: M | C34: Clientes de cobrança duvidosa | F34: =D34-E34 -> 0
A35: 218 | B35: M | C35: Adiantamentos de clientes | F35: =D35-E35 -> 0
A36: 219 | C36: Perdas por imparidade acumuladas | D36: =SUM(D37:D38) -> 0 | E36: =SUM(E37:E38) -> 0 | F36: =D36-E36 -> 0
A37: 2191 | B37: M | C37: Perdas por imparidade acumuladas – correntes | F37: =D37-E37 -> 0
A38: 2192 | B38: M | C38: Perdas por imparidade acumuladas – não correntes | F38: =D38-E38 -> 0
A39: 22 | C39: Fornecedores | D39: =D40+D47+D54+D55+D56 -> 0 | E39: =E40+E47+E54+E55+E56 -> 0 | F39: =D39-E39 -> 0
A40: 221 | C40: Fornecedores c/c | D40: =SUM(D41:D46) -> 0 | E40: =SUM(E41:E46) -> 0 | F40: =D40-E40 -> 0
...

Sheet Balancete ano anterior
A1: Empresa | C1: =Índice!D3 -> Empresa ABC, Lda.
A2: Ano | C2: =Índice!D5-1 -> 2013
A3: Mês | C3: =Índice!F5 -> Dezembro
A4: Conta | C4: Descrição | D4: Débito | E4: Crédito | F4: Saldo
A5: 11 | B5: M | C5: Caixa | F5: =D5-E5 -> 0
A6: 12 | B6: M | C6: Depósitos à ordem | F6: =D6-E6 -> 0
A7: 13 | B7: M | C7: Outros depósitos bancários | F7: =D7-E7 -> 0
A8: 14 | C8: Outros Instrumentos financeiros | D8: =D9+D12+D15 -> 0 | E8: =E9+E12+E15 -> 0 | F8: =D8-E8 -> 0
A9: 141 | C9: Derivados | D9: =SUM(D10:D11) -> 0 | E9: =SUM(E10:E11) -> 0 | F9: =D9-E9 -> 0
A10: 1411 | B10: M | C10: Potencialmente favoráveis | F10: =D10-E10 -> 0
A11: 1412 | B11: M | C11: Potencialmente desfavoráveis | F11: =D11-E11 -> 0
A12: 142 | C12: Instrumentos financeiros detidos para negociação | D12: =SUM(D13:D14) -> 0 | E12: =SUM(E13:E14) -> 0 | F12: =D12-E12 -> 0
A13: 1421 | B13: M | C13: Activos financeiros | F13: =D13-E13 -> 0
A14: 1422 | B14: M | C14: Passivos financeiros | F14: =D14-E14 -> 0
A15: 143 | C15: Outros activos e passivos financeiros (justo valor através dos resultados) | D15: =SUM(D16:D17) -> 0 | E15: =SUM(E16:E17) -> 0 | F15: =D15-E15 -> 0
A16: 1431 | B16: M | C16: Outros activos financeiros | F16: =D16-E16 -> 0
A17: 1432 | B17: M | C17: Outros passivos financeiros | F17: =D17-E17 -> 0
A18: 21 | C18: Clientes | D18: =D19+D26+D33+D34+D35+D36 -> 0 | E18: =E19+E26+E33+E34+E35+E36 -> 0 | F18: =D18-E18 -> 0
A19: 211 | C19: Clientes c/c | D19: =SUM(D20:D25) -> 0 | E19: =SUM(E20:E25) -> 0 | F19: =D19-E19 -> 0
A20: 2111 | B20: M | C20: Clientes gerais | F20: =D20-E20 -> 0
A21: 2112 | B21: M | C21: Clientes – empresa-mãe | F21: =D21-E21 -> 0
A22: 2113 | B22: M | C22: Clientes - empresas subsidiárias | F22: =D22-E22 -> 0
A23: 2114 | B23: M | C23: Clientes - empresas associadas | F23: =D23-E23 -> 0
A24: 2115 | B24: M | C24: Clientes - empreendimentos conjuntos | F24: =D24-E24 -> 0
A25: 2116 | B25: M | C25: Clientes - outras partes relacionadas | F25: =D25-E25 -> 0
A26: 212 | C26: Clientes - títulos a receber | D26: =SUM(D27:D32) -> 0 | E26: =SUM(E27:E32) -> 0 | F26: =D26-E26 -> 0
A27: 2121 | B27: M | C27: Clientes gerais | F27: =D27-E27 -> 0
A28: 2122 | B28: M | C28: Clientes – empresa-mãe | F28: =D28-E28 -> 0
A29: 2123 | B29: M | C29: Clientes - empresas subsidiárias | F29: =D29-E29 -> 0
A30: 2124 | B30: M | C30: Clientes - empresas associadas | F30: =D30-E30 -> 0
A31: 2125 | B31: M | C31: Clientes - empreendimentos conjuntos | F31: =D31-E31 -> 0
A32: 2126 | B32: M | C32: Clientes - outras partes relacionadas | F32: =D32-E32 -> 0
A33: 215 | B33: M | C33: Clientes - não correntes | F33: =D33-E33 -> 0
A34: 217 | B34: M | C34: Clientes de cobrança duvidosa | F34: =D34-E34 -> 0
A35: 218 | B35: M | C35: Adiantamentos de clientes | F35: =D35-E35 -> 0
A36: 219 | C36: Perdas por imparidade acumuladas | D36: =SUM(D37:D38) -> 0 | E36: =SUM(E37:E38) -> 0 | F36: =D36-E36 -> 0
A37: 2191 | B37: M | C37: Perdas por imparidade acumuladas – correntes | F37: =D37-E37 -> 0
A38: 2192 | B38: M | C38: Perdas por imparidade acumuladas – não correntes | F38: =D38-E38 -> 0
A39: 22 | C39: Fornecedores | D39: =D40+D47+D54+D55+D56 -> 0 | E39: =E40+E47+E54+E55+E56 -> 0 | F39: =D39-E39 -> 0
A40: 221 | C40: Fornecedores c/c | D40: =SUM(D41:D46) -> 0 | E40: =SUM(E41:E46) -> 0 | F40: =D40-E40 -> 0
...

Sheet Balanço
C1: ="Entidade: " &Índice!D3 -> Entidade: Empresa ABC, Lda.
C2: ="BALANÇO INDIVIDUAL em "&Índice!F5 &" de "&Índice!D5 -> BALANÇO INDIVIDUAL em Dezembro de 2014
C4: RUBRICAS | D4: NOTAS | E4: DATAS
E5: ='Balancete Ano'!C3 &" "&'Balancete Ano'!C2 -> Dezembro 2014 | F5: ='Balancete ano anterior'!C3 &" "&'Balancete ano anterior'!C2 -> Dezembro 2013
C6: ACTIVO
C7: Activo não corrente
C8: Activos fixos tangíveis | E8: ='Balancete Ano'!F265+'Balancete Ano'!F309+'Balancete Ano'!F313+'Balancete Ano'!F319 -> 0 | F8: ='Balancete ano anterior'!F265+'Balancete ano anterior'!F309+'Balancete ano anterior'!F313+'Balancete ano anterior'!F319 -> 0
C9: Propriedades de investimento | E9: ='Balancete Ano'!F253+'Balancete Ano'!F308+'Balancete Ano'!F315+'Balancete Ano'!F318 -> 0 | F9: ='Balancete ano anterior'!F253+'Balancete ano anterior'!F308+'Balancete ano anterior'!F315+'Balancete ano anterior'!F318 -> 0
C10: Goodwill | E10: ='Balancete Ano'!F290+'Balancete Ano'!F301 -> 0 | F10: ='Balancete ano anterior'!F290+'Balancete ano anterior'!F301 -> 0
C11: Activos intangíveis | E11: ='Balancete Ano'!F289-('Balancete Ano'!F290+'Balancete Ano'!F301)+'Balancete Ano'!F310+'Balancete Ano'!F314+'Balancete Ano'!F320 -> 0 | F11: ='Balancete ano anterior'!F289-('Balancete ano anterior'!F290+'Balancete ano anterior'!F301)+'Balancete ano anterior'!F310+'Balancete ano anterior'!F314+'Balancete ano anterior'!F320 -> 0
C12: Activos biológicos | E12: ='Balancete Ano'!D687+'Balancete Ano'!D690-'Balancete Ano'!E218-'Balancete Ano'!E219 -> 0 | F12: ='Balancete ano anterior'!D687+'Balancete ano anterior'!D690-'Balancete ano anterior'!E218-'Balancete ano anterior'!E219 -> 0
C13: Participações financeiras - método da equivalência patrimonial | E13: ='Balancete Ano'!F232+'Balancete Ano'!F236+'Balancete Ano'!F240+'Balancete Ano'!F250 -> 0 | F13: ='Balancete ano anterior'!F232+'Balancete ano anterior'!F236+'Balancete ano anterior'!F240+'Balancete ano anterior'!F250 -> 0
C14: Participações financeiras - outros métodos | E14: ='Balancete Ano'!F233+'Balancete Ano'!F237+'Balancete Ano'!F241+'Balancete Ano'!F244+'Balancete Ano'!F251 -> 0 | F14: ='Balancete ano anterior'!F233+'Balancete ano anterior'!F237+'Balancete ano anterior'!F241+'Balancete ano anterior'!F244+'Balancete ano anterior'!F251 -> 0
C15: Accionistas/sócios | E15: ='Balancete Ano'!D118+'Balancete Ano'!D121-'Balancete Ano'!E124 -> 0 | F15: ='Balancete ano anterior'!D118+'Balancete ano anterior'!D121-'Balancete ano anterior'!E124 -> 0
C16: Outras contas a receber | E16: ='Balancete Ano'!D33+'Balancete Ano'!D149-'Balancete Ano'!E38-'Balancete Ano'!E152 -> 0 | F16: ='Balancete ano anterior'!D33+'Balancete ano anterior'!D149-'Balancete ano anterior'!E38-'Balancete ano anterior'!E152 -> 0
C17: Outros activos financeiros | E17: ='Balancete Ano'!F234+'Balancete Ano'!F238+'Balancete Ano'!F242+'Balancete Ano'!F245+'Balancete Ano'!F246+'Balancete Ano'!F252+'Balancete Ano'!F307+'Balancete Ano'!F312+'Balancete Ano'!F317 -> 0 | F17: ='Balancete ano anterior'!F234+'Balancete ano anterior'!F238+'Balancete ano anterior'!F242+'Balancete ano anterior'!F245+'Balancete ano anterior'!F246+'Balancete ano anterior'!F252+'Balancete ano anterior'!F307+'Balancete ano anterior'!F312+'Balancete ano anterior'!F317 -> 0
C18: Activos por impostos diferidos | E18: ='Balancete Ano'!D143 -> 0 | F18: ='Balancete ano anterior'!D143 -> 0
E19: =SUM(E8:E18) -> 0 | F19: =SUM(F8:F18) -> 0
C20: Activo corrente
C21: Inventários | E21: ='Balancete Ano'!D666+'Balancete Ano'!D670+'Balancete Ano'!D676+'Balancete Ano'!D679+'Balancete Ano'!D682+'Balancete Ano'!F229-'Balancete Ano'!E202-'Balancete Ano'!E206-'Balancete Ano'!E191-'Balancete Ano'!E198 -> 0 | F21: ='Balancete ano anterior'!D666+'Balancete ano anterior'!D670+'Balancete ano anterior'!D676+'Balancete ano anterior'!D679+'Balancete ano anterior'!D682+'Balancete ano anterior'!F229-'Balancete ano anterior'!E202-'Balancete ano anterior'!E206-'Balancete ano anterior'!E191-'Balancete ano anterior'!E198 -> 0
C22: Activos biológicos | E22: ='Balancete Ano'!D684 -> 0 | F22: ='Balancete ano anterior'!D684 -> 0
C23: Clientes | E23: ='Balancete Ano'!D19+'Balancete Ano'!D26+'Balancete Ano'!D34-'Balancete Ano'!E37 -> 0 | F23: ='Balancete ano anterior'!D19+'Balancete ano anterior'!D26+'Balancete ano anterior'!D34-'Balancete ano anterior'!E37 -> 0
C24: Adiantamentos a fornecedores | E24: ='Balancete Ano'!D55-'Balancete Ano'!E56 -> 0 | F24: ='Balancete ano anterior'!D55-'Balancete ano anterior'!E56 -> 0
C25: Estado e outros entes públicos | E25: ='Balancete Ano'!D71 -> 0 | F25: ='Balancete ano anterior'!D71 -> 0
C26: Accionistas/sócios | E26: ='Balancete Ano'!D113+'Balancete Ano'!D117+'Balancete Ano'!D120-+'Balancete Ano'!E123 -> 0 | F26: ='Balancete ano anterior'!D113+'Balancete ano anterior'!D117+'Balancete ano anterior'!D120-+'Balancete ano anterior'!E123 -> 0
C27: Outras contas a receber | E27: =+'Balancete Ano'!D40+'Balancete Ano'!D61+'Balancete Ano'!D67+'Balancete Ano'!D148+'Balancete Ano'!D133-'Balancete Ano'!E151+'Balancete Ano'!D131+'Balancete Ano'!E70 -> 0 | F27: =+'Balancete ano anterior'!D40+'Balancete ano anterior'!D61+'Balancete ano anterior'!D67+'Balancete ano anterior'!D148+'Balancete ano anterior'!D133-'Balancete ano anterior'!E151+'Balancete ano anterior'!D131+'Balancete ano anterior'!E70 -> 0
C28: Diferimentos | E28: ='Balancete Ano'!D154 -> 0 | F28: ='Balancete ano anterior'!D154 -> 0
C29: Activos financeiros detidos para negociação | E29: ='Balancete Ano'!D10+'Balancete Ano'!D13 -> 0 | F29: ='Balancete ano anterior'!D10+'Balancete ano anterior'!D13 -> 0
C30: Outros activos financeiros | E30: ='Balancete Ano'!D16 -> 0 | F30: ='Balancete ano anterior'!D16 -> 0
C31: Activos não correntes detidos para venda | E31: ='Balancete Ano'!F321 -> 0 | F31: ='Balancete ano anterior'!F321 -> 0
C32: Caixa e depósitos bancários | E32: ='Balancete Ano'!D5+'Balancete Ano'!D6+'Balancete Ano'!D7 -> 0 | F32: ='Balancete ano anterior'!D5+'Balancete ano anterior'!D6+'Balancete ano anterior'!D7 -> 0
E33: =SUM(E21:E32) -> 0 | F33: =SUM(F21:F32) -> 0
C34: Total do activo | E34: =E19+E33 -> 0 | F34: =F19+F33 -> 0
C35: CAPITAL PRÓPRIO E PASSIVO
C36: Capital próprio
C37: Capital realizado | E37: ='Balancete Ano'!E324-'Balancete Ano'!D111-'Balancete Ano'!D112 -> 0 | F37: ='Balancete ano anterior'!E324-'Balancete ano anterior'!D111-'Balancete ano anterior'!D112 -> 0
C38: Acções (quotas) próprias | E38: =-'Balancete Ano'!F325 -> 0 | F38: =-'Balancete ano anterior'!F325 -> 0
C39: Outros instrumentos de capital próprio | E39: ='Balancete Ano'!E328 -> 0 | F39: ='Balancete ano anterior'!E328 -> 0
C40: Prémios de emissão | E40: ='Balancete Ano'!E329 -> 0 | F40: ='Balancete ano anterior'!E329 -> 0
C41: Reservas legais | E41: ='Balancete Ano'!E331 -> 0 | F41: ='Balancete ano anterior'!E331 -> 0
...

Sheet Demonstração Resultados
A1: ="Entidade: " &Índice!D3 -> Entidade: Empresa ABC, Lda.
A2: DEMONSTRAÇÃO INDIVIDUAL DOS RESULTADOS POR NATUREZAS
A3: ="PERÍODO FINDO em "&Índice!F5 &" de "&Índice!D5 -> PERÍODO FINDO em Dezembro de 2014
A4: RENDIMENTOS E GASTOS | C4: PERIODOS
C5: ='Balancete Ano'!C3&" "&'Balancete Ano'!C2 -> Dezembro 2014 | D5: ='Balancete ano anterior'!C3 &" "&'Balancete ano anterior'!C2 -> Dezembro 2013
A6: Vendas e serviços prestados | C6: =-('Balancete Ano'!F497+'Balancete Ano'!F548) -> 0 | D6: =-('Balancete ano anterior'!F497+'Balancete ano anterior'!F548) -> 0
A7: Subsídios à exploração | C7: =-'Balancete Ano'!F560 -> 0 | D7: =-'Balancete ano anterior'!F560 -> 0
A8: Ganhos/perdas imputados de subsidiárias, associadas e empreendimentos conjuntos | C8: =-'Balancete Ano'!F611-'Balancete Ano'!F457-'Balancete Ano'!F645 -> 0 | D8: =-'Balancete ano anterior'!F611-'Balancete ano anterior'!F457-'Balancete ano anterior'!F645 -> 0
A9: Variação nos inventários da produção | C9: =C78+C101 -> 0 | D9: =D78+D101 -> 0
A10: Trabalhos para a própria entidade | C10: =-'Balancete Ano'!F555 -> 0 | D10: =-'Balancete ano anterior'!F555 -> 0
A11: Custo das mercadorias vendidas e das matérias consumidas | C11: =-(C65+C91) -> 0 | D11: =-(D65+D91) -> 0
A12: Fornecimentos e serviços externos | C12: =-'Balancete Ano'!F353 -> 0 | D12: =-'Balancete ano anterior'!F353 -> 0
A13: Gastos com o pessoal | C13: =-'Balancete Ano'!F388 -> 0 | D13: =-'Balancete ano anterior'!F388 -> 0
A14: Imparidade de inventários (perdas/reversões) | C14: =-('Balancete Ano'!F422+'Balancete Ano'!F429+'Balancete Ano'!F573+'Balancete Ano'!F580) -> 0 | D14: =-('Balancete ano anterior'!F422+'Balancete ano anterior'!F429+'Balancete ano anterior'!F573+'Balancete ano anterior'!F580) -> 0
A15: Imparidade de dívidas a receber (perdas/reversões) | C15: =-('Balancete Ano'!F419+'Balancete Ano'!F570) -> 0 | D15: =-('Balancete ano anterior'!F419+'Balancete ano anterior'!F570) -> 0
A16: Provisões (aumentos/reduções) | C16: =-('Balancete Ano'!F437+'Balancete Ano'!F581) -> 0 | D16: =-('Balancete ano anterior'!F437+'Balancete ano anterior'!F581) -> 0
A17: Imparidade de activos não depreciáveis/amortizáveis (perdas/reversões) | C17: =-('Balancete Ano'!F574+'Balancete Ano'!F578+'Balancete Ano'!F579)-('Balancete Ano'!F423+'Balancete Ano'!F427+'Balancete Ano'!F428) -> 0 | D17: =-('Balancete ano anterior'!F574+'Balancete ano anterior'!F578+'Balancete ano anterior'!F579)-('Balancete ano anterior'!F423+'Balancete ano anterior'!F427+'Balancete ano anterior'!F428) -> 0
A18: Aumentos/reduções de justo valor | C18: =-'Balancete Ano'!F590-'Balancete Ano'!F430 -> 0 | D18: =-'Balancete ano anterior'!F590-'Balancete ano anterior'!F430 -> 0
A19: Outros rendimentos e ganhos | C19: =-'Balancete Ano'!F597+'Balancete Ano'!F611-'Balancete Ano'!F638+'Balancete Ano'!F643-'Balancete Ano'!F651 -> 0 | D19: =-'Balancete ano anterior'!F597+'Balancete ano anterior'!F611-'Balancete ano anterior'!F638+'Balancete ano anterior'!F643-'Balancete ano anterior'!F651 -> 0
A20: Outros gastos e perdas | C20: =-('Balancete Ano'!F446-'Balancete Ano'!F457+'Balancete Ano'!F490+'Balancete Ano'!F493+'Balancete Ano'!F496) -> 0 | D20: =-('Balancete ano anterior'!F446-'Balancete ano anterior'!F457+'Balancete ano anterior'!F490+'Balancete ano anterior'!F493+'Balancete ano anterior'!F496) -> 0
A22: Resultado antes de depreciações, gastos de financiamento e impostos | C22: =SUM(C6:C10)+SUM(C11:C17)+C18+C19+C20 -> 0 | D22: =SUM(D6:D10)+SUM(D11:D17)+D18+D19+D20 -> 0
A24: Gastos/reversões de depreciação e de amortização | C24: =-('Balancete Ano'!F564+'Balancete Ano'!F399) -> 0 | D24: =-('Balancete ano anterior'!F564+'Balancete ano anterior'!F399) -> 0
A25: Imparidade de activos depreciáveis/amortizáveis (perdas/reversões) | C25: =-('Balancete Ano'!F424+'Balancete Ano'!F425+'Balancete Ano'!F426)-('Balancete Ano'!F575+'Balancete Ano'!F576+'Balancete Ano'!F577) -> 0 | D25: =-('Balancete ano anterior'!F424+'Balancete ano anterior'!F425+'Balancete ano anterior'!F426)-('Balancete ano anterior'!F575+'Balancete ano anterior'!F576+'Balancete ano anterior'!F577) -> 0
A27: Resultado operacional (antes de gastos de financiamento e impostos) | C27: =C22+C24+C25 -> 0 | D27: =D22+D24+D25 -> 0
A29: Juros e rendimentos similares obtidos | C29: =-'Balancete Ano'!F643-'Balancete Ano'!F650 -> 0 | D29: =-'Balancete ano anterior'!F643-'Balancete ano anterior'!F650 -> 0
A30: Juros e gastos similares suportados | C30: =-('Balancete Ano'!F489+'Balancete Ano'!F492+'Balancete Ano'!F495) -> 0 | D30: =-('Balancete ano anterior'!F489+'Balancete ano anterior'!F492+'Balancete ano anterior'!F495) -> 0
A32: Resultado antes de impostos | C32: =C27+C29+C30 -> 0 | D32: =D27+D29+D30 -> 0
A34: Imposto sobre o rendimento do período | C34: =-'Balancete Ano'!F653 -> 0 | D34: =-'Balancete ano anterior'!F653 -> 0
A36: Resultado líquido do período | C36: =C32+C34 -> 0 | D36: =D32+D34 -> 0
A39: Resultado das actividades descontinuadas (líquido de impostos) incluído no resultado
A40: líquido do período
A42: O Técnico Oficial de Contas | B42: ="NIF/ Matricula " -> NIF/ Matricula | D42: =Índice!I7 -> A Gerência
B43: =Índice!D7 -> 999999999
A54: Demonstração do custo das mercadorias vendidas e das matérias consumidas | C54: ='Balancete Ano'!C3&" "&'Balancete Ano'!C2 -> Dezembro 2014 | D54: ='Balancete ano anterior'!C3 &" "&'Balancete ano anterior'!C2 -> Dezembro 2013
A55: Existências Iniciais | C55: =SUM(C56:C57) -> 0 | D55: =SUM(D56:D57) -> 0
A56: Mercadorias | C56: ='Balancete Ano'!D187 -> 0 | D56: ='Balancete ano anterior'!D187 -> 0
A57: Matérias-primas, subsidiárias e de consumo | C57: ='Balancete Ano'!D192 -> 0 | D57: ='Balancete ano anterior'!D192 -> 0
A58: Compras | C58: =SUM(C59:C60) -> 0 | D58: =SUM(D59:D60) -> 0
A59: Mercadorias | C59: ='Balancete Ano'!F166+'Balancete Ano'!F176+'Balancete Ano'!F182 -> 0 | D59: ='Balancete ano anterior'!F166+'Balancete ano anterior'!F176+'Balancete ano anterior'!F182 -> 0
A60: Matérias-primas, subsidiárias e de consumo | C60: ='Balancete Ano'!F167+'Balancete Ano'!F177+'Balancete Ano'!F183 -> 0 | D60: ='Balancete ano anterior'!F167+'Balancete ano anterior'!F177+'Balancete ano anterior'!F183 -> 0
...

Sheet Fluxos de Caixa
A1: ="Entidade: " &Índice!D3 -> Entidade: Empresa ABC, Lda.
A2: DEMONSTRAÇÃO INDIVIDUAL DE FLUXOS DE CAIXA
A3: ="PERÍODO FINDO em "&'Balancete Ano'!C3&" DE "&'Balancete Ano'!C2 -> PERÍODO FINDO em Dezembro DE 2014
A5: RUBRICAS | B5: NOTAS | C5: PERIODOS
C6: ='Balancete Ano'!C3&" "&'Balancete Ano'!C2 -> Dezembro 2014 | D6: ='Balancete ano anterior'!C3 &" "&'Balancete ano anterior'!C2 -> Dezembro 2013
A7: Fluxos de caixa das actividades operacionais - método directo
A8: Recebimentos de clientes | C8: =ACTOPR!I25 -> 0 | D8: 0
A9: Pagamentos a fornecedores | C9: =ACTOPR!I47 -> 0 | D9: 0
A10: Pagamentos ao pessoal | C10: =ACTOPR!I60 -> 0 | D10: 0
A11: Caixa gerada pelas operações | C11: =C8-C9-C10 -> 0 | D11: =D8-D9-D10 -> 0
A12: Pagamento/recebimento do imposto sobre o rendimento | C12: =ACTOPR!I75 -> 0 | D12: 0
A13: Outros recebimentos/pagamentos | C13: =ACTOPR!I121 -> 0 | D13: 0
A14: Fluxos de caixa das actividades operacionais (1) | C14: =C11-C12+C13 -> 0 | D14: =D11-D12+D13 -> 0
A15: Fluxos de caixa das actividades de investimento
A16: Pagamentos respeitantes a:
A17: Activos fixos tangíveis | C17: =ACTINV!I177 -> 0 | D17: 0
A18: Activos intangíveis | C18: =ACTINV!I193 -> 0 | D18: 0
A19: Investimentos financeiros | C19: =ACTINV!I152 -> 0 | D19: 0
A20: Outros activos | C20: =ACTINV!I226 -> 0 | D20: 0
A21: Recebimentos provenientes de:
A22: Activos fixos tangíveis | C22: =ACTINV!I40 -> 0 | D22: 0
A23: Activos intangíveis | C23: =ACTINV!I53 -> 0 | D23: 0
A24: Investimentos financeiros | C24: =ACTINV!I25 -> 0 | D24: 0
A25: Outros activos | C25: =ACTINV!I87 -> 0 | D25: 0
A26: Subsídios ao investimento | C26: =ACTINV!I96 -> 0 | D26: 0
A27: Juros e rendimentos similares | C27: =ACTINV!I111 -> 0 | D27: 0
A28: Dividendos | C28: =ACTINV!I119 -> 0 | D28: 0
A29: Fluxos de caixa das actividades de investimento (2) | C29: =-SUM(C17:C20)+SUM(C22:C28) -> 0 | D29: =-SUM(D17:D20)+SUM(D22:D28) -> 0
A30: Fluxos de caixa das actividades de financiamento
A31: Recebimentos provenientes de:
A32: Financiamentos obtidos | C32: =ACTFIN!I20 -> 0 | D32: 0
A33: Realizações de capital e de outros instrumentos de capital próprio | C33: =ACTFIN!I35 -> 0 | D33: 0
A34: Cobertura de prejuízos | C34: =ACTFIN!I47 -> 0 | D34: 0
A35: Doações | C35: =ACTFIN!I61 -> 0 | D35: 0
A36: Outras operações de financiamento | C36: =ACTFIN!I73 -> 0 | D36: 0
A37: Pagamentos respeitantes a: | D37: 0
A38: Financiamentos obtidos | C38: =ACTFIN!I91 -> 0 | D38: 0
A39: Juros e gastos similares | C39: =ACTFIN!I105 -> 0 | D39: 0
A40: Dividendos | C40: =ACTFIN!I114 -> 0 | D40: 0
A41: Reduções de capital e de outros instrumentos de capital próprio | C41: =ACTFIN!I126 -> 0 | D41: 0
...

Sheet EXTRA
B2: INFORMAÇÃO EXTRA
B3: ='Balancete Ano'!C1 -> Empresa ABC, Lda.
B4: Ano | C4: ='Balancete Ano'!C2 -> 2014
B5: Mês | C5: ='Balancete Ano'!C3 -> Dezembro
B7: CONTAS
B11: PagDiv | C11: Pagamento de Dividendos | D11: 0
B12: CobPre | C12: Entrada de dinheiro para cobertura de prejuízos | D12: 0
B15: 41 | C15: Alienação de Investimentos financeiros – Valor de Aquisição | D15: 0
B16: 419 | C16: Alienação de investimentos financeiros – Imparidades acumuladas | D16: 0
B17: 42 | C17: Alienação em propriedade de investimento – Valor de Aquisição | D17: 0
B18: 428 | C18: Alienação em propriedade de investimento – Depreciações | D18: 0
B19: 429 | C19: Alienação em propriedade de investimento – Imparidades acumuladas | D19: 0
B20: 43 | C20: Alienação e abates de Activos fixos tangíveis – Valor de Aquisição | D20: 0
B21: 438 | C21: Alienação e abates de Activos fixos tangíveis – Depreciações | D21: 0
B22: 439 | C22: Alienação e abates de Activos fixos tangíveis – Imparidades acumuladas | D22: 0
B23: 44 | C23: Alienação de activos intangíveis – Valor de Aquisição | D23: 0
B24: 448 | C24: Alienação de activos intangíveis – Amortizações | D24: 0
B25: 449 | C25: Alienação de activos intangíveis – Imparidades acum. | D25: 0
B26: 451 | C26: Alienação de Investimentos financeiros em curso – Valor de Aquisição | D26: 0
... B42: 24322 | C42: Iva dedutivel – Investimentos | D42: 0
B44: camb | C44: Efeito das diferenças de câmbio | D44: 0

Sheet ACTOPR
B4: ACTIVIDADES OPERACIONAIS - M. DIRECTO
B5: ='Balancete Ano'!C1 -> Empresa ABC, Lda.
B6: Ano | C6: ='Balancete Ano'!C2 -> 2014
B7: Mês | C7: ='Balancete Ano'!C3 -> Dezembro
B9: Cálculo dos recebimentos de clientes
M10: Inicial | P10: Final | S10: Var F-I
B11: Conta | C11: Descrição | D11: Mov/Sld | E11: Sinal | F11: I/F/V | G11: Valor | H11: Ajuste | I11: Valor ajustado | M11: SD | N11: SC | O11: SL | P11: SD | Q11: SC | R11: SL | S11: V | T11: I | U11: F | V11: V | W11: Valor | X11: Sinal
B13: 21 | C13: =VLOOKUP(B13,'Balancete Ano'!A$5:E$656,3,0) -> Clientes | D13: SL | E13: + | F13: V | G13: =W13 -> 0 | I13: =G13+H13 -> 0 | M13: =VLOOKUP(B13,'Balancete ano anterior'!A$5:E$656,4,0) -> 0 | N13: =VLOOKUP(B13,'Balancete ano anterior'!A$5:E$656,5,0) -> 0 | O13: =-(M13-N13) -> 0 | P13: =VLOOKUP(B13,'Balancete Ano'!A$5:E$656,4,0) -> 0 | Q13: =VLOOKUP(B13,'Balancete Ano'!A$5:E$656,5,0) -> 0 | R13: =-(P13-Q13) -> 0 | S13: =R13-O13 -> 0 | T13: =IF(AND(F13="I",D13="SD"),M13,IF(AND(F13="I",D13="SC"),N13,IF(AND(F13="I",D13="SL"),O13,0))) -> 0 | U13: =IF(AND(F13="F",D13="SD"),P13,IF(AND(F13="F",D13="SC"),Q13,IF(AND(F13="F",D13="SL"),R13,0))) -> 0 | V13: =IF(AND(F13="V",D13="SL"),S13,0) -> 0 | W13: =SUM(T13:V13)*X13 -> 0 | X13: =IF(E13="-",-1,1) -> 1
B14: 219 | C14: =VLOOKUP(B14,'Balancete Ano'!A$5:E$656,3,0) -> Perdas por imparidade acumuladas | D14: SL | E14: - | F14: V | G14: =W14 -> 0 | I14: =G14+H14 -> 0 | M14: =VLOOKUP(B14,'Balancete ano anterior'!A$5:E$656,4,0) -> 0 | N14: =VLOOKUP(B14,'Balancete ano anterior'!A$5:E$656,5,0) -> 0 | O14: =-(M14-N14) -> 0 | P14: =VLOOKUP(B14,'Balancete Ano'!A$5:E$656,4,0) -> 0 | Q14: =VLOOKUP(B14,'Balancete Ano'!A$5:E$656,5,0) -> 0 | R14: =-(P14-Q14) -> 0 | S14: =R14-O14 -> 0 | T14: =IF(AND(F14="I",D14="SD"),M14,IF(AND(F14="I",D14="SC"),N14,IF(AND(F14="I",D14="SL"),O14,0))) -> 0 | U14: =IF(AND(F14="F",D14="SD"),P14,IF(AND(F14="F",D14="SC"),Q14,IF(AND(F14="F",D14="SL"),R14,0))) -> 0 | V14: =IF(AND(F14="V",D14="SL"),S14,0) -> 0 | W14: =SUM(T14:V14)*X14 -> 0 | X14: =IF(E14="-",-1,1) -> -1
B15: 71 | C15: =VLOOKUP(B15,'Balancete Ano'!A$5:E$656,3,0) -> Vendas | D15: SL | E15: + | F15: F | G15: =W15 -> 0 | I15: =G15+H15 -> 0 | M15: =VLOOKUP(B15,'Balancete ano anterior'!A$5:E$656,4,0) -> 0 | N15: =VLOOKUP(B15,'Balancete ano anterior'!A$5:E$656,5,0) -> 0 | O15: =-(M15-N15) -> 0 | P15: =VLOOKUP(B15,'Balancete Ano'!A$5:E$656,4,0) -> 0 | Q15: =VLOOKUP(B15,'Balancete Ano'!A$5:E$656,5,0) -> 0 | R15: =-(P15-Q15) -> 0 | S15: =R15-O15 -> 0 | T15: =IF(AND(F15="I",D15="SD"),M15,IF(AND(F15="I",D15="SC"),N15,IF(AND(F15="I",D15="SL"),O15,0))) -> 0 | U15: =IF(AND(F15="F",D15="SD"),P15,IF(AND(F15="F",D15="SC"),Q15,IF(AND(F15="F",D15="SL"),R15,0))) -> 0 | V15: =IF(AND(F15="V",D15="SL"),S15,0) -> 0 | W15: =SUM(T15:V15)*X15 -> 0 | X15: =IF(E15="-",-1,1) -> 1
B16: 72 | C16: =VLOOKUP(B16,'Balancete Ano'!A$5:E$656,3,0) -> Prestações de serviços | D16: SL | E16: + | F16: F | G16: =W16 -> 0 | I16: =G16+H16 -> 0 | M16: =VLOOKUP(B16,'Balancete ano anterior'!A$5:E$656,4,0) -> 0 | N16: =VLOOKUP(B16,'Balancete ano anterior'!A$5:E$656,5,0) -> 0 | O16: =-(M16-N16) -> 0 | P16: =VLOOKUP(B16,'Balancete Ano'!A$5:E$656,4,0) -> 0 | Q16: =VLOOKUP(B16,'Balancete Ano'!A$5:E$656,5,0) -> 0 | R16: =-(P16-Q16) -> 0 | S16: =R16-O16 -> 0 | T16: =IF(AND(F16="I",D16="SD"),M16,IF(AND(F16="I",D16="SC"),N16,IF(AND(F16="I",D16="SL"),O16,0))) -> 0 | U16: =IF(AND(F16="F",D16="SD"),P16,IF(AND(F16="F",D16="SC"),Q16,IF(AND(F16="F",D16="SL"),R16,0))) -> 0 | V16: =IF(AND(F16="V",D16="SL"),S16,0) -> 0 | W16: =SUM(T16:V16)*X16 -> 0 | X16: =IF(E16="-",-1,1) -> 1
B17: 781 | C17: =VLOOKUP(B17,'Balancete Ano'!A$5:E$656,3,0) -> Rendimentos suplementares | D17: SL | E17: + | F17: F | G17: =W17 -> 0 | I17: =G17+H17 -> 0 | M17: =VLOOKUP(B17,'Balancete ano anterior'!A$5:E$656,4,0) -> 0 | N17: =VLOOKUP(B17,'Balancete ano anterior'!A$5:E$656,5,0) -> 0 | O17: =-(M17-N17) -> 0 | P17: =VLOOKUP(B17,'Balancete Ano'!A$5:E$656,4,0) -> 0 | Q17: =VLOOKUP(B17,'Balancete Ano'!A$5:E$656,5,0) -> 0 | R17: =-(P17-Q17) -> 0 | S17: =R17-O17 -> 0 | T17: =IF(AND(F17="I",D17="SD"),M17,IF(AND(F17="I",D17="SC"),N17,IF(AND(F17="I",D17="SL"),O17,0))) -> 0 | U17: =IF(AND(F17="F",D17="SD"),P17,IF(AND(F17="F",D17="SC"),Q17,IF(AND(F17="F",D17="SL"),R17,0))) -> 0 | V17: =IF(AND(F17="V",D17="SL"),S17,0) -> 0 | W17: =SUM(T17:V17)*X17 -> 0 | X17: =IF(E17="-",-1,1) -> 1
B18: 682 | C18: =VLOOKUP(B18,'Balancete Ano'!A$5:E$656,3,0) -> Descontos de pronto pagamento concedidos | D18: SL | E18: + | F18: F | G18: =W18 -> 0 | I18: =G18+H18 -> 0 | M18: =VLOOKUP(B18,'Balancete ano anterior'!A$5:E$656,4,0) -> 0 | N18: =VLOOKUP(B18,'Balancete ano anterior'!A$5:E$656,5,0) -> 0 | O18: =-(M18-N18) -> 0 | P18: =VLOOKUP(B18,'Balancete Ano'!A$5:E$656,4,0) -> 0 | Q18: =VLOOKUP(B18,'Balancete Ano'!A$5:E$656,5,0) -> 0 | R18: =-(P18-Q18) -> 0 | S18: =R18-O18 -> 0 | T18: =IF(AND(F18="I",D18="SD"),M18,IF(AND(F18="I",D18="SC"),N18,IF(AND(F18="I",D18="SL"),O18,0))) -> 0 | U18: =IF(AND(F18="F",D18="SD"),P18,IF(AND(F18="F",D18="SC"),Q18,IF(AND(F18="F",D18="SL"),R18,0))) -> 0 | V18: =IF(AND(F18="V",D18="SL"),S18,0) -> 0 | W18: =SUM(T18:V18)*X18 -> 0 | X18: =IF(E18="-",-1,1) -> 1
B19: 783 | C19: =VLOOKUP(B19,'Balancete Ano'!A$5:E$656,3,0) -> Recuperação de dívidas a receber | D19: SL | E19: + | F19: F | G19: =W19 -> 0 | I19: =G19+H19 -> 0 | M19: =VLOOKUP(B19,'Balancete ano anterior'!A$5:E$656,4,0) -> 0 | N19: =VLOOKUP(B19,'Balancete ano anterior'!A$5:E$656,5,0) -> 0 | O19: =-(M19-N19) -> 0 | P19: =VLOOKUP(B19,'Balancete Ano'!A$5:E$656,4,0) -> 0 | Q19: =VLOOKUP(B19,'Balancete Ano'!A$5:E$656,5,0) -> 0 | R19: =-(P19-Q19) -> 0 | S19: =R19-O19 -> 0 | T19: =IF(AND(F19="I",D19="SD"),M19,IF(AND(F19="I",D19="SC"),N19,IF(AND(F19="I",D19="SL"),O19,0))) -> 0 | U19: =IF(AND(F19="F",D19="SD"),P19,IF(AND(F19="F",D19="SC"),Q19,IF(AND(F19="F",D19="SL"),R19,0))) -> 0 | V19: =IF(AND(F19="V",D19="SL"),S19,0) -> 0 | W19: =SUM(T19:V19)*X19 -> 0 | X19: =IF(E19="-",-1,1) -> 1
B20: 276 | C20: =VLOOKUP(B20,'Balancete Ano'!A$5:E$656,3,0) -> Adiantamentos por conta de vendas | D20: SL | E20: + | F20: V | G20: =W20 -> 0 | I20: =G20+H20 -> 0 | M20: =VLOOKUP(B20,'Balancete ano anterior'!A$5:E$656,4,0) -> 0 | N20: =VLOOKUP(B20,'Balancete ano anterior'!A$5:E$656,5,0) -> 0 | O20: =-(M20-N20) -> 0 | P20: =VLOOKUP(B20,'Balancete Ano'!A$5:E$656,4,0) -> 0 | Q20: =VLOOKUP(B20,'Balancete Ano'!A$5:E$656,5,0) -> 0 | R20: =-(P20-Q20) -> 0 | S20: =R20-O20 -> 0 | T20: =IF(AND(F20="I",D20="SD"),M20,IF(AND(F20="I",D20="SC"),N20,IF(AND(F20="I",D20="SL"),O20,0))) -> 0 | U20: =IF(AND(F20="F",D20="SD"),P20,IF(AND(F20="F",D20="SC"),Q20,IF(AND(F20="F",D20="SL"),R20,0))) -> 0 | V20: =IF(AND(F20="V",D20="SL"),S20,0) -> 0 | W20: =SUM(T20:V20)*X20 -> 0 | X20: =IF(E20="-",-1,1) -> 1
B21: 683 | C21: =VLOOKUP(B21,'Balancete Ano'!A$5:E$656,3,0) -> Dívidas incobráveis | D21: SL | E21: + | F21: F | G21: =W21 -> 0 | I21: =G21+H21 -> 0 | M21: =VLOOKUP(B21,'Balancete ano anterior'!A$5:E$656,4,0) -> 0 | N21: =VLOOKUP(B21,'Balancete ano anterior'!A$5:E$656,5,0) -> 0 | O21: =-(M21-N21) -> 0 | P21: =VLOOKUP(B21,'Balancete Ano'!A$5:E$656,4,0) -> 0 | Q21: =VLOOKUP(B21,'Balancete Ano'!A$5:E$656,5,0) -> 0 | R21: =-(P21-Q21) -> 0 | S21: =R21-O21 -> 0 | T21: =IF(AND(F21="I",D21="SD"),M21,IF(AND(F21="I",D21="SC"),N21,IF(AND(F21="I",D21="SL"),O21,0))) -> 0 | U21: =IF(AND(F21="F",D21="SD"),P21,IF(AND(F21="F",D21="SC"),Q21,IF(AND(F21="F",D21="SL"),R21,0))) -> 0 | V21: =IF(AND(F21="V",D21="SL"),S21,0) -> 0 | W21: =SUM(T21:V21)*X21 -> 0 | X21: =IF(E21="-",-1,1) -> 1
B22: 2433 | C22: =VLOOKUP(B22,EXTRA!$B$10:$D$49,2,0) -> I.V.A. - Liquidado | E22: + | G22: =VLOOKUP(B22,EXTRA!$B$10:$D$49,3,0)*X22 -> 0 | I22: =G22+H22 -> 0 | M22: =VLOOKUP(B22,'Balancete ano anterior'!A$5:E$656,4,0) -> #N/A | N22: =VLOOKUP(B22,'Balancete ano anterior'!A$5:E$656,5,0) -> #N/A | O22: =-(M22-N22) -> #N/A | P22: =VLOOKUP(B22,'Balancete Ano'!A$5:E$656,4,0) -> #N/A | Q22: =VLOOKUP(B22,'Balancete Ano'!A$5:E$656,5,0) -> #N/A | R22: =-(P22-Q22) -> #N/A | S22: =R22-O22 -> #N/A | T22: =IF(AND(F22="I",D22="SD"),M22,IF(AND(F22="I",D22="SC"),N22,IF(AND(F22="I",D22="SL"),O22,0))) -> 0 | U22: =IF(AND(F22="F",D22="SD"),P22,IF(AND(F22="F",D22="SC"),Q22,IF(AND(F22="F",D22="SL"),R22,0))) -> 0 | V22: =IF(AND(F22="V",D22="SL"),S22,0) -> 0 | W22: =SUM(T22:V22)*X22 -> 0 | X22: =IF(E22="-",-1,1) -> 1
I23: =G23+H23 -> 0 | M23: =VLOOKUP(B23,'Balancete ano anterior'!A$5:E$656,4,0) -> #N/A | N23: =VLOOKUP(B23,'Balancete ano anterior'!A$5:E$656,5,0) -> #N/A | O23: =-(M23-N23) -> #N/A | P23: =VLOOKUP(B23,'Balancete Ano'!A$5:E$656,4,0) -> #N/A | Q23: =VLOOKUP(B23,'Balancete Ano'!A$5:E$656,5,0) -> #N/A | R23: =-(P23-Q23) -> #N/A | S23: =R23-O23 -> #N/A | T23: =IF(AND(F23="I",D23="SD"),M23,IF(AND(F23="I",D23="SC"),N23,IF(AND(F23="I",D23="SL"),O23,0))) -> 0 | U23: =IF(AND(F23="F",D23="SD"),P23,IF(AND(F23="F",D23="SC"),Q23,IF(AND(F23="F",D23="SL"),R23,0))) -> 0 | V23: =IF(AND(F23="V",D23="SL"),S23,0) -> 0 | W23: =SUM(T23:V23)*X23 -> 0 | X23: =IF(E23="-",-1,1) -> 1
I24: =G24+H24 -> 0 | M24: =VLOOKUP(B24,'Balancete ano anterior'!A$5:E$656,4,0) -> #N/A | N24: =VLOOKUP(B24,'Balancete ano anterior'!A$5:E$656,5,0) -> #N/A | O24: =-(M24-N24) -> #N/A | P24: =VLOOKUP(B24,'Balancete Ano'!A$5:E$656,4,0) -> #N/A | Q24: =VLOOKUP(B24,'Balancete Ano'!A$5:E$656,5,0) -> #N/A | R24: =-(P24-Q24) -> #N/A | S24: =R24-O24 -> #N/A | T24: =IF(AND(F24="I",D24="SD"),M24,IF(AND(F24="I",D24="SC"),N24,IF(AND(F24="I",D24="SL"),O24,0))) -> 0 | U24: =IF(AND(F24="F",D24="SD"),P24,IF(AND(F24="F",D24="SC"),Q24,IF(AND(F24="F",D24="SL"),R24,0))) -> 0 | V24: =IF(AND(F24="V",D24="SL"),S24,0) -> 0 | W24: =SUM(T24:V24)*X24 -> 0 | X24: =IF(E24="-",-1,1) -> 1
H25: Soma | I25: =SUM(I13:I24) -> 0 | M25: =VLOOKUP(B25,'Balancete ano anterior'!A$5:E$656,4,0) -> #N/A | N25: =VLOOKUP(B25,'Balancete ano anterior'!A$5:E$656,5,0) -> #N/A | O25: =-(M25-N25) -> #N/A | P25: =VLOOKUP(B25,'Balancete Ano'!A$5:E$656,4,0) -> #N/A | Q25: =VLOOKUP(B25,'Balancete Ano'!A$5:E$656,5,0) -> #N/A | R25: =-(P25-Q25) -> #N/A | S25: =R25-O25 -> #N/A | T25: =IF(AND(F25="I",D25="SD"),M25,IF(AND(F25="I",D25="SC"),N25,IF(AND(F25="I",D25="SL"),O25,0))) -> 0 | U25: =IF(AND(F25="F",D25="SD"),P25,IF(AND(F25="F",D25="SC"),Q25,IF(AND(F25="F",D25="SL"),R25,0))) -> 0 | V25: =IF(AND(F25="V",D25="SL"),S25,0) -> 0 | W25: =SUM(T25:V25)*X25 -> 0 | X25: =IF(E25="-",-1,1) -> 1
M26: =VLOOKUP(B26,'Balancete ano anterior'!A$5:E$656,4,0) -> #N/A | N26: =VLOOKUP(B26,'Balancete ano anterior'!A$5:E$656,5,0) -> #N/A | O26: =-(M26-N26) -> #N/A | P26: =VLOOKUP(B26,'Balancete Ano'!A$5:E$656,4,0) -> #N/A | Q26: =VLOOKUP(B26,'Balancete Ano'!A$5:E$656,5,0) -> #N/A | R26: =-(P26-Q26) -> #N/A | S26: =R26-O26 -> #N/A | T26: =IF(AND(F26="I",D26="SD"),M26,IF(AND(F26="I",D26="SC"),N26,IF(AND(F26="I",D26="SL"),O26,0))) -> 0 | U26: =IF(AND(F26="F",D26="SD"),P26,IF(AND(F26="F",D26="SC"),Q26,IF(AND(F26="F",D26="SL"),R26,0))) -> 0 | V26: =IF(AND(F26="V",D26="SL"),S26,0) -> 0 | W26: =SUM(T26:V26)*X26 -> 0 | X26: =IF(E26="-",-1,1) -> 1
B27: Cálculo dos pagamentos a fornecedores | M27: =VLOOKUP(B27,'Balancete ano anterior'!A$5:E$656,4,0) -> #N/A | N27: =VLOOKUP(B27,'Balancete ano anterior'!A$5:E$656,5,0) -> #N/A | O27: =-(M27-N27) -> #N/A | P27: =VLOOKUP(B27,'Balancete Ano'!A$5:E$656,4,0) -> #N/A | Q27: =VLOOKUP(B27,'Balancete Ano'!A$5:E$656,5,0) -> #N/A | R27: =-(P27-Q27) -> #N/A | S27: =R27-O27 -> #N/A | T27: =IF(AND(F27="I",D27="SD"),M27,IF(AND(F27="I",D27="SC"),N27,IF(AND(F27="I",D27="SL"),O27,0))) -> 0 | U27: =IF(AND(F27="F",D27="SD"),P27,IF(AND(F27="F",D27="SC"),Q27,IF(AND(F27="F",D27="SL"),R27,0))) -> 0 | V27: =IF(AND(F27="V",D27="SL"),S27,0) -> 0 | W27: =SUM(T27:V27)*X27 -> 0 | X27: =IF(E27="-",-1,1) -> 1
M28: =VLOOKUP(B28,'Balancete ano anterior'!A$5:E$656,4,0) -> #N/A | N28: =VLOOKUP(B28,'Balancete ano anterior'!A$5:E$656,5,0) -> #N/A | O28: =-(M28-N28) -> #N/A | P28: =VLOOKUP(B28,'Balancete Ano'!A$5:E$656,4,0) -> #N/A | Q28: =VLOOKUP(B28,'Balancete Ano'!A$5:E$656,5,0) -> #N/A | R28: =-(P28-Q28) -> #N/A | S28: =R28-O28 -> #N/A | T28: =IF(AND(F28="I",D28="SD"),M28,IF(AND(F28="I",D28="SC"),N28,IF(AND(F28="I",D28="SL"),O28,0))) -> 0 | U28: =IF(AND(F28="F",D28="SD"),P28,IF(AND(F28="F",D28="SC"),Q28,IF(AND(F28="F",D28="SL"),R28,0))) -> 0 | V28: =IF(AND(F28="V",D28="SL"),S28,0) -> 0 | W28: =SUM(T28:V28)*X28 -> 0 | X28: =IF(E28="-",-1,1) -> 1
B29: Conta | C29: Descrição | D29: Mov/Sld | E29: Sinal | F29: I/F/V | G29: Valor | H29: Ajuste | I29: Valor ajustado | M29: =VLOOKUP(B29,'Balancete ano anterior'!A$5:E$656,4,0) -> #N/A | N29: =VLOOKUP(B29,'Balancete ano anterior'!A$5:E$656,5,0) -> #N/A | O29: =-(M29-N29) -> #N/A | P29: =VLOOKUP(B29,'Balancete Ano'!A$5:E$656,4,0) -> #N/A | Q29: =VLOOKUP(B29,'Balancete Ano'!A$5:E$656,5,0) -> #N/A | R29: =-(P29-Q29) -> #N/A | S29: =R29-O29 -> #N/A | T29: =IF(AND(F29="I",D29="SD"),M29,IF(AND(F29="I",D29="SC"),N29,IF(AND(F29="I",D29="SL"),O29,0))) -> 0 | U29: =IF(AND(F29="F",D29="SD"),P29,IF(AND(F29="F",D29="SC"),Q29,IF(AND(F29="F",D29="SL"),R29,0))) -> 0 | V29: =IF(AND(F29="V",D29="SL"),S29,0) -> 0 | W29: =SUM(T29:V29)*X29 -> 0 | X29: =IF(E29="-",-1,1) -> 1
M30: =VLOOKUP(B30,'Balancete ano anterior'!A$5:E$656,4,0) -> #N/A | N30: =VLOOKUP(B30,'Balancete ano anterior'!A$5:E$656,5,0) -> #N/A | O30: =-(M30-N30) -> #N/A | P30: =VLOOKUP(B30,'Balancete Ano'!A$5:E$656,4,0) -> #N/A | Q30: =VLOOKUP(B30,'Balancete Ano'!A$5:E$656,5,0) -> #N/A | R30: =-(P30-Q30) -> #N/A | S30: =R30-O30 -> #N/A | T30: =IF(AND(F30="I",D30="SD"),M30,IF(AND(F30="I",D30="SC"),N30,IF(AND(F30="I",D30="SL"),O30,0))) -> 0 | U30: =IF(AND(F30="F",D30="SD"),P30,IF(AND(F30="F",D30="SC"),Q30,IF(AND(F30="F",D30="SL"),R30,0))) -> 0 | V30: =IF(AND(F30="V",D30="SL"),S30,0) -> 0 | W30: =SUM(T30:V30)*X30 -> 0 | X30: =IF(E30="-",-1,1) -> 1
B31: 22 | C31: =VLOOKUP(B31,'Balancete Ano'!A$5:E$656,3,0) -> Fornecedores | D31: SL | E31: - | F31: V | G31: =W31 -> 0 | I31: =G31+H31 -> 0 | M31: =VLOOKUP(B31,'Balancete ano anterior'!A$5:E$656,4,0) -> 0 | N31: =VLOOKUP(B31,'Balancete ano anterior'!A$5:E$656,5,0) -> 0 | O31: =-(M31-N31) -> 0 | P31: =VLOOKUP(B31,'Balancete Ano'!A$5:E$656,4,0) -> 0 | Q31: =VLOOKUP(B31,'Balancete Ano'!A$5:E$656,5,0) -> 0 | R31: =-(P31-Q31) -> 0 | S31: =R31-O31 -> 0 | T31: =IF(AND(F31="I",D31="SD"),M31,IF(AND(F31="I",D31="SC"),N31,IF(AND(F31="I",D31="SL"),O31,0))) -> 0 | U31: =IF(AND(F31="F",D31="SD"),P31,IF(AND(F31="F",D31="SC"),Q31,IF(AND(F31="F",D31="SL"),R31,0))) -> 0 | V31: =IF(AND(F31="V",D31="SL"),S31,0) -> 0 | W31: =SUM(T31:V31)*X31 -> 0 | X31: =IF(E31="-",-1,1) -> -1
B32: 229 | C32: =VLOOKUP(B32,'Balancete Ano'!A$5:E$656,3,0) -> Perdas por imparidade acumuladas | D32: SL | E32: - | F32: V | G32: =W32 -> 0 | I32: =G32+H32 -> 0 | M32: =VLOOKUP(B32,'Balancete ano anterior'!A$5:E$656,4,0) -> 0 | N32: =VLOOKUP(B32,'Balancete ano anterior'!A$5:E$656,5,0) -> 0 | O32: =-(M32-N32) -> 0 | P32: =VLOOKUP(B32,'Balancete Ano'!A$5:E$656,4,0) -> 0 | Q32: =VLOOKUP(B32,'Balancete Ano'!A$5:E$656,5,0) -> 0 | R32: =-(P32-Q32) -> 0 | S32: =R32-O32 -> 0 | T32: =IF(AND(F32="I",D32="SD"),M32,IF(AND(F32="I",D32="SC"),N32,IF(AND(F32="I",D32="SL"),O32,0))) -> 0 | U32: =IF(AND(F32="F",D32="SD"),P32,IF(AND(F32="F",D32="SC"),Q32,IF(AND(F32="F",D32="SL"),R32,0))) -> 0 | V32: =IF(AND(F32="V",D32="SL"),S32,0) -> 0 | W32: =SUM(T32:V32)*X32 -> 0 | X32: =IF(E32="-",-1,1) -> -1
B33: 31 | C33: =VLOOKUP(B33,'Balancete Ano'!A$5:E$656,3,0) -> Compras | D33: SL | E33: - | F33: F | G33: =W33 -> 0 | I33: =G33+H33 -> 0 | M33: =VLOOKUP(B33,'Balancete ano anterior'!A$5:E$656,4,0) -> 0 | N33: =VLOOKUP(B33,'Balancete ano anterior'!A$5:E$656,5,0) -> 0 | O33: =-(M33-N33) -> 0 | P33: =VLOOKUP(B33,'Balancete Ano'!A$5:E$656,4,0) -> 0 | Q33: =VLOOKUP(B33,'Balancete Ano'!A$5:E$656,5,0) -> 0 | R33: =-(P33-Q33) -> 0 | S33: =R33-O33 -> 0 | T33: =IF(AND(F33="I",D33="SD"),M33,IF(AND(F33="I",D33="SC"),N33,IF(AND(F33="I",D33="SL"),O33,0))) -> 0 | U33: =IF(AND(F33="F",D33="SD"),P33,IF(AND(F33="F",D33="SC"),Q33,IF(AND(F33="F",D33="SL"),R33,0))) -> 0 | V33: =IF(AND(F33="V",D33="SL"),S33,0) -> 0 | W33: =SUM(T33:V33)*X33 -> 0 | X33: =IF(E33="-",-1,1) -> -1
B34: 62 | C34: =VLOOKUP(B34,'Balancete Ano'!A$5:E$656,3,0) -> Fornecimentos e serviços externos | D34: SL | E34: - | F34: F | G34: =W34 -> 0 | I34: =G34+H34 -> 0 | M34: =VLOOKUP(B34,'Balancete ano anterior'!A$5:E$656,4,0) -> 0 | N34: =VLOOKUP(B34,'Balancete ano anterior'!A$5:E$656,5,0) -> 0 | O34: =-(M34-N34) -> 0 | P34: =VLOOKUP(B34,'Balancete Ano'!A$5:E$656,4,0) -> 0 | Q34: =VLOOKUP(B34,'Balancete Ano'!A$5:E$656,5,0) -> 0 | R34: =-(P34-Q34) -> 0 | S34: =R34-O34 -> 0 | T34: =IF(AND(F34="I",D34="SD"),M34,IF(AND(F34="I",D34="SC"),N34,IF(AND(F34="I",D34="SL"),O34,0))) -> 0 | U34: =IF(AND(F34="F",D34="SD"),P34,IF(AND(F34="F",D34="SC"),Q34,IF(AND(F34="F",D34="SL"),R34,0))) -> 0 | V34: =IF(AND(F34="V",D34="SL"),S34,0) -> 0 | W34: =SUM(T34:V34)*X34 -> 0 | X34: =IF(E34="-",-1,1) -> -1
B35: 39 | C35: =VLOOKUP(B35,'Balancete Ano'!A$5:E$656,3,0) -> Adiantamentos por conta de compras | D35: SL | E35: - | F35: V | G35: =W35 -> 0 | I35: =G35+H35 -> 0 | M35: =VLOOKUP(B35,'Balancete ano anterior'!A$5:E$656,4,0) -> 0 | N35: =VLOOKUP(B35,'Balancete ano anterior'!A$5:E$656,5,0) -> 0 | O35: =-(M35-N35) -> 0 | P35: =VLOOKUP(B35,'Balancete Ano'!A$5:E$656,4,0) -> 0 | Q35: =VLOOKUP(B35,'Balancete Ano'!A$5:E$656,5,0) -> 0 | R35: =-(P35-Q35) -> 0 | S35: =R35-O35 -> 0 | T35: =IF(AND(F35="I",D35="SD"),M35,IF(AND(F35="I",D35="SC"),N35,IF(AND(F35="I",D35="SL"),O35,0))) -> 0 | U35: =IF(AND(F35="F",D35="SD"),P35,IF(AND(F35="F",D35="SC"),Q35,IF(AND(F35="F",D35="SL"),R35,0))) -> 0 | V35: =IF(AND(F35="V",D35="SL"),S35,0) -> 0 | W35: =SUM(T35:V35)*X35 -> 0 | X35: =IF(E35="-",-1,1) -> -1
B36: 27221 | C36: =VLOOKUP(B36,'Balancete Ano'!A$5:E$656,3,0) -> Seguros a Liquidar | D36: SL | E36: - | F36: V | G36: =W36 -> 0 | I36: =G36+H36 -> 0 | M36: =VLOOKUP(B36,'Balancete ano anterior'!A$5:E$656,4,0) -> 0 | N36: =VLOOKUP(B36,'Balancete ano anterior'!A$5:E$656,5,0) -> 0 | O36: =-(M36-N36) -> 0 | P36: =VLOOKUP(B36,'Balancete Ano'!A$5:E$656,4,0) -> 0 | Q36: =VLOOKUP(B36,'Balancete Ano'!A$5:E$656,5,0) -> 0 | R36: =-(P36-Q36) -> 0 | S36: =R36-O36 -> 0 | T36: =IF(AND(F36="I",D36="SD"),M36,IF(AND(F36="I",D36="SC"),N36,IF(AND(F36="I",D36="SL"),O36,0))) -> 0 | U36: =IF(AND(F36="F",D36="SD"),P36,IF(AND(F36="F",D36="SC"),Q36,IF(AND(F36="F",D36="SL"),R36,0))) -> 0 | V36: =IF(AND(F36="V",D36="SL"),S36,0) -> 0 | W36: =SUM(T36:V36)*X36 -> 0 | X36: =IF(E36="-",-1,1) -> -1
B37: 782 | C37: =VLOOKUP(B37,'Balancete Ano'!A$5:E$656,3,0) -> Descontos de pronto pagamento obtidos | D37: SL | E37: - | F37: F | G37: =W37 -> 0 | I37: =G37+H37 -> 0 | M37: =VLOOKUP(B37,'Balancete ano anterior'!A$5:E$656,4,0) -> 0 | N37: =VLOOKUP(B37,'Balancete ano anterior'!A$5:E$656,5,0) -> 0 | O37: =-(M37-N37) -> 0 | P37: =VLOOKUP(B37,'Balancete Ano'!A$5:E$656,4,0) -> 0 | Q37: =VLOOKUP(B37,'Balancete Ano'!A$5:E$656,5,0) -> 0 | R37: =-(P37-Q37) -> 0 | S37: =R37-O37 -> 0 | T37: =IF(AND(F37="I",D37="SD"),M37,IF(AND(F37="I",D37="SC"),N37,IF(AND(F37="I",D37="SL"),O37,0))) -> 0 | U37: =IF(AND(F37="F",D37="SD"),P37,IF(AND(F37="F",D37="SC"),Q37,IF(AND(F37="F",D37="SL"),R37,0))) -> 0 | V37: =IF(AND(F37="V",D37="SL"),S37,0) -> 0 | W37: =SUM(T37:V37)*X37 -> 0 | X37: =IF(E37="-",-1,1) -> -1
B38: 24321 | C38: =VLOOKUP(B38,EXTRA!$B$10:$D$49,2,0) -> Iva dedutivel - Existências | E38: + | G38: =VLOOKUP(B38,EXTRA!$B$10:$D$49,3,0)*X38 -> 0 | I38: =G38+H38 -> 0 | M38: =VLOOKUP(B38,'Balancete ano anterior'!A$5:E$656,4,0) -> #N/A | N38: =VLOOKUP(B38,'Balancete ano anterior'!A$5:E$656,5,0) -> #N/A | O38: =-(M38-N38) -> #N/A | P38: =VLOOKUP(B38,'Balancete Ano'!A$5:E$656,4,0) -> #N/A | Q38: =VLOOKUP(B38,'Balancete Ano'!A$5:E$656,5,0) -> #N/A | R38: =-(P38-Q38) -> #N/A | S38: =R38-O38 -> #N/A | T38: =IF(AND(F38="I",D38="SD"),M38,IF(AND(F38="I",D38="SC"),N38,IF(AND(F38="I",D38="SL"),O38,0))) -> 0 | U38: =IF(AND(F38="F",D38="SD"),P38,IF(AND(F38="F",D38="SC"),Q38,IF(AND(F38="F",D38="SL"),R38,0))) -> 0 | V38: =IF(AND(F38="V",D38="SL"),S38,0) -> 0 | W38: =SUM(T38:V38)*X38 -> 0 | X38: =IF(E38="-",-1,1) -> 1
B39: 24323 | C39: =VLOOKUP(B39,EXTRA!$B$10:$D$49,2,0) -> Iva dedutivel - Outros bens e serviços | E39: + | G39: =VLOOKUP(B39,EXTRA!$B$10:$D$49,3,0)*X39 -> 0 | I39: =G39+H39 -> 0 | M39: =VLOOKUP(B39,'Balancete ano anterior'!A$5:E$656,4,0) -> #N/A | N39: =VLOOKUP(B39,'Balancete ano anterior'!A$5:E$656,5,0) -> #N/A | O39: =-(M39-N39) -> #N/A | P39: =VLOOKUP(B39,'Balancete Ano'!A$5:E$656,4,0) -> #N/A | Q39: =VLOOKUP(B39,'Balancete Ano'!A$5:E$656,5,0) -> #N/A | R39: =-(P39-Q39) -> #N/A | S39: =R39-O39 -> #N/A | T39: =IF(AND(F39="I",D39="SD"),M39,IF(AND(F39="I",D39="SC"),N39,IF(AND(F39="I",D39="SL"),O39,0))) -> 0 | U39: =IF(AND(F39="F",D39="SD"),P39,IF(AND(F39="F",D39="SC"),Q39,IF(AND(F39="F",D39="SL"),R39,0))) -> 0 | V39: =IF(AND(F39="V",D39="SL"),S39,0) -> 0 | W39: =SUM(T39:V39)*X39 -> 0 | X39: =IF(E39="-",-1,1) -> 1
I40: =G40+H40 -> 0 | M40: =VLOOKUP(B40,'Balancete ano anterior'!A$5:E$656,4,0) -> #N/A | N40: =VLOOKUP(B40,'Balancete ano anterior'!A$5:E$656,5,0) -> #N/A | O40: =-(M40-N40) -> #N/A | P40: =VLOOKUP(B40,'Balancete Ano'!A$5:E$656,4,0) -> #N/A | Q40: =VLOOKUP(B40,'Balancete Ano'!A$5:E$656,5,0) -> #N/A | R40: =-(P40-Q40) -> #N/A | S40: =R40-O40 -> #N/A | T40: =IF(AND(F40="I",D40="SD"),M40,IF(AND(F40="I",D40="SC"),N40,IF(AND(F40="I",D40="SL"),O40,0))) -> 0 | U40: =IF(AND(F40="F",D40="SD"),P40,IF(AND(F40="F",D40="SC"),Q40,IF(AND(F40="F",D40="SL"),R40,0))) -> 0 | V40: =IF(AND(F40="V",D40="SL"),S40,0) -> 0 | W40: =SUM(T40:V40)*X40 -> 0 | X40: =IF(E40="-",-1,1) -> 1
I41: =G41+H41 -> 0 | M41: =VLOOKUP(B41,'Balancete ano anterior'!A$5:E$656,4,0) -> #N/A | N41: =VLOOKUP(B41,'Balancete ano anterior'!A$5:E$656,5,0) -> #N/A | O41: =-(M41-N41) -> #N/A | P41: =VLOOKUP(B41,'Balancete Ano'!A$5:E$656,4,0) -> #N/A | Q41: =VLOOKUP(B41,'Balancete Ano'!A$5:E$656,5,0) -> #N/A | R41: =-(P41-Q41) -> #N/A | S41: =R41-O41 -> #N/A | T41: =IF(AND(F41="I",D41="SD"),M41,IF(AND(F41="I",D41="SC"),N41,IF(AND(F41="I",D41="SL"),O41,0))) -> 0 | U41: =IF(AND(F41="F",D41="SD"),P41,IF(AND(F41="F",D41="SC"),Q41,IF(AND(F41="F",D41="SL"),R41,0))) -> 0 | V41: =IF(AND(F41="V",D41="SL"),S41,0) -> 0 | W41: =SUM(T41:V41)*X41 -> 0 | X41: =IF(E41="-",-1,1) -> 1
I42: =G42+H42 -> 0 | M42: =VLOOKUP(B42,'Balancete ano anterior'!A$5:E$656,4,0) -> #N/A | N42: =VLOOKUP(B42,'Balancete ano anterior'!A$5:E$656,5,0) -> #N/A | O42: =-(M42-N42) -> #N/A | P42: =VLOOKUP(B42,'Balancete Ano'!A$5:E$656,4,0) -> #N/A | Q42: =VLOOKUP(B42,'Balancete Ano'!A$5:E$656,5,0) -> #N/A | R42: =-(P42-Q42) -> #N/A | S42: =R42-O42 -> #N/A | T42: =IF(AND(F42="I",D42="SD"),M42,IF(AND(F42="I",D42="SC"),N42,IF(AND(F42="I",D42="SL"),O42,0))) -> 0 | U42: =IF(AND(F42="F",D42="SD"),P42,IF(AND(F42="F",D42="SC"),Q42,IF(AND(F42="F",D42="SL"),R42,0))) -> 0 | V42: =IF(AND(F42="V",D42="SL"),S42,0) -> 0 | W42: =SUM(T42:V42)*X42 -> 0 | X42: =IF(E42="-",-1,1) -> 1
I43: =G43+H43 -> 0 | M43: =VLOOKUP(B43,'Balancete ano anterior'!A$5:E$656,4,0) -> #N/A | N43: =VLOOKUP(B43,'Balancete ano anterior'!A$5:E$656,5,0) -> #N/A | O43: =-(M43-N43) -> #N/A | P43: =VLOOKUP(B43,'Balancete Ano'!A$5:E$656,4,0) -> #N/A | Q43: =VLOOKUP(B43,'Balancete Ano'!A$5:E$656,5,0) -> #N/A | R43: =-(P43-Q43) -> #N/A | S43: =R43-O43 -> #N/A | T43: =IF(AND(F43="I",D43="SD"),M43,IF(AND(F43="I",D43="SC"),N43,IF(AND(F43="I",D43="SL"),O43,0))) -> 0 | U43: =IF(AND(F43="F",D43="SD"),P43,IF(AND(F43="F",D43="SC"),Q43,IF(AND(F43="F",D43="SL"),R43,0))) -> 0 | V43: =IF(AND(F43="V",D43="SL"),S43,0) -> 0 | W43: =SUM(T43:V43)*X43 -> 0 | X43: =IF(E43="-",-1,1) -> 1
I44: =G44+H44 -> 0 | M44: =VLOOKUP(B44,'Balancete ano anterior'!A$5:E$656,4,0) -> #N/A | N44: =VLOOKUP(B44,'Balancete ano anterior'!A$5:E$656,5,0) -> #N/A | O44: =-(M44-N44) -> #N/A | P44: =VLOOKUP(B44,'Balancete Ano'!A$5:E$656,4,0) -> #N/A | Q44: =VLOOKUP(B44,'Balancete Ano'!A$5:E$656,5,0) -> #N/A | R44: =-(P44-Q44) -> #N/A | S44: =R44-O44 -> #N/A | T44: =IF(AND(F44="I",D44="SD"),M44,IF(AND(F44="I",D44="SC"),N44,IF(AND(F44="I",D44="SL"),O44,0))) -> 0 | U44: =IF(AND(F44="F",D44="SD"),P44,IF(AND(F44="F",D44="SC"),Q44,IF(AND(F44="F",D44="SL"),R44,0))) -> 0 | V44: =IF(AND(F44="V",D44="SL"),S44,0) -> 0 | W44: =SUM(T44:V44)*X44 -> 0 | X44: =IF(E44="-",-1,1) -> 1
I45: =G45+H45 -> 0 | M45: =VLOOKUP(B45,'Balancete ano anterior'!A$5:E$656,4,0) -> #N/A | N45: =VLOOKUP(B45,'Balancete ano anterior'!A$5:E$656,5,0) -> #N/A | O45: =-(M45-N45) -> #N/A | P45: =VLOOKUP(B45,'Balancete Ano'!A$5:E$656,4,0) -> #N/A | Q45: =VLOOKUP(B45,'Balancete Ano'!A$5:E$656,5,0) -> #N/A | R45: =-(P45-Q45) -> #N/A | S45: =R45-O45 -> #N/A | T45: =IF(AND(F45="I",D45="SD"),M45,IF(AND(F45="I",D45="SC"),N45,IF(AND(F45="I",D45="SL"),O45,0))) -> 0 | U45: =IF(AND(F45="F",D45="SD"),P45,IF(AND(F45="F",D45="SC"),Q45,IF(AND(F45="F",D45="SL"),R45,0))) -> 0 | V45: =IF(AND(F45="V",D45="SL"),S45,0) -> 0 | W45: =SUM(T45:V45)*X45 -> 0 | X45: =IF(E45="-",-1,1) -> 1
...

Sheet ACTFIN
B4: ACTIVIDADES DE FINANCIAMENTO
B5: ='Balancete ano anterior'!C1 -> Empresa ABC, Lda.
B6: Ano | C6: ='Balancete Ano'!C2 -> 2014
B7: Mês | C7: ='Balancete Ano'!C3 -> Dezembro
B9: Recebimentos
B11: Financiamentos obtidos
M12: Inicial | P12: Final | S12: Var F-I
B13: Conta | C13: Descrição | D13: Mov/Sld | E13: Sinal | F13: I/F/V | G13: Valor | H13: Ajuste | I13: Valor ajustado | M13: SD | N13: SC | O13: SL | P13: SD | Q13: SC | R13: SL | S13: V | T13: I | U13: F | V13: V | W13: Valor | X13: Sinal
B15: 25 | C15: =VLOOKUP(B15,'Balancete Ano'!A$5:E$656,3,0) -> Financiamentos obtidos | D15: SL | E15: + | F15: V | G15: =W15 -> 0 | I15: =IF(G15>0,W15) -> FALSE | M15: =VLOOKUP(B15,'Balancete ano anterior'!A$5:E$656,4,0) -> 0 | N15: =VLOOKUP(B15,'Balancete ano anterior'!A$5:E$656,5,0) -> 0 | O15: =-(M15-N15) -> 0 | P15: =VLOOKUP(B15,'Balancete Ano'!A$5:E$656,4,0) -> 0 | Q15: =VLOOKUP(B15,'Balancete Ano'!A$5:E$656,5,0) -> 0 | R15: =-(P15-Q15) -> 0 | S15: =R15-O15 -> 0 | T15: =IF(AND(F15="I",D15="SD"),M15,IF(AND(F15="I",D15="SC"),N15,IF(AND(F15="I",D15="SL"),O15,0))) -> 0 | U15: =IF(AND(F15="F",D15="SD"),P15,IF(AND(F15="F",D15="SC"),Q15,IF(AND(F15="F",D15="SL"),R15,0))) -> 0 | V15: =IF(AND(F15="V",D15="SL"),S15,0) -> 0 | W15: =SUM(T15:V15)*X15 -> 0 | X15: =IF(E15="-",-1,1) -> 1
B16: 12 | C16: =VLOOKUP(B16,'Balancete Ano'!A$5:E$656,3,0) -> Depósitos à ordem | D16: SC | E16: + | F16: F | G16: =W16 -> 0 | M16: =VLOOKUP(B16,'Balancete ano anterior'!A$5:E$656,4,0) -> 0 | N16: =VLOOKUP(B16,'Balancete ano anterior'!A$5:E$656,5,0) -> 0 | O16: =-(M16-N16) -> 0 | P16: =VLOOKUP(B16,'Balancete Ano'!A$5:E$656,4,0) -> 0 | Q16: =VLOOKUP(B16,'Balancete Ano'!A$5:E$656,5,0) -> 0 | R16: =-(P16-Q16) -> 0 | S16: =R16-O16 -> 0 | T16: =IF(AND(F16="I",D16="SD"),M16,IF(AND(F16="I",D16="SC"),N16,IF(AND(F16="I",D16="SL"),O16,0))) -> 0 | U16: =IF(AND(F16="F",D16="SD"),P16,IF(AND(F16="F",D16="SC"),Q16,IF(AND(F16="F",D16="SL"),R16,0))) -> 0 | V16: =IF(AND(F16="V",D16="SL"),S16,0) -> 0 | W16: =SUM(T16:V16)*X16 -> 0 | X16: =IF(E16="-",-1,1) -> 1
B17: 12 | C17: =VLOOKUP(B17,'Balancete Ano'!A$5:E$656,3,0) -> Depósitos à ordem | D17: SC | E17: + | F17: I | G17: =W17 -> 0 | I17: =IF((G16-G17)>0,(G16-G17)) -> FALSE | M17: =VLOOKUP(B17,'Balancete ano anterior'!A$5:E$656,4,0) -> 0 | N17: =VLOOKUP(B17,'Balancete ano anterior'!A$5:E$656,5,0) -> 0 | O17: =-(M17-N17) -> 0 | P17: =VLOOKUP(B17,'Balancete Ano'!A$5:E$656,4,0) -> 0 | Q17: =VLOOKUP(B17,'Balancete Ano'!A$5:E$656,5,0) -> 0 | R17: =-(P17-Q17) -> 0 | S17: =R17-O17 -> 0 | T17: =IF(AND(F17="I",D17="SD"),M17,IF(AND(F17="I",D17="SC"),N17,IF(AND(F17="I",D17="SL"),O17,0))) -> 0 | U17: =IF(AND(F17="F",D17="SD"),P17,IF(AND(F17="F",D17="SC"),Q17,IF(AND(F17="F",D17="SL"),R17,0))) -> 0 | V17: =IF(AND(F17="V",D17="SL"),S17,0) -> 0 | W17: =SUM(T17:V17)*X17 -> 0 | X17: =IF(E17="-",-1,1) -> 1
B18: 266 | C18: =VLOOKUP(B18,'Balancete Ano'!A$5:E$656,3,0) -> Empréstimos concedidos – empresa – mãe | D18: SL | E18: + | F18: V | G18: =W18 -> 0 | I18: =G18+H18 -> 0 | M18: =VLOOKUP(B18,'Balancete ano anterior'!A$5:E$656,4,0) -> 0 | N18: =VLOOKUP(B18,'Balancete ano anterior'!A$5:E$656,5,0) -> 0 | O18: =-(M18-N18) -> 0 | P18: =VLOOKUP(B18,'Balancete Ano'!A$5:E$656,4,0) -> 0 | Q18: =VLOOKUP(B18,'Balancete Ano'!A$5:E$656,5,0) -> 0 | R18: =-(P18-Q18) -> 0 | S18: =R18-O18 -> 0 | T18: =IF(AND(F18="I",D18="SD"),M18,IF(AND(F18="I",D18="SC"),N18,IF(AND(F18="I",D18="SL"),O18,0))) -> 0 | U18: =IF(AND(F18="F",D18="SD"),P18,IF(AND(F18="F",D18="SC"),Q18,IF(AND(F18="F",D18="SL"),R18,0))) -> 0 | V18: =IF(AND(F18="V",D18="SL"),S18,0) -> 0 | W18: =SUM(T18:V18)*X18 -> 0 | X18: =IF(E18="-",-1,1) -> 1
G19: =W19 -> 0 | I19: =G19+H19 -> 0 | M19: =VLOOKUP(B19,'Balancete ano anterior'!A$5:E$656,4,0) -> #N/A | N19: =VLOOKUP(B19,'Balancete ano anterior'!A$5:E$656,5,0) -> #N/A | O19: =-(M19-N19) -> #N/A | P19: =VLOOKUP(B19,'Balancete Ano'!A$5:E$656,4,0) -> #N/A | Q19: =VLOOKUP(B19,'Balancete Ano'!A$5:E$656,5,0) -> #N/A | R19: =-(P19-Q19) -> #N/A | S19: =R19-O19 -> #N/A | T19: =IF(AND(F19="I",D19="SD"),M19,IF(AND(F19="I",D19="SC"),N19,IF(AND(F19="I",D19="SL"),O19,0))) -> 0 | U19: =IF(AND(F19="F",D19="SD"),P19,IF(AND(F19="F",D19="SC"),Q19,IF(AND(F19="F",D19="SL"),R19,0))) -> 0 | V19: =IF(AND(F19="V",D19="SL"),S19,0) -> 0 | W19: =SUM(T19:V19)*X19 -> 0 | X19: =IF(E19="-",-1,1) -> 1
H20: Soma | I20: =SUM(I15:I19) -> 0 | M20: =VLOOKUP(B20,'Balancete ano anterior'!A$5:E$656,4,0) -> #N/A | N20: =VLOOKUP(B20,'Balancete ano anterior'!A$5:E$656,5,0) -> #N/A | O20: =-(M20-N20) -> #N/A | P20: =VLOOKUP(B20,'Balancete Ano'!A$5:E$656,4,0) -> #N/A | Q20: =VLOOKUP(B20,'Balancete Ano'!A$5:E$656,5,0) -> #N/A | R20: =-(P20-Q20) -> #N/A | S20: =R20-O20 -> #N/A | T20: =IF(AND(F20="I",D20="SD"),M20,IF(AND(F20="I",D20="SC"),N20,IF(AND(F20="I",D20="SL"),O20,0))) -> 0 | U20: =IF(AND(F20="F",D20="SD"),P20,IF(AND(F20="F",D20="SC"),Q20,IF(AND(F20="F",D20="SL"),R20,0))) -> 0 | V20: =IF(AND(F20="V",D20="SL"),S20,0) -> 0 | W20: =SUM(T20:V20)*X20 -> 0 | X20: =IF(E20="-",-1,1) -> 1
M21: =VLOOKUP(B21,'Balancete ano anterior'!A$5:E$656,4,0) -> #N/A | N21: =VLOOKUP(B21,'Balancete ano anterior'!A$5:E$656,5,0) -> #N/A | O21: =-(M21-N21) -> #N/A | P21: =VLOOKUP(B21,'Balancete Ano'!A$5:E$656,4,0) -> #N/A | Q21: =VLOOKUP(B21,'Balancete Ano'!A$5:E$656,5,0) -> #N/A | R21: =-(P21-Q21) -> #N/A | S21: =R21-O21 -> #N/A | T21: =IF(AND(F21="I",D21="SD"),M21,IF(AND(F21="I",D21="SC"),N21,IF(AND(F21="I",D21="SL"),O21,0))) -> 0 | U21: =IF(AND(F21="F",D21="SD"),P21,IF(AND(F21="F",D21="SC"),Q21,IF(AND(F21="F",D21="SL"),R21,0))) -> 0 | V21: =IF(AND(F21="V",D21="SL"),S21,0) -> 0 | W21: =SUM(T21:V21)*X21 -> 0 | X21: =IF(E21="-",-1,1) -> 1
B22: Realizações de capital e de outros instrumentos de capital próprios | M22: =VLOOKUP(B22,'Balancete ano anterior'!A$5:E$656,4,0) -> #N/A | N22: =VLOOKUP(B22,'Balancete ano anterior'!A$5:E$656,5,0) -> #N/A | O22: =-(M22-N22) -> #N/A | P22: =VLOOKUP(B22,'Balancete Ano'!A$5:E$656,4,0) -> #N/A | Q22: =VLOOKUP(B22,'Balancete Ano'!A$5:E$656,5,0) -> #N/A | R22: =-(P22-Q22) -> #N/A | S22: =R22-O22 -> #N/A | T22: =IF(AND(F22="I",D22="SD"),M22,IF(AND(F22="I",D22="SC"),N22,IF(AND(F22="I",D22="SL"),O22,0))) -> 0 | U22: =IF(AND(F22="F",D22="SD"),P22,IF(AND(F22="F",D22="SC"),Q22,IF(AND(F22="F",D22="SL"),R22,0))) -> 0 | V22: =IF(AND(F22="V",D22="SL"),S22,0) -> 0 | W22: =SUM(T22:V22)*X22 -> 0 | X22: =IF(E22="-",-1,1) -> 1
M23: =VLOOKUP(B23,'Balancete ano anterior'!A$5:E$656,4,0) -> #N/A | N23: =VLOOKUP(B23,'Balancete ano anterior'!A$5:E$656,5,0) -> #N/A | O23: =-(M23-N23) -> #N/A | P23: =VLOOKUP(B23,'Balancete Ano'!A$5:E$656,4,0) -> #N/A | Q23: =VLOOKUP(B23,'Balancete Ano'!A$5:E$656,5,0) -> #N/A | R23: =-(P23-Q23) -> #N/A | S23: =R23-O23 -> #N/A | T23: =IF(AND(F23="I",D23="SD"),M23,IF(AND(F23="I",D23="SC"),N23,IF(AND(F23="I",D23="SL"),O23,0))) -> 0 | U23: =IF(AND(F23="F",D23="SD"),P23,IF(AND(F23="F",D23="SC"),Q23,IF(AND(F23="F",D23="SL"),R23,0))) -> 0 | V23: =IF(AND(F23="V",D23="SL"),S23,0) -> 0 | W23: =SUM(T23:V23)*X23 -> 0 | X23: =IF(E23="-",-1,1) -> 1
