Workbook
Name \a: PRESSUPOSTOS!$ED$4
Name \g: PRESSUPOSTOS!$ED$32
Name \p: PRESSUPOSTOS!$ED$34
Name _BAL1: PRESSUPOSTOS!$O$37:$W$88
Name ANACOBFIN: PRESSUPOSTOS!$I$437:$I$440
Name AUXIL: PRESSUPOSTOS!$I$403:$I$433
Name CFLOW: PRESSUPOSTOS!$A$402:$I$402
Name DRES: PRESSUPOSTOS!$O$3:$W$34
Name FSE: PRESSUPOSTOS!$A$244:$I$306
Name FUNFIN: PRESSUPOSTOS!$A$307:$I$370
Name INVEST: PRESSUPOSTOS!$A$57:$I$134
Name MENU: PRESSUPOSTOS!$ED$6:$ER$6
Name MENU2: PRESSUPOSTOS!$EE$10:$EF$10
Name MENU3: PRESSUPOSTOS!$EL$10:$EM$10
Name MENU4: PRESSUPOSTOS!$EP$10:$ET$10
Name MENU5: PRESSUPOSTOS!$ED$16:$EQ$16
Name MENU6: PRESSUPOSTOS!$ED$25:$EE$25
Name MERCAD: PRESSUPOSTOS!$I$160:$I$213
Name MOAF1: PRESSUPOSTOS!$O$93:$W$134
Name Print_Area_MI: PRESSUPOSTOS!#REF!
Name PRODUCAO: PRESSUPOSTOS!#REF!
Name PROV: PRESSUPOSTOS!$A$214:$I$243
Name SUPOST: PRESSUPOSTOS!$A$3:$I$54
Name VARFUNC: PRESSUPOSTOS!#REF!

Sheet Capa

Sheet Página 1
A2: 1. INFORMAÇÃO PESSOAL
A4: 1.1. Identificação do Promotor Principal
A6: 1.Nome
A7: Morada | B7: ________________________________________________
A8: Localidade | B8: ________________________________________ | D8: Código Postal | E8: ________________
A9: Concelho | B9: __________________________________________ | D9: Distrito | E9: ________________
A10: Telefone | B10: __________/_________________________________ | D10: Fax | E10: ____/___________
A11: Idade | B11: ________________________
A13: 1.2. Identificação dos Promotores
A15: 2. Nome | B15: __________________________________________________________ | E15: Idade | F15: _______
A16: 3. Nome | B16: __________________________________________________________ | E16: Idade | F16: _______
A17: 4. Nome | B17: __________________________________________________________ | E17: Idade | F17: _______
A18: 5. Nome | B18: __________________________________________________________ | E18: Idade | F18: _______
A19: 6. Nome | B19: __________________________________________________________ | E19: Idade | F19: _______
A20: 7. Nome | B20: __________________________________________________________ | E20: Idade | F20: _______
A22: 1.3. Caracterização da Actividade
A24: Principal | B24: ________________________________________________
A25: Secundária | B25: ________________________________________________
A27: Especifique em que consiste a principal actividade

Sheet Página 2
A1: 1.4. Experiência dos promotores nas diversas áreas
A2: do projecto
A9: 1.5. Principal motivação de cada um dos promotores
A10: na sua realização
A19: 1.6. Breve diagnóstico dos promotores: apresente de
A20: forma sumária os pontos fortes e fracos dos promotores

Sheet Página 3
A2: 2. FORMA JURÍDICA
A4: 2.1. Forma Jurídica da sua empresa
A6: A sua escolha recaiu sobre:
A7: * Empresário em nome individual
A8: * Estabelecimento Individual de Responsabilidade Limitada
A9: * Sociedade por quotas
A10: * Sociedade Anónima
A11: * Cooperativa
A12: * Outra ( qual) | C12: ________________________________________________
A14: Que aspectos considerou para a sua escolha?
A25: 2.2. Denominação e localização do empreendimento
A27: Qual vai ser a designação social da sua empresa?
A30: Certificou-se que pode usar essa denominação?
A31: ( Contacte Registo Nacional das Pessoas Colectivas)
A34: Explique a razão que esteve na base da escolha da denominação
A38: Onde vai localizar-se a sua empresa?

Sheet Página 4
A1: Descrição do Local (zona industrial/zona comercial)
A10: Explique as razões que o levaram à escolha desse local

Sheet Página 5
A2: 3. APRESENTAÇÃO DO NEGÓCIO
A4: 3.1. Descrição sumária das diversas componentes
A5: 3.1.1. O que faz? (serviços a prestar, artigos a produzir,...)
A12: 3.1.2. Como faz? ( metodologia, produção, ...)
A19: 3.1.3. Que factores utiliza? ( matérias-primas, subsidiárias,
A20: recursos humanos)
A26: 3.1.4. Como vende? ( Área comercial)

Sheet Página 6
A2: 4. ANÁLISE DE MERCADO
A4: 4.1. Pesquisa de mercado
A6: 4.1.1. Os consumidores
A7: Identifique e caracterize os clientes ( tipo, poder de compra,
A8: dimensão, etc.)
A16: Indique e justifique a quota de mercado que pensa atingir
A24: Descreva como valorizou o seu produto/serviço tendo em
A25: consideração o mercado

Sheet Página 7
A1: 4.1.2. A Concorrência
A2: Indique os seus concorrentes e justifique porque os considera como tal
A15: Como avalia a sua empresa em comparação com as dos seus principais
A16: concorrentes. Justifique
A17: ( + A sua empresa é melhor; 0 a sua empresa é igual; - a sua empresa é pior )
C19: + / 0 / - | E19: Porquê ?
A20: Gama de produtos
A21: Qualidade dos produtos
A22: Serviços complementares
A23: Dimensão
A24: Notoriedade
A25: Imagem
A26: Preço
A27: Rapidez de execução
A28: Garantias
A29: Prestígio
A30: Outros, especifique:

Sheet Página 8
A1: Quais as diferenças entre os seus produtos e os dos seus principais
A2: concorrentes?
A3: ( Se possível indique as diferenças relativamente a cada concorrente).
A11: 4.1.3. Os Fornecedores
A12: Indique quem serão os seus fornecedores e descreva as condições que
A13: oferecem em termos de prazos de entrega, qualidade, prazos
A14: de pagamento, assistência pós-venda, etc.
A23: 4.2. Plano de Marketing
A24: 4.2.1. O Produto
A25: Faça uma descrição detalhada dos produtos/serviços que vai oferecer

Sheet Página 9
A1: 4.2.2. O Preço
A2: Indique o custo dos seus produtos/serviços e descreva o processo
A3: utilizado no seu cálculo
A10: Indique o preço de venda dos seus produtos/serviços e descreva o
A11: método utilizado no seu cálculo
A18: Relacione o seu ponto morto de venda com o mercado e comente o
A19: resultado obtido
A27: 4.2.3. A Distribuição
A28: Indique quais os canais de distribuição que vai utilizar e
A29: justifique com os critérios que utilizou para a sua escolha

Sheet Página 10
A1: 4.2.4. A Promoção
A2: Quais são as opiniões dos seus potenciais clientes acerca dos seus
A3: produtos/serviços (v.g. gama de produtos, qualidade, preço,
A4: garantia, etc.)
A6: OPINIÃO DOS CLIENTES | D6: AS OPINIÕES FORAM TOMADAS EM CONSIDERAÇÃO
A19: MEIOS | E19: Porquê ?
A20: Venda personalizada
A21: Promoção de vendas
A22: Feiras e Exposições
A23: Marketing directo
A24: Relações Públicas
A25: Cartazes e Outdoors
A26: Publicidade
A27: Outros, especifique:

Sheet PRESSUPOSTOS
A1: 5 - ESTUDO ECONÓMICO E FINANCEIRO
A2: 5.1 - Pressupostos do Projecto
A3: EMPRESA: | AI3: II. INVESTIMENTO E FINANCIAMENTO | CB3: 13. AMORTIZAÇÕES | CI3: 15. DEMONSTRAÇÃO PREVISIONAL DOS RESULATADOS | CW3: 17. BALANÇOS PREVISIONAIS DA EMPRESA
CE4: (contos) | CN4: (contos) | DB4: (contos) | ED4: {MENUBRANCH MENU}
A5: PROJECTO DE INVESTIMENTO: | AI5: 1. Plano de Investimento | AN5: Preços correntes
A6: UNIDADE MONETARIA: Euros | AN6: (contos) | CB6: Imobilizado | CC6: Valor de | CD6: Taxa | CE6: Amortização | CJ6: =BV6 -> 0 | CK6: =BW6 -> 0 | CL6: =BX6 -> 0 | CM6: =BY6 -> 0 | CN6: =BZ6 -> 0 | CW6: Designação | CX6: =CQ6 -> 0 | CY6: =CR6 -> 0 | CZ6: =CS6 -> 0 | DA6: =CT6 -> 0 | DB6: =CU6 -> 0 | ED6: PRESSUPOSTOS | EE6: INVESTIMENTO | EF6: PRODUCAO | EG6: MERCADORIAS | EH6: PROVEITOS | EI6: CONSUMOS | EJ6: FORN.SERV.EXT. | EK6: C. c/ PESSOAL | EL6: FUNCAO FINANCEIRA | EM6: CAPITAL CIRCULANTE | EN6: AUXILIARES | EO6: CONTROLO | EP6: QUADROS PRINCIPAIS | EQ6: IMPRIMIR | ER6: SAIR
CC7: aquisição | CD7: anual | CE7: anual
A8: * PERIODO DE ANÁLISE | D8: ANO 1 | E8: ANO 2 | F8: ANO 3 | G8: ANO 4 | H8: ANO 5 | AI8: PLANO DE INVESTIMENTOS | AJ8: =D8 -> ANO 1 | AK8: =E8 -> ANO 2 | AL8: =F8 -> ANO 3 | AM8: =G8 -> ANO 4 | AN8: =H8 -> ANO 5 | CW8: ACTIVO | ED8: {GOTO}A1~ | EE8: {GOTO}A63~ | EF8: {GOTO}A146~ | EG8: {GOTO}A220~ | EH8: {GOTO}A287~ | EI8: {GOTO}A258~ | EJ8: {GOTO}A331~ | EK8: {GOTO}A367~ | EL8: {MENUBRANCH MENU3} | EM8: {GOTO}A420~ | EN8: {GOTO}A540~ | EO8: {GOTO}A575~ | EP8: {MENUBRANCH MENU4} | EQ8: {MENUBRANCH MENU5} | ER8: {MENUBRANCH MENU6}
CB9: * CAPITAL FIXO CORPÓREO | CC9: =SUM(CC10:CC17) -> 0 | CE9: =SUM(CE10:CE17) -> 0 | CI9: PROVEITOS | CW9: 1. Imobilizado Bruto
CB10: Terrenos | CC10: =AJ14 -> 0 | CD10: =IF(CE10>0,CE10/CC10,0) -> 0 | CE10: ='PLANO INV.'!E66 -> 0 | CW10: 1.1. Imobilizações Corpóreas | CX10: =M63 -> 0 | CY10: =N63 -> 0 | CZ10: =O63 -> 0 | DA10: =P63 -> 0 | DB10: =Q63 -> 0 | EL10: FUNCAO FINANCEIRA | EM10: FINANCIAMENTO A M/L PRAZO | EP10: CONTA DE RESULTADOS | EQ10: BALANCO | ER10: CASH-FLOW | ES10: MOAF | ET10: VAR. FUNDOS CIRC. | EU10: INDICADORES
A11: * NÚMERO DE MESES DE EXPLORAÇÃO | D11: 5 | E11: 12 | F11: =E11 -> 12 | G11: =F11 -> 12 | H11: =G11 -> 12 | AI11: CAPITAL FIXO | AJ11: =AJ13+AJ23 -> 0 | AK11: =AK13+AK23 -> 0 | AL11: =AL13+AL23 -> 0 | AM11: =AM13+AM23 -> 0 | AN11: =AN13+AN23 -> 0 | CB11: Infraestruturas | CC11: =AJ15 -> 0 | CD11: =IF(CE11>0,CE11/CC11,0) -> 0 | CE11: ='PLANO INV.'!E67 -> 0 | CI11: Vendas de prosutos | CJ11: ='DEM. RESULTADOS'!D7 -> 0 | CK11: ='DEM. RESULTADOS'!E7 -> 0 | CL11: ='DEM. RESULTADOS'!F7 -> 0 | CM11: ='DEM. RESULTADOS'!G7 -> 0 | CN11: ='DEM. RESULTADOS'!H7 -> 0 | CW11: 1.2. Imobilizações Incorpóreas | CX11: =M62 -> 0 | CY11: =N62 -> 0 | CZ11: =O62 -> 0 | DA11: =P62 -> 0 | DB11: =Q62 -> 0
A12: * PRAZOS MÉDIOS DO CIRCULANTE (DIAS) | CB12: Construções | CC12: =AJ16 -> 0 | CD12: =IF(CE12>0,CE12/CC12,0) -> 0 | CE12: 0 | CI12: Serviços prestados | CJ12: ='DEM. RESULTADOS'!D8 -> 0 | CK12: ='DEM. RESULTADOS'!E8 -> 0 | CL12: ='DEM. RESULTADOS'!F8 -> 0 | CM12: ='DEM. RESULTADOS'!G8 -> 0 | CN12: ='DEM. RESULTADOS'!H8 -> 0 | CW12: 1.3. Investimentos Financeiros | CX12: =M64 -> 0 | CY12: =N64 -> 0 | CZ12: =O64 -> 0 | DA12: =P64 -> 0 | DB12: =Q64 -> 0 | EL12: {GOTO}A404~ | EM12: {GOTO}A448~ | EP12: {GOTO}O4~ | EQ12: {GOTO}O35~ | ER12: {GOTO}A476~ | ES12: {GOTO}O102~ | ET12: {GOTO}O150~ | EU12: {GOTO}A512~
A13: - Fornecedores (Mercadorias) | D13: 30 | E13: =D13 -> 30 | F13: =E13 -> 30 | G13: =F13 -> 30 | H13: =G13 -> 30 | AI13: * CAPITAL FIXO CORPÓREO | AJ13: =SUM(AJ14:AJ21) -> 0 | AK13: =SUM(AK14:AK21) -> 0 | AL13: =SUM(AL14:AL21) -> 0 | AM13: =SUM(AM14:AM21) -> 0 | AN13: =SUM(AN14:AN21) -> 0 | CB13: Adaptação e/ou ampliação de instalações | CC13: =AJ17 -> 0 | CD13: =IF(CE13>0,CE13/CC13,0) -> 0 | CE13: ='PLANO INV.'!E68 -> 0 | CI13: Outros | CJ13: =CJ15-CJ11-CJ12 -> 0 | CK13: =CK15-CK11-CK12 -> 0 | CL13: =CL15-CL11-CL12 -> 0 | CM13: =CM15-CM11-CM12 -> 0 | CN13: =CN15-CN11-CN12 -> 0 | CW13: 1.4. Imobilizações em curso | CX13: =M65 -> 0 | CY13: =N65 -> 0 | CZ13: =O65 -> 0 | DA13: =P65 -> 0 | DB13: =Q65 -> 0
A14: - Fornecedores (Out. Forn. Serv.) | D14: 30 | E14: =D14 -> 30 | F14: =E14 -> 30 | G14: =F14 -> 30 | H14: =G14 -> 30 | AI14: Terrenos | AJ14: ='PLANO INV.'!D12 -> 0 | AK14: ='PLANO INV.'!E12 -> 0 | AL14: ='PLANO INV.'!F12 -> 0 | AM14: ='PLANO INV.'!G12 -> 0 | AN14: ='PLANO INV.'!H12 -> 0 | CB14: Equipamento | CC14: =AJ18 -> 0 | CD14: =IF(CE14>0,CE14/CC14,0) -> 0 | CE14: ='PLANO INV.'!E69 -> 0
A15: - Clientes | D15: 30 | E15: =D15 -> 30 | F15: =E15 -> 30 | G15: =F15 -> 30 | H15: =G15 -> 30 | AI15: Infraestruturas | AJ15: ='PLANO INV.'!D13 -> 0 | AK15: ='PLANO INV.'!E13 -> 0 | AL15: ='PLANO INV.'!F13 -> 0 | AM15: ='PLANO INV.'!G13 -> 0 | AN15: ='PLANO INV.'!H13 -> 0 | CB15: Material de carga e transporte apoiável (*) | CC15: =AJ19 -> 0 | CD15: =IF(CE15>0,CE15/CC15,0) -> 0 | CE15: ='PLANO INV.'!E70 -> 0 | CI15: 1. TOTAL DE PROVEITOS | CJ15: ='DEM. RESULTADOS'!D15 -> 0 | CK15: ='DEM. RESULTADOS'!E15 -> 0 | CL15: ='DEM. RESULTADOS'!F15 -> 0 | CM15: ='DEM. RESULTADOS'!G15 -> 0 | CN15: ='DEM. RESULTADOS'!H15 -> 0 | CW15: 2. Amortizações | CX15: =M66 -> 0 | CY15: =N66 -> 0 | CZ15: =O66 -> 0 | DA15: =P66 -> 0 | DB15: =Q66 -> 0
A16: - Armazenagem | AI16: Construções | AJ16: 0 | AK16: 0 | AL16: 0 | AM16: 0 | AN16: 0 | CB16: Outro material de carga | CC16: =AJ20 -> 0 | CD16: =IF(CE16>0,CE16/CC16,0) -> 0 | CE16: ='PLANO INV.'!E74 -> 0 | ED16: PRESSUPOSTOS | EE16: INVESTIMENTO | EF16: PRODUCAO | EG16: MERCADORIAS | EH16: PROVEITOS | EI16: FORN.SERV.EXT. | EJ16: FUNCAO FINANCEIRA | EK16: AUXILIARES | EL16: CONTA DE RESULTADOS | EM16: BALANCO | EN16: CASH-FLOW | EO16: MOAF | EP16: VAR. FUNDOS CIRC. | EQ16: ANALISE COB. FIN.
A17: . Mercadorias | D17: 10 | E17: =D17 -> 10 | F17: =E17 -> 10 | G17: =F17 -> 10 | H17: =G17 -> 10 | AI17: Adaptação e/ou ampliação de instalações | AJ17: ='PLANO INV.'!D14 -> 0 | AK17: ='PLANO INV.'!E14 -> 0 | AL17: ='PLANO INV.'!F14 -> 0 | AM17: ='PLANO INV.'!G14 -> 0 | AN17: ='PLANO INV.'!H14 -> 0 | CB17: Outros | CC17: =AJ21 -> 0 | CD17: =IF(CE17>0,CE17/CC17,0) -> 0 | CE17: ='PLANO INV.'!E71+'PLANO INV.'!E72+'PLANO INV.'!E73+'PLANO INV.'!E75 -> 0 | CI17: CUSTOS | CW17: 3. Existências
A18: . Materias Primas e Subsidiárias | D18: 10 | E18: =D18 -> 10 | F18: =E18 -> 10 | G18: =F18 -> 10 | H18: =G18 -> 10 | AI18: Equipamento | AJ18: ='PLANO INV.'!D15 -> 0 | AK18: ='PLANO INV.'!E15 -> 0 | AL18: ='PLANO INV.'!F15 -> 0 | AM18: ='PLANO INV.'!G15 -> 0 | AN18: ='PLANO INV.'!H15 -> 0 | CW18: 3.1. Prod. e Trabalhos em Curso | CX18: =BALANÇO!D13 -> 0 | CY18: =BALANÇO!E13 -> 0 | CZ18: =BALANÇO!F13 -> 0 | DA18: =BALANÇO!G13 -> 0 | DB18: =BALANÇO!H13 -> 0 | ED18: /PLT7~QBSUPOST~PQ | EE18: /PLT3~QBINVEST~PQ | EF18: /PLT4~QBPRODUCAO~PQ | EG18: /PLT7~QBMERCAD~PQ | EH18: /PLT12~QBPROV~PQ | EI18: /PLT7~QBFSE~PQ | EJ18: /PLT7~QBFUNFIN~PQ | EK18: /PLT12~QBAUXIL~PQ | EL18: /PLT12~QBDRES~PQ | EM18: /PLT7~QBBAL1~PQ | EN18: /PLL5~T10~QBCFLOW~PQ | EO18: /PLL8~T12~QBMOAF1~PQ | EP18: /PLT12~QBVARFUNC~PQ | EQ18: /PLT15~QBANACOBFIN~PQ
A19: . Produtos Acabados | D19: 10 | E19: =D19 -> 10 | F19: =E19 -> 10 | G19: =F19 -> 10 | H19: =G19 -> 10 | AI19: Material de carga e transporte apoiável (*) | AJ19: ='PLANO INV.'!D16 -> 0 | AK19: ='PLANO INV.'!E16 -> 0 | AL19: ='PLANO INV.'!F16 -> 0 | AM19: ='PLANO INV.'!G16 -> 0 | AN19: ='PLANO INV.'!H16 -> 0 | CB19: * CAPITAL FIXO INCORPÓREO | CC19: =SUM(CC20:CC22) -> 0 | CD19: =SUM(CD20:CD22) -> 0 | CE19: =SUM(CE20:CE22) -> 0 | CI19: Custos das existências vendIdas e consumidas | CJ19: ='DEM. RESULTADOS'!D18 -> 0 | CK19: ='DEM. RESULTADOS'!E18 -> 0 | CL19: ='DEM. RESULTADOS'!F18 -> 0 | CM19: ='DEM. RESULTADOS'!G18 -> 0 | CN19: ='DEM. RESULTADOS'!H18 -> 0 | CW19: 3.2. Mercadorias | CX19: =BALANÇO!D11 -> 0 | CY19: =BALANÇO!E11 -> 0 | CZ19: =BALANÇO!F11 -> 0 | DA19: =BALANÇO!G11 -> 0 | DB19: =BALANÇO!H11 -> 0
A20: - Detencão de Liquidez | D20: 5 | E20: =D20 -> 5 | F20: =E20 -> 5 | G20: =F20 -> 5 | H20: =G20 -> 5 | AI20: Outro material de carga | AJ20: ='PLANO INV.'!D20 -> 0 | AK20: ='PLANO INV.'!E20 -> 0 | AL20: ='PLANO INV.'!F20 -> 0 | AM20: ='PLANO INV.'!G20 -> 0 | AN20: ='PLANO INV.'!H20 -> 0 | CB20: Estudos e projectos | CC20: =AJ24 -> 0 | CD20: =IF(CE20>0,CE20/CC20,0) -> 0 | CE20: ='PLANO INV.'!E61 -> 0 | CI20: Fornecimentos e serviços externos | CJ20: ='DEM. RESULTADOS'!D19 -> 0 | CK20: ='DEM. RESULTADOS'!E19 -> 0 | CL20: ='DEM. RESULTADOS'!F19 -> 0 | CM20: ='DEM. RESULTADOS'!G19 -> 0 | CN20: ='DEM. RESULTADOS'!H19 -> 0
AI21: Outros | AJ21: ='PLANO INV.'!D17+'PLANO INV.'!D18+'PLANO INV.'!D19+'PLANO INV.'!D21 -> 0 | AK21: ='PLANO INV.'!E17+'PLANO INV.'!E18+'PLANO INV.'!E19+'PLANO INV.'!E21 -> 0 | AL21: ='PLANO INV.'!F17+'PLANO INV.'!F18+'PLANO INV.'!F19+'PLANO INV.'!F21 -> 0 | AM21: ='PLANO INV.'!G17+'PLANO INV.'!G18+'PLANO INV.'!G19+'PLANO INV.'!G21 -> 0 | AN21: ='PLANO INV.'!H17+'PLANO INV.'!H18+'PLANO INV.'!H19+'PLANO INV.'!H21 -> 0 | CB21: Assistência técnica | CC21: =AJ25 -> 0 | CD21: =IF(CE21>0,CE21/CC21,0) -> 0 | CE21: ='PLANO INV.'!E62 -> 0 | CI21: Encargos com pessoal | CJ21: ='DEM. RESULTADOS'!D20 -> 0 | CK21: ='DEM. RESULTADOS'!E20 -> 0 | CL21: ='DEM. RESULTADOS'!F20 -> 0 | CM21: ='DEM. RESULTADOS'!G20 -> 0 | CN21: ='DEM. RESULTADOS'!H20 -> 0 | CW21: 4. Dívidas de Terceiros de Médio e Longo Prazo | CX21: =M67 -> 0 | CY21: =N67 -> 0 | CZ21: =O67 -> 0 | DA21: =P67 -> 0 | DB21: =Q67 -> 0
A22: * VND P/ MERCADO EXTERNO (Em % média) | D22: 0 | E22: =D22 -> 0 | F22: =E22 -> 0 | G22: =F22 -> 0 | H22: =G22 -> 0 | CB22: Outros (não apoiável) | CC22: =AJ26 -> 0 | CD22: =IF(CE22>0,CE22/CC22,0) -> 0 | CE22: ='PLANO INV.'!E63 -> 0 | CI22: Impostos | CJ22: ='DEM. RESULTADOS'!D23 -> 0 | CK22: ='DEM. RESULTADOS'!E23 -> 0 | CL22: ='DEM. RESULTADOS'!F23 -> 0 | CM22: ='DEM. RESULTADOS'!G23 -> 0 | CN22: ='DEM. RESULTADOS'!H23 -> 0
A23: * CMP AO MERCADO EXTERNO (Em % média) | D23: 0 | E23: =D23 -> 0 | F23: =E23 -> 0 | G23: =F23 -> 0 | H23: =G23 -> 0 | AI23: * CAPITAL FIXO INCORPÓREO | AJ23: =SUM(AJ24:AJ26) -> 0 | AK23: =SUM(AK24:AK26) -> 0 | AL23: =SUM(AL24:AL26) -> 0 | AM23: =SUM(AM24:AM26) -> 0 | AN23: =SUM(AN24:AN26) -> 0 | CI23: Amortizações e reintegrações | CJ23: ='DEM. RESULTADOS'!D21 -> 0 | CK23: ='DEM. RESULTADOS'!E21 -> 0 | CL23: ='DEM. RESULTADOS'!F21 -> 0 | CM23: ='DEM. RESULTADOS'!G21 -> 0 | CN23: ='DEM. RESULTADOS'!H21 -> 0 | CW23: 5. Dívidas de Terceiros de Curto Prazo
AI24: Estudos e projectos | AJ24: ='PLANO INV.'!D7 -> 0 | AK24: ='PLANO INV.'!E7 -> 0 | AL24: ='PLANO INV.'!F7 -> 0 | AM24: ='PLANO INV.'!G7 -> 0 | AN24: ='PLANO INV.'!H7 -> 0 | CI24: Provisões | CJ24: ='DEM. RESULTADOS'!D22 -> 0 | CK24: ='DEM. RESULTADOS'!E22 -> 0 | CL24: ='DEM. RESULTADOS'!F22 -> 0 | CM24: ='DEM. RESULTADOS'!G22 -> 0 | CN24: ='DEM. RESULTADOS'!H22 -> 0 | CW24: 5.1. Clientes | CX24: =M71 -> 0 | CY24: =N71 -> 0 | CZ24: =O71 -> 0 | DA24: =P71 -> 0 | DB24: =Q71 -> 0
AI25: Assistência técnica | AJ25: ='PLANO INV.'!D8 -> 0 | AK25: ='PLANO INV.'!E8 -> 0 | AL25: ='PLANO INV.'!F8 -> 0 | AM25: ='PLANO INV.'!G8 -> 0 | AN25: ='PLANO INV.'!H8 -> 0 | CB25: TOTAL | CC25: =CC9+CC19 -> 0 | CD25: =CD9+CD19 -> 0 | CE25: =CE9+CE19 -> 0 | CI25: Outros | CJ25: ='DEM. RESULTADOS'!D24 -> 0 | CK25: ='DEM. RESULTADOS'!E24 -> 0 | CL25: ='DEM. RESULTADOS'!F24 -> 0 | CM25: ='DEM. RESULTADOS'!G24 -> 0 | CN25: ='DEM. RESULTADOS'!H24 -> 0 | CW25: 5.2. Outros | CX25: =M72 -> 0 | CY25: =N72 -> 0 | CZ25: =O72 -> 0 | DA25: =P72 -> 0 | DB25: =Q72 -> 0 | ED25: GRAVAR | EE25: SEM GRAVAR
A26: * TAXA DE INFLAÇÃO | D26: 0.025 | E26: 0.02 | F26: 0.02 | G26: 0.02 | H26: 0.02 | AI26: Outros (não apoiável) | AJ26: ='PLANO INV.'!D9 -> 0 | AK26: ='PLANO INV.'!E9 -> 0 | AL26: ='PLANO INV.'!F9 -> 0 | AM26: ='PLANO INV.'!G9 -> 0 | AN26: ='PLANO INV.'!H9 -> 0
A27: * PROVISOES | CI27: 2. TOTAL DE CUSTOS | CJ27: =SUM(CJ19:CJ26) -> 0 | CK27: =SUM(CK19:CK26) -> 0 | CL27: =SUM(CL19:CL26) -> 0 | CM27: =SUM(CM19:CM26) -> 0 | CN27: =SUM(CN19:CN26) -> 0 | CW27: 6. Depósitos Bancários/Títulos Negociáveis/Caixa | CX27: =M73+M74 -> 0 | CY27: =N73+N74 -> 0 | CZ27: =O73+O74 -> 0 | DA27: =P73+P74 -> 0 | DB27: =Q73+Q74 -> 0 | ED27: /FSR | EE27: /FXY
A28: - Para Depreciação de Existências | D28: 0.1 | E28: =D28 -> 0.1 | F28: =E28 -> 0.1 | G28: =F28 -> 0.1 | H28: =G28 -> 0.1 | AI28: JUROS DURANTE A FASE DE INVESTIMENTO | CB28: 14. ENCARGOS FINANCEIROS | CW28: 7. Acréscimos e Diferimentos | CX28: =M75 -> 0 | CY28: =N75 -> 0 | CZ28: =O75 -> 0 | DA28: =P75 -> 0 | DB28: =Q75 -> 0 | ED28: /FX
A29: - Para Cobranças Duvidosas | D29: 0.1 | E29: =D29 -> 0.1 | F29: =E29 -> 0.1 | G29: =F29 -> 0.1 | H29: =G29 -> 0.1 | AI29: DIVERSOS | CG29: (contos) | CI29: 3. RESULTADOS SEM ENCARGOS (1-2) | CJ29: =CJ15-CJ27 -> 0 | CK29: =CK15-CK27 -> 0 | CL29: =CL15-CL27 -> 0 | CM29: =CM15-CM27 -> 0 | CN29: =CN15-CN27 -> 0 | CW29: 8. TOTAL DO ACTIVO | CX29: =CX10+CX11+CX12+CX13-CX15+CX18+CX19+CX21+CX24+CX25+CX27+CX28 -> 0 | CY29: =CY10+CY11+CY12+CY13-CY15+CY18+CY19+CY21+CY24+CY25+CY27+CY28 -> 0 | CZ29: =CZ10+CZ11+CZ12+CZ13-CZ15+CZ18+CZ19+CZ21+CZ24+CZ25+CZ27+CZ28 -> 0 | DA29: =DA10+DA11+DA12+DA13-DA15+DA18+DA19+DA21+DA24+DA25+DA27+DA28 -> 0 | DB29: =DB10+DB11+DB12+DB13-DB15+DB18+DB19+DB21+DB24+DB25+DB27+DB28 -> 0
A30: - Para Outros Riscos e Encargos | D30: 0 | E30: 0 | F30: 0 | G30: 0 | H30: 0 | AI30: FUNDO DE MANEIO | AJ30: ='PLANO INV.'!D24 -> 0 | AK30: ='PLANO INV.'!E24 -> 0 | AL30: ='PLANO INV.'!F24 -> 0 | AM30: ='PLANO INV.'!G24 -> 0 | AN30: ='PLANO INV.'!H24 -> 0 | CC30: Prestação | CF30: Capital em dívida | CW30: CAPITAL PRÓPRIO
CB31: Período | CC31: Encargos | CD31: Reembolso | CE31: Total | CF31: No início do | CG31: No fim do | CI31: 4. Encargos financeiros | CJ31: ='DEM. RESULTADOS'!D27-'DEM. RESULTADOS'!D28 -> -7.898916e-74 | CK31: ='DEM. RESULTADOS'!E27-'DEM. RESULTADOS'!E28 -> -8.0250951e-74 | CL31: ='DEM. RESULTADOS'!F27-'DEM. RESULTADOS'!F28 -> -1.3560881e-73 | CM31: ='DEM. RESULTADOS'!G27-'DEM. RESULTADOS'!G28 -> -2.1411412e-73 | CN31: ='DEM. RESULTADOS'!H27-'DEM. RESULTADOS'!H28 -> -3.0000004e-66 | CW31: 9. Capital Social | CX31: =M79 -> 0 | CY31: =N79 -> 0 | CZ31: =O79 -> 0 | DA31: =P79 -> 0 | DB31: =Q79 -> 0
CC32: financeiros | CF32: período | CG32: período | CW32: 10. Prestações suplementares | CX32: =M80 -> 0 | CY32: =N80 -> 0 | CZ32: =O80 -> 0 | DA32: =P80 -> 0 | DB32: =Q80 -> 0
A33: * TAXA DE DISTRIBUIÇÃO DE DIVIDENDOS | D33: 0 | E33: 0 | F33: 0.05 | G33: =F33 -> 0.05 | H33: =G33 -> 0.05 | AI33: TOTAL | AJ33: =AJ30+AJ174+AJ28+AJ11 -> 0 | AK33: =AK30+AK174+AK28+AK11 -> 0 | AL33: =AL30+AL174+AL28+AL11 -> 0 | AM33: =AM30+AM174+AM28+AM11 -> 0 | AN33: =AN30+AN174+AN28+AN11 -> 0 | CI33: 5. RESULTADOS APÓS ENCARGOS FINANCEIROS (3-4) | CJ33: =CJ29-CJ31 -> 7.898916e-74 | CK33: =CK29-CK31 -> 8.0250951e-74 | CL33: =CL29-CL31 -> 1.3560881e-73 | CM33: =CM29-CM31 -> 2.1411412e-73 | CN33: =CN29-CN31 -> 3.0000004e-66 | CW33: 11. Reservas + Resultados transitados | CX33: =M81 -> 0 | CY33: =N81 -> 0 | CZ33: =O81 -> 0 | DA33: =P81 -> 0 | DB33: =Q81 -> 0
CB34: - SEMESTRE 0 | CC34: =FINANCIAMENTO!E17 -> 0 | CD34: =FINANCIAMENTO!F17 -> 0 | CE34: =CC34+CD34 -> 0 | CF34: =FINANCIAMENTO!D17 -> 0 | CG34: =FINANCIAMENTO!G17 -> 0 | CW34: 12. Resultado liquido do exercício | CX34: =M82 -> 0 | CY34: =N82 -> 0 | CZ34: =O82 -> 0 | DA34: =P82 -> 0 | DB34: =Q82 -> 0 | ED34: /PDPQ
CB35: - SEMESTRE 1 | CC35: =FINANCIAMENTO!E18 -> 0 | CD35: =FINANCIAMENTO!F18 -> 0 | CE35: =CC35+CD35 -> 0 | CF35: =FINANCIAMENTO!D18 -> 0 | CG35: =FINANCIAMENTO!G18 -> 0 | CI35: 6. Impostos sobre o rendimento do exercício | CJ35: ='DEM. RESULTADOS'!D30 -> 3.1279707e-74 | CK35: ='DEM. RESULTADOS'!E30 -> 3.1779377e-74 | CL35: ='DEM. RESULTADOS'!F30 -> 5.370109e-74 | CM35: ='DEM. RESULTADOS'!G30 -> 8.4789193e-74 | CN35: ='DEM. RESULTADOS'!H30 -> 1.1880001e-66 | CW35: 13. Dividendos antecipados | CX35: =M84 -> 0 | CY35: =N84 -> 0 | CZ35: =O84 -> 0 | DA35: =P84 -> 0 | DB35: =Q84 -> 0
CB36: 1º ANO - SEMESTRE 2 | CC36: =FINANCIAMENTO!E19 -> 0 | CD36: =FINANCIAMENTO!F19 -> 0 | CE36: =CC36+CD36 -> 0 | CF36: =FINANCIAMENTO!D19 -> 0 | CG36: =FINANCIAMENTO!G19 -> 0
CB37: - SEMESTRE 3 | CC37: =FINANCIAMENTO!E20 -> 0 | CD37: =FINANCIAMENTO!F20 -> 0 | CE37: =CC37+CD37 -> 0 | CF37: =FINANCIAMENTO!D20 -> 0 | CG37: =FINANCIAMENTO!G20 -> 0 | CW37: 14. TOTAL DO CAPITAL PRÓPRIO | CX37: =SUM(CX31:CX36) -> 0 | CY37: =SUM(CY31:CY36) -> 0 | CZ37: =SUM(CZ31:CZ36) -> 0 | DA37: =SUM(DA31:DA36) -> 0 | DB37: =SUM(DB31:DB36) -> 0
CB38: 2º ANO - SEMESTRE 4 | CC38: =FINANCIAMENTO!E21 -> 0 | CD38: =FINANCIAMENTO!F21 -> 0 | CE38: =CC38+CD38 -> 0 | CF38: =FINANCIAMENTO!D21 -> 0 | CG38: =FINANCIAMENTO!G21 -> 0 | CI38: 7. RESULTADOS LÍQUIDOS (5-6) | CJ38: =CJ33-CJ35 -> 4.7709452e-74 | CK38: =CK33-CK35 -> 4.8471574e-74 | CL38: =CL33-CL35 -> 8.1907724e-74 | CM38: =CM33-CM35 -> 1.2932493e-73 | CN38: =CN33-CN35 -> 1.8120002e-66
CB39: - SEMESTRE 5 | CC39: =FINANCIAMENTO!E22 -> 0 | CD39: =FINANCIAMENTO!F22 -> 0 | CE39: =CC39+CD39 -> 0 | CF39: =FINANCIAMENTO!D22 -> 0 | CG39: =FINANCIAMENTO!G22 -> 0 | CW39: PASSIVO
CB40: 3º ANO - SEMESTRE 6 | CC40: =FINANCIAMENTO!E23 -> 0 | CD40: =FINANCIAMENTO!F23 -> 0 | CE40: =CC40+CD40 -> 0 | CF40: =FINANCIAMENTO!D23 -> 0 | CG40: =FINANCIAMENTO!G23 -> 0 | CW40: 15. Provisões para riscos e encargos | CX40: =#REF! -> #REF! | CY40: =#REF! -> #REF! | CZ40: =#REF! -> #REF! | DA40: =#REF! -> #REF! | DB40: =#REF! -> #REF!
...

Sheet VENDAS PROD. ACAB.
A1: 5.2 - Plano de Exploração Previsional
A2: 5.2.1. - Vendas de Produtos Acabados
A4: VENDAS DE PRODUTOS ACABADOS | C4: UNIDADE | D4: ='PLANO INV.'!D3 -> ANO 1 | E4: ='PLANO INV.'!E3 -> ANO 2 | F4: ='PLANO INV.'!F3 -> ANO 3 | G4: ='PLANO INV.'!G3 -> ANO 4 | H4: ='PLANO INV.'!H3 -> ANO 5
A5: QUANTIDADES
D6: 0 | E6: =D6*(1+E17) -> 0 | F6: =E6*(1+F17) -> 0 | G6: =F6*(1+G17) -> 0 | H6: =G6*(1+H17) -> 0
D7: 0 | E7: =D7*(1+E18) -> 0 | F7: =E7*(1+F18) -> 0 | G7: =F7*(1+G18) -> 0 | H7: =G7*(1+H18) -> 0 | I7: =H7 -> 0
A8: . | D8: 0 | E8: =D8*(1+E22) -> 0 | F8: =E8*(1+F22) -> 0 | G8: =F8*(1+G22) -> 0 | H8: =G8*(1+H22) -> 0
A9: . | D9: 0 | E9: =D9*(1+E23) -> 0 | F9: =E9*(1+F23) -> 0 | G9: =F9*(1+G23) -> 0 | H9: =G9*(1+H23) -> 0
A10: . | D10: 0 | E10: =D10*(1+E21) -> 0 | F10: =E10*(1+F21) -> 0 | G10: =F10*(1+G21) -> 0 | H10: =G10*(1+H21) -> 0
A11: . | D11: 0 | E11: =D11*(1+E22) -> 0 | F11: =E11*(1+F22) -> 0 | G11: =F11*(1+G22) -> 0 | H11: =G11*(1+H22) -> 0
A12: . | D12: 0 | E12: =D12*(1+E23) -> 0 | F12: =E12*(1+F23) -> 0 | G12: =F12*(1+G23) -> 0 | H12: =G12*(1+H23) -> 0
A13: . | D13: 0 | E13: =D13*(1+E24) -> 0 | F13: =E13*(1+F24) -> 0 | G13: =F13*(1+G24) -> 0 | H13: =G13*(1+H24) -> 0
A15: TAXA DE CRESCIMENTO DAS VENDAS EM QUANTIDADES
A17: =A6 -> 0 | E17: 0 | F17: 0 | G17: 0 | H17: 0
A18: =A7 -> 0 | E18: 0 | F18: 0 | G18: 0 | H18: 0
A19: =A8 -> . | E19: 0 | F19: 0 | G19: 0 | H19: 0
A20: =A9 -> . | E20: 0 | F20: 0 | G20: 0 | H20: 0
A21: =A10 -> . | E21: 0 | F21: 0 | G21: 0 | H21: 0
A22: =A11 -> . | E22: 0 | F22: 0 | G22: 0 | H22: 0
A23: =A12 -> . | E23: 0 | F23: 0 | G23: 0 | H23: 0
A24: =A13 -> . | E24: 0 | F24: 0 | G24: 0 | H24: 0
A26: PREÇO DE VENDA | C26: EUROS
A28: =A6 -> 0 | C28: 0 | D28: =C28*(1+D39) -> 0 | E28: =D28*(1+PRESSUPOSTOS!$D$26+E39) -> 0 | F28: =E28*(1+PRESSUPOSTOS!$D$26+F39) -> 0 | G28: =F28*(1+PRESSUPOSTOS!$D$26+G39) -> 0 | H28: =G28*(1+PRESSUPOSTOS!$D$26+H39) -> 0
A29: =A7 -> 0 | C29: 0 | D29: =C29*(1+D40) -> 0 | E29: =D29*(1+PRESSUPOSTOS!$D$26+E40) -> 0 | F29: =E29*(1+PRESSUPOSTOS!$D$26+F40) -> 0 | G29: =F29*(1+PRESSUPOSTOS!$D$26+G40) -> 0 | H29: =G29*(1+PRESSUPOSTOS!$D$26+H40) -> 0
A30: =A8 -> . | C30: 0 | D30: =C30*(1+D41) -> 0 | E30: =D30*(1+PRESSUPOSTOS!$D$26+E41) -> 0 | F30: =E30*(1+PRESSUPOSTOS!$D$26+F41) -> 0 | G30: =F30*(1+PRESSUPOSTOS!$D$26+G41) -> 0 | H30: =G30*(1+PRESSUPOSTOS!$D$26+H41) -> 0
A31: =A9 -> . | C31: 0 | D31: =C31*(1+D42) -> 0 | E31: =D31*(1+PRESSUPOSTOS!$D$26+E42) -> 0 | F31: =E31*(1+PRESSUPOSTOS!$D$26+F42) -> 0 | G31: =F31*(1+PRESSUPOSTOS!$D$26+G42) -> 0 | H31: =G31*(1+PRESSUPOSTOS!$D$26+H42) -> 0
A32: =A10 -> . | C32: 0 | D32: =C32*(1+D43) -> 0 | E32: =D32*(1+PRESSUPOSTOS!$D$26+E43) -> 0 | F32: =E32*(1+PRESSUPOSTOS!$D$26+F43) -> 0 | G32: =F32*(1+PRESSUPOSTOS!$D$26+G43) -> 0 | H32: =G32*(1+PRESSUPOSTOS!$D$26+H43) -> 0
A33: =A11 -> . | C33: 0 | D33: =C33*(1+D44) -> 0 | E33: =D33*(1+PRESSUPOSTOS!$D$26+E44) -> 0 | F33: =E33*(1+PRESSUPOSTOS!$D$26+F44) -> 0 | G33: =F33*(1+PRESSUPOSTOS!$D$26+G44) -> 0 | H33: =G33*(1+PRESSUPOSTOS!$D$26+H44) -> 0
A34: =A12 -> . | C34: 0 | D34: =C34*(1+D45) -> 0 | E34: =D34*(1+PRESSUPOSTOS!$D$26+E45) -> 0 | F34: =E34*(1+PRESSUPOSTOS!$D$26+F45) -> 0 | G34: =F34*(1+PRESSUPOSTOS!$D$26+G45) -> 0 | H34: =G34*(1+PRESSUPOSTOS!$D$26+H45) -> 0
A35: =A13 -> . | C35: 0 | D35: =C35*(1+D46) -> 0 | E35: =D35*(1+PRESSUPOSTOS!$D$26+E46) -> 0 | F35: =E35*(1+PRESSUPOSTOS!$D$26+F46) -> 0 | G35: =F35*(1+PRESSUPOSTOS!$D$26+G46) -> 0 | H35: =G35*(1+PRESSUPOSTOS!$D$26+H46) -> 0
A37: TAXA DE CRESCIMENTO DO PREÇO UNITARIO
A39: =A28 -> 0 | E39: 0 | F39: 0 | G39: 0 | H39: 0
A40: =A29 -> 0 | E40: 0 | F40: 0 | G40: 0 | H40: 0
A41: =A30 -> . | E41: 0 | F41: 0 | G41: 0 | H41: 0
A42: =A31 -> . | E42: 0 | F42: 0 | G42: 0 | H42: 0
A43: =A32 -> . | E43: 0 | F43: 0 | G43: 0 | H43: 0
A44: =A33 -> . | E44: 0 | F44: 0 | G44: 0 | H44: 0
A45: =A34 -> . | E45: 0 | F45: 0 | G45: 0 | H45: 0
A46: =A35 -> . | E46: 0 | F46: 0 | G46: 0 | H46: 0
A48: VENDAS
...

Sheet VENDAS DE MERC.
A1: 5.2.2. - Vendas de Mercadorias
A3: VENDAS DE MERCADORIAS | C3: UNIDADE | D3: ='PLANO FINAN.'!D3 -> ANO 1 | E3: ='PLANO FINAN.'!E3 -> ANO 2 | F3: ='PLANO FINAN.'!F3 -> ANO 3 | G3: ='PLANO FINAN.'!G3 -> ANO 4 | H3: ='PLANO FINAN.'!H3 -> ANO 5
A4: QUANTIDADES
D5: 0 | E5: =D5*(1+E16) -> 0 | F5: =E5*(1+F16) -> 0 | G5: =F5*(1+G16) -> 0 | H5: =G5*(1+H16) -> 0
D6: 0 | E6: =D6*(1+E20) -> 0 | F6: =E6*(1+F20) -> 0 | G6: =F6*(1+G20) -> 0 | H6: =G6*(1+H20) -> 0
A7: . | D7: 0 | E7: =D7*(1+E21) -> 0 | F7: =E7*(1+F21) -> 0 | G7: =F7*(1+G21) -> 0 | H7: =G7*(1+H21) -> 0
A8: . | D8: 0 | E8: =D8*(1+E22) -> 0 | F8: =E8*(1+F22) -> 0 | G8: =F8*(1+G22) -> 0 | H8: =G8*(1+H22) -> 0
A9: . | D9: 0 | E9: =D9*(1+E20) -> 0 | F9: =E9*(1+F20) -> 0 | G9: =F9*(1+G20) -> 0 | H9: =G9*(1+H20) -> 0
A10: . | D10: 0 | E10: =D10*(1+E21) -> 0 | F10: =E10*(1+F21) -> 0 | G10: =F10*(1+G21) -> 0 | H10: =G10*(1+H21) -> 0
A11: . | D11: 0 | E11: =D11*(1+E22) -> 0 | F11: =E11*(1+F22) -> 0 | G11: =F11*(1+G22) -> 0 | H11: =G11*(1+H22) -> 0
A12: . | D12: 0 | E12: =D12*(1+E23) -> 0 | F12: =E12*(1+F23) -> 0 | G12: =F12*(1+G23) -> 0 | H12: =G12*(1+H23) -> 0
A14: TAXA DE CRESCIMENTO DAS VENDAS EM QUANTIDADE
A16: =A5 -> 0 | E16: 0 | F16: 0 | G16: 0 | H16: 0
A17: =A6 -> 0 | E17: 0 | F17: 0 | G17: 0 | H17: 0
A18: =A7 -> . | E18: 0 | F18: 0 | G18: 0 | H18: 0
A19: =A8 -> . | E19: 0 | F19: 0 | G19: 0 | H19: 0
A20: =A9 -> . | E20: 0 | F20: 0 | G20: 0 | H20: 0
A21: =A10 -> . | E21: 0 | F21: 0 | G21: 0 | H21: 0
A22: =A11 -> . | E22: 0 | F22: 0 | G22: 0 | H22: 0
A23: =A12 -> . | E23: 0 | F23: 0 | G23: 0 | H23: 0
A25: PREÇO DE VENDA | C25: EUROS
A27: =A5 -> 0 | C27: 20 | D27: =C27 -> 20 | E27: =D27*(1+PRESSUPOSTOS!D$26+E38) -> 20.5 | F27: =E27*(1+PRESSUPOSTOS!E$26+F38) -> 20.91 | G27: =F27*(1+PRESSUPOSTOS!F$26+G38) -> 21.3282 | H27: =G27*(1+PRESSUPOSTOS!G$26+H38) -> 21.754764
A28: =A6 -> 0 | C28: 0 | D28: =C28 -> 0 | E28: =D28*(1+PRESSUPOSTOS!D$26+E39) -> 0 | F28: =E28*(1+PRESSUPOSTOS!E$26+F39) -> 0 | G28: =F28*(1+PRESSUPOSTOS!F$26+G39) -> 0 | H28: =G28*(1+PRESSUPOSTOS!G$26+H39) -> 0
A29: =A7 -> . | C29: 0 | D29: =C29 -> 0 | E29: =D29*(1+PRESSUPOSTOS!D$26+E40) -> 0 | F29: =E29*(1+PRESSUPOSTOS!E$26+F40) -> 0 | G29: =F29*(1+PRESSUPOSTOS!F$26+G40) -> 0 | H29: =G29*(1+PRESSUPOSTOS!G$26+H40) -> 0
A30: =A8 -> . | C30: 0 | D30: =C30 -> 0 | E30: =D30*(1+PRESSUPOSTOS!D$26+E41) -> 0 | F30: =E30*(1+PRESSUPOSTOS!E$26+F41) -> 0 | G30: =F30*(1+PRESSUPOSTOS!F$26+G41) -> 0 | H30: =G30*(1+PRESSUPOSTOS!G$26+H41) -> 0
A31: =A9 -> . | C31: 0 | D31: =C31 -> 0 | E31: =D31*(1+PRESSUPOSTOS!D$26+E42) -> 0 | F31: =E31*(1+PRESSUPOSTOS!E$26+F42) -> 0 | G31: =F31*(1+PRESSUPOSTOS!F$26+G42) -> 0 | H31: =G31*(1+PRESSUPOSTOS!G$26+H42) -> 0
A32: =A10 -> . | C32: 0 | D32: =C32 -> 0 | E32: =D32*(1+PRESSUPOSTOS!D$26+E43) -> 0 | F32: =E32*(1+PRESSUPOSTOS!E$26+F43) -> 0 | G32: =F32*(1+PRESSUPOSTOS!F$26+G43) -> 0 | H32: =G32*(1+PRESSUPOSTOS!G$26+H43) -> 0
A33: =A11 -> . | C33: 0 | D33: =C33 -> 0 | E33: =D33*(1+PRESSUPOSTOS!D$26+E44) -> 0 | F33: =E33*(1+PRESSUPOSTOS!E$26+F44) -> 0 | G33: =F33*(1+PRESSUPOSTOS!F$26+G44) -> 0 | H33: =G33*(1+PRESSUPOSTOS!G$26+H44) -> 0
A34: =A12 -> . | C34: 0 | D34: =C34 -> 0 | E34: =D34*(1+PRESSUPOSTOS!D$26+E45) -> 0 | F34: =E34*(1+PRESSUPOSTOS!E$26+F45) -> 0 | G34: =F34*(1+PRESSUPOSTOS!F$26+G45) -> 0 | H34: =G34*(1+PRESSUPOSTOS!G$26+H45) -> 0
A36: TAXA DE CRESCIMENTO DO PREÇO UNITARIO
A38: =A27 -> 0 | E38: 0 | F38: 0 | G38: 0 | H38: 0
A39: =A28 -> 0 | E39: 0 | F39: 0 | G39: 0 | H39: 0
A40: =A29 -> . | E40: 0 | F40: 0 | G40: 0 | H40: 0
A41: =A30 -> . | E41: 0 | F41: 0 | G41: 0 | H41: 0
A42: =A31 -> . | E42: 0 | F42: 0 | G42: 0 | H42: 0
A43: =A32 -> . | E43: 0 | F43: 0 | G43: 0 | H43: 0
A44: =A33 -> . | E44: 0 | F44: 0 | G44: 0 | H44: 0
A45: =A34 -> . | E45: 0 | F45: 0 | G45: 0 | H45: 0
A47: VENDAS
A48: =A5 -> 0 | D48: =D5*D27 -> 0 | E48: =E5*E27 -> 0 | F48: =F5*F27 -> 0 | G48: =G5*G27 -> 0 | H48: =H5*H27 -> 0
...

Sheet C.M.V.M.C.
A1: 5.2.3. - Custo das Mercadorias Vendidas e Consumidas
A3: CONSUMOS DOS PRODUTOS ACAB. EM VALOR | D3: =PRESSUPOSTOS!D8 -> ANO 1 | E3: =PRESSUPOSTOS!E8 -> ANO 2 | F3: =PRESSUPOSTOS!F8 -> ANO 3 | G3: =PRESSUPOSTOS!G8 -> ANO 4 | H3: =PRESSUPOSTOS!H8 -> ANO 5
C5: Margem
A6: ='VENDAS PROD. ACAB.'!A6 -> 0 | C6: 0 | D6: ='VENDAS PROD. ACAB.'!D49/(1+$C6) -> 0 | E6: ='VENDAS PROD. ACAB.'!E49/(1+$C6) -> 0 | F6: ='VENDAS PROD. ACAB.'!F49/(1+$C6) -> 0 | G6: ='VENDAS PROD. ACAB.'!G49/(1+$C6) -> 0 | H6: ='VENDAS PROD. ACAB.'!H49/(1+$C6) -> 0
A7: ='VENDAS PROD. ACAB.'!A7 -> 0 | C7: 0 | D7: ='VENDAS PROD. ACAB.'!D50/(1+$C7) -> 0 | E7: ='VENDAS PROD. ACAB.'!E50/(1+$C7) -> 0 | F7: ='VENDAS PROD. ACAB.'!F50/(1+$C7) -> 0 | G7: ='VENDAS PROD. ACAB.'!G50/(1+$C7) -> 0 | H7: ='VENDAS PROD. ACAB.'!H50/(1+$C7) -> 0
A8: ='VENDAS PROD. ACAB.'!A8 -> . | C8: 0 | D8: ='VENDAS PROD. ACAB.'!D51/(1+$C8) -> 0 | E8: ='VENDAS PROD. ACAB.'!E51/(1+$C8) -> 0 | F8: ='VENDAS PROD. ACAB.'!F51/(1+$C8) -> 0 | G8: ='VENDAS PROD. ACAB.'!G51/(1+$C8) -> 0 | H8: ='VENDAS PROD. ACAB.'!H51/(1+$C8) -> 0
A9: ='VENDAS PROD. ACAB.'!A9 -> . | C9: 0 | D9: ='VENDAS PROD. ACAB.'!D52/(1+$C9) -> 0 | E9: ='VENDAS PROD. ACAB.'!E52/(1+$C9) -> 0 | F9: ='VENDAS PROD. ACAB.'!F52/(1+$C9) -> 0 | G9: ='VENDAS PROD. ACAB.'!G52/(1+$C9) -> 0 | H9: ='VENDAS PROD. ACAB.'!H52/(1+$C9) -> 0
A10: ='VENDAS PROD. ACAB.'!A10 -> . | C10: 0 | D10: ='VENDAS PROD. ACAB.'!D53/(1+$C10) -> 0 | E10: ='VENDAS PROD. ACAB.'!E53/(1+$C10) -> 0 | F10: ='VENDAS PROD. ACAB.'!F53/(1+$C10) -> 0 | G10: ='VENDAS PROD. ACAB.'!G53/(1+$C10) -> 0 | H10: ='VENDAS PROD. ACAB.'!H53/(1+$C10) -> 0
A11: ='VENDAS PROD. ACAB.'!A11 -> . | C11: 0 | D11: ='VENDAS PROD. ACAB.'!D54/(1+$C11) -> 0 | E11: ='VENDAS PROD. ACAB.'!E54/(1+$C11) -> 0 | F11: ='VENDAS PROD. ACAB.'!F54/(1+$C11) -> 0 | G11: ='VENDAS PROD. ACAB.'!G54/(1+$C11) -> 0 | H11: ='VENDAS PROD. ACAB.'!H54/(1+$C11) -> 0
A12: ='VENDAS PROD. ACAB.'!A12 -> . | C12: 0 | D12: ='VENDAS PROD. ACAB.'!D55/(1+$C12) -> 0 | E12: ='VENDAS PROD. ACAB.'!E55/(1+$C12) -> 0 | F12: ='VENDAS PROD. ACAB.'!F55/(1+$C12) -> 0 | G12: ='VENDAS PROD. ACAB.'!G55/(1+$C12) -> 0 | H12: ='VENDAS PROD. ACAB.'!H55/(1+$C12) -> 0
A13: ='VENDAS PROD. ACAB.'!A13 -> . | C13: 0 | D13: ='VENDAS PROD. ACAB.'!D56/(1+$C13) -> 0 | E13: ='VENDAS PROD. ACAB.'!E56/(1+$C13) -> 0 | F13: ='VENDAS PROD. ACAB.'!F56/(1+$C13) -> 0 | G13: ='VENDAS PROD. ACAB.'!G56/(1+$C13) -> 0 | H13: ='VENDAS PROD. ACAB.'!H56/(1+$C13) -> 0
A14: TOTAL | D14: =SUM(D6:D13) -> 0 | E14: =SUM(E6:E13) -> 0 | F14: =SUM(F6:F13) -> 0 | G14: =SUM(G6:G13) -> 0 | H14: =SUM(H6:H13) -> 0
A15: VALOR DO STOCK FINAL DE MATÉRIAS PRIMAS
A17: =A6 -> 0 | D17: =D6*PRESSUPOSTOS!$D$18/365 -> 0 | E17: =E6*PRESSUPOSTOS!$E$18/365 -> 0 | F17: =F6*PRESSUPOSTOS!$F$18/365 -> 0 | G17: =G6*PRESSUPOSTOS!$G$18/365 -> 0 | H17: =H6*PRESSUPOSTOS!$H$18/365 -> 0
A18: =A7 -> 0 | D18: =D7*PRESSUPOSTOS!$D$18/365 -> 0 | E18: =E7*PRESSUPOSTOS!$E$18/365 -> 0 | F18: =F7*PRESSUPOSTOS!$F$18/365 -> 0 | G18: =G7*PRESSUPOSTOS!$G$18/365 -> 0 | H18: =H7*PRESSUPOSTOS!$H$18/365 -> 0
A19: =A8 -> . | D19: =D8*PRESSUPOSTOS!$D$18/365 -> 0 | E19: =E8*PRESSUPOSTOS!$E$18/365 -> 0 | F19: =F8*PRESSUPOSTOS!$F$18/365 -> 0 | G19: =G8*PRESSUPOSTOS!$G$18/365 -> 0 | H19: =H8*PRESSUPOSTOS!$H$18/365 -> 0
A20: =A9 -> . | D20: =D9*PRESSUPOSTOS!$D$18/365 -> 0 | E20: =E9*PRESSUPOSTOS!$E$18/365 -> 0 | F20: =F9*PRESSUPOSTOS!$F$18/365 -> 0 | G20: =G9*PRESSUPOSTOS!$G$18/365 -> 0 | H20: =H9*PRESSUPOSTOS!$H$18/365 -> 0
A21: =A10 -> . | D21: =D10*PRESSUPOSTOS!$D$18/365 -> 0 | E21: =E10*PRESSUPOSTOS!$E$18/365 -> 0 | F21: =F10*PRESSUPOSTOS!$F$18/365 -> 0 | G21: =G10*PRESSUPOSTOS!$G$18/365 -> 0 | H21: =H10*PRESSUPOSTOS!$H$18/365 -> 0
A22: =A11 -> . | D22: =D11*PRESSUPOSTOS!$D$18/365 -> 0 | E22: =E11*PRESSUPOSTOS!$E$18/365 -> 0 | F22: =F11*PRESSUPOSTOS!$F$18/365 -> 0 | G22: =G11*PRESSUPOSTOS!$G$18/365 -> 0 | H22: =H11*PRESSUPOSTOS!$H$18/365 -> 0
A23: =A12 -> . | D23: =D12*PRESSUPOSTOS!$D$18/365 -> 0 | E23: =E12*PRESSUPOSTOS!$E$18/365 -> 0 | F23: =F12*PRESSUPOSTOS!$F$18/365 -> 0 | G23: =G12*PRESSUPOSTOS!$G$18/365 -> 0 | H23: =H12*PRESSUPOSTOS!$H$18/365 -> 0
A24: =A13 -> . | D24: =D13*PRESSUPOSTOS!$D$18/365 -> 0 | E24: =E13*PRESSUPOSTOS!$E$18/365 -> 0 | F24: =F13*PRESSUPOSTOS!$F$18/365 -> 0 | G24: =G13*PRESSUPOSTOS!$G$18/365 -> 0 | H24: =H13*PRESSUPOSTOS!$H$18/365 -> 0
A25: TOTAL | D25: =SUM(D17:D24) -> 0 | E25: =SUM(E17:E24) -> 0 | F25: =SUM(F17:F24) -> 0 | G25: =SUM(G17:G24) -> 0 | H25: =SUM(H17:H24) -> 0
A26: CUSTO DAS MATÉRIAS CONSUMIDAS | D26: =D14 -> 0 | E26: =E14 -> 0 | F26: =F14 -> 0 | G26: =G14 -> 0 | H26: =H14 -> 0
A28: Existência inicial M.P. | D28: 0 | E28: =D30 -> 0 | F28: =E30 -> 0 | G28: =F30 -> 0 | H28: =G30 -> 0
A29: Compras M.P. | D29: =D26+D30-D28 -> 0 | E29: =E26+E30-E28 -> 0 | F29: =F26+F30-F28 -> 0 | G29: =G26+G30-G28 -> 0 | H29: =H26+H30-H28 -> 0
A30: Existência final M.P. | D30: =D25 -> 0 | E30: =E25 -> 0 | F30: =F25 -> 0 | G30: =G25 -> 0 | H30: =H25 -> 0
A32: VARIAÇÃO DA PRODUÇÃO | D32: =D35-D34 -> 0 | E32: =E35-E34 -> 0 | F32: =F35-F34 -> 0 | G32: =G35-G34 -> 0 | H32: =H35-H34 -> 0
A34: Existência inicial P.A. | D34: 0 | E34: =D35 -> 0 | F34: =E35 -> 0 | G34: =F35 -> 0 | H34: =G35 -> 0
A35: Existência final P.A. | D35: ='VENDAS PROD. ACAB.'!D58*PRESSUPOSTOS!D19/12 -> 0 | E35: ='VENDAS PROD. ACAB.'!E58*PRESSUPOSTOS!E19/12 -> 0 | F35: ='VENDAS PROD. ACAB.'!F58*PRESSUPOSTOS!F19/12 -> 0 | G35: ='VENDAS PROD. ACAB.'!G58*PRESSUPOSTOS!G19/12 -> 0 | H35: ='VENDAS PROD. ACAB.'!H58*PRESSUPOSTOS!H19/12 -> 0
A37: CUSTO DAS VENDAS DE PROD. ACABADOS | D37: =D26-D32 -> 0 | E37: =E26-E32 -> 0 | F37: =F26-F32 -> 0 | G37: =G26-G32 -> 0 | H37: =H26-H32 -> 0
A39: C.M.V.M.C. | D39: =D26+'CUSTO DAS MERC.'!D33 -> 0 | E39: =E26+'CUSTO DAS MERC.'!E33 -> 0 | F39: =F26+'CUSTO DAS MERC.'!F33 -> 0 | G39: =G26+'CUSTO DAS MERC.'!G33 -> 0 | H39: =H26+'CUSTO DAS MERC.'!H33 -> 0

Sheet CUSTO DAS MERC.
A1: 5.2.4. - Custo das Mercadorias Vendidas
A3: CUSTO DAS MERCADORIAS EM VALOR | D3: =PRESSUPOSTOS!D8 -> ANO 1 | E3: =PRESSUPOSTOS!E8 -> ANO 2 | F3: =PRESSUPOSTOS!F8 -> ANO 3 | G3: =PRESSUPOSTOS!G8 -> ANO 4 | H3: =PRESSUPOSTOS!H8 -> ANO 5
C5: Margem
A6: ='VENDAS DE MERC.'!A5 -> 0 | C6: 0 | D6: ='VENDAS DE MERC.'!D48/(1+$C6) -> 0 | E6: ='VENDAS DE MERC.'!E48/(1+$C6) -> 0 | F6: ='VENDAS DE MERC.'!F48/(1+$C6) -> 0 | G6: ='VENDAS DE MERC.'!G48/(1+$C6) -> 0 | H6: ='VENDAS DE MERC.'!H48/(1+$C6) -> 0
A7: ='VENDAS DE MERC.'!A6 -> 0 | C7: 0 | D7: ='VENDAS DE MERC.'!D49/(1+$C7) -> 0 | E7: ='VENDAS DE MERC.'!E49/(1+$C7) -> 0 | F7: ='VENDAS DE MERC.'!F49/(1+$C7) -> 0 | G7: ='VENDAS DE MERC.'!G49/(1+$C7) -> 0 | H7: ='VENDAS DE MERC.'!H49/(1+$C7) -> 0
A8: ='VENDAS DE MERC.'!A7 -> . | C8: 0 | D8: ='VENDAS DE MERC.'!D50/(1+$C8) -> 0 | E8: ='VENDAS DE MERC.'!E50/(1+$C8) -> 0 | F8: ='VENDAS DE MERC.'!F50/(1+$C8) -> 0 | G8: ='VENDAS DE MERC.'!G50/(1+$C8) -> 0 | H8: ='VENDAS DE MERC.'!H50/(1+$C8) -> 0
A9: ='VENDAS DE MERC.'!A8 -> . | C9: 0 | D9: ='VENDAS DE MERC.'!D51/(1+$C9) -> 0 | E9: ='VENDAS DE MERC.'!E51/(1+$C9) -> 0 | F9: ='VENDAS DE MERC.'!F51/(1+$C9) -> 0 | G9: ='VENDAS DE MERC.'!G51/(1+$C9) -> 0 | H9: ='VENDAS DE MERC.'!H51/(1+$C9) -> 0
A10: ='VENDAS DE MERC.'!A9 -> . | C10: 0 | D10: ='VENDAS DE MERC.'!D52/(1+$C10) -> 0 | E10: ='VENDAS DE MERC.'!E52/(1+$C10) -> 0 | F10: ='VENDAS DE MERC.'!F52/(1+$C10) -> 0 | G10: ='VENDAS DE MERC.'!G52/(1+$C10) -> 0 | H10: ='VENDAS DE MERC.'!H52/(1+$C10) -> 0
A11: ='VENDAS DE MERC.'!A10 -> . | C11: 0 | D11: ='VENDAS DE MERC.'!D53/(1+$C11) -> 0 | E11: ='VENDAS DE MERC.'!E53/(1+$C11) -> 0 | F11: ='VENDAS DE MERC.'!F53/(1+$C11) -> 0 | G11: ='VENDAS DE MERC.'!G53/(1+$C11) -> 0 | H11: ='VENDAS DE MERC.'!H53/(1+$C11) -> 0
A12: ='VENDAS DE MERC.'!A11 -> . | C12: 0 | D12: ='VENDAS DE MERC.'!D54/(1+$C12) -> 0 | E12: ='VENDAS DE MERC.'!E54/(1+$C12) -> 0 | F12: ='VENDAS DE MERC.'!F54/(1+$C12) -> 0 | G12: ='VENDAS DE MERC.'!G54/(1+$C12) -> 0 | H12: ='VENDAS DE MERC.'!H54/(1+$C12) -> 0
A13: ='VENDAS DE MERC.'!A12 -> . | C13: 0 | D13: ='VENDAS DE MERC.'!D55/(1+$C13) -> 0 | E13: ='VENDAS DE MERC.'!E55/(1+$C13) -> 0 | F13: ='VENDAS DE MERC.'!F55/(1+$C13) -> 0 | G13: ='VENDAS DE MERC.'!G55/(1+$C13) -> 0 | H13: ='VENDAS DE MERC.'!H55/(1+$C13) -> 0
A14: TOTAL | D14: =SUM(D6:D13) -> 0 | E14: =SUM(E6:E13) -> 0 | F14: =SUM(F6:F13) -> 0 | G14: =SUM(G6:G13) -> 0 | H14: =SUM(H6:H13) -> 0
A15: VALOR DO STOCK FINAL DE MERCADORIAS
A17: =A6 -> 0 | D17: =D6*PRESSUPOSTOS!D$17/365 -> 0 | E17: =E6*PRESSUPOSTOS!E$17/365 -> 0 | F17: =F6*PRESSUPOSTOS!F$17/365 -> 0 | G17: =G6*PRESSUPOSTOS!G$17/365 -> 0 | H17: =H6*PRESSUPOSTOS!H$17/365 -> 0
A18: =A7 -> 0 | D18: =D7*PRESSUPOSTOS!D$17/365 -> 0 | E18: =E7*PRESSUPOSTOS!E$17/365 -> 0 | F18: =F7*PRESSUPOSTOS!F$17/365 -> 0 | G18: =G7*PRESSUPOSTOS!G$17/365 -> 0 | H18: =H7*PRESSUPOSTOS!H$17/365 -> 0
A19: =A8 -> . | D19: =D8*PRESSUPOSTOS!D$17/365 -> 0 | E19: =E8*PRESSUPOSTOS!E$17/365 -> 0 | F19: =F8*PRESSUPOSTOS!F$17/365 -> 0 | G19: =G8*PRESSUPOSTOS!G$17/365 -> 0 | H19: =H8*PRESSUPOSTOS!H$17/365 -> 0
A20: =A9 -> . | D20: =D9*PRESSUPOSTOS!D$17/365 -> 0 | E20: =E9*PRESSUPOSTOS!E$17/365 -> 0 | F20: =F9*PRESSUPOSTOS!F$17/365 -> 0 | G20: =G9*PRESSUPOSTOS!G$17/365 -> 0 | H20: =H9*PRESSUPOSTOS!H$17/365 -> 0
A21: =A10 -> . | D21: =D10*PRESSUPOSTOS!D$17/365 -> 0 | E21: =E10*PRESSUPOSTOS!E$17/365 -> 0 | F21: =F10*PRESSUPOSTOS!F$17/365 -> 0 | G21: =G10*PRESSUPOSTOS!G$17/365 -> 0 | H21: =H10*PRESSUPOSTOS!H$17/365 -> 0
A22: =A11 -> . | D22: =D11*PRESSUPOSTOS!D$17/365 -> 0 | E22: =E11*PRESSUPOSTOS!E$17/365 -> 0 | F22: =F11*PRESSUPOSTOS!F$17/365 -> 0 | G22: =G11*PRESSUPOSTOS!G$17/365 -> 0 | H22: =H11*PRESSUPOSTOS!H$17/365 -> 0
A23: =A12 -> . | D23: =D12*PRESSUPOSTOS!D$17/365 -> 0 | E23: =E12*PRESSUPOSTOS!E$17/365 -> 0 | F23: =F12*PRESSUPOSTOS!F$17/365 -> 0 | G23: =G12*PRESSUPOSTOS!G$17/365 -> 0 | H23: =H12*PRESSUPOSTOS!H$17/365 -> 0
A24: =A13 -> . | D24: =D13*PRESSUPOSTOS!D$17/365 -> 0 | E24: =E13*PRESSUPOSTOS!E$17/365 -> 0 | F24: =F13*PRESSUPOSTOS!F$17/365 -> 0 | G24: =G13*PRESSUPOSTOS!G$17/365 -> 0 | H24: =H13*PRESSUPOSTOS!H$17/365 -> 0
A25: TOTAL | D25: =SUM(D17:D24) -> 0 | E25: =SUM(E17:E24) -> 0 | F25: =SUM(F17:F24) -> 0 | G25: =SUM(G17:G24) -> 0 | H25: =SUM(H17:H24) -> 0
A26: CUSTO DAS MERCADORIAS | D26: =D14 -> 0 | E26: =E14 -> 0 | F26: =F14 -> 0 | G26: =G14 -> 0 | H26: =H14 -> 0
A28: Existência inicial Mercadorias | D28: 0 | E28: =D30 -> 0 | F28: =E30 -> 0 | G28: =F30 -> 0 | H28: =G30 -> 0
A29: Compras Mercadorias | D29: =D26+D30-D28 -> 0 | E29: =E26+E30-E28 -> 0 | F29: =F26+F30-F28 -> 0 | G29: =G26+G30-G28 -> 0 | H29: =H26+H30-H28 -> 0
A30: Existência final Mercadorias | D30: =D25 -> 0 | E30: =E25 -> 0 | F30: =F25 -> 0 | G30: =G25 -> 0 | H30: =H25 -> 0
A33: CUSTO DAS VENDAS DE MERCADORIAS | D33: =D26 -> 0 | E33: =E26 -> 0 | F33: =F26 -> 0 | G33: =G26 -> 0 | H33: =H26 -> 0

Sheet Justificação  CMV

Sheet PREST. SERV.
A1: 5.2.5. - Prestação de Serviços
A3: PRESTAÇÂO DE SERVIÇOS E OUTROS PROV. | D3: =PRESSUPOSTOS!D8 -> ANO 1 | E3: =PRESSUPOSTOS!E8 -> ANO 2 | F3: =PRESSUPOSTOS!F8 -> ANO 3 | G3: =PRESSUPOSTOS!G8 -> ANO 4 | H3: =PRESSUPOSTOS!H8 -> ANO 5
C6: PS/Mês
A7: . | C7: 0 | D7: =C7*PRESSUPOSTOS!$D$11*(1+D19) -> 0 | E7: =$C7*(1+PRESSUPOSTOS!E$26+E19)*PRESSUPOSTOS!E$11 -> 0 | F7: =(E7/PRESSUPOSTOS!E$11)*(1+PRESSUPOSTOS!F$26+F19)*PRESSUPOSTOS!F$11 -> 0 | G7: =(F7/PRESSUPOSTOS!F$11)*(1+PRESSUPOSTOS!G$26+G19)*PRESSUPOSTOS!G$11 -> 0 | H7: =(G7/PRESSUPOSTOS!G$11)*(1+PRESSUPOSTOS!H$26+H19)*PRESSUPOSTOS!H$11 -> 0
A8: . | C8: 0 | D8: =C8*PRESSUPOSTOS!$D$11*(1+D20) -> 0 | E8: =$C8*(1+PRESSUPOSTOS!E$26+E20)*PRESSUPOSTOS!E$11 -> 0 | F8: =(E8/PRESSUPOSTOS!E$11)*(1+PRESSUPOSTOS!F$26+F20)*PRESSUPOSTOS!F$11 -> 0 | G8: =(F8/PRESSUPOSTOS!F$11)*(1+PRESSUPOSTOS!G$26+G20)*PRESSUPOSTOS!G$11 -> 0 | H8: =(G8/PRESSUPOSTOS!G$11)*(1+PRESSUPOSTOS!H$26+H20)*PRESSUPOSTOS!H$11 -> 0
A9: . | C9: 0 | D9: =C9*PRESSUPOSTOS!$D$11*(1+D21) -> 0 | E9: =$C9*(1+PRESSUPOSTOS!E$26+E21)*PRESSUPOSTOS!E$11 -> 0 | F9: =(E9/PRESSUPOSTOS!E$11)*(1+PRESSUPOSTOS!F$26+F21)*PRESSUPOSTOS!F$11 -> 0 | G9: =(F9/PRESSUPOSTOS!F$11)*(1+PRESSUPOSTOS!G$26+G21)*PRESSUPOSTOS!G$11 -> 0 | H9: =(G9/PRESSUPOSTOS!G$11)*(1+PRESSUPOSTOS!H$26+H21)*PRESSUPOSTOS!H$11 -> 0
A10: . | C10: 0 | D10: =C10*PRESSUPOSTOS!$D$11*(1+D22) -> 0 | E10: =$C10*(1+PRESSUPOSTOS!E$26+E22)*PRESSUPOSTOS!E$11 -> 0 | F10: =(E10/PRESSUPOSTOS!E$11)*(1+PRESSUPOSTOS!F$26+F22)*PRESSUPOSTOS!F$11 -> 0 | G10: =(F10/PRESSUPOSTOS!F$11)*(1+PRESSUPOSTOS!G$26+G22)*PRESSUPOSTOS!G$11 -> 0 | H10: =(G10/PRESSUPOSTOS!G$11)*(1+PRESSUPOSTOS!H$26+H22)*PRESSUPOSTOS!H$11 -> 0
A11: . | C11: 0 | D11: =C11*PRESSUPOSTOS!$D$11*(1+D23) -> 0 | E11: =$C11*(1+PRESSUPOSTOS!E$26+E23)*PRESSUPOSTOS!E$11 -> 0 | F11: =(E11/PRESSUPOSTOS!E$11)*(1+PRESSUPOSTOS!F$26+F23)*PRESSUPOSTOS!F$11 -> 0 | G11: =(F11/PRESSUPOSTOS!F$11)*(1+PRESSUPOSTOS!G$26+G23)*PRESSUPOSTOS!G$11 -> 0 | H11: =(G11/PRESSUPOSTOS!G$11)*(1+PRESSUPOSTOS!H$26+H23)*PRESSUPOSTOS!H$11 -> 0
A12: . | C12: 0 | D12: =C12*PRESSUPOSTOS!$D$11*(1+D24) -> 0 | E12: =$C12*(1+PRESSUPOSTOS!E$26+E24)*PRESSUPOSTOS!E$11 -> 0 | F12: =(E12/PRESSUPOSTOS!E$11)*(1+PRESSUPOSTOS!F$26+F24)*PRESSUPOSTOS!F$11 -> 0 | G12: =(F12/PRESSUPOSTOS!F$11)*(1+PRESSUPOSTOS!G$26+G24)*PRESSUPOSTOS!G$11 -> 0 | H12: =(G12/PRESSUPOSTOS!G$11)*(1+PRESSUPOSTOS!H$26+H24)*PRESSUPOSTOS!H$11 -> 0
A13: . | C13: 0 | D13: =C13*PRESSUPOSTOS!$D$11*(1+D25) -> 0 | E13: =$C13*(1+PRESSUPOSTOS!E$26+E25)*PRESSUPOSTOS!E$11 -> 0 | F13: =(E13/PRESSUPOSTOS!E$11)*(1+PRESSUPOSTOS!F$26+F25)*PRESSUPOSTOS!F$11 -> 0 | G13: =(F13/PRESSUPOSTOS!F$11)*(1+PRESSUPOSTOS!G$26+G25)*PRESSUPOSTOS!G$11 -> 0 | H13: =(G13/PRESSUPOSTOS!G$11)*(1+PRESSUPOSTOS!H$26+H25)*PRESSUPOSTOS!H$11 -> 0
A14: . | C14: 0 | D14: =C14*PRESSUPOSTOS!$D$11*(1+D26) -> 0 | E14: =$C14*(1+PRESSUPOSTOS!E$26+E26)*PRESSUPOSTOS!E$11 -> 0 | F14: =(E14/PRESSUPOSTOS!E$11)*(1+PRESSUPOSTOS!F$26+F26)*PRESSUPOSTOS!F$11 -> 0 | G14: =(F14/PRESSUPOSTOS!F$11)*(1+PRESSUPOSTOS!G$26+G26)*PRESSUPOSTOS!G$11 -> 0 | H14: =(G14/PRESSUPOSTOS!G$11)*(1+PRESSUPOSTOS!H$26+H26)*PRESSUPOSTOS!H$11 -> 0
A15: . | C15: 0 | D15: =C15*PRESSUPOSTOS!$D$11*(1+D27) -> 0 | E15: =$C15*(1+PRESSUPOSTOS!E$26+E27)*PRESSUPOSTOS!E$11 -> 0 | F15: =(E15/PRESSUPOSTOS!E$11)*(1+PRESSUPOSTOS!F$26+F27)*PRESSUPOSTOS!F$11 -> 0 | G15: =(F15/PRESSUPOSTOS!F$11)*(1+PRESSUPOSTOS!G$26+G27)*PRESSUPOSTOS!G$11 -> 0 | H15: =(G15/PRESSUPOSTOS!G$11)*(1+PRESSUPOSTOS!H$26+H27)*PRESSUPOSTOS!H$11 -> 0
A16: TOTAL PRESTAÇÃO DE SERVIÇOS | D16: =SUM(D7:D15) -> 0 | E16: =SUM(E7:E15) -> 0 | F16: =SUM(F7:F15) -> 0 | G16: =SUM(G7:G15) -> 0 | H16: =SUM(H7:H15) -> 0
A17: TAXAS DE CRESCIMENTO REAIS DA PRESTAÇÃO DE SERVIÇOS
A19: =A7 -> . | E19: 0 | F19: 0 | G19: 0 | H19: 0
A20: =A8 -> . | E20: 0 | F20: 0 | G20: 0 | H20: 0
A21: =A9 -> . | E21: 0 | F21: 0 | G21: 0 | H21: 0
A22: =A10 -> . | E22: 0 | F22: 0 | G22: 0 | H22: 0
A23: =A11 -> . | E23: 0 | F23: 0 | G23: 0 | H23: 0
A24: =A12 -> . | E24: 0 | F24: 0 | G24: 0 | H24: 0
A25: =A13 -> . | E25: 0 | F25: 0 | G25: 0 | H25: 0
A26: =A14 -> . | E26: 0 | F26: 0 | G26: 0 | H26: 0
A27: =A15 -> . | E27: 0 | F27: 0 | G27: 0 | H27: 0
A28: OUTROS PROVEITOS
A39: TOTAL DE OUTROS PROVEITOS | D39: =SUM(D29:D38) -> 0 | E39: =SUM(E29:E38) -> 0 | F39: =SUM(F29:F38) -> 0 | G39: =SUM(G29:G38) -> 0 | H39: =SUM(H29:H38) -> 0

Sheet Justificação Prestação Serv.

Sheet F.S.E. E PROV.
A1: 5.2.6. - Fornecimentos e Serviços Externos
A3: FORNECIMENTOS E SERVIÇOS EXTERNOS | C3: Valor mês | D3: =PRESSUPOSTOS!D8 -> ANO 1 | E3: =PRESSUPOSTOS!E8 -> ANO 2 | F3: =PRESSUPOSTOS!F8 -> ANO 3 | G3: =PRESSUPOSTOS!G8 -> ANO 4 | H3: =PRESSUPOSTOS!H8 -> ANO 5
A6: Subcontratos | C6: 0 | D6: =C6*PRESSUPOSTOS!$D$11 -> 0 | E6: =C6*(1+PRESSUPOSTOS!$E$26)*PRESSUPOSTOS!$E$11 -> 0 | F6: =E6*(1+PRESSUPOSTOS!$F$26) -> 0 | G6: =F6*(1+PRESSUPOSTOS!$G$26) -> 0 | H6: =G6*(1+PRESSUPOSTOS!$H$26) -> 0
A7: Energia e combustíveis | C7: 0 | D7: =C7*PRESSUPOSTOS!$D$11 -> 0 | E7: =C7*(1+PRESSUPOSTOS!$E$26)*PRESSUPOSTOS!$E$11 -> 0 | F7: =E7*(1+PRESSUPOSTOS!$F$26) -> 0 | G7: =F7*(1+PRESSUPOSTOS!$G$26) -> 0 | H7: =G7*(1+PRESSUPOSTOS!$H$26) -> 0
A8: Material de escritório | C8: 0 | D8: =C8*PRESSUPOSTOS!$D$11 -> 0 | E8: =C8*(1+PRESSUPOSTOS!$E$26)*PRESSUPOSTOS!$E$11 -> 0 | F8: =E8*(1+PRESSUPOSTOS!$F$26) -> 0 | G8: =F8*(1+PRESSUPOSTOS!$G$26) -> 0 | H8: =G8*(1+PRESSUPOSTOS!$H$26) -> 0
A9: Rendas e alugueres | C9: 0 | D9: =C9*PRESSUPOSTOS!$D$11 -> 0 | E9: =C9*(1+PRESSUPOSTOS!$E$26)*PRESSUPOSTOS!$E$11 -> 0 | F9: =E9*(1+PRESSUPOSTOS!$F$26) -> 0 | G9: =F9*(1+PRESSUPOSTOS!$G$26) -> 0 | H9: =G9*(1+PRESSUPOSTOS!$H$26) -> 0
A10: Comunicação | C10: 0 | D10: =C10*PRESSUPOSTOS!$D$11 -> 0 | E10: =C10*(1+PRESSUPOSTOS!$E$26)*PRESSUPOSTOS!$E$11 -> 0 | F10: =E10*(1+PRESSUPOSTOS!$F$26) -> 0 | G10: =F10*(1+PRESSUPOSTOS!$G$26) -> 0 | H10: =G10*(1+PRESSUPOSTOS!$H$26) -> 0
A11: Seguros | C11: 0 | D11: =C11*PRESSUPOSTOS!$D$11 -> 0 | E11: =C11*(1+PRESSUPOSTOS!$E$26)*PRESSUPOSTOS!$E$11 -> 0 | F11: =E11*(1+PRESSUPOSTOS!$F$26) -> 0 | G11: =F11*(1+PRESSUPOSTOS!$G$26) -> 0 | H11: =G11*(1+PRESSUPOSTOS!$H$26) -> 0
A12: Transportes (escudos por unidade vendida) | C12: 0 | D12: =C12*PRESSUPOSTOS!$D$11 -> 0 | E12: =C12*(1+PRESSUPOSTOS!$E$26)*PRESSUPOSTOS!$E$11 -> 0 | F12: =E12*(1+PRESSUPOSTOS!$F$26) -> 0 | G12: =F12*(1+PRESSUPOSTOS!$G$26) -> 0 | H12: =G12*(1+PRESSUPOSTOS!$H$26) -> 0
A13: Comissões | C13: 0 | D13: =C13*PRESSUPOSTOS!$D$11 -> 0 | E13: =C13*(1+PRESSUPOSTOS!$E$26)*PRESSUPOSTOS!$E$11 -> 0 | F13: =E13*(1+PRESSUPOSTOS!$F$26) -> 0 | G13: =F13*(1+PRESSUPOSTOS!$G$26) -> 0 | H13: =G13*(1+PRESSUPOSTOS!$H$26) -> 0
A14: Publicidade | C14: 0 | D14: =C14*PRESSUPOSTOS!$D$11 -> 0 | E14: =C14*(1+PRESSUPOSTOS!$E$26)*PRESSUPOSTOS!$E$11 -> 0 | F14: =E14*(1+PRESSUPOSTOS!$F$26) -> 0 | G14: =F14*(1+PRESSUPOSTOS!$G$26) -> 0 | H14: =G14*(1+PRESSUPOSTOS!$H$26) -> 0
A15: Trabalhos especializados | C15: 0 | D15: =C15*PRESSUPOSTOS!$D$11 -> 0 | E15: =C15*(1+PRESSUPOSTOS!$E$26)*PRESSUPOSTOS!$E$11 -> 0 | F15: =E15*(1+PRESSUPOSTOS!$F$26) -> 0 | G15: =F15*(1+PRESSUPOSTOS!$G$26) -> 0 | H15: =G15*(1+PRESSUPOSTOS!$H$26) -> 0
A16: Outros fornecimentos e serviços | C16: 0 | D16: =C16*PRESSUPOSTOS!$D$11 -> 0 | E16: =C16*(1+PRESSUPOSTOS!$E$26)*PRESSUPOSTOS!$E$11 -> 0 | F16: =E16*(1+PRESSUPOSTOS!$F$26) -> 0 | G16: =F16*(1+PRESSUPOSTOS!$G$26) -> 0 | H16: =G16*(1+PRESSUPOSTOS!$H$26) -> 0
A18: TOTAL DE FORN. E SERV. EXTERNOS | D18: =SUM(D6:D16) -> 0 | E18: =SUM(E6:E16) -> 0 | F18: =SUM(F6:F16) -> 0 | G18: =SUM(G6:G16) -> 0 | H18: =SUM(H6:H16) -> 0
A20: PROVISÕES
A22: Para Depreciação de Existências | D22: =PRESSUPOSTOS!D28*BALANÇO!D14 -> 0 | E22: =PRESSUPOSTOS!E28*BALANÇO!E14 -> 0 | F22: =PRESSUPOSTOS!F28*BALANÇO!F14 -> 0 | G22: =PRESSUPOSTOS!G28*BALANÇO!G14 -> 0 | H22: =PRESSUPOSTOS!H28*BALANÇO!H14 -> 0
A23: Para Cobranças Duvidosas | D23: =PRESSUPOSTOS!D29*BALANÇO!D21 -> 0 | E23: =PRESSUPOSTOS!E29*BALANÇO!E21 -> 0 | F23: =PRESSUPOSTOS!F29*BALANÇO!F21 -> 0 | G23: =PRESSUPOSTOS!G29*BALANÇO!G21 -> 0 | H23: =PRESSUPOSTOS!H29*BALANÇO!H21 -> 0
A24: Para Outros Riscos e Encargos | D24: 0 | E24: 0 | F24: 0 | G24: 0 | H24: 0
A26: TOTAL DAS PROVISÕES | D26: =D24+D23+D22 -> 0 | E26: =E24+E23+E22 -> 0 | F26: =F24+F23+F22 -> 0 | G26: =G24+G23+G22 -> 0 | H26: =H24+H23+H22 -> 0

Sheet Justificação FSEe P

Sheet C.C.P.
A1: 5.2.7. - Custos com Pessoal
A3: CUSTOS COM O PESSOAL | D3: =PRESSUPOSTOS!D8 -> ANO 1 | E3: =PRESSUPOSTOS!E8 -> ANO 2 | F3: =PRESSUPOSTOS!F8 -> ANO 3 | G3: =PRESSUPOSTOS!G8 -> ANO 4 | H3: =PRESSUPOSTOS!H8 -> ANO 5
A5: * ENCARGOS SOCIAIS DE CONTA DA EMP.
A6: - Segurança Social ( 23,75 % ) | D6: 0.2 | E6: 0.2 | F6: 0.2 | G6: 0.2 | H6: 0.2
A7: - Seguro de Acidentes de Trabalho ( 2,2 % ) | D7: 0 | E7: =D7 -> 0 | F7: =E7 -> 0 | G7: =F7 -> 0 | H7: =G7 -> 0
A8: - Outros custos ( 0 - 1% ) | D8: 0 | E8: =D8 -> 0 | F8: =E8 -> 0 | G8: =F8 -> 0 | H8: =G8 -> 0
A9: * TX DE CRESCIMENTO REAL DOS SALÁRIOS | D9: 0 | E9: 0 | F9: 0 | G9: 0 | H9: 0
A10: TRABALHADORES POR CATEGORIAS | D10: NUMERO DE PESSOAS EM CADA ANO
D11: 0 | E11: =D11 -> 0 | F11: =E11 -> 0 | G11: =F11 -> 0 | H11: =G11 -> 0
D12: 0 | E12: =D12 -> 0 | F12: =E12 -> 0 | G12: =F12 -> 0 | H12: =G12 -> 0
D13: 0 | E13: =D13 -> 0 | F13: =E13 -> 0 | G13: =F13 -> 0 | H13: =G13 -> 0
D14: 0 | E14: =D14 -> 0 | F14: =E14 -> 0 | G14: =F14 -> 0 | H14: =G14 -> 0
D15: 0 | E15: =D15 -> 0 | F15: =E15 -> 0 | G15: =F15 -> 0 | H15: =G15 -> 0
D16: 0 | E16: =D16 -> 0 | F16: =E16 -> 0 | G16: =F16 -> 0 | H16: =G16 -> 0
D17: 0 | E17: =D17 -> 0 | F17: =E17 -> 0 | G17: =F17 -> 0 | H17: =G17 -> 0
D18: 0 | E18: =D18 -> 0 | F18: =E18 -> 0 | G18: =F18 -> 0 | H18: =G18 -> 0
D19: 0 | E19: =D19 -> 0 | F19: =E19 -> 0 | G19: =F19 -> 0 | H19: =G19 -> 0
D20: 0 | E20: =D20 -> 0 | F20: =E20 -> 0 | G20: =F20 -> 0 | H20: =G20 -> 0
D21: 0 | E21: =D21 -> 0 | F21: =E21 -> 0 | G21: =F21 -> 0 | H21: =G21 -> 0
D22: 0 | E22: =D22 -> 0 | F22: =E22 -> 0 | G22: =F22 -> 0 | H22: =G22 -> 0
D23: 0 | E23: =D23 -> 0 | F23: =E23 -> 0 | G23: =F23 -> 0 | H23: =G23 -> 0
A24: TOTAL | D24: =SUM(D11:D23) -> 0 | E24: =SUM(E11:E23) -> 0 | F24: =SUM(F11:F23) -> 0 | G24: =SUM(G11:G23) -> 0 | H24: =SUM(H11:H23) -> 0
A25: REMUNERAÇÕES | C25: Rem. Mês | D25: CUSTOS ANUAIS COM PESSOAL
A26: =A11 -> 0 | C26: 0 | D26: =$C26*D11*(1+PRESSUPOSTOS!$D$26+C.C.P.!$D$9)*14*PRESSUPOSTOS!$D$11/12 -> 0 | E26: =$C26*E11*(1+PRESSUPOSTOS!$D$26+C.C.P.!$D$9)*(1+PRESSUPOSTOS!$E$26+C.C.P.!$E$9)*14*PRESSUPOSTOS!$E$11/12 -> 0 | F26: =$C26*F11*(1+PRESSUPOSTOS!$D$26+C.C.P.!$D$9)*(1+PRESSUPOSTOS!$E$26+C.C.P.!$E$9)*(1+PRESSUPOSTOS!$F$26+C.C.P.!$F$9)*14*PRESSUPOSTOS!$F$11/12 -> 0 | G26: =$C26*G11*(1+PRESSUPOSTOS!$D$26+C.C.P.!$D$9)*(1+PRESSUPOSTOS!$E$26+C.C.P.!$E$9)*(1+PRESSUPOSTOS!$F$26+C.C.P.!$F$9)*(1+PRESSUPOSTOS!$G$26+C.C.P.!$G$9)*14*PRESSUPOSTOS!$G$11/12 -> 0 | H26: =$C26*H11*(1+PRESSUPOSTOS!$D$26+C.C.P.!$D$9)*(1+PRESSUPOSTOS!$E$26+C.C.P.!$E$9)*(1+PRESSUPOSTOS!$F$26+C.C.P.!$F$9)*(1+PRESSUPOSTOS!$G$26+C.C.P.!$G$9)*(1+PRESSUPOSTOS!$H$26+C.C.P.!$H$9)*14*PRESSUPOSTOS!$H$11/12 -> 0
A27: =A12 -> 0 | C27: 0 | D27: =$C27*D12*(1+PRESSUPOSTOS!$D$26+C.C.P.!$D$9)*14*PRESSUPOSTOS!$D$11/12 -> 0 | E27: =$C27*E12*(1+PRESSUPOSTOS!$D$26+C.C.P.!$D$9)*(1+PRESSUPOSTOS!$E$26+C.C.P.!$E$9)*14*PRESSUPOSTOS!$E$11/12 -> 0 | F27: =$C27*F12*(1+PRESSUPOSTOS!$D$26+C.C.P.!$D$9)*(1+PRESSUPOSTOS!$E$26+C.C.P.!$E$9)*(1+PRESSUPOSTOS!$F$26+C.C.P.!$F$9)*14*PRESSUPOSTOS!$F$11/12 -> 0 | G27: =$C27*G12*(1+PRESSUPOSTOS!$D$26+C.C.P.!$D$9)*(1+PRESSUPOSTOS!$E$26+C.C.P.!$E$9)*(1+PRESSUPOSTOS!$F$26+C.C.P.!$F$9)*(1+PRESSUPOSTOS!$G$26+C.C.P.!$G$9)*14*PRESSUPOSTOS!$G$11/12 -> 0 | H27: =$C27*H12*(1+PRESSUPOSTOS!$D$26+C.C.P.!$D$9)*(1+PRESSUPOSTOS!$E$26+C.C.P.!$E$9)*(1+PRESSUPOSTOS!$F$26+C.C.P.!$F$9)*(1+PRESSUPOSTOS!$G$26+C.C.P.!$G$9)*(1+PRESSUPOSTOS!$H$26+C.C.P.!$H$9)*14*PRESSUPOSTOS!$H$11/12 -> 0
A28: =A13 -> 0 | C28: 0 | D28: =$C28*D13*(1+PRESSUPOSTOS!$D$26+C.C.P.!$D$9)*14*PRESSUPOSTOS!$D$11/12 -> 0 | E28: =$C28*E13*(1+PRESSUPOSTOS!$D$26+C.C.P.!$D$9)*(1+PRESSUPOSTOS!$E$26+C.C.P.!$E$9)*14*PRESSUPOSTOS!$E$11/12 -> 0 | F28: =$C28*F13*(1+PRESSUPOSTOS!$D$26+C.C.P.!$D$9)*(1+PRESSUPOSTOS!$E$26+C.C.P.!$E$9)*(1+PRESSUPOSTOS!$F$26+C.C.P.!$F$9)*14*PRESSUPOSTOS!$F$11/12 -> 0 | G28: =$C28*G13*(1+PRESSUPOSTOS!$D$26+C.C.P.!$D$9)*(1+PRESSUPOSTOS!$E$26+C.C.P.!$E$9)*(1+PRESSUPOSTOS!$F$26+C.C.P.!$F$9)*(1+PRESSUPOSTOS!$G$26+C.C.P.!$G$9)*14*PRESSUPOSTOS!$G$11/12 -> 0 | H28: =$C28*H13*(1+PRESSUPOSTOS!$D$26+C.C.P.!$D$9)*(1+PRESSUPOSTOS!$E$26+C.C.P.!$E$9)*(1+PRESSUPOSTOS!$F$26+C.C.P.!$F$9)*(1+PRESSUPOSTOS!$G$26+C.C.P.!$G$9)*(1+PRESSUPOSTOS!$H$26+C.C.P.!$H$9)*14*PRESSUPOSTOS!$H$11/12 -> 0
A29: =A14 -> 0 | C29: 0 | D29: =$C29*D14*(1+PRESSUPOSTOS!$D$26+C.C.P.!$D$9)*14*PRESSUPOSTOS!$D$11/12 -> 0 | E29: =$C29*E14*(1+PRESSUPOSTOS!$D$26+C.C.P.!$D$9)*(1+PRESSUPOSTOS!$E$26+C.C.P.!$E$9)*14*PRESSUPOSTOS!$E$11/12 -> 0 | F29: =$C29*F14*(1+PRESSUPOSTOS!$D$26+C.C.P.!$D$9)*(1+PRESSUPOSTOS!$E$26+C.C.P.!$E$9)*(1+PRESSUPOSTOS!$F$26+C.C.P.!$F$9)*14*PRESSUPOSTOS!$F$11/12 -> 0 | G29: =$C29*G14*(1+PRESSUPOSTOS!$D$26+C.C.P.!$D$9)*(1+PRESSUPOSTOS!$E$26+C.C.P.!$E$9)*(1+PRESSUPOSTOS!$F$26+C.C.P.!$F$9)*(1+PRESSUPOSTOS!$G$26+C.C.P.!$G$9)*14*PRESSUPOSTOS!$G$11/12 -> 0 | H29: =$C29*H14*(1+PRESSUPOSTOS!$D$26+C.C.P.!$D$9)*(1+PRESSUPOSTOS!$E$26+C.C.P.!$E$9)*(1+PRESSUPOSTOS!$F$26+C.C.P.!$F$9)*(1+PRESSUPOSTOS!$G$26+C.C.P.!$G$9)*(1+PRESSUPOSTOS!$H$26+C.C.P.!$H$9)*14*PRESSUPOSTOS!$H$11/12 -> 0
A30: =A15 -> 0 | C30: 0 | D30: =$C30*D15*(1+PRESSUPOSTOS!$D$26+C.C.P.!$D$9)*14*PRESSUPOSTOS!$D$11/12 -> 0 | E30: =$C30*E15*(1+PRESSUPOSTOS!$D$26+C.C.P.!$D$9)*(1+PRESSUPOSTOS!$E$26+C.C.P.!$E$9)*14*PRESSUPOSTOS!$E$11/12 -> 0 | F30: =$C30*F15*(1+PRESSUPOSTOS!$D$26+C.C.P.!$D$9)*(1+PRESSUPOSTOS!$E$26+C.C.P.!$E$9)*(1+PRESSUPOSTOS!$F$26+C.C.P.!$F$9)*14*PRESSUPOSTOS!$F$11/12 -> 0 | G30: =$C30*G15*(1+PRESSUPOSTOS!$D$26+C.C.P.!$D$9)*(1+PRESSUPOSTOS!$E$26+C.C.P.!$E$9)*(1+PRESSUPOSTOS!$F$26+C.C.P.!$F$9)*(1+PRESSUPOSTOS!$G$26+C.C.P.!$G$9)*14*PRESSUPOSTOS!$G$11/12 -> 0 | H30: =$C30*H15*(1+PRESSUPOSTOS!$D$26+C.C.P.!$D$9)*(1+PRESSUPOSTOS!$E$26+C.C.P.!$E$9)*(1+PRESSUPOSTOS!$F$26+C.C.P.!$F$9)*(1+PRESSUPOSTOS!$G$26+C.C.P.!$G$9)*(1+PRESSUPOSTOS!$H$26+C.C.P.!$H$9)*14*PRESSUPOSTOS!$H$11/12 -> 0
A31: =A16 -> 0 | C31: 0 | D31: =$C31*D16*(1+PRESSUPOSTOS!$D$26+C.C.P.!$D$9)*14*PRESSUPOSTOS!$D$11/12 -> 0 | E31: =$C31*E16*(1+PRESSUPOSTOS!$D$26+C.C.P.!$D$9)*(1+PRESSUPOSTOS!$E$26+C.C.P.!$E$9)*14*PRESSUPOSTOS!$E$11/12 -> 0 | F31: =$C31*F16*(1+PRESSUPOSTOS!$D$26+C.C.P.!$D$9)*(1+PRESSUPOSTOS!$E$26+C.C.P.!$E$9)*(1+PRESSUPOSTOS!$F$26+C.C.P.!$F$9)*14*PRESSUPOSTOS!$F$11/12 -> 0 | G31: =$C31*G16*(1+PRESSUPOSTOS!$D$26+C.C.P.!$D$9)*(1+PRESSUPOSTOS!$E$26+C.C.P.!$E$9)*(1+PRESSUPOSTOS!$F$26+C.C.P.!$F$9)*(1+PRESSUPOSTOS!$G$26+C.C.P.!$G$9)*14*PRESSUPOSTOS!$G$11/12 -> 0 | H31: =$C31*H16*(1+PRESSUPOSTOS!$D$26+C.C.P.!$D$9)*(1+PRESSUPOSTOS!$E$26+C.C.P.!$E$9)*(1+PRESSUPOSTOS!$F$26+C.C.P.!$F$9)*(1+PRESSUPOSTOS!$G$26+C.C.P.!$G$9)*(1+PRESSUPOSTOS!$H$26+C.C.P.!$H$9)*14*PRESSUPOSTOS!$H$11/12 -> 0
A32: =A17 -> 0 | C32: 0 | D32: =$C32*D17*(1+PRESSUPOSTOS!$D$26+C.C.P.!$D$9)*14*PRESSUPOSTOS!$D$11/12 -> 0 | E32: =$C32*E17*(1+PRESSUPOSTOS!$D$26+C.C.P.!$D$9)*(1+PRESSUPOSTOS!$E$26+C.C.P.!$E$9)*14*PRESSUPOSTOS!$E$11/12 -> 0 | F32: =$C32*F17*(1+PRESSUPOSTOS!$D$26+C.C.P.!$D$9)*(1+PRESSUPOSTOS!$E$26+C.C.P.!$E$9)*(1+PRESSUPOSTOS!$F$26+C.C.P.!$F$9)*14*PRESSUPOSTOS!$F$11/12 -> 0 | G32: =$C32*G17*(1+PRESSUPOSTOS!$D$26+C.C.P.!$D$9)*(1+PRESSUPOSTOS!$E$26+C.C.P.!$E$9)*(1+PRESSUPOSTOS!$F$26+C.C.P.!$F$9)*(1+PRESSUPOSTOS!$G$26+C.C.P.!$G$9)*14*PRESSUPOSTOS!$G$11/12 -> 0 | H32: =$C32*H17*(1+PRESSUPOSTOS!$D$26+C.C.P.!$D$9)*(1+PRESSUPOSTOS!$E$26+C.C.P.!$E$9)*(1+PRESSUPOSTOS!$F$26+C.C.P.!$F$9)*(1+PRESSUPOSTOS!$G$26+C.C.P.!$G$9)*(1+PRESSUPOSTOS!$H$26+C.C.P.!$H$9)*14*PRESSUPOSTOS!$H$11/12 -> 0
A33: =A18 -> 0 | C33: 0 | D33: =$C33*D18*(1+PRESSUPOSTOS!$D$26+C.C.P.!$D$9)*14*PRESSUPOSTOS!$D$11/12 -> 0 | E33: =$C33*E18*(1+PRESSUPOSTOS!$D$26+C.C.P.!$D$9)*(1+PRESSUPOSTOS!$E$26+C.C.P.!$E$9)*14*PRESSUPOSTOS!$E$11/12 -> 0 | F33: =$C33*F18*(1+PRESSUPOSTOS!$D$26+C.C.P.!$D$9)*(1+PRESSUPOSTOS!$E$26+C.C.P.!$E$9)*(1+PRESSUPOSTOS!$F$26+C.C.P.!$F$9)*14*PRESSUPOSTOS!$F$11/12 -> 0 | G33: =$C33*G18*(1+PRESSUPOSTOS!$D$26+C.C.P.!$D$9)*(1+PRESSUPOSTOS!$E$26+C.C.P.!$E$9)*(1+PRESSUPOSTOS!$F$26+C.C.P.!$F$9)*(1+PRESSUPOSTOS!$G$26+C.C.P.!$G$9)*14*PRESSUPOSTOS!$G$11/12 -> 0 | H33: =$C33*H18*(1+PRESSUPOSTOS!$D$26+C.C.P.!$D$9)*(1+PRESSUPOSTOS!$E$26+C.C.P.!$E$9)*(1+PRESSUPOSTOS!$F$26+C.C.P.!$F$9)*(1+PRESSUPOSTOS!$G$26+C.C.P.!$G$9)*(1+PRESSUPOSTOS!$H$26+C.C.P.!$H$9)*14*PRESSUPOSTOS!$H$11/12 -> 0
A34: =A19 -> 0 | C34: 0 | D34: =$C34*D19*(1+PRESSUPOSTOS!$D$26+C.C.P.!$D$9)*14*PRESSUPOSTOS!$D$11/12 -> 0 | E34: =$C34*E19*(1+PRESSUPOSTOS!$D$26+C.C.P.!$D$9)*(1+PRESSUPOSTOS!$E$26+C.C.P.!$E$9)*14*PRESSUPOSTOS!$E$11/12 -> 0 | F34: =$C34*F19*(1+PRESSUPOSTOS!$D$26+C.C.P.!$D$9)*(1+PRESSUPOSTOS!$E$26+C.C.P.!$E$9)*(1+PRESSUPOSTOS!$F$26+C.C.P.!$F$9)*14*PRESSUPOSTOS!$F$11/12 -> 0 | G34: =$C34*G19*(1+PRESSUPOSTOS!$D$26+C.C.P.!$D$9)*(1+PRESSUPOSTOS!$E$26+C.C.P.!$E$9)*(1+PRESSUPOSTOS!$F$26+C.C.P.!$F$9)*(1+PRESSUPOSTOS!$G$26+C.C.P.!$G$9)*14*PRESSUPOSTOS!$G$11/12 -> 0 | H34: =$C34*H19*(1+PRESSUPOSTOS!$D$26+C.C.P.!$D$9)*(1+PRESSUPOSTOS!$E$26+C.C.P.!$E$9)*(1+PRESSUPOSTOS!$F$26+C.C.P.!$F$9)*(1+PRESSUPOSTOS!$G$26+C.C.P.!$G$9)*(1+PRESSUPOSTOS!$H$26+C.C.P.!$H$9)*14*PRESSUPOSTOS!$H$11/12 -> 0
